Workbook
Name _IDX1: 'Tables - wage and salary'!#REF!
Name _Toc234203833: 'Explanatory Notes'!$A$1

Sheet Explanatory Notes

Sheet Graphs - wage and salary

Sheet Tables - wage and salary
A1: individuals with wage or salary income: Year ended 31 March | AF1: 189 | BC1: 10k increments
AT2: R | AV2: R | AX2: R
A3: wage income | B3: 2001 | D3: 2002 | F3: 2003 | H3: 2004 | J3: 2005 | L3: 2006 | N3: 2007 | P3: 2008 | R3: wage income | S3: 2009 | U3: 2010 | W3: 2011 | Y3: 2012 | AA3: 2013 | AC3: 2014 | AE3: 2015 | AG3: 2016 | AI3: 2017 | AK3: 2018 | AM3: wage income | AN3: 2019 | AP3: 2020 | AR3: 2021 | AT3: 2022 | AV3: 2023 | AX3: 2024 | AZ3: 2025 | BC3: wage income | BD3: 2009 | BF3: 2010 | BH3: 2011 | BJ3: 2012 | BL3: 2013 | BN3: 2014 | BP3: 2015 | BR3: 2016 | BT3: 2017 | BV3: 2018 | BX3: 2019 | BZ3: 2020 | CB3: 2021 | CD3: 2022 | CF3: 2023 | CH3: 2024 | CJ3: 2025
A4: bands to $150,000 | B4: Number of individuals | C4: Wage/salary income ($M) | D4: Number of individuals | E4: Wage/salary income ($M) | F4: Number of individuals | G4: Wage/salary income ($M) | H4: Number of individuals | I4: Wage/salary income ($M) | J4: Number of individuals | K4: Wage/salary income ($M) | L4: Number of individuals | M4: Wage/salary income ($M) | N4: Number of individuals | O4: Wage/salary income ($M) | P4: Number of individuals | Q4: Wage/salary income ($M) | R4: bands to $200,000 | S4: Number of individuals | T4: Wage/salary income ($M) | U4: Number of individuals | V4: Wage/salary income ($M) | W4: Number of individuals | X4: Wage/salary income ($M) | Y4: Number of individuals | Z4: Wage/salary income ($M) | AA4: Number of individuals | AB4: Wage/salary income ($M) | AC4: Number of individuals | AD4: Wage/salary income ($M) | AE4: Number of individuals | AF4: Wage/salary income ($M) | AG4: Number of individuals | AH4: Wage/salary income ($M) | AI4: Number of individuals | AJ4: Wage/salary income ($M) | AK4: Number of individuals | AL4: Wage/salary income ($M) | AM4: bands to $300,000 | AN4: Number of individuals | AO4: Wage/salary income ($M) | AP4: Number of individuals | AQ4: Wage/salary income ($M) | AR4: Number of individuals | AS4: Wage/salary income ($M) | AT4: Number of individuals | AU4: Wage/salary income ($M) | AV4: Number of individuals | AW4: Wage/salary income ($M) | AX4: Number of individuals | AY4: Wage/salary income ($M) | AZ4: Number of individuals | BA4: Wage/salary income ($M) | BD4: Number of People | BE4: wage/salary income ($M) | BF4: Number of People | BG4: wage/salary income ($M) | BH4: Number of People | BI4: wage/salary income ($M) | BJ4: Number of People | BK4: wage/salary income ($M) | BL4: Number of People | BM4: wage/salary income ($M) | BN4: Number of People | BO4: wage/salary income ($M) | BP4: Number of People | BQ4: wage/salary income ($M) | BR4: Number of People | BS4: wage/salary income ($M) | BT4: Number of People | BU4: wage/salary income ($M) | BV4: Number of People | BW4: wage/salary income ($M) | BX4: Number of People | BY4: wage/salary income ($M) | BZ4: Number of People | CA4: wage/salary income ($M) | CB4: Number of People | CC4: wage/salary income ($M) | CD4: Number of People | CE4: wage/salary income ($M) | CF4: Number of People | CG4: wage/salary income ($M) | CH4: Number of People | CI4: wage/salary income ($M) | CJ4: Number of People | CK4: wage/salary income ($M)
A7: $1 - $1,000 | B7: 161790 | C7: 70 | D7: 153900 | E7: 65.1 | F7: 151010 | G7: 65.1 | H7: 141290 | I7: 61.4 | J7: 141200 | K7: 61.6 | L7: 145530 | M7: 64 | N7: 142990 | O7: 63.7 | P7: 126240 | Q7: 55.8 | R7: $1 - $1,000 | S7: 123070 | T7: 54.1 | U7: 119160 | V7: 53.2 | W7: 114140 | X7: 51.8 | Y7: 113340 | Z7: 50.4 | AA7: 107370 | AB7: 48.2 | AC7: 109860 | AD7: 49.5 | AE7: 110870 | AF7: 49.5 | AG7: 99660 | AH7: 45.3 | AI7: 98280 | AJ7: 45.1 | AK7: 100490 | AL7: 45.448828 | AM7: $1 - $1,000 | AN7: 99200 | AO7: 43.7 | AP7: 92870 | AQ7: 42.8 | AR7: 85640 | AS7: 37.7 | AT7: 72560 | AU7: 33.6 | AV7: 77720 | AW7: 35.8 | AX7: 75370 | AY7: 34.9 | AZ7: 77920 | BA7: 34.7 | BC7: $1 - $10,000 | BD7: =SUM(S7:S16) -> 573000 | BE7: =SUM(T7:T16) -> 2265 | BF7: =SUM(U7:U16) -> 554680 | BG7: =SUM(V7:V16) -> 2191.2 | BH7: =SUM(W7:W16) -> 534400 | BI7: =SUM(X7:X16) -> 2098.8 | BJ7: =SUM(Y7:Y16) -> 525490 | BK7: =SUM(Z7:Z16) -> 2083.9 | ... BW7: =SUM(AL7:AL16) -> 1985.3223 | BX7: =SUM(AN7:AN16) -> 478370 | BY7: =SUM(AO7:AO16) -> 1942 | BZ7: =SUM(AP7:AP16) -> 455430 | CA7: =SUM(AQ7:AQ16) -> 1854.9 | CB7: =SUM(AR7:AR16) -> 396500 | CC7: =SUM(AS7:AS16) -> 1598.5 | CD7: =SUM(AT7:AT16) -> 368820 | CE7: =SUM(AU7:AU16) -> 1520 | ... CK7: =SUM(BA7:BA16) -> 1492.2
A8: $1,001 - $2,000 | B8: 93420 | C8: 136.8 | D8: 90320 | E8: 133.7 | F8: 89000 | G8: 131.8 | H8: 90260 | I8: 133.4 | J8: 88170 | K8: 130.2 | L8: 93000 | M8: 137.9 | N8: 89610 | O8: 132.6 | P8: 79450 | Q8: 118.3 | R8: $1,001 - $2,000 | S8: 73520 | T8: 109 | U8: 73730 | V8: 109.3 | W8: 73670 | X8: 108.8 | Y8: 70030 | Z8: 103.2 | AA8: 67930 | AB8: 100.2 | AC8: 68480 | AD8: 101.7 | AE8: 65200 | AF8: 97.3 | AG8: 63750 | AH8: 94.4 | AI8: 62780 | AJ8: 93 | AK8: 62490 | AL8: 92.68457 | AM8: $1,001 - $2,000 | AN8: 61120 | AO8: 90.8 | AP8: 59720 | AQ8: 88.2 | AR8: 51210 | AS8: 75.8 | AT8: 48490 | AU8: 71.8 | AV8: 50960 | AW8: 75.5 | AX8: 50210 | AY8: 74.3 | AZ8: 48170 | BA8: 71.2
A9: $2,001 - $3,000 | B9: 69890 | C9: 174.3 | D9: 73640 | E9: 183.9 | F9: 72190 | G9: 179.2 | H9: 73910 | I9: 183.8 | J9: 74060 | K9: 183.6 | L9: 69630 | M9: 173.9 | N9: 71920 | O9: 179.2 | P9: 69130 | Q9: 172 | R9: $2,001 - $3,000 | S9: 65010 | T9: 162.1 | U9: 60330 | V9: 150.3 | W9: 61190 | X9: 152 | Y9: 57280 | Z9: 142.2 | AA9: 52530 | AB9: 131 | AC9: 54940 | AD9: 137.1 | AE9: 56100 | AF9: 140.5 | AG9: 52750 | AH9: 131.5 | AI9: 52390 | AJ9: 130.5 | AK9: 51950 | AL9: 129.65633 | AM9: $2,001 - $3,000 | AN9: 50550 | AO9: 126.1 | AP9: 48060 | AQ9: 119.8 | AR9: 40970 | AS9: 101.9 | AT9: 39320 | AU9: 98 | AV9: 41980 | AW9: 104.6 | AX9: 40540 | AY9: 101 | AZ9: 38470 | BA9: 96
A10: $3,001 - $4,000 | B10: 60990 | C10: 212.9 | D10: 62840 | E10: 220.2 | F10: 61960 | G10: 216.3 | H10: 64530 | I10: 225.6 | J10: 65050 | K10: 226.8 | L10: 62280 | M10: 217.9 | N10: 64290 | O10: 224.5 | P10: 59440 | Q10: 207.7 | R10: $3,001 - $4,000 | S10: 55630 | T10: 194.6 | U10: 52740 | V10: 184.6 | W10: 50020 | X10: 174.4 | Y10: 48110 | Z10: 168.4 | AA10: 49130 | AB10: 171.2 | AC10: 46120 | AD10: 161.6 | AE10: 50330 | AF10: 175.7 | AG10: 46330 | AH10: 162 | AI10: 46550 | AJ10: 162.7 | AK10: 46410 | AL10: 162.18925 | AM10: $3,001 - $4,000 | AN10: 45430 | AO10: 158.9 | AP10: 43280 | AQ10: 151.4 | AR10: 36410 | AS10: 127.4 | AT10: 34760 | AU10: 121.6 | AV10: 36940 | AW10: 129.2 | AX10: 36160 | AY10: 126.5 | AZ10: 34060 | BA10: 119.2
A11: $4,001 - $5,000 | B11: 57810 | C11: 260.6 | D11: 58990 | E11: 264.4 | F11: 55400 | G11: 248 | H11: 59240 | I11: 265.8 | J11: 57750 | K11: 259.4 | L11: 58490 | M11: 263.3 | N11: 55870 | O11: 251.1 | P11: 57270 | Q11: 257.4 | R11: $4,001 - $5,000 | S11: 50030 | T11: 225.2 | U11: 49350 | V11: 222.5 | W11: 45080 | X11: 202.3 | Y11: 44190 | Z11: 198.6 | AA11: 44940 | AB11: 202.4 | AC11: 43490 | AD11: 195.7 | AE11: 43820 | AF11: 197.3 | AG11: 42600 | AH11: 191.7 | AI11: 42640 | AJ11: 191.9 | AK11: 42540 | AL11: 191.28806 | AM11: $4,001 - $5,000 | AN11: 42320 | AO11: 190.4 | AP11: 39840 | AQ11: 179.1 | AR11: 33970 | AS11: 152.9 | AT11: 32370 | AU11: 145.7 | AV11: 34900 | AW11: 157.1 | AX11: 33290 | AY11: 149.8 | AZ11: 31590 | BA11: 142.1
A12: $5,001 - $6,000 | B12: 47670 | C12: 262.3 | D12: 54020 | E12: 296.1 | F12: 50570 | G12: 278.6 | H12: 50950 | I12: 279.4 | J12: 50350 | K12: 276.1 | L12: 53260 | M12: 292.9 | N12: 51730 | O12: 285 | P12: 51030 | Q12: 279.5 | R12: $5,001 - $6,000 | S12: 46550 | T12: 256.5 | U12: 46050 | V12: 253.3 | W12: 41370 | X12: 227.4 | Y12: 42340 | Z12: 232.1 | AA12: 42610 | AB12: 234.3 | AC12: 41700 | AD12: 229.1 | AE12: 42450 | AF12: 233.3 | AG12: 40240 | AH12: 221.3 | AI12: 40400 | AJ12: 222.2 | AK12: 40260 | AL12: 221.18293 | AM12: $5,001 - $6,000 | AN12: 39780 | AO12: 218.6 | AP12: 37530 | AQ12: 206.4 | AR12: 31860 | AS12: 175.3 | AT12: 31040 | AU12: 170.7 | AV12: 33310 | AW12: 183.1 | AX12: 32170 | AY12: 177 | AZ12: 30030 | BA12: 165.2
A13: $6,001 - $7,000 | B13: 43560 | C13: 282.9 | D13: 43730 | E13: 284 | F13: 47690 | G13: 309.8 | H13: 44250 | I13: 287.9 | J13: 46370 | K13: 300.8 | L13: 45900 | M13: 297.8 | N13: 49020 | O13: 318.5 | P13: 47320 | Q13: 308.1 | R13: $6,001 - $7,000 | S13: 43350 | T13: 281.6 | U13: 40360 | V13: 261 | W13: 40370 | X13: 262.2 | Y13: 42460 | Z13: 276 | AA13: 38230 | AB13: 248.1 | AC13: 37800 | AD13: 246 | AE13: 39490 | AF13: 256.6 | AG13: 37710 | AH13: 245 | AI13: 37740 | AJ13: 245.3 | AK13: 37680 | AL13: 244.81389 | AM13: $6,001 - $7,000 | AN13: 36830 | AO13: 239.4 | AP13: 35270 | AQ13: 229.2 | AR13: 30000 | AS13: 195 | AT13: 28870 | AU13: 187.6 | AV13: 31260 | AW13: 203.2 | AX13: 29760 | AY13: 193.4 | AZ13: 28580 | BA13: 185.7
A14: $7,001 - $8,000 | B14: 38710 | C14: 290.4 | D14: 41340 | E14: 310.2 | F14: 39970 | G14: 299.2 | H14: 41960 | I14: 314.5 | J14: 44370 | K14: 333.3 | L14: 43330 | M14: 324.7 | N14: 41720 | O14: 312.5 | P14: 41070 | Q14: 307.8 | R14: $7,001 - $8,000 | S14: 40040 | T14: 300.8 | U14: 39590 | V14: 297.4 | W14: 37760 | X14: 282.8 | Y14: 38120 | Z14: 286.4 | AA14: 36080 | AB14: 270.1 | AC14: 36050 | AD14: 269.7 | AE14: 37770 | AF14: 283.2 | AG14: 36300 | AH14: 272.3 | AI14: 36350 | AJ14: 272.7 | AK14: 36290 | AL14: 272.09265 | AM14: $7,001 - $8,000 | AN14: 35870 | AO14: 269 | AP14: 34010 | AQ14: 255.1 | AR14: 30110 | AS14: 225.6 | AT14: 27770 | AU14: 208.3 | AV14: 29870 | AW14: 224.2 | AX14: 29640 | AY14: 222.3 | AZ14: 27670 | BA14: 207.5
A15: $8,001 - $9,000 | B15: 36980 | C15: 314.2 | D15: 37110 | E15: 315.3 | F15: 38600 | G15: 327.7 | H15: 37790 | I15: 321.2 | J15: 38820 | K15: 329.9 | L15: 37680 | M15: 320.3 | N15: 40310 | O15: 343 | P15: 41000 | Q15: 348.1 | R15: $8,001 - $9,000 | S15: 38770 | T15: 329.3 | U15: 37390 | V15: 317.6 | W15: 35450 | X15: 301 | Y15: 34770 | Z15: 295.5 | AA15: 35690 | AB15: 303.3 | AC15: 36290 | AD15: 308.7 | AE15: 33440 | AF15: 284 | AG15: 35150 | AH15: 298.6 | AI15: 34790 | AJ15: 295.7 | AK15: 34830 | AL15: 295.99755 | AM15: $8,001 - $9,000 | AN15: 34250 | AO15: 291.1 | AP15: 33080 | AQ15: 281.1 | AR15: 28240 | AS15: 240 | AT15: 27050 | AU15: 230 | AV15: 29170 | AW15: 247.9 | AX15: 28420 | AY15: 241.5 | AZ15: 26450 | BA15: 224.8
A16: $9,001 - $10,000 | B16: 37110 | C16: 352.8 | D16: 39710 | E16: 377.3 | F16: 38210 | G16: 363 | H16: 35420 | I16: 336 | J16: 37270 | K16: 354.1 | L16: 37970 | M16: 360.5 | N16: 37720 | O16: 357.8 | P16: 37940 | Q16: 360.3 | R16: $9,001 - $10,000 | S16: 37030 | T16: 351.8 | U16: 35980 | V16: 342 | W16: 35350 | X16: 336.1 | Y16: 34850 | Z16: 331.1 | AA16: 35050 | AB16: 332.9 | AC16: 33910 | AD16: 322.7 | AE16: 31830 | AF16: 302.6 | AG16: 33190 | AH16: 315.3 | AI16: 34340 | AJ16: 326.3 | AK16: 34700 | AL16: 329.96821 | AM16: $9,001 - $10,000 | AN16: 33020 | AO16: 314 | AP16: 31770 | AQ16: 301.8 | AR16: 28090 | AS16: 266.9 | AT16: 26590 | AU16: 252.7 | AV16: 28000 | AW16: 266.2 | AX16: 27880 | AY16: 265 | AZ16: 25870 | BA16: 245.8
A17: $10,001 - $11,000 | B17: 34750 | C17: 364.9 | D17: 32420 | E17: 340.4 | F17: 35450 | G17: 372.2 | H17: 35160 | I17: 368.7 | J17: 34490 | K17: 362.5 | L17: 35110 | M17: 368.6 | N17: 36770 | O17: 385.9 | P17: 35750 | Q17: 375.9 | R17: $10,001 - $11,000 | S17: 35170 | T17: 368.5 | U17: 32570 | V17: 342.1 | W17: 33070 | X17: 347.5 | Y17: 33380 | Z17: 349.8 | AA17: 30660 | AB17: 321.9 | AC17: 30450 | AD17: 320 | AE17: 31270 | AF17: 328 | AG17: 31820 | AH17: 334 | AI17: 32540 | AJ17: 341.5 | AK17: 32070 | AL17: 336.63468 | AM17: $10,001 - $11,000 | AN17: 31660 | AO17: 332.4 | AP17: 30240 | AQ17: 317.4 | AR17: 26580 | AS17: 279 | AT17: 25810 | AU17: 271 | AV17: 27150 | AW17: 285 | AX17: 26890 | AY17: 282.3 | AZ17: 24800 | BA17: 260.3 | BC17: $10,001 - $20,000 | BD17: =SUM(S17:S26) -> 302700 | BE17: =SUM(T17:T26) -> 4477.8 | BF17: =SUM(U17:U26) -> 286390 | BG17: =SUM(V17:V26) -> 4215.1 | BH17: =SUM(W17:W26) -> 284970 | BI17: =SUM(X17:X26) -> 4201.3 | BJ17: =SUM(Y17:Y26) -> 283960 | BK17: =SUM(Z17:Z26) -> 4181.1 | ... BW17: =SUM(AL17:AL26) -> 4185.4634 | BX17: =SUM(AN17:AN26) -> 277890 | BY17: =SUM(AO17:AO26) -> 4104.8 | BZ17: =SUM(AP17:AP26) -> 270500 | CA17: =SUM(AQ17:AQ26) -> 3998 | CB17: =SUM(AR17:AR26) -> 244060 | CC17: =SUM(AS17:AS26) -> 3613.6 | CD17: =SUM(AT17:AT26) -> 230450 | CE17: =SUM(AU17:AU26) -> 3412.3 | ... CK17: =SUM(BA17:BA26) -> 3365.6
A18: $11,001 - $12,000 | B18: 34720 | C18: 399.1 | D18: 33890 | E18: 389.3 | F18: 35330 | G18: 406.3 | H18: 34300 | I18: 395.1 | J18: 33720 | K18: 388 | L18: 33720 | M18: 387.6 | N18: 34420 | O18: 396.3 | P18: 34410 | Q18: 395.9 | R18: $11,001 - $12,000 | S18: 31950 | T18: 367.5 | U18: 32850 | V18: 378.1 | W18: 31590 | X18: 363.6 | Y18: 32420 | Z18: 373.2 | AA18: 31090 | AB18: 357.7 | AC18: 30670 | AD18: 352.6 | AE18: 30330 | AF18: 349.2 | AG18: 30830 | AH18: 354.8 | AI18: 31060 | AJ18: 357.4 | AK18: 31040 | AL18: 357.06917 | AM18: $11,001 - $12,000 | AN18: 30700 | AO18: 353.2 | AP18: 29750 | AQ18: 342.2 | AR18: 26700 | AS18: 307.3 | AT18: 25080 | AU18: 288.6 | AV18: 26930 | AW18: 309.7 | AX18: 26550 | AY18: 305.6 | AZ18: 24630 | BA18: 283.4
A19: $12,001 - $13,000 | B19: 31400 | C19: 392.9 | D19: 30750 | E19: 384.4 | F19: 33130 | G19: 414 | H19: 32490 | I19: 405.8 | J19: 30960 | K19: 387.8 | L19: 33030 | M19: 412.6 | N19: 31460 | O19: 392.6 | P19: 32720 | Q19: 409.5 | R19: $12,001 - $13,000 | S19: 31860 | T19: 398.3 | U19: 32170 | V19: 402.2 | W19: 29170 | X19: 364.1 | Y19: 29610 | Z19: 370.2 | AA19: 29550 | AB19: 369.6 | AC19: 29280 | AD19: 366.6 | AE19: 29330 | AF19: 366.9 | AG19: 29340 | AH19: 366.7 | AI19: 30110 | AJ19: 376.4 | AK19: 30240 | AL19: 378.10168 | AM19: $12,001 - $13,000 | AN19: 30050 | AO19: 375.6 | AP19: 29760 | AQ19: 372.2 | AR19: 25950 | AS19: 324.6 | AT19: 24300 | AU19: 303.8 | AV19: 26040 | AW19: 325.5 | AX19: 25690 | AY19: 321.4 | AZ19: 24130 | BA19: 301.6
A20: $13,001 - $14,000 | B20: 29890 | C20: 403.1 | D20: 30120 | E20: 406.4 | F20: 32630 | G20: 440.7 | H20: 30880 | I20: 417 | J20: 32500 | K20: 438.7 | L20: 29410 | M20: 397.2 | N20: 30330 | O20: 409.4 | P20: 33550 | Q20: 452.3 | R20: $13,001 - $14,000 | S20: 32520 | T20: 439.5 | U20: 30580 | V20: 412.5 | W20: 29830 | X20: 402.4 | Y20: 30480 | Z20: 411.4 | AA20: 28600 | AB20: 385.9 | AC20: 28930 | AD20: 390.8 | AE20: 29950 | AF20: 404 | AG20: 28330 | AH20: 382.5 | AI20: 28850 | AJ20: 389.4 | AK20: 29200 | AL20: 394.17258 | AM20: $13,001 - $14,000 | AN20: 28470 | AO20: 384.3 | AP20: 27850 | AQ20: 376 | AR20: 25810 | AS20: 348.2 | AT20: 23440 | AU20: 316.5 | AV20: 25240 | AW20: 340.7 | AX20: 24660 | AY20: 332.9 | AZ20: 23240 | BA20: 313.7
A21: $14,001 - $15,000 | B21: 29460 | C21: 426.9 | D21: 33070 | E21: 479.6 | F21: 32300 | G21: 469.4 | H21: 30470 | I21: 441.8 | J21: 30430 | K21: 440.9 | L21: 31860 | M21: 462.3 | N21: 29580 | O21: 428.7 | P21: 29300 | Q21: 424.9 | R21: $14,001 - $15,000 | S21: 30040 | T21: 435.2 | U21: 28970 | V21: 420.2 | W21: 30020 | X21: 435.3 | Y21: 27380 | Z21: 397.2 | AA21: 26380 | AB21: 382.4 | AC21: 28070 | AD21: 406.8 | AE21: 28050 | AF21: 407.2 | AG21: 28430 | AH21: 412.4 | AI21: 28680 | AJ21: 416 | AK21: 28140 | AL21: 408.1293 | AM21: $14,001 - $15,000 | AN21: 28020 | AO21: 406.4 | AP21: 27260 | AQ21: 395.4 | AR21: 24610 | AS21: 356.9 | AT21: 22950 | AU21: 332.9 | AV21: 24700 | AW21: 358.3 | AX21: 24350 | AY21: 353.1 | AZ21: 22970 | BA21: 333
A22: $15,001 - $16,000 | B22: 28400 | C22: 439.5 | D22: 30780 | E22: 477.1 | F22: 29400 | G22: 455.8 | H22: 30650 | I22: 475.3 | J22: 29370 | K22: 455.5 | L22: 29430 | M22: 456.3 | N22: 29260 | O22: 454.2 | P22: 28660 | Q22: 443.8 | R22: $15,001 - $16,000 | S22: 27760 | T22: 430.6 | U22: 27590 | V22: 427.9 | W22: 28950 | X22: 448.4 | Y22: 28590 | Z22: 443.1 | AA22: 27090 | AB22: 419.9 | AC22: 26980 | AD22: 418 | AE22: 27260 | AF22: 422.4 | AG22: 27430 | AH22: 425.2 | AI22: 28120 | AJ22: 436 | AK22: 27780 | AL22: 430.62255 | AM22: $15,001 - $16,000 | AN22: 27020 | AO22: 418.8 | AP22: 26070 | AQ22: 404.2 | AR22: 24230 | AS22: 375.7 | AT22: 22910 | AU22: 355.3 | AV22: 23880 | AW22: 370.1 | AX22: 23720 | AY22: 367.7 | AZ22: 22170 | BA22: 343.6
A23: $16,001 - $17,000 | B23: 30870 | C23: 509.2 | D23: 28780 | E23: 475 | F23: 28160 | G23: 465 | H23: 28340 | I23: 467.4 | J23: 30160 | K23: 497.4 | L23: 28950 | M23: 477.4 | N23: 30270 | O23: 499.7 | P23: 29420 | Q23: 485.3 | R23: $16,001 - $17,000 | S23: 29070 | T23: 479.6 | U23: 24430 | V23: 403.6 | W23: 25840 | X23: 426.1 | Y23: 25830 | Z23: 426 | AA23: 25230 | AB23: 415.9 | AC23: 25700 | AD23: 423.9 | AE23: 27950 | AF23: 461.4 | AG23: 26100 | AH23: 430.7 | AI23: 26560 | AJ23: 438.2 | AK23: 27110 | AL23: 447.14456 | AM23: $16,001 - $17,000 | AN23: 26010 | AO23: 429.2 | AP23: 25220 | AQ23: 416.2 | AR23: 23150 | AS23: 382 | AT23: 22420 | AU23: 369.6 | AV23: 24070 | AW23: 397.2 | AX23: 23050 | AY23: 380.3 | AZ23: 21360 | BA23: 352.4
A24: $17,001 - $18,000 | B24: 29170 | C24: 510.4 | D24: 28700 | E24: 502.7 | F24: 30080 | G24: 527.1 | H24: 29180 | I24: 511 | J24: 29220 | K24: 511.3 | L24: 28590 | M24: 500.2 | N24: 28460 | O24: 498 | P24: 28150 | Q24: 492.5 | R24: $17,001 - $18,000 | S24: 29100 | T24: 509.3 | U24: 26260 | V24: 460.2 | W24: 26510 | X24: 464.3 | Y24: 26350 | Z24: 461.4 | AA24: 23930 | AB24: 418.9 | AC24: 24840 | AD24: 435.2 | AE24: 24940 | AF24: 436.3 | AG24: 25560 | AH24: 447.4 | AI24: 26400 | AJ24: 462.2 | AK24: 26340 | AL24: 461.13282 | AM24: $17,001 - $18,000 | AN24: 25780 | AO24: 451.1 | AP24: 25260 | AQ24: 442.2 | AR24: 22680 | AS24: 397 | AT24: 21680 | AU24: 379.5 | AV24: 23620 | AW24: 413.2 | AX24: 23130 | AY24: 405 | AZ24: 21180 | BA24: 370.7
A25: $18,001 - $19,000 | B25: 29630 | C25: 547.3 | D25: 27560 | E25: 510.2 | F25: 30490 | G25: 563.9 | H25: 28040 | I25: 518.5 | J25: 28560 | K25: 528 | L25: 28840 | M25: 533.4 | N25: 26930 | O25: 498 | P25: 27780 | Q25: 514.1 | R25: $18,001 - $19,000 | S25: 27630 | T25: 511 | U25: 25440 | V25: 470.4 | W25: 24690 | X25: 456.3 | Y25: 25040 | Z25: 463 | AA25: 23270 | AB25: 430.4 | AC25: 24690 | AD25: 456.6 | AE25: 24250 | AF25: 448.1 | AG25: 25010 | AH25: 462.7 | AI25: 25780 | AJ25: 477 | AK25: 25340 | AL25: 468.83674 | AM25: $18,001 - $19,000 | AN25: 25170 | AO25: 465.8 | AP25: 25050 | AQ25: 463.3 | AR25: 22060 | AS25: 408.2 | AT25: 21050 | AU25: 389.3 | AV25: 22250 | AW25: 411.5 | AX25: 22810 | AY25: 421.8 | AZ25: 20960 | BA25: 387.8
A26: $19,001 - $20,000 | B26: 28980 | C26: 565 | D26: 27980 | E26: 546.1 | F26: 31100 | G26: 606.9 | H26: 29630 | I26: 578.1 | J26: 30490 | K26: 594.4 | L26: 29930 | M26: 584.1 | N26: 28200 | O26: 550.4 | P26: 28910 | Q26: 564.3 | R26: $19,001 - $20,000 | S26: 27600 | T26: 538.3 | U26: 25530 | V26: 497.9 | W26: 25300 | X26: 493.3 | Y26: 24880 | Z26: 485.8 | AA26: 25100 | AB26: 489.6 | AC26: 26800 | AD26: 522.4 | AE26: 23870 | AF26: 465.6 | AG26: 25180 | AH26: 491.2 | AI26: 25830 | AJ26: 503.8 | AK26: 25810 | AL26: 503.61936 | AM26: $19,001 - $20,000 | AN26: 25010 | AO26: 488 | AP26: 24040 | AQ26: 468.9 | AR26: 22290 | AS26: 434.7 | AT26: 20810 | AU26: 405.8 | AV26: 22180 | AW26: 432.6 | AX26: 22410 | AY26: 437.1 | AZ26: 21490 | BA26: 419.1
A27: $20,000 - $21,000 | B27: 29950 | C27: 614.1 | D27: 29060 | E27: 596.2 | F27: 29940 | G27: 614.2 | H27: 31960 | I27: 655.5 | J27: 31710 | K27: 650.2 | L27: 29140 | M27: 597.1 | N27: 26580 | O27: 544.8 | P27: 29610 | Q27: 606.8 | R27: $20,000 - $21,000 | S27: 28100 | T27: 575.9 | U27: 25450 | V27: 521.8 | W27: 26850 | X27: 550.9 | Y27: 25680 | Z27: 526.1 | AA27: 25010 | AB27: 512.7 | AC27: 23360 | AD27: 479.2 | AE27: 24090 | AF27: 494.5 | AG27: 24530 | AH27: 503.1 | AI27: 25710 | AJ27: 527.1 | AK27: 25110 | AL27: 514.82958 | AM27: $20,000 - $21,000 | AN27: 24510 | AO27: 502.6 | AP27: 24230 | AQ27: 496.8 | AR27: 21560 | AS27: 442 | AT27: 20630 | AU27: 423.1 | AV27: 21710 | AW27: 445.1 | AX27: 21680 | AY27: 444.3 | AZ27: 20250 | BA27: 415.1 | BC27: $20,001 - $30,000 | BD27: =SUM(S27:S36) -> 288900 | BE27: =SUM(T27:T36) -> 7267.9 | BF27: =SUM(U27:U36) -> 262620 | BG27: =SUM(V27:V36) -> 6617.2 | BH27: =SUM(W27:W36) -> 258920 | BI27: =SUM(X27:X36) -> 6505.6 | BJ27: =SUM(Y27:Y36) -> 258460 | BK27: =SUM(Z27:Z36) -> 6497.6 | ... BW27: =SUM(AL27:AL36) -> 6178.9346 | BX27: =SUM(AN27:AN36) -> 240550 | BY27: =SUM(AO27:AO36) -> 6011.2 | BZ27: =SUM(AP27:AP36) -> 234970 | CA27: =SUM(AQ27:AQ36) -> 5870.4 | CB27: =SUM(AR27:AR36) -> 211980 | CC27: =SUM(AS27:AS36) -> 5302.1 | CD27: =SUM(AT27:AT36) -> 198010 | CE27: =SUM(AU27:AU36) -> 4948.1 | ... CK27: =SUM(BA27:BA36) -> 4724.9
A28: $21,001 - $22,000 | B28: 30110 | C28: 647.8 | D28: 28500 | E28: 612.8 | F28: 29430 | G28: 632.5 | H28: 30840 | I28: 662.7 | J28: 29140 | K28: 626.4 | L28: 30320 | M28: 652.2 | N28: 28830 | O28: 620 | P28: 25090 | Q28: 539.5 | R28: $21,001 - $22,000 | S28: 26370 | T28: 566.9 | U28: 25090 | V28: 539.6 | W28: 23780 | X28: 511.4 | Y28: 25330 | Z28: 545.4 | AA28: 23860 | AB28: 513.2 | AC28: 24550 | AD28: 527.7 | AE28: 25220 | AF28: 542.3 | AG28: 24060 | AH28: 517.4 | AI28: 25020 | AJ28: 537.9 | AK28: 24730 | AL28: 531.71246 | AM28: $21,001 - $22,000 | AN28: 24130 | AO28: 518.9 | AP28: 23460 | AQ28: 504.5 | AR28: 21400 | AS28: 460.1 | AT28: 19880 | AU28: 427.5 | AV28: 21410 | AW28: 460.4 | AX28: 21290 | AY28: 457.6 | AZ28: 19350 | BA28: 416.1
A29: $22,001 - $23,000 | B29: 30890 | C29: 694.8 | D29: 30300 | E29: 682.1 | F29: 29570 | G29: 665.8 | H29: 29380 | I29: 661 | J29: 29710 | K29: 668.5 | L29: 29970 | M29: 674.8 | N29: 30800 | O29: 693.6 | P29: 29660 | Q29: 667.4 | R29: $22,001 - $23,000 | S29: 26830 | T29: 603.7 | U29: 23000 | V29: 517.7 | W29: 23890 | X29: 537.3 | Y29: 24710 | Z29: 556.6 | AA29: 25250 | AB29: 568.3 | AC29: 23240 | AD29: 522.6 | AE29: 22920 | AF29: 515.8 | AG29: 24040 | AH29: 541 | AI29: 24610 | AJ29: 553.8 | AK29: 24550 | AL29: 552.40758 | AM29: $22,001 - $23,000 | AN29: 23870 | AO29: 537.2 | AP29: 23190 | AQ29: 521.8 | AR29: 20660 | AS29: 464.9 | AT29: 19530 | AU29: 439.4 | AV29: 20990 | AW29: 472.1 | AX29: 20870 | AY29: 469.6 | AZ29: 18950 | BA29: 426.2
A30: $23,001 - $24,000 | B30: 31550 | C30: 740.9 | D30: 31340 | E30: 736.5 | F30: 31030 | G30: 729.5 | H30: 31030 | I30: 729.7 | J30: 32680 | K30: 767.6 | L30: 31110 | M30: 731.6 | N30: 30450 | O30: 715.5 | P30: 29010 | Q30: 682.4 | R30: $23,001 - $24,000 | S30: 28270 | T30: 664.7 | U30: 25660 | V30: 603.5 | W30: 24470 | X30: 575.2 | Y30: 25000 | Z30: 588.3 | AA30: 23870 | AB30: 561.1 | AC30: 24280 | AD30: 571.1 | AE30: 24870 | AF30: 584.8 | AG30: 24730 | AH30: 581.4 | AI30: 25400 | AJ30: 597.1 | AK30: 24790 | AL30: 582.75785 | AM30: $23,001 - $24,000 | AN30: 24310 | AO30: 571.5 | AP30: 23740 | AQ30: 558.2 | AR30: 21120 | AS30: 496.4 | AT30: 19710 | AU30: 463.3 | AV30: 20660 | AW30: 485.6 | AX30: 21350 | AY30: 501.8 | AZ30: 19340 | BA30: 454.6
A31: $24,001 - $25,000 | B31: 32220 | C31: 790.1 | D31: 30540 | E31: 749 | F31: 31530 | G31: 773.3 | H31: 32360 | I31: 792.8 | J31: 30500 | K31: 747 | L31: 31410 | M31: 770.1 | N31: 30730 | O31: 753.5 | P31: 30840 | Q31: 755.8 | R31: $24,001 - $25,000 | S31: 29470 | T31: 723 | U31: 23090 | V31: 566.3 | W31: 24420 | X31: 598.3 | Y31: 23370 | Z31: 572.6 | AA31: 25030 | AB31: 613.5 | AC31: 25930 | AD31: 635.7 | AE31: 25730 | AF31: 630.7 | AG31: 23910 | AH31: 586.1 | AI31: 24600 | AJ31: 602.8 | AK31: 24810 | AL31: 608.01375 | AM31: $24,001 - $25,000 | AN31: 24250 | AO31: 594.2 | AP31: 23730 | AQ31: 581.4 | AR31: 21110 | AS31: 517.3 | AT31: 19850 | AU31: 486.6 | AV31: 20380 | AW31: 499.5 | AX31: 20750 | AY31: 508.5 | AZ31: 19220 | BA31: 471
A32: $25,001 - $26,000 | B32: 31870 | C32: 813 | D32: 31430 | E32: 801.8 | F32: 31960 | G32: 815.3 | H32: 30090 | I32: 767.8 | J32: 31970 | K32: 815.9 | L32: 30720 | M32: 783.9 | N32: 30060 | O32: 766.8 | P32: 29830 | Q32: 760.4 | R32: $25,001 - $26,000 | S32: 28780 | T32: 734.7 | U32: 26550 | V32: 678 | W32: 26630 | X32: 679.4 | Y32: 25820 | Z32: 658.9 | AA32: 25830 | AB32: 659.4 | AC32: 22410 | AD32: 571.6 | AE32: 25510 | AF32: 650.4 | AG32: 24070 | AH32: 613.9 | AI32: 24970 | AJ32: 637 | AK32: 24980 | AL32: 637.25288 | AM32: $25,001 - $26,000 | AN32: 24070 | AO32: 614.1 | AP32: 23250 | AQ32: 592.9 | AR32: 21290 | AS32: 543.1 | AT32: 19610 | AU32: 500.3 | AV32: 20420 | AW32: 520.7 | AX32: 20670 | AY32: 527.1 | AZ32: 18900 | BA32: 482.1
A33: $26,001 - $27,000 | B33: 31460 | C33: 834.1 | D33: 32790 | E33: 868.7 | F33: 30410 | G33: 805.9 | H33: 31790 | I33: 842.8 | J33: 30260 | K33: 801.8 | L33: 32240 | M33: 853.9 | N33: 32460 | O33: 860.4 | P33: 32410 | Q33: 858.9 | R33: $26,001 - $27,000 | S33: 28110 | T33: 744.4 | U33: 28500 | V33: 755.3 | W33: 26860 | X33: 712 | Y33: 24980 | Z33: 661.9 | AA33: 24130 | AB33: 639.9 | AC33: 23810 | AD33: 631.2 | AE33: 24570 | AF33: 650.9 | AG33: 23750 | AH33: 629.4 | AI33: 24530 | AJ33: 650.1 | AK33: 24440 | AL33: 647.47061 | AM33: $26,001 - $27,000 | AN33: 23750 | AO33: 629.3 | AP33: 23190 | AQ33: 614.5 | AR33: 20680 | AS33: 548.1 | AT33: 19440 | AU33: 515 | AV33: 19910 | AW33: 527.6 | AX33: 20530 | AY33: 544 | AZ33: 18390 | BA33: 487.4
A34: $27,001 - $28,000 | B34: 30050 | C34: 826.7 | D34: 31440 | E34: 865.5 | F34: 30310 | G34: 833.2 | H34: 30540 | I34: 840.1 | J34: 31820 | K34: 874.8 | L34: 31460 | M34: 865.3 | N34: 32200 | O34: 885.6 | P34: 30550 | Q34: 840.2 | R34: $27,001 - $28,000 | S34: 29720 | T34: 817.3 | U34: 26400 | V34: 725.8 | W34: 26000 | X34: 714.6 | Y34: 26270 | Z34: 722.7 | AA34: 25820 | AB34: 710.2 | AC34: 24040 | AD34: 661.5 | AE34: 23260 | AF34: 639.6 | AG34: 23900 | AH34: 657.4 | AI34: 24370 | AJ34: 670.1 | AK34: 24220 | AL34: 666.10956 | AM34: $27,001 - $28,000 | AN34: 23660 | AO34: 650.7 | AP34: 23550 | AQ34: 647.6 | AR34: 20860 | AS34: 573.6 | AT34: 19510 | AU34: 536.5 | AV34: 19930 | AW34: 548 | AX34: 20130 | AY34: 553.5 | AZ34: 18000 | BA34: 494.9
A35: $28,001 - $29,000 | B35: 34010 | C35: 968.5 | D35: 29690 | E35: 846.7 | F35: 32450 | G35: 924.8 | H35: 30830 | I35: 878.7 | J35: 33090 | K35: 943 | L35: 31880 | M35: 908.3 | N35: 31940 | O35: 910.4 | P35: 31820 | Q35: 907 | R35: $28,001 - $29,000 | S35: 29800 | T35: 849.7 | U35: 28390 | V35: 809.3 | W35: 26610 | X35: 758 | Y35: 26920 | Z35: 767.8 | AA35: 27510 | AB35: 784.3 | AC35: 24850 | AD35: 708.2 | AE35: 24290 | AF35: 691.8 | AG35: 23650 | AH35: 673.8 | AI35: 24650 | AJ35: 702.6 | AK35: 24530 | AL35: 699.0338 | AM35: $28,001 - $29,000 | AN35: 23670 | AO35: 674.7 | AP35: 23050 | AQ35: 656.8 | AR35: 21160 | AS35: 603.2 | AT35: 19520 | AU35: 556.4 | AV35: 19790 | AW35: 563.9 | AX35: 19960 | AY35: 568.8 | AZ35: 18330 | BA35: 522.3
A36: $29,001 - $30,000 | B36: 32280 | C36: 952.9 | D36: 34820 | E36: 1027.8 | F36: 33390 | G36: 985.5 | H36: 34200 | I36: 1009.6 | J36: 33750 | K36: 995.9 | L36: 32960 | M36: 972.8 | N36: 32830 | O36: 968.6 | P36: 35410 | Q36: 1045.5 | R36: $29,001 - $30,000 | S36: 33450 | T36: 987.6 | U36: 30490 | V36: 899.9 | W36: 29410 | X36: 868.5 | Y36: 30380 | Z36: 897.3 | AA36: 26620 | AB36: 786 | AC36: 27130 | AD36: 800.7 | AE36: 25720 | AF36: 758.9 | AG36: 24840 | AH36: 733.3 | AI36: 25780 | AJ36: 761.2 | AK36: 25040 | AL36: 739.34653 | AM36: $29,001 - $30,000 | AN36: 24330 | AO36: 718 | AP36: 23580 | AQ36: 695.9 | AR36: 22140 | AS36: 653.4 | AT36: 20330 | AU36: 600 | AV36: 20040 | AW36: 591.6 | AX36: 20510 | AY36: 605.3 | AZ36: 18810 | BA36: 555.2
A37: $30,001 - $31,000 | B37: 32160 | C37: 981.1 | D37: 33080 | E37: 1009 | F37: 32780 | G37: 999.5 | H37: 32060 | I37: 977.8 | J37: 34330 | K37: 1046.2 | L37: 32340 | M37: 986.7 | N37: 30470 | O37: 929.3 | P37: 31730 | Q37: 967.5 | R37: $30,001 - $31,000 | S37: 32420 | T37: 989 | U37: 30000 | V37: 915 | W37: 29320 | X37: 894.8 | Y37: 27320 | Z37: 833.2 | AA37: 27500 | AB37: 838.5 | AC37: 25810 | AD37: 787.5 | AE37: 26680 | AF37: 813.7 | AG37: 25320 | AH37: 772.2 | AI37: 25170 | AJ37: 767.6 | AK37: 24750 | AL37: 755.02666 | AM37: $30,001 - $31,000 | AN37: 24020 | AO37: 732.8 | AP37: 23160 | AQ37: 706.5 | AR37: 22000 | AS37: 670.8 | AT37: 20150 | AU37: 614.5 | AV37: 19750 | AW37: 602.3 | AX37: 19970 | AY37: 608.9 | AZ37: 18270 | BA37: 557.2 | BC37: $30,001 - $40,000 | BD37: =SUM(S37:S46) -> 328110 | BE37: =SUM(T37:T46) -> 11495.7 | BF37: =SUM(U37:U46) -> 312160 | BG37: =SUM(V37:V46) -> 10949.9 | BH37: =SUM(W37:W46) -> 301250 | BI37: =SUM(X37:X46) -> 10565 | BJ37: =SUM(Y37:Y46) -> 291580 | BK37: =SUM(Z37:Z46) -> 10234.6 | ... BW37: =SUM(AL37:AL46) -> 9895.9924 | BX37: =SUM(AN37:AN46) -> 268660 | BY37: =SUM(AO37:AO46) -> 9461.2 | BZ37: =SUM(AP37:AP46) -> 250680 | CA37: =SUM(AQ37:AQ46) -> 8826 | CB37: =SUM(AR37:AR46) -> 236770 | CC37: =SUM(AS37:AS46) -> 8331.6 | CD37: =SUM(AT37:AT46) -> 213430 | CE37: =SUM(AU37:AU46) -> 7494.8 | ... CK37: =SUM(BA37:BA46) -> 6521.4
A38: $31,001 - $32,000 | B38: 32980 | C38: 1038.7 | D38: 31330 | E38: 986.7 | F38: 33290 | G38: 1048.2 | H38: 32000 | I38: 1007.9 | J38: 32670 | K38: 1029.3 | L38: 32890 | M38: 1035.9 | N38: 31270 | O38: 985.3 | P38: 34680 | Q38: 1092.3 | R38: $31,001 - $32,000 | S38: 33240 | T38: 1046.9 | U38: 32460 | V38: 1022.6 | W38: 30280 | X38: 953.8 | Y38: 28400 | Z38: 894.6 | AA38: 26940 | AB38: 847.9 | AC38: 27230 | AD38: 858.1 | AE38: 24690 | AF38: 777.4 | AG38: 26540 | AH38: 836 | AI38: 26720 | AJ38: 841.9 | AK38: 25560 | AL38: 805.10427 | AM38: $31,001 - $32,000 | AN38: 24650 | AO38: 776.6 | AP38: 23250 | AQ38: 732.2 | AR38: 22440 | AS38: 706.8 | AT38: 20820 | AU38: 655.8 | AV38: 19730 | AW38: 621.4 | AX38: 19950 | AY38: 628.4 | AZ38: 18430 | BA38: 580.3
A39: $32,001 - $33,000 | B39: 32230 | C39: 1047.5 | D39: 31620 | E39: 1028.1 | F39: 29480 | G39: 958.9 | H39: 31960 | I39: 1039.5 | J39: 34290 | K39: 1114.2 | L39: 35490 | M39: 1153.5 | N39: 34620 | O39: 1125.2 | P39: 33870 | Q39: 1100.9 | R39: $32,001 - $33,000 | S39: 30860 | T39: 1002.8 | U39: 31410 | V39: 1020.5 | W39: 28390 | X39: 922.7 | Y39: 27080 | Z39: 880 | AA39: 29390 | AB39: 954.8 | AC39: 28000 | AD39: 910.6 | AE39: 26460 | AF39: 860.2 | AG39: 26290 | AH39: 854.6 | AI39: 27070 | AJ39: 879.7 | AK39: 26620 | AL39: 865.39464 | AM39: $32,001 - $33,000 | AN39: 25150 | AO39: 817.6 | AP39: 23630 | AQ39: 768 | AR39: 22180 | AS39: 720.9 | AT39: 20710 | AU39: 673.1 | AV39: 19600 | AW39: 637 | AX39: 20210 | AY39: 656.7 | AZ39: 18410 | BA39: 598.2
A40: $33,001 - $34,000 | B40: 31040 | C40: 1040.5 | D40: 31800 | E40: 1064.7 | F40: 33410 | G40: 1119.6 | H40: 31730 | I40: 1063.2 | J40: 31280 | K40: 1047.5 | L40: 33620 | M40: 1126.9 | N40: 34600 | O40: 1159.4 | P40: 31450 | Q40: 1053.6 | R40: $33,001 - $34,000 | S40: 32410 | T40: 1085.1 | U40: 28740 | V40: 963 | W40: 30370 | X40: 1017.3 | Y40: 28900 | Z40: 968.6 | AA40: 26610 | AB40: 891.6 | AC40: 28250 | AD40: 946.6 | AE40: 27910 | AF40: 934.9 | AG40: 27140 | AH40: 909.3 | AI40: 27360 | AJ40: 916.6 | AK40: 27020 | AL40: 905.17023 | AM40: $33,001 - $34,000 | AN40: 25370 | AO40: 850 | AP40: 23360 | AQ40: 782.7 | AR40: 22450 | AS40: 752 | AT40: 20470 | AU40: 685.9 | AV40: 19800 | AW40: 663.4 | AX40: 20270 | AY40: 678.9 | AZ40: 18520 | BA40: 620.4
A41: $34,001 - $35,000 | B41: 29450 | C41: 1016.6 | D41: 32220 | E41: 1112 | F41: 32910 | G41: 1135.8 | H41: 30660 | I41: 1058.7 | J41: 32730 | K41: 1129.5 | L41: 34200 | M41: 1180.8 | N41: 33070 | O41: 1141.2 | P41: 34020 | Q41: 1174.7 | R41: $34,001 - $35,000 | S41: 34180 | T41: 1179.7 | U41: 29810 | V41: 1028.6 | W41: 28160 | X41: 971.6 | Y41: 29860 | Z41: 1030.3 | AA41: 30580 | AB41: 1055.5 | AC41: 30430 | AD41: 1050 | AE41: 27390 | AF41: 945 | AG41: 27800 | AH41: 959.4 | AI41: 28420 | AJ41: 980.7 | AK41: 28070 | AL41: 968.74746 | AM41: $34,001 - $35,000 | AN41: 26500 | AO41: 914.6 | AP41: 23840 | AQ41: 822.4 | AR41: 22730 | AS41: 784.4 | AT41: 20860 | AU41: 719.9 | AV41: 19810 | AW41: 683.5 | AX41: 19890 | AY41: 686.2 | AZ41: 18330 | BA41: 632.5
A42: $35,001 - $36,000 | B42: 30300 | C42: 1075.2 | D42: 28080 | E42: 997.3 | F42: 31750 | G42: 1127.6 | H42: 33240 | I42: 1180.2 | J42: 33040 | K42: 1173.5 | L42: 33490 | M42: 1188.9 | N42: 31620 | O42: 1122.8 | P42: 33750 | Q42: 1198.1 | R42: $35,001 - $36,000 | S42: 32280 | T42: 1146.2 | U42: 30400 | V42: 1079.3 | W42: 31820 | X42: 1130.1 | Y42: 29290 | Z42: 1039.5 | AA42: 29080 | AB42: 1032.5 | AC42: 29400 | AD42: 1043.4 | AE42: 29880 | AF42: 1060.7 | AG42: 28360 | AH42: 1007.1 | AI42: 29070 | AJ42: 1032.4 | AK42: 28860 | AL42: 1025.0177 | AM42: $35,001 - $36,000 | AN42: 27150 | AO42: 964.1 | AP42: 24640 | AQ42: 874.9 | AR42: 23500 | AS42: 834.4 | AT42: 21450 | AU42: 761.5 | AV42: 20370 | AW42: 723.4 | AX42: 20660 | AY42: 733.6 | AZ42: 18700 | BA42: 664.1
...

Sheet Graph data
B1: Number of individuals | H1: Total wage/salary income ($m) | O1: Number of salary and wage earners
A2: Band | B2: 2005 | C2: 2015 | D2: 2022 | E2: 2023 | F2: 2024 | G2: 2025 | H2: 2005 | I2: 2015 | J2: 2022 | K2: 2023 | L2: 2024 | M2: 2025
A3: 0 | O3: 2001 | P3: 1961.03
A4: 1000 | H4: ='Tables - wage and salary'!K7 -> 61.6 | I4: ='Tables - wage and salary'!AF7 -> 49.5 | J4: ='Tables - wage and salary'!AU7 -> 33.6 | K4: ='Tables - wage and salary'!AW7 -> 35.8 | L4: ='Tables - wage and salary'!AY7 -> 34.9 | M4: ='Tables - wage and salary'!BA7 -> 34.7 | O4: 2002 | P4: 2010.03
A5: 2000 | H5: ='Tables - wage and salary'!K8 -> 130.2 | I5: ='Tables - wage and salary'!AF8 -> 97.3 | J5: ='Tables - wage and salary'!AU8 -> 71.8 | K5: ='Tables - wage and salary'!AW8 -> 75.5 | L5: ='Tables - wage and salary'!AY8 -> 74.3 | M5: ='Tables - wage and salary'!BA8 -> 71.2 | O5: 2003 | P5: 2071.49
A6: 3000 | H6: ='Tables - wage and salary'!K9 -> 183.6 | I6: ='Tables - wage and salary'!AF9 -> 140.5 | J6: ='Tables - wage and salary'!AU9 -> 98 | K6: ='Tables - wage and salary'!AW9 -> 104.6 | L6: ='Tables - wage and salary'!AY9 -> 101 | M6: ='Tables - wage and salary'!BA9 -> 96 | O6: 2004 | P6: 2129.2
A7: 4000 | H7: ='Tables - wage and salary'!K10 -> 226.8 | I7: ='Tables - wage and salary'!AF10 -> 175.7 | J7: ='Tables - wage and salary'!AU10 -> 121.6 | K7: ='Tables - wage and salary'!AW10 -> 129.2 | L7: ='Tables - wage and salary'!AY10 -> 126.5 | M7: ='Tables - wage and salary'!BA10 -> 119.2 | O7: 2005 | P7: 2205.82
A8: 5000 | H8: ='Tables - wage and salary'!K11 -> 259.4 | I8: ='Tables - wage and salary'!AF11 -> 197.3 | J8: ='Tables - wage and salary'!AU11 -> 145.7 | K8: ='Tables - wage and salary'!AW11 -> 157.1 | L8: ='Tables - wage and salary'!AY11 -> 149.8 | M8: ='Tables - wage and salary'!BA11 -> 142.1 | O8: 2006 | P8: 2275.66
A9: 6000 | H9: ='Tables - wage and salary'!K12 -> 276.1 | I9: ='Tables - wage and salary'!AF12 -> 233.3 | J9: ='Tables - wage and salary'!AU12 -> 170.7 | K9: ='Tables - wage and salary'!AW12 -> 183.1 | L9: ='Tables - wage and salary'!AY12 -> 177 | M9: ='Tables - wage and salary'!BA12 -> 165.2 | O9: 2007 | P9: 2328.93
A10: 7000 | H10: ='Tables - wage and salary'!K13 -> 300.8 | I10: ='Tables - wage and salary'!AF13 -> 256.6 | J10: ='Tables - wage and salary'!AU13 -> 187.6 | K10: ='Tables - wage and salary'!AW13 -> 203.2 | L10: ='Tables - wage and salary'!AY13 -> 193.4 | M10: ='Tables - wage and salary'!BA13 -> 185.7 | O10: 2008 | P10: 2379.77
A11: 8000 | H11: ='Tables - wage and salary'!K14 -> 333.3 | I11: ='Tables - wage and salary'!AF14 -> 283.2 | J11: ='Tables - wage and salary'!AU14 -> 208.3 | K11: ='Tables - wage and salary'!AW14 -> 224.2 | L11: ='Tables - wage and salary'!AY14 -> 222.3 | M11: ='Tables - wage and salary'!BA14 -> 207.5 | O11: 2009 | P11: 2377.01
A12: 9000 | H12: ='Tables - wage and salary'!K15 -> 329.9 | I12: ='Tables - wage and salary'!AF15 -> 284 | J12: ='Tables - wage and salary'!AU15 -> 230 | K12: ='Tables - wage and salary'!AW15 -> 247.9 | L12: ='Tables - wage and salary'!AY15 -> 241.5 | M12: ='Tables - wage and salary'!BA15 -> 224.8 | O12: 2010 | P12: 2315.21
A13: 10000 | H13: ='Tables - wage and salary'!K16 -> 354.1 | I13: ='Tables - wage and salary'!AF16 -> 302.6 | J13: ='Tables - wage and salary'!AU16 -> 252.7 | K13: ='Tables - wage and salary'!AW16 -> 266.2 | L13: ='Tables - wage and salary'!AY16 -> 265 | M13: ='Tables - wage and salary'!BA16 -> 245.8 | O13: 2011 | P13: 2304.17
A14: 11000 | B14: ='Tables - wage and salary'!J17 -> 34490 | C14: ='Tables - wage and salary'!AE17 -> 31270 | D14: ='Tables - wage and salary'!AT17 -> 25810 | E14: ='Tables - wage and salary'!AV17 -> 27150 | F14: ='Tables - wage and salary'!AX17 -> 26890 | G14: ='Tables - wage and salary'!AZ17 -> 24800 | H14: ='Tables - wage and salary'!K17 -> 362.5 | I14: ='Tables - wage and salary'!AF17 -> 328 | J14: ='Tables - wage and salary'!AU17 -> 271 | K14: ='Tables - wage and salary'!AW17 -> 285 | L14: ='Tables - wage and salary'!AY17 -> 282.3 | M14: ='Tables - wage and salary'!BA17 -> 260.3 | O14: 2012 | P14: 2326.45
A15: 12000 | B15: ='Tables - wage and salary'!J18 -> 33720 | C15: ='Tables - wage and salary'!AE18 -> 30330 | D15: ='Tables - wage and salary'!AT18 -> 25080 | E15: ='Tables - wage and salary'!AV18 -> 26930 | F15: ='Tables - wage and salary'!AX18 -> 26550 | G15: ='Tables - wage and salary'!AZ18 -> 24630 | H15: ='Tables - wage and salary'!K18 -> 388 | I15: ='Tables - wage and salary'!AF18 -> 349.2 | J15: ='Tables - wage and salary'!AU18 -> 288.6 | K15: ='Tables - wage and salary'!AW18 -> 309.7 | L15: ='Tables - wage and salary'!AY18 -> 305.6 | M15: ='Tables - wage and salary'!BA18 -> 283.4 | O15: 2013 | P15: 2339.27
A16: 13000 | B16: ='Tables - wage and salary'!J19 -> 30960 | C16: ='Tables - wage and salary'!AE19 -> 29330 | D16: ='Tables - wage and salary'!AT19 -> 24300 | E16: ='Tables - wage and salary'!AV19 -> 26040 | F16: ='Tables - wage and salary'!AX19 -> 25690 | G16: ='Tables - wage and salary'!AZ19 -> 24130 | H16: ='Tables - wage and salary'!K19 -> 387.8 | I16: ='Tables - wage and salary'!AF19 -> 366.9 | J16: ='Tables - wage and salary'!AU19 -> 303.8 | K16: ='Tables - wage and salary'!AW19 -> 325.5 | L16: ='Tables - wage and salary'!AY19 -> 321.4 | M16: ='Tables - wage and salary'!BA19 -> 301.6 | O16: 2014 | P16: 2385.47
A17: 14000 | B17: ='Tables - wage and salary'!J20 -> 32500 | C17: ='Tables - wage and salary'!AE20 -> 29950 | D17: ='Tables - wage and salary'!AT20 -> 23440 | E17: ='Tables - wage and salary'!AV20 -> 25240 | F17: ='Tables - wage and salary'!AX20 -> 24660 | G17: ='Tables - wage and salary'!AZ20 -> 23240 | H17: ='Tables - wage and salary'!K20 -> 438.7 | I17: ='Tables - wage and salary'!AF20 -> 404 | J17: ='Tables - wage and salary'!AU20 -> 316.5 | K17: ='Tables - wage and salary'!AW20 -> 340.7 | L17: ='Tables - wage and salary'!AY20 -> 332.9 | M17: ='Tables - wage and salary'!BA20 -> 313.7 | O17: 2015 | P17: 2448.43
A18: 15000 | B18: ='Tables - wage and salary'!J21 -> 30430 | C18: ='Tables - wage and salary'!AE21 -> 28050 | D18: ='Tables - wage and salary'!AT21 -> 22950 | E18: ='Tables - wage and salary'!AV21 -> 24700 | F18: ='Tables - wage and salary'!AX21 -> 24350 | G18: ='Tables - wage and salary'!AZ21 -> 22970 | H18: ='Tables - wage and salary'!K21 -> 440.9 | I18: ='Tables - wage and salary'!AF21 -> 407.2 | J18: ='Tables - wage and salary'!AU21 -> 332.9 | K18: ='Tables - wage and salary'!AW21 -> 358.3 | L18: ='Tables - wage and salary'!AY21 -> 353.1 | M18: ='Tables - wage and salary'!BA21 -> 333 | O18: 2016 | P18: 2471.377
A19: 16000 | B19: ='Tables - wage and salary'!J22 -> 29370 | C19: ='Tables - wage and salary'!AE22 -> 27260 | D19: ='Tables - wage and salary'!AT22 -> 22910 | E19: ='Tables - wage and salary'!AV22 -> 23880 | F19: ='Tables - wage and salary'!AX22 -> 23720 | G19: ='Tables - wage and salary'!AZ22 -> 22170 | H19: ='Tables - wage and salary'!K22 -> 455.5 | I19: ='Tables - wage and salary'!AF22 -> 422.4 | J19: ='Tables - wage and salary'!AU22 -> 355.3 | K19: ='Tables - wage and salary'!AW22 -> 370.1 | L19: ='Tables - wage and salary'!AY22 -> 367.7 | M19: ='Tables - wage and salary'!BA22 -> 343.6 | O19: 2017 | P19: 2544.996 | Q19: =P19/P18-1 -> 0.029788656
A20: 17000 | B20: ='Tables - wage and salary'!J23 -> 30160 | C20: ='Tables - wage and salary'!AE23 -> 27950 | D20: ='Tables - wage and salary'!AT23 -> 22420 | E20: ='Tables - wage and salary'!AV23 -> 24070 | F20: ='Tables - wage and salary'!AX23 -> 23050 | G20: ='Tables - wage and salary'!AZ23 -> 21360 | H20: ='Tables - wage and salary'!K23 -> 497.4 | I20: ='Tables - wage and salary'!AF23 -> 461.4 | J20: ='Tables - wage and salary'!AU23 -> 369.6 | K20: ='Tables - wage and salary'!AW23 -> 397.2 | L20: ='Tables - wage and salary'!AY23 -> 380.3 | M20: ='Tables - wage and salary'!BA23 -> 352.4 | O20: 2018 | P20: 2630.498 | Q20: =P20/P19-1 -> 0.033596124
A21: 18000 | B21: ='Tables - wage and salary'!J24 -> 29220 | C21: ='Tables - wage and salary'!AE24 -> 24940 | D21: ='Tables - wage and salary'!AT24 -> 21680 | E21: ='Tables - wage and salary'!AV24 -> 23620 | F21: ='Tables - wage and salary'!AX24 -> 23130 | G21: ='Tables - wage and salary'!AZ24 -> 21180 | H21: ='Tables - wage and salary'!K24 -> 511.3 | I21: ='Tables - wage and salary'!AF24 -> 436.3 | J21: ='Tables - wage and salary'!AU24 -> 379.5 | K21: ='Tables - wage and salary'!AW24 -> 413.2 | L21: ='Tables - wage and salary'!AY24 -> 405 | M21: ='Tables - wage and salary'!BA24 -> 370.7 | O21: 2019 | P21: 2689.032 | Q21: =P21/P20-1 -> 0.02225206
A22: 19000 | B22: ='Tables - wage and salary'!J25 -> 28560 | C22: ='Tables - wage and salary'!AE25 -> 24250 | D22: ='Tables - wage and salary'!AT25 -> 21050 | E22: ='Tables - wage and salary'!AV25 -> 22250 | F22: ='Tables - wage and salary'!AX25 -> 22810 | G22: ='Tables - wage and salary'!AZ25 -> 20960 | H22: ='Tables - wage and salary'!K25 -> 528 | I22: ='Tables - wage and salary'!AF25 -> 448.1 | J22: ='Tables - wage and salary'!AU25 -> 389.3 | K22: ='Tables - wage and salary'!AW25 -> 411.5 | L22: ='Tables - wage and salary'!AY25 -> 421.8 | M22: ='Tables - wage and salary'!BA25 -> 387.8 | O22: 2020 | P22: 2727.51 | Q22: =P22/P21-1 -> 0.014309238
A23: 20000 | B23: ='Tables - wage and salary'!J26 -> 30490 | C23: ='Tables - wage and salary'!AE26 -> 23870 | D23: ='Tables - wage and salary'!AT26 -> 20810 | E23: ='Tables - wage and salary'!AV26 -> 22180 | F23: ='Tables - wage and salary'!AX26 -> 22410 | G23: ='Tables - wage and salary'!AZ26 -> 21490 | H23: ='Tables - wage and salary'!K26 -> 594.4 | I23: ='Tables - wage and salary'!AF26 -> 465.6 | J23: ='Tables - wage and salary'!AU26 -> 405.8 | K23: ='Tables - wage and salary'!AW26 -> 432.6 | L23: ='Tables - wage and salary'!AY26 -> 437.1 | M23: ='Tables - wage and salary'!BA26 -> 419.1 | O23: 2021 | P23: ='Tables - wage and salary'!AR242/1000 -> 2665.34 | Q23: =P23/P22-1 -> -0.022793684
A24: 21000 | B24: ='Tables - wage and salary'!J27 -> 31710 | C24: ='Tables - wage and salary'!AE27 -> 24090 | D24: ='Tables - wage and salary'!AT27 -> 20630 | E24: ='Tables - wage and salary'!AV27 -> 21710 | F24: ='Tables - wage and salary'!AX27 -> 21680 | G24: ='Tables - wage and salary'!AZ27 -> 20250 | H24: ='Tables - wage and salary'!K27 -> 650.2 | I24: ='Tables - wage and salary'!AF27 -> 494.5 | J24: ='Tables - wage and salary'!AU27 -> 423.1 | K24: ='Tables - wage and salary'!AW27 -> 445.1 | L24: ='Tables - wage and salary'!AY27 -> 444.3 | M24: ='Tables - wage and salary'!BA27 -> 415.1 | O24: 2022 | P24: ='Tables - wage and salary'!AT242/1000 -> 2709.74 | Q24: =P24/P23-1 -> 0.016658287
A25: 22000 | B25: ='Tables - wage and salary'!J28 -> 29140 | C25: ='Tables - wage and salary'!AE28 -> 25220 | D25: ='Tables - wage and salary'!AT28 -> 19880 | E25: ='Tables - wage and salary'!AV28 -> 21410 | F25: ='Tables - wage and salary'!AX28 -> 21290 | G25: ='Tables - wage and salary'!AZ28 -> 19350 | H25: ='Tables - wage and salary'!K28 -> 626.4 | I25: ='Tables - wage and salary'!AF28 -> 542.3 | J25: ='Tables - wage and salary'!AU28 -> 427.5 | K25: ='Tables - wage and salary'!AW28 -> 460.4 | L25: ='Tables - wage and salary'!AY28 -> 457.6 | M25: ='Tables - wage and salary'!BA28 -> 416.1 | O25: 2023 | P25: ='Tables - wage and salary'!AV242/1000 -> 2832.84 | Q25: =P25/P24-1 -> 0.045428713
A26: 23000 | B26: ='Tables - wage and salary'!J29 -> 29710 | C26: ='Tables - wage and salary'!AE29 -> 22920 | D26: ='Tables - wage and salary'!AT29 -> 19530 | E26: ='Tables - wage and salary'!AV29 -> 20990 | F26: ='Tables - wage and salary'!AX29 -> 20870 | G26: ='Tables - wage and salary'!AZ29 -> 18950 | H26: ='Tables - wage and salary'!K29 -> 668.5 | I26: ='Tables - wage and salary'!AF29 -> 515.8 | J26: ='Tables - wage and salary'!AU29 -> 439.4 | K26: ='Tables - wage and salary'!AW29 -> 472.1 | L26: ='Tables - wage and salary'!AY29 -> 469.6 | M26: ='Tables - wage and salary'!BA29 -> 426.2 | O26: 2024 | P26: ='Tables - wage and salary'!AX242/1000 -> 2911.36 | Q26: =P26/P25-1 -> 0.027717767
A27: 24000 | B27: ='Tables - wage and salary'!J30 -> 32680 | C27: ='Tables - wage and salary'!AE30 -> 24870 | D27: ='Tables - wage and salary'!AT30 -> 19710 | E27: ='Tables - wage and salary'!AV30 -> 20660 | F27: ='Tables - wage and salary'!AX30 -> 21350 | G27: ='Tables - wage and salary'!AZ30 -> 19340 | H27: ='Tables - wage and salary'!K30 -> 767.6 | I27: ='Tables - wage and salary'!AF30 -> 584.8 | J27: ='Tables - wage and salary'!AU30 -> 463.3 | K27: ='Tables - wage and salary'!AW30 -> 485.6 | L27: ='Tables - wage and salary'!AY30 -> 501.8 | M27: ='Tables - wage and salary'!BA30 -> 454.6 | O27: 2025 | P27: ='Tables - wage and salary'!AZ242/1000 -> 2865.23 | Q27: =P27/P26-1 -> -0.015844829
A28: 25000 | B28: ='Tables - wage and salary'!J31 -> 30500 | C28: ='Tables - wage and salary'!AE31 -> 25730 | D28: ='Tables - wage and salary'!AT31 -> 19850 | E28: ='Tables - wage and salary'!AV31 -> 20380 | F28: ='Tables - wage and salary'!AX31 -> 20750 | G28: ='Tables - wage and salary'!AZ31 -> 19220 | H28: ='Tables - wage and salary'!K31 -> 747 | I28: ='Tables - wage and salary'!AF31 -> 630.7 | J28: ='Tables - wage and salary'!AU31 -> 486.6 | K28: ='Tables - wage and salary'!AW31 -> 499.5 | L28: ='Tables - wage and salary'!AY31 -> 508.5 | M28: ='Tables - wage and salary'!BA31 -> 471
A29: 26000 | B29: ='Tables - wage and salary'!J32 -> 31970 | C29: ='Tables - wage and salary'!AE32 -> 25510 | D29: ='Tables - wage and salary'!AT32 -> 19610 | E29: ='Tables - wage and salary'!AV32 -> 20420 | F29: ='Tables - wage and salary'!AX32 -> 20670 | G29: ='Tables - wage and salary'!AZ32 -> 18900 | H29: ='Tables - wage and salary'!K32 -> 815.9 | I29: ='Tables - wage and salary'!AF32 -> 650.4 | J29: ='Tables - wage and salary'!AU32 -> 500.3 | K29: ='Tables - wage and salary'!AW32 -> 520.7 | L29: ='Tables - wage and salary'!AY32 -> 527.1 | M29: ='Tables - wage and salary'!BA32 -> 482.1
A30: 27000 | B30: ='Tables - wage and salary'!J33 -> 30260 | C30: ='Tables - wage and salary'!AE33 -> 24570 | D30: ='Tables - wage and salary'!AT33 -> 19440 | E30: ='Tables - wage and salary'!AV33 -> 19910 | F30: ='Tables - wage and salary'!AX33 -> 20530 | G30: ='Tables - wage and salary'!AZ33 -> 18390 | H30: ='Tables - wage and salary'!K33 -> 801.8 | I30: ='Tables - wage and salary'!AF33 -> 650.9 | J30: ='Tables - wage and salary'!AU33 -> 515 | K30: ='Tables - wage and salary'!AW33 -> 527.6 | L30: ='Tables - wage and salary'!AY33 -> 544 | M30: ='Tables - wage and salary'!BA33 -> 487.4
A31: 28000 | B31: ='Tables - wage and salary'!J34 -> 31820 | C31: ='Tables - wage and salary'!AE34 -> 23260 | D31: ='Tables - wage and salary'!AT34 -> 19510 | E31: ='Tables - wage and salary'!AV34 -> 19930 | F31: ='Tables - wage and salary'!AX34 -> 20130 | G31: ='Tables - wage and salary'!AZ34 -> 18000 | H31: ='Tables - wage and salary'!K34 -> 874.8 | I31: ='Tables - wage and salary'!AF34 -> 639.6 | J31: ='Tables - wage and salary'!AU34 -> 536.5 | K31: ='Tables - wage and salary'!AW34 -> 548 | L31: ='Tables - wage and salary'!AY34 -> 553.5 | M31: ='Tables - wage and salary'!BA34 -> 494.9
A32: 29000 | B32: ='Tables - wage and salary'!J35 -> 33090 | C32: ='Tables - wage and salary'!AE35 -> 24290 | D32: ='Tables - wage and salary'!AT35 -> 19520 | E32: ='Tables - wage and salary'!AV35 -> 19790 | F32: ='Tables - wage and salary'!AX35 -> 19960 | G32: ='Tables - wage and salary'!AZ35 -> 18330 | H32: ='Tables - wage and salary'!K35 -> 943 | I32: ='Tables - wage and salary'!AF35 -> 691.8 | J32: ='Tables - wage and salary'!AU35 -> 556.4 | K32: ='Tables - wage and salary'!AW35 -> 563.9 | L32: ='Tables - wage and salary'!AY35 -> 568.8 | M32: ='Tables - wage and salary'!BA35 -> 522.3
A33: 30000 | B33: ='Tables - wage and salary'!J36 -> 33750 | C33: ='Tables - wage and salary'!AE36 -> 25720 | D33: ='Tables - wage and salary'!AT36 -> 20330 | E33: ='Tables - wage and salary'!AV36 -> 20040 | F33: ='Tables - wage and salary'!AX36 -> 20510 | G33: ='Tables - wage and salary'!AZ36 -> 18810 | H33: ='Tables - wage and salary'!K36 -> 995.9 | I33: ='Tables - wage and salary'!AF36 -> 758.9 | J33: ='Tables - wage and salary'!AU36 -> 600 | K33: ='Tables - wage and salary'!AW36 -> 591.6 | L33: ='Tables - wage and salary'!AY36 -> 605.3 | M33: ='Tables - wage and salary'!BA36 -> 555.2
A34: 31000 | B34: ='Tables - wage and salary'!J37 -> 34330 | C34: ='Tables - wage and salary'!AE37 -> 26680 | D34: ='Tables - wage and salary'!AT37 -> 20150 | E34: ='Tables - wage and salary'!AV37 -> 19750 | F34: ='Tables - wage and salary'!AX37 -> 19970 | G34: ='Tables - wage and salary'!AZ37 -> 18270 | H34: ='Tables - wage and salary'!K37 -> 1046.2 | I34: ='Tables - wage and salary'!AF37 -> 813.7 | J34: ='Tables - wage and salary'!AU37 -> 614.5 | K34: ='Tables - wage and salary'!AW37 -> 602.3 | L34: ='Tables - wage and salary'!AY37 -> 608.9 | M34: ='Tables - wage and salary'!BA37 -> 557.2
A35: 32000 | B35: ='Tables - wage and salary'!J38 -> 32670 | C35: ='Tables - wage and salary'!AE38 -> 24690 | D35: ='Tables - wage and salary'!AT38 -> 20820 | E35: ='Tables - wage and salary'!AV38 -> 19730 | F35: ='Tables - wage and salary'!AX38 -> 19950 | G35: ='Tables - wage and salary'!AZ38 -> 18430 | H35: ='Tables - wage and salary'!K38 -> 1029.3 | I35: ='Tables - wage and salary'!AF38 -> 777.4 | J35: ='Tables - wage and salary'!AU38 -> 655.8 | K35: ='Tables - wage and salary'!AW38 -> 621.4 | L35: ='Tables - wage and salary'!AY38 -> 628.4 | M35: ='Tables - wage and salary'!BA38 -> 580.3
A36: 33000 | B36: ='Tables - wage and salary'!J39 -> 34290 | C36: ='Tables - wage and salary'!AE39 -> 26460 | D36: ='Tables - wage and salary'!AT39 -> 20710 | E36: ='Tables - wage and salary'!AV39 -> 19600 | F36: ='Tables - wage and salary'!AX39 -> 20210 | G36: ='Tables - wage and salary'!AZ39 -> 18410 | H36: ='Tables - wage and salary'!K39 -> 1114.2 | I36: ='Tables - wage and salary'!AF39 -> 860.2 | J36: ='Tables - wage and salary'!AU39 -> 673.1 | K36: ='Tables - wage and salary'!AW39 -> 637 | L36: ='Tables - wage and salary'!AY39 -> 656.7 | M36: ='Tables - wage and salary'!BA39 -> 598.2
A37: 34000 | B37: ='Tables - wage and salary'!J40 -> 31280 | C37: ='Tables - wage and salary'!AE40 -> 27910 | D37: ='Tables - wage and salary'!AT40 -> 20470 | E37: ='Tables - wage and salary'!AV40 -> 19800 | F37: ='Tables - wage and salary'!AX40 -> 20270 | G37: ='Tables - wage and salary'!AZ40 -> 18520 | H37: ='Tables - wage and salary'!K40 -> 1047.5 | I37: ='Tables - wage and salary'!AF40 -> 934.9 | J37: ='Tables - wage and salary'!AU40 -> 685.9 | K37: ='Tables - wage and salary'!AW40 -> 663.4 | L37: ='Tables - wage and salary'!AY40 -> 678.9 | M37: ='Tables - wage and salary'!BA40 -> 620.4
A38: 35000 | B38: ='Tables - wage and salary'!J41 -> 32730 | C38: ='Tables - wage and salary'!AE41 -> 27390 | D38: ='Tables - wage and salary'!AT41 -> 20860 | E38: ='Tables - wage and salary'!AV41 -> 19810 | F38: ='Tables - wage and salary'!AX41 -> 19890 | G38: ='Tables - wage and salary'!AZ41 -> 18330 | H38: ='Tables - wage and salary'!K41 -> 1129.5 | I38: ='Tables - wage and salary'!AF41 -> 945 | J38: ='Tables - wage and salary'!AU41 -> 719.9 | K38: ='Tables - wage and salary'!AW41 -> 683.5 | L38: ='Tables - wage and salary'!AY41 -> 686.2 | M38: ='Tables - wage and salary'!BA41 -> 632.5
A39: 36000 | B39: ='Tables - wage and salary'!J42 -> 33040 | C39: ='Tables - wage and salary'!AE42 -> 29880 | D39: ='Tables - wage and salary'!AT42 -> 21450 | E39: ='Tables - wage and salary'!AV42 -> 20370 | F39: ='Tables - wage and salary'!AX42 -> 20660 | G39: ='Tables - wage and salary'!AZ42 -> 18700 | H39: ='Tables - wage and salary'!K42 -> 1173.5 | I39: ='Tables - wage and salary'!AF42 -> 1060.7 | J39: ='Tables - wage and salary'!AU42 -> 761.5 | K39: ='Tables - wage and salary'!AW42 -> 723.4 | L39: ='Tables - wage and salary'!AY42 -> 733.6 | M39: ='Tables - wage and salary'!BA42 -> 664.1
... A153: 150000 | B153: ='Tables - wage and salary'!J156 -> 260 | C153: ='Tables - wage and salary'!AE156 -> 1700 | D153: ='Tables - wage and salary'!AT156 -> 2730 | E153: ='Tables - wage and salary'!AV156 -> 3430 | F153: ='Tables - wage and salary'!AX156 -> 4330 | G153: ='Tables - wage and salary'!AZ156 -> 4400 | H153: ='Tables - wage and salary'!K156 -> 38.9 | I153: ='Tables - wage and salary'!AF156 -> 254.3 | J153: ='Tables - wage and salary'!AU156 -> 408.7 | K153: ='Tables - wage and salary'!AW156 -> 513.7 | L153: ='Tables - wage and salary'!AY156 -> 647.5 | M153: ='Tables - wage and salary'!BA156 -> 658.5
...
