Workbook
Name _IDX1: 'Tables - wage and salary'!#REF!
Name _Toc234203833: 'Explanatory Notes'!$A$1

Sheet Explanatory Notes

Sheet Graphs - wage and salary

Sheet Tables - wage and salary
A1: individuals with wage or salary income: Year ended 31 March | AF1: 189 | BC1: 10k increments
AT2: R | AV2: R | AX2: R
A3: wage income | B3: 2001 | D3: 2002 | F3: 2003 | H3: 2004 | J3: 2005 | L3: 2006 | N3: 2007 | P3: 2008 | R3: wage income | S3: 2009 | U3: 2010 | W3: 2011 | Y3: 2012 | AA3: 2013 | AC3: 2014 | AE3: 2015 | AG3: 2016 | AI3: 2017 | AK3: 2018 | AM3: wage income | AN3: 2019 | AP3: 2020 | AR3: 2021 | AT3: 2022 | AV3: 2023 | AX3: 2024 | AZ3: 2025 | BC3: wage income | BD3: 2009 | BF3: 2010 | BH3: 2011 | BJ3: 2012 | BL3: 2013 | BN3: 2014 | BP3: 2015 | BR3: 2016 | BT3: 2017 | BV3: 2018 | BX3: 2019 | BZ3: 2020 | CB3: 2021 | CD3: 2022 | CF3: 2023 | CH3: 2024 | CJ3: 2025
A4: bands to $150,000 | B4: Number of individuals | C4: Wage/salary income ($M) | D4: Number of individuals | E4: Wage/salary income ($M) | F4: Number of individuals | G4: Wage/salary income ($M) | H4: Number of individuals | I4: Wage/salary income ($M) | J4: Number of individuals | K4: Wage/salary income ($M) | L4: Number of individuals | M4: Wage/salary income ($M) | N4: Number of individuals | O4: Wage/salary income ($M) | P4: Number of individuals | Q4: Wage/salary income ($M) | R4: bands to $200,000 | S4: Number of individuals | T4: Wage/salary income ($M) | U4: Number of individuals | V4: Wage/salary income ($M) | W4: Number of individuals | X4: Wage/salary income ($M) | Y4: Number of individuals | Z4: Wage/salary income ($M) | AA4: Number of individuals | AB4: Wage/salary income ($M) | AC4: Number of individuals | AD4: Wage/salary income ($M) | AE4: Number of individuals | AF4: Wage/salary income ($M) | AG4: Number of individuals | AH4: Wage/salary income ($M) | AI4: Number of individuals | AJ4: Wage/salary income ($M) | AK4: Number of individuals | AL4: Wage/salary income ($M) | AM4: bands to $300,000 | AN4: Number of individuals | AO4: Wage/salary income ($M) | AP4: Number of individuals | AQ4: Wage/salary income ($M) | AR4: Number of individuals | AS4: Wage/salary income ($M) | AT4: Number of individuals | AU4: Wage/salary income ($M) | AV4: Number of individuals | AW4: Wage/salary income ($M) | AX4: Number of individuals | AY4: Wage/salary income ($M) | AZ4: Number of individuals | BA4: Wage/salary income ($M) | BD4: Number of People | BE4: wage/salary income ($M) | BF4: Number of People | BG4: wage/salary income ($M) | BH4: Number of People | BI4: wage/salary income ($M) | BJ4: Number of People | BK4: wage/salary income ($M) | BL4: Number of People | BM4: wage/salary income ($M) | BN4: Number of People | BO4: wage/salary income ($M) | BP4: Number of People | BQ4: wage/salary income ($M) | BR4: Number of People | BS4: wage/salary income ($M) | BT4: Number of People | BU4: wage/salary income ($M) | BV4: Number of People | BW4: wage/salary income ($M) | BX4: Number of People | BY4: wage/salary income ($M) | BZ4: Number of People | CA4: wage/salary income ($M) | CB4: Number of People | CC4: wage/salary income ($M) | CD4: Number of People | CE4: wage/salary income ($M) | CF4: Number of People | CG4: wage/salary income ($M) | CH4: Number of People | CI4: wage/salary income ($M) | CJ4: Number of People | CK4: wage/salary income ($M)
A7: $1 - $1,000 | B7: 161790 | C7: 70 | D7: 153900 | E7: 65.1 | F7: 151010 | G7: 65.1 | H7: 141290 | I7: 61.4 | J7: 141200 | K7: 61.6 | L7: 145530 | M7: 64 | N7: 142990 | O7: 63.7 | P7: 126240 | Q7: 55.8 | R7: $1 - $1,000 | S7: 123070 | T7: 54.1 | U7: 119160 | V7: 53.2 | W7: 114140 | X7: 51.8 | Y7: 113340 | Z7: 50.4 | AA7: 107370 | AB7: 48.2 | AC7: 109860 | AD7: 49.5 | AE7: 110870 | AF7: 49.5 | AG7: 99660 | AH7: 45.3 | AI7: 98280 | AJ7: 45.1 | AK7: 100490 | AL7: 45.448828 | AM7: $1 - $1,000 | AN7: 99200 | AO7: 43.7 | AP7: 92870 | AQ7: 42.8 | AR7: 85640 | AS7: 37.7 | AT7: 72560 | AU7: 33.6 | AV7: 77720 | AW7: 35.8 | AX7: 75370 | AY7: 34.9 | AZ7: 77920 | BA7: 34.7 | BC7: $1 - $10,000 | BD7: =SUM(S7:S16) -> 573000 | BE7: =SUM(T7:T16) -> 2265 | BF7: =SUM(U7:U16) -> 554680 | BG7: =SUM(V7:V16) -> 2191.2 | BH7: =SUM(W7:W16) -> 534400 | BI7: =SUM(X7:X16) -> 2098.8 | BJ7: =SUM(Y7:Y16) -> 525490 | BK7: =SUM(Z7:Z16) -> 2083.9 | ... BW7: =SUM(AL7:AL16) -> 1985.3223 | BX7: =SUM(AN7:AN16) -> 478370 | BY7: =SUM(AO7:AO16) -> 1942 | BZ7: =SUM(AP7:AP16) -> 455430 | CA7: =SUM(AQ7:AQ16) -> 1854.9 | CB7: =SUM(AR7:AR16) -> 396500 | CC7: =SUM(AS7:AS16) -> 1598.5 | CD7: =SUM(AT7:AT16) -> 368820 | CE7: =SUM(AU7:AU16) -> 1520 | ... CK7: =SUM(BA7:BA16) -> 1492.2
A8: $1,001 - $2,000 | B8: 93420 | C8: 136.8 | D8: 90320 | E8: 133.7 | F8: 89000 | G8: 131.8 | H8: 90260 | I8: 133.4 | J8: 88170 | K8: 130.2 | L8: 93000 | M8: 137.9 | N8: 89610 | O8: 132.6 | P8: 79450 | Q8: 118.3 | R8: $1,001 - $2,000 | S8: 73520 | T8: 109 | U8: 73730 | V8: 109.3 | W8: 73670 | X8: 108.8 | Y8: 70030 | Z8: 103.2 | AA8: 67930 | AB8: 100.2 | AC8: 68480 | AD8: 101.7 | AE8: 65200 | AF8: 97.3 | AG8: 63750 | AH8: 94.4 | AI8: 62780 | AJ8: 93 | AK8: 62490 | AL8: 92.68457 | AM8: $1,001 - $2,000 | AN8: 61120 | AO8: 90.8 | AP8: 59720 | AQ8: 88.2 | AR8: 51210 | AS8: 75.8 | AT8: 48490 | AU8: 71.8 | AV8: 50960 | AW8: 75.5 | AX8: 50210 | AY8: 74.3 | AZ8: 48170 | BA8: 71.2
A9: $2,001 - $3,000 | B9: 69890 | C9: 174.3 | D9: 73640 | E9: 183.9 | F9: 72190 | G9: 179.2 | H9: 73910 | I9: 183.8 | J9: 74060 | K9: 183.6 | L9: 69630 | M9: 173.9 | N9: 71920 | O9: 179.2 | P9: 69130 | Q9: 172 | R9: $2,001 - $3,000 | S9: 65010 | T9: 162.1 | U9: 60330 | V9: 150.3 | W9: 61190 | X9: 152 | Y9: 57280 | Z9: 142.2 | AA9: 52530 | AB9: 131 | AC9: 54940 | AD9: 137.1 | AE9: 56100 | AF9: 140.5 | AG9: 52750 | AH9: 131.5 | AI9: 52390 | AJ9: 130.5 | AK9: 51950 | AL9: 129.65633 | AM9: $2,001 - $3,000 | AN9: 50550 | AO9: 126.1 | AP9: 48060 | AQ9: 119.8 | AR9: 40970 | AS9: 101.9 | AT9: 39320 | AU9: 98 | AV9: 41980 | AW9: 104.6 | AX9: 40540 | AY9: 101 | AZ9: 38470 | BA9: 96
A10: $3,001 - $4,000 | B10: 60990 | C10: 212.9 | D10: 62840 | E10: 220.2 | F10: 61960 | G10: 216.3 | H10: 64530 | I10: 225.6 | J10: 65050 | K10: 226.8 | L10: 62280 | M10: 217.9 | N10: 64290 | O10: 224.5 | P10: 59440 | Q10: 207.7 | R10: $3,001 - $4,000 | S10: 55630 | T10: 194.6 | U10: 52740 | V10: 184.6 | W10: 50020 | X10: 174.4 | Y10: 48110 | Z10: 168.4 | AA10: 49130 | AB10: 171.2 | AC10: 46120 | AD10: 161.6 | AE10: 50330 | AF10: 175.7 | AG10: 46330 | AH10: 162 | AI10: 46550 | AJ10: 162.7 | AK10: 46410 | AL10: 162.18925 | AM10: $3,001 - $4,000 | AN10: 45430 | AO10: 158.9 | AP10: 43280 | AQ10: 151.4 | AR10: 36410 | AS10: 127.4 | AT10: 34760 | AU10: 121.6 | AV10: 36940 | AW10: 129.2 | AX10: 36160 | AY10: 126.5 | AZ10: 34060 | BA10: 119.2
A11: $4,001 - $5,000 | B11: 57810 | C11: 260.6 | D11: 58990 | E11: 264.4 | F11: 55400 | G11: 248 | H11: 59240 | I11: 265.8 | J11: 57750 | K11: 259.4 | L11: 58490 | M11: 263.3 | N11: 55870 | O11: 251.1 | P11: 57270 | Q11: 257.4 | R11: $4,001 - $5,000 | S11: 50030 | T11: 225.2 | U11: 49350 | V11: 222.5 | W11: 45080 | X11: 202.3 | Y11: 44190 | Z11: 198.6 | AA11: 44940 | AB11: 202.4 | AC11: 43490 | AD11: 195.7 | AE11: 43820 | AF11: 197.3 | AG11: 42600 | AH11: 191.7 | AI11: 42640 | AJ11: 191.9 | AK11: 42540 | AL11: 191.28806 | AM11: $4,001 - $5,000 | AN11: 42320 | AO11: 190.4 | AP11: 39840 | AQ11: 179.1 | AR11: 33970 | AS11: 152.9 | AT11: 32370 | AU11: 145.7 | AV11: 34900 | AW11: 157.1 | AX11: 33290 | AY11: 149.8 | AZ11: 31590 | BA11: 142.1
A12: $5,001 - $6,000 | B12: 47670 | C12: 262.3 | D12: 54020 | E12: 296.1 | F12: 50570 | G12: 278.6 | H12: 50950 | I12: 279.4 | J12: 50350 | K12: 276.1 | L12: 53260 | M12: 292.9 | N12: 51730 | O12: 285 | P12: 51030 | Q12: 279.5 | R12: $5,001 - $6,000 | S12: 46550 | T12: 256.5 | U12: 46050 | V12: 253.3 | W12: 41370 | X12: 227.4 | Y12: 42340 | Z12: 232.1 | AA12: 42610 | AB12: 234.3 | AC12: 41700 | AD12: 229.1 | AE12: 42450 | AF12: 233.3 | AG12: 40240 | AH12: 221.3 | AI12: 40400 | AJ12: 222.2 | AK12: 40260 | AL12: 221.18293 | AM12: $5,001 - $6,000 | AN12: 39780 | AO12: 218.6 | AP12: 37530 | AQ12: 206.4 | AR12: 31860 | AS12: 175.3 | AT12: 31040 | AU12: 170.7 | AV12: 33310 | AW12: 183.1 | AX12: 32170 | AY12: 177 | AZ12: 30030 | BA12: 165.2
A13: $6,001 - $7,000 | B13: 43560 | C13: 282.9 | D13: 43730 | E13: 284 | F13: 47690 | G13: 309.8 | H13: 44250 | I13: 287.9 | J13: 46370 | K13: 300.8 | L13: 45900 | M13: 297.8 | N13: 49020 | O13: 318.5 | P13: 47320 | Q13: 308.1 | R13: $6,001 - $7,000 | S13: 43350 | T13: 281.6 | U13: 40360 | V13: 261 | W13: 40370 | X13: 262.2 | Y13: 42460 | Z13: 276 | AA13: 38230 | AB13: 248.1 | AC13: 37800 | AD13: 246 | AE13: 39490 | AF13: 256.6 | AG13: 37710 | AH13: 245 | AI13: 37740 | AJ13: 245.3 | AK13: 37680 | AL13: 244.81389 | AM13: $6,001 - $7,000 | AN13: 36830 | AO13: 239.4 | AP13: 35270 | AQ13: 229.2 | AR13: 30000 | AS13: 195 | AT13: 28870 | AU13: 187.6 | AV13: 31260 | AW13: 203.2 | AX13: 29760 | AY13: 193.4 | AZ13: 28580 | BA13: 185.7
A14: $7,001 - $8,000 | B14: 38710 | C14: 290.4 | D14: 41340 | E14: 310.2 | F14: 39970 | G14: 299.2 | H14: 41960 | I14: 314.5 | J14: 44370 | K14: 333.3 | L14: 43330 | M14: 324.7 | N14: 41720 | O14: 312.5 | P14: 41070 | Q14: 307.8 | R14: $7,001 - $8,000 | S14: 40040 | T14: 300.8 | U14: 39590 | V14: 297.4 | W14: 37760 | X14: 282.8 | Y14: 38120 | Z14: 286.4 | AA14: 36080 | AB14: 270.1 | AC14: 36050 | AD14: 269.7 | AE14: 37770 | AF14: 283.2 | AG14: 36300 | AH14: 272.3 | AI14: 36350 | AJ14: 272.7 | AK14: 36290 | AL14: 272.09265 | AM14: $7,001 - $8,000 | AN14: 35870 | AO14: 269 | AP14: 34010 | AQ14: 255.1 | AR14: 30110 | AS14: 225.6 | AT14: 27770 | AU14: 208.3 | AV14: 29870 | AW14: 224.2 | AX14: 29640 | AY14: 222.3 | AZ14: 27670 | BA14: 207.5
A15: $8,001 - $9,000 | B15: 36980 | C15: 314.2 | D15: 37110 | E15: 315.3 | F15: 38600 | G15: 327.7 | H15: 37790 | I15: 321.2 | J15: 38820 | K15: 329.9 | L15: 37680 | M15: 320.3 | N15: 40310 | O15: 343 | P15: 41000 | Q15: 348.1 | R15: $8,001 - $9,000 | S15: 38770 | T15: 329.3 | U15: 37390 | V15: 317.6 | W15: 35450 | X15: 301 | Y15: 34770 | Z15: 295.5 | AA15: 35690 | AB15: 303.3 | AC15: 36290 | AD15: 308.7 | AE15: 33440 | AF15: 284 | AG15: 35150 | AH15: 298.6 | AI15: 34790 | AJ15: 295.7 | AK15: 34830 | AL15: 295.99755 | AM15: $8,001 - $9,000 | AN15: 34250 | AO15: 291.1 | AP15: 33080 | AQ15: 281.1 | AR15: 28240 | AS15: 240 | AT15: 27050 | AU15: 230 | AV15: 29170 | AW15: 247.9 | AX15: 28420 | AY15: 241.5 | AZ15: 26450 | BA15: 224.8
A16: $9,001 - $10,000 | B16: 37110 | C16: 352.8 | D16: 39710 | E16: 377.3 | F16: 38210 | G16: 363 | H16: 35420 | I16: 336 | J16: 37270 | K16: 354.1 | L16: 37970 | M16: 360.5 | N16: 37720 | O16: 357.8 | P16: 37940 | Q16: 360.3 | R16: $9,001 - $10,000 | S16: 37030 | T16: 351.8 | U16: 35980 | V16: 342 | W16: 35350 | X16: 336.1 | Y16: 34850 | Z16: 331.1 | AA16: 35050 | AB16: 332.9 | AC16: 33910 | AD16: 322.7 | AE16: 31830 | AF16: 302.6 | AG16: 33190 | AH16: 315.3 | AI16: 34340 | AJ16: 326.3 | AK16: 34700 | AL16: 329.96821 | AM16: $9,001 - $10,000 | AN16: 33020 | AO16: 314 | AP16: 31770 | AQ16: 301.8 | AR16: 28090 | AS16: 266.9 | AT16: 26590 | AU16: 252.7 | AV16: 28000 | AW16: 266.2 | AX16: 27880 | AY16: 265 | AZ16: 25870 | BA16: 245.8
A17: $10,001 - $11,000 | B17: 34750 | C17: 364.9 | D17: 32420 | E17: 340.4 | F17: 35450 | G17: 372.2 | H17: 35160 | I17: 368.7 | J17: 34490 | K17: 362.5 | L17: 35110 | M17: 368.6 | N17: 36770 | O17: 385.9 | P17: 35750 | Q17: 375.9 | R17: $10,001 - $11,000 | S17: 35170 | T17: 368.5 | U17: 32570 | V17: 342.1 | W17: 33070 | X17: 347.5 | Y17: 33380 | Z17: 349.8 | AA17: 30660 | AB17: 321.9 | AC17: 30450 | AD17: 320 | AE17: 31270 | AF17: 328 | AG17: 31820 | AH17: 334 | AI17: 32540 | AJ17: 341.5 | AK17: 32070 | AL17: 336.63468 | AM17: $10,001 - $11,000 | AN17: 31660 | AO17: 332.4 | AP17: 30240 | AQ17: 317.4 | AR17: 26580 | AS17: 279 | AT17: 25810 | AU17: 271 | AV17: 27150 | AW17: 285 | AX17: 26890 | AY17: 282.3 | AZ17: 24800 | BA17: 260.3 | BC17: $10,001 - $20,000 | BD17: =SUM(S17:S26) -> 302700 | BE17: =SUM(T17:T26) -> 4477.8 | BF17: =SUM(U17:U26) -> 286390 | BG17: =SUM(V17:V26) -> 4215.1 | BH17: =SUM(W17:W26) -> 284970 | BI17: =SUM(X17:X26) -> 4201.3 | BJ17: =SUM(Y17:Y26) -> 283960 | BK17: =SUM(Z17:Z26) -> 4181.1 | ... BW17: =SUM(AL17:AL26) -> 4185.4634 | BX17: =SUM(AN17:AN26) -> 277890 | BY17: =SUM(AO17:AO26) -> 4104.8 | BZ17: =SUM(AP17:AP26) -> 270500 | CA17: =SUM(AQ17:AQ26) -> 3998 | CB17: =SUM(AR17:AR26) -> 244060 | CC17: =SUM(AS17:AS26) -> 3613.6 | CD17: =SUM(AT17:AT26) -> 230450 | CE17: =SUM(AU17:AU26) -> 3412.3 | ... CK17: =SUM(BA17:BA26) -> 3365.6
A18: $11,001 - $12,000 | B18: 34720 | C18: 399.1 | D18: 33890 | E18: 389.3 | F18: 35330 | G18: 406.3 | H18: 34300 | I18: 395.1 | J18: 33720 | K18: 388 | L18: 33720 | M18: 387.6 | N18: 34420 | O18: 396.3 | P18: 34410 | Q18: 395.9 | R18: $11,001 - $12,000 | S18: 31950 | T18: 367.5 | U18: 32850 | V18: 378.1 | W18: 31590 | X18: 363.6 | Y18: 32420 | Z18: 373.2 | AA18: 31090 | AB18: 357.7 | AC18: 30670 | AD18: 352.6 | AE18: 30330 | AF18: 349.2 | AG18: 30830 | AH18: 354.8 | AI18: 31060 | AJ18: 357.4 | AK18: 31040 | AL18: 357.06917 | AM18: $11,001 - $12,000 | AN18: 30700 | AO18: 353.2 | AP18: 29750 | AQ18: 342.2 | AR18: 26700 | AS18: 307.3 | AT18: 25080 | AU18: 288.6 | AV18: 26930 | AW18: 309.7 | AX18: 26550 | AY18: 305.6 | AZ18: 24630 | BA18: 283.4
A19: $12,001 - $13,000 | B19: 31400 | C19: 392.9 | D19: 30750 | E19: 384.4 | F19: 33130 | G19: 414 | H19: 32490 | I19: 405.8 | J19: 30960 | K19: 387.8 | L19: 33030 | M19: 412.6 | N19: 31460 | O19: 392.6 | P19: 32720 | Q19: 409.5 | R19: $12,001 - $13,000 | S19: 31860 | T19: 398.3 | U19: 32170 | V19: 402.2 | W19: 29170 | X19: 364.1 | Y19: 29610 | Z19: 370.2 | AA19: 29550 | AB19: 369.6 | AC19: 29280 | AD19: 366.6 | AE19: 29330 | AF19: 366.9 | AG19: 29340 | AH19: 366.7 | AI19: 30110 | AJ19: 376.4 | AK19: 30240 | AL19: 378.10168 | AM19: $12,001 - $13,000 | AN19: 30050 | AO19: 375.6 | AP19: 29760 | AQ19: 372.2 | AR19: 25950 | AS19: 324.6 | AT19: 24300 | AU19: 303.8 | AV19: 26040 | AW19: 325.5 | AX19: 25690 | AY19: 321.4 | AZ19: 24130 | BA19: 301.6
A20: $13,001 - $14,000 | B20: 29890 | C20: 403.1 | D20: 30120 | E20: 406.4 | F20: 32630 | G20: 440.7 | H20: 30880 | I20: 417 | J20: 32500 | K20: 438.7 | L20: 29410 | M20: 397.2 | N20: 30330 | O20: 409.4 | P20: 33550 | Q20: 452.3 | R20: $13,001 - $14,000 | S20: 32520 | T20: 439.5 | U20: 30580 | V20: 412.5 | W20: 29830 | X20: 402.4 | Y20: 30480 | Z20: 411.4 | AA20: 28600 | AB20: 385.9 | AC20: 28930 | AD20: 390.8 | AE20: 29950 | AF20: 404 | AG20: 28330 | AH20: 382.5 | AI20: 28850 | AJ20: 389.4 | AK20: 29200 | AL20: 394.17258 | AM20: $13,001 - $14,000 | AN20: 28470 | AO20: 384.3 | AP20: 27850 | AQ20: 376 | AR20: 25810 | AS20: 348.2 | AT20: 23440 | AU20: 316.5 | AV20: 25240 | AW20: 340.7 | AX20: 24660 | AY20: 332.9 | AZ20: 23240 | BA20: 313.7
A21: $14,001 - $15,000 | B21: 29460 | C21: 426.9 | D21: 33070 | E21: 479.6 | F21: 32300 | G21: 469.4 | H21: 30470 | I21: 441.8 | J21: 30430 | K21: 440.9 | L21: 31860 | M21: 462.3 | N21: 29580 | O21: 428.7 | P21: 29300 | Q21: 424.9 | R21: $14,001 - $15,000 | S21: 30040 | T21: 435.2 | U21: 28970 | V21: 420.2 | W21: 30020 | X21: 435.3 | Y21: 27380 | Z21: 397.2 | AA21: 26380 | AB21: 382.4 | AC21: 28070 | AD21: 406.8 | AE21: 28050 | AF21: 407.2 | AG21: 28430 | AH21: 412.4 | AI21: 28680 | AJ21: 416 | AK21: 28140 | AL21: 408.1293 | AM21: $14,001 - $15,000 | AN21: 28020 | AO21: 406.4 | AP21: 27260 | AQ21: 395.4 | AR21: 24610 | AS21: 356.9 | AT21: 22950 | AU21: 332.9 | AV21: 24700 | AW21: 358.3 | AX21: 24350 | AY21: 353.1 | AZ21: 22970 | BA21: 333
A22: $15,001 - $16,000 | B22: 28400 | C22: 439.5 | D22: 30780 | E22: 477.1 | F22: 29400 | G22: 455.8 | H22: 30650 | I22: 475.3 | J22: 29370 | K22: 455.5 | L22: 29430 | M22: 456.3 | N22: 29260 | O22: 454.2 | P22: 28660 | Q22: 443.8 | R22: $15,001 - $16,000 | S22: 27760 | T22: 430.6 | U22: 27590 | V22: 427.9 | W22: 28950 | X22: 448.4 | Y22: 28590 | Z22: 443.1 | AA22: 27090 | AB22: 419.9 | AC22: 26980 | AD22: 418 | AE22: 27260 | AF22: 422.4 | AG22: 27430 | AH22: 425.2 | AI22: 28120 | AJ22: 436 | AK22: 27780 | AL22: 430.62255 | AM22: $15,001 - $16,000 | AN22: 27020 | AO22: 418.8 | AP22: 26070 | AQ22: 404.2 | AR22: 24230 | AS22: 375.7 | AT22: 22910 | AU22: 355.3 | AV22: 23880 | AW22: 370.1 | AX22: 23720 | AY22: 367.7 | AZ22: 22170 | BA22: 343.6
A23: $16,001 - $17,000 | B23: 30870 | C23: 509.2 | D23: 28780 | E23: 475 | F23: 28160 | G23: 465 | H23: 28340 | I23: 467.4 | J23: 30160 | K23: 497.4 | L23: 28950 | M23: 477.4 | N23: 30270 | O23: 499.7 | P23: 29420 | Q23: 485.3 | R23: $16,001 - $17,000 | S23: 29070 | T23: 479.6 | U23: 24430 | V23: 403.6 | W23: 25840 | X23: 426.1 | Y23: 25830 | Z23: 426 | AA23: 25230 | AB23: 415.9 | AC23: 25700 | AD23: 423.9 | AE23: 27950 | AF23: 461.4 | AG23: 26100 | AH23: 430.7 | AI23: 26560 | AJ23: 438.2 | AK23: 27110 | AL23: 447.14456 | AM23: $16,001 - $17,000 | AN23: 26010 | AO23: 429.2 | AP23: 25220 | AQ23: 416.2 | AR23: 23150 | AS23: 382 | AT23: 22420 | AU23: 369.6 | AV23: 24070 | AW23: 397.2 | AX23: 23050 | AY23: 380.3 | AZ23: 21360 | BA23: 352.4
A24: $17,001 - $18,000 | B24: 29170 | C24: 510.4 | D24: 28700 | E24: 502.7 | F24: 30080 | G24: 527.1 | H24: 29180 | I24: 511 | J24: 29220 | K24: 511.3 | L24: 28590 | M24: 500.2 | N24: 28460 | O24: 498 | P24: 28150 | Q24: 492.5 | R24: $17,001 - $18,000 | S24: 29100 | T24: 509.3 | U24: 26260 | V24: 460.2 | W24: 26510 | X24: 464.3 | Y24: 26350 | Z24: 461.4 | AA24: 23930 | AB24: 418.9 | AC24: 24840 | AD24: 435.2 | AE24: 24940 | AF24: 436.3 | AG24: 25560 | AH24: 447.4 | AI24: 26400 | AJ24: 462.2 | AK24: 26340 | AL24: 461.13282 | AM24: $17,001 - $18,000 | AN24: 25780 | AO24: 451.1 | AP24: 25260 | AQ24: 442.2 | AR24: 22680 | AS24: 397 | AT24: 21680 | AU24: 379.5 | AV24: 23620 | AW24: 413.2 | AX24: 23130 | AY24: 405 | AZ24: 21180 | BA24: 370.7
A25: $18,001 - $19,000 | B25: 29630 | C25: 547.3 | D25: 27560 | E25: 510.2 | F25: 30490 | G25: 563.9 | H25: 28040 | I25: 518.5 | J25: 28560 | K25: 528 | L25: 28840 | M25: 533.4 | N25: 26930 | O25: 498 | P25: 27780 | Q25: 514.1 | R25: $18,001 - $19,000 | S25: 27630 | T25: 511 | U25: 25440 | V25: 470.4 | W25: 24690 | X25: 456.3 | Y25: 25040 | Z25: 463 | AA25: 23270 | AB25: 430.4 | AC25: 24690 | AD25: 456.6 | AE25: 24250 | AF25: 448.1 | AG25: 25010 | AH25: 462.7 | AI25: 25780 | AJ25: 477 | AK25: 25340 | AL25: 468.83674 | AM25: $18,001 - $19,000 | AN25: 25170 | AO25: 465.8 | AP25: 25050 | AQ25: 463.3 | AR25: 22060 | AS25: 408.2 | AT25: 21050 | AU25: 389.3 | AV25: 22250 | AW25: 411.5 | AX25: 22810 | AY25: 421.8 | AZ25: 20960 | BA25: 387.8
A26: $19,001 - $20,000 | B26: 28980 | C26: 565 | D26: 27980 | E26: 546.1 | F26: 31100 | G26: 606.9 | H26: 29630 | I26: 578.1 | J26: 30490 | K26: 594.4 | L26: 29930 | M26: 584.1 | N26: 28200 | O26: 550.4 | P26: 28910 | Q26: 564.3 | R26: $19,001 - $20,000 | S26: 27600 | T26: 538.3 | U26: 25530 | V26: 497.9 | W26: 25300 | X26: 493.3 | Y26: 24880 | Z26: 485.8 | AA26: 25100 | AB26: 489.6 | AC26: 26800 | AD26: 522.4 | AE26: 23870 | AF26: 465.6 | AG26: 25180 | AH26: 491.2 | AI26: 25830 | AJ26: 503.8 | AK26: 25810 | AL26: 503.61936 | AM26: $19,001 - $20,000 | AN26: 25010 | AO26: 488 | AP26: 24040 | AQ26: 468.9 | AR26: 22290 | AS26: 434.7 | AT26: 20810 | AU26: 405.8 | AV26: 22180 | AW26: 432.6 | AX26: 22410 | AY26: 437.1 | AZ26: 21490 | BA26: 419.1
A27: $20,000 - $21,000 | B27: 29950 | C27: 614.1 | D27: 29060 | E27: 596.2 | F27: 29940 | G27: 614.2 | H27: 31960 | I27: 655.5 | J27: 31710 | K27: 650.2 | L27: 29140 | M27: 597.1 | N27: 26580 | O27: 544.8 | P27: 29610 | Q27: 606.8 | R27: $20,000 - $21,000 | S27: 28100 | T27: 575.9 | U27: 25450 | V27: 521.8 | W27: 26850 | X27: 550.9 | Y27: 25680 | Z27: 526.1 | AA27: 25010 | AB27: 512.7 | AC27: 23360 | AD27: 479.2 | AE27: 24090 | AF27: 494.5 | AG27: 24530 | AH27: 503.1 | AI27: 25710 | AJ27: 527.1 | AK27: 25110 | AL27: 514.82958 | AM27: $20,000 - $21,000 | AN27: 24510 | AO27: 502.6 | AP27: 24230 | AQ27: 496.8 | AR27: 21560 | AS27: 442 | AT27: 20630 | AU27: 423.1 | AV27: 21710 | AW27: 445.1 | AX27: 21680 | AY27: 444.3 | AZ27: 20250 | BA27: 415.1 | BC27: $20,001 - $30,000 | BD27: =SUM(S27:S36) -> 288900 | BE27: =SUM(T27:T36) -> 7267.9 | BF27: =SUM(U27:U36) -> 262620 | BG27: =SUM(V27:V36) -> 6617.2 | BH27: =SUM(W27:W36) -> 258920 | BI27: =SUM(X27:X36) -> 6505.6 | BJ27: =SUM(Y27:Y36) -> 258460 | BK27: =SUM(Z27:Z36) -> 6497.6 | ... BW27: =SUM(AL27:AL36) -> 6178.9346 | BX27: =SUM(AN27:AN36) -> 240550 | BY27: =SUM(AO27:AO36) -> 6011.2 | BZ27: =SUM(AP27:AP36) -> 234970 | CA27: =SUM(AQ27:AQ36) -> 5870.4 | CB27: =SUM(AR27:AR36) -> 211980 | CC27: =SUM(AS27:AS36) -> 5302.1 | CD27: =SUM(AT27:AT36) -> 198010 | CE27: =SUM(AU27:AU36) -> 4948.1 | ... CK27: =SUM(BA27:BA36) -> 4724.9
A28: $21,001 - $22,000 | B28: 30110 | C28: 647.8 | D28: 28500 | E28: 612.8 | F28: 29430 | G28: 632.5 | H28: 30840 | I28: 662.7 | J28: 29140 | K28: 626.4 | L28: 30320 | M28: 652.2 | N28: 28830 | O28: 620 | P28: 25090 | Q28: 539.5 | R28: $21,001 - $22,000 | S28: 26370 | T28: 566.9 | U28: 25090 | V28: 539.6 | W28: 23780 | X28: 511.4 | Y28: 25330 | Z28: 545.4 | AA28: 23860 | AB28: 513.2 | AC28: 24550 | AD28: 527.7 | AE28: 25220 | AF28: 542.3 | AG28: 24060 | AH28: 517.4 | AI28: 25020 | AJ28: 537.9 | AK28: 24730 | AL28: 531.71246 | AM28: $21,001 - $22,000 | AN28: 24130 | AO28: 518.9 | AP28: 23460 | AQ28: 504.5 | AR28: 21400 | AS28: 460.1 | AT28: 19880 | AU28: 427.5 | AV28: 21410 | AW28: 460.4 | AX28: 21290 | AY28: 457.6 | AZ28: 19350 | BA28: 416.1
A29: $22,001 - $23,000 | B29: 30890 | C29: 694.8 | D29: 30300 | E29: 682.1 | F29: 29570 | G29: 665.8 | H29: 29380 | I29: 661 | J29: 29710 | K29: 668.5 | L29: 29970 | M29: 674.8 | N29: 30800 | O29: 693.6 | P29: 29660 | Q29: 667.4 | R29: $22,001 - $23,000 | S29: 26830 | T29: 603.7 | U29: 23000 | V29: 517.7 | W29: 23890 | X29: 537.3 | Y29: 24710 | Z29: 556.6 | AA29: 25250 | AB29: 568.3 | AC29: 23240 | AD29: 522.6 | AE29: 22920 | AF29: 515.8 | AG29: 24040 | AH29: 541 | AI29: 24610 | AJ29: 553.8 | AK29: 24550 | AL29: 552.40758 | AM29: $22,001 - $23,000 | AN29: 23870 | AO29: 537.2 | AP29: 23190 | AQ29: 521.8 | AR29: 20660 | AS29: 464.9 | AT29: 19530 | AU29: 439.4 | AV29: 20990 | AW29: 472.1 | AX29: 20870 | AY29: 469.6 | AZ29: 18950 | BA29: 426.2
A30: $23,001 - $24,000 | B30: 31550 | C30: 740.9 | D30: 31340 | E30: 736.5 | F30: 31030 | G30: 729.5 | H30: 31030 | I30: 729.7 | J30: 32680 | K30: 767.6 | L30: 31110 | M30: 731.6 | N30: 30450 | O30: 715.5 | P30: 29010 | Q30: 682.4 | R30: $23,001 - $24,000 | S30: 28270 | T30: 664.7 | U30: 25660 | V30: 603.5 | W30: 24470 | X30: 575.2 | Y30: 25000 | Z30: 588.3 | AA30: 23870 | AB30: 561.1 | AC30: 24280 | AD30: 571.1 | AE30: 24870 | AF30: 584.8 | AG30: 24730 | AH30: 581.4 | AI30: 25400 | AJ30: 597.1 | AK30: 24790 | AL30: 582.75785 | AM30: $23,001 - $24,000 | AN30: 24310 | AO30: 571.5 | AP30: 23740 | AQ30: 558.2 | AR30: 21120 | AS30: 496.4 | AT30: 19710 | AU30: 463.3 | AV30: 20660 | AW30: 485.6 | AX30: 21350 | AY30: 501.8 | AZ30: 19340 | BA30: 454.6
A31: $24,001 - $25,000 | B31: 32220 | C31: 790.1 | D31: 30540 | E31: 749 | F31: 31530 | G31: 773.3 | H31: 32360 | I31: 792.8 | J31: 30500 | K31: 747 | L31: 31410 | M31: 770.1 | N31: 30730 | O31: 753.5 | P31: 30840 | Q31: 755.8 | R31: $24,001 - $25,000 | S31: 29470 | T31: 723 | U31: 23090 | V31: 566.3 | W31: 24420 | X31: 598.3 | Y31: 23370 | Z31: 572.6 | AA31: 25030 | AB31: 613.5 | AC31: 25930 | AD31: 635.7 | AE31: 25730 | AF31: 630.7 | AG31: 23910 | AH31: 586.1 | AI31: 24600 | AJ31: 602.8 | AK31: 24810 | AL31: 608.01375 | AM31: $24,001 - $25,000 | AN31: 24250 | AO31: 594.2 | AP31: 23730 | AQ31: 581.4 | AR31: 21110 | AS31: 517.3 | AT31: 19850 | AU31: 486.6 | AV31: 20380 | AW31: 499.5 | AX31: 20750 | AY31: 508.5 | AZ31: 19220 | BA31: 471
A32: $25,001 - $26,000 | B32: 31870 | C32: 813 | D32: 31430 | E32: 801.8 | F32: 31960 | G32: 815.3 | H32: 30090 | I32: 767.8 | J32: 31970 | K32: 815.9 | L32: 30720 | M32: 783.9 | N32: 30060 | O32: 766.8 | P32: 29830 | Q32: 760.4 | R32: $25,001 - $26,000 | S32: 28780 | T32: 734.7 | U32: 26550 | V32: 678 | W32: 26630 | X32: 679.4 | Y32: 25820 | Z32: 658.9 | AA32: 25830 | AB32: 659.4 | AC32: 22410 | AD32: 571.6 | AE32: 25510 | AF32: 650.4 | AG32: 24070 | AH32: 613.9 | AI32: 24970 | AJ32: 637 | AK32: 24980 | AL32: 637.25288 | AM32: $25,001 - $26,000 | AN32: 24070 | AO32: 614.1 | AP32: 23250 | AQ32: 592.9 | AR32: 21290 | AS32: 543.1 | AT32: 19610 | AU32: 500.3 | AV32: 20420 | AW32: 520.7 | AX32: 20670 | AY32: 527.1 | AZ32: 18900 | BA32: 482.1
A33: $26,001 - $27,000 | B33: 31460 | C33: 834.1 | D33: 32790 | E33: 868.7 | F33: 30410 | G33: 805.9 | H33: 31790 | I33: 842.8 | J33: 30260 | K33: 801.8 | L33: 32240 | M33: 853.9 | N33: 32460 | O33: 860.4 | P33: 32410 | Q33: 858.9 | R33: $26,001 - $27,000 | S33: 28110 | T33: 744.4 | U33: 28500 | V33: 755.3 | W33: 26860 | X33: 712 | Y33: 24980 | Z33: 661.9 | AA33: 24130 | AB33: 639.9 | AC33: 23810 | AD33: 631.2 | AE33: 24570 | AF33: 650.9 | AG33: 23750 | AH33: 629.4 | AI33: 24530 | AJ33: 650.1 | AK33: 24440 | AL33: 647.47061 | AM33: $26,001 - $27,000 | AN33: 23750 | AO33: 629.3 | AP33: 23190 | AQ33: 614.5 | AR33: 20680 | AS33: 548.1 | AT33: 19440 | AU33: 515 | AV33: 19910 | AW33: 527.6 | AX33: 20530 | AY33: 544 | AZ33: 18390 | BA33: 487.4
A34: $27,001 - $28,000 | B34: 30050 | C34: 826.7 | D34: 31440 | E34: 865.5 | F34: 30310 | G34: 833.2 | H34: 30540 | I34: 840.1 | J34: 31820 | K34: 874.8 | L34: 31460 | M34: 865.3 | N34: 32200 | O34: 885.6 | P34: 30550 | Q34: 840.2 | R34: $27,001 - $28,000 | S34: 29720 | T34: 817.3 | U34: 26400 | V34: 725.8 | W34: 26000 | X34: 714.6 | Y34: 26270 | Z34: 722.7 | AA34: 25820 | AB34: 710.2 | AC34: 24040 | AD34: 661.5 | AE34: 23260 | AF34: 639.6 | AG34: 23900 | AH34: 657.4 | AI34: 24370 | AJ34: 670.1 | AK34: 24220 | AL34: 666.10956 | AM34: $27,001 - $28,000 | AN34: 23660 | AO34: 650.7 | AP34: 23550 | AQ34: 647.6 | AR34: 20860 | AS34: 573.6 | AT34: 19510 | AU34: 536.5 | AV34: 19930 | AW34: 548 | AX34: 20130 | AY34: 553.5 | AZ34: 18000 | BA34: 494.9
A35: $28,001 - $29,000 | B35: 34010 | C35: 968.5 | D35: 29690 | E35: 846.7 | F35: 32450 | G35: 924.8 | H35: 30830 | I35: 878.7 | J35: 33090 | K35: 943 | L35: 31880 | M35: 908.3 | N35: 31940 | O35: 910.4 | P35: 31820 | Q35: 907 | R35: $28,001 - $29,000 | S35: 29800 | T35: 849.7 | U35: 28390 | V35: 809.3 | W35: 26610 | X35: 758 | Y35: 26920 | Z35: 767.8 | AA35: 27510 | AB35: 784.3 | AC35: 24850 | AD35: 708.2 | AE35: 24290 | AF35: 691.8 | AG35: 23650 | AH35: 673.8 | AI35: 24650 | AJ35: 702.6 | AK35: 24530 | AL35: 699.0338 | AM35: $28,001 - $29,000 | AN35: 23670 | AO35: 674.7 | AP35: 23050 | AQ35: 656.8 | AR35: 21160 | AS35: 603.2 | AT35: 19520 | AU35: 556.4 | AV35: 19790 | AW35: 563.9 | AX35: 19960 | AY35: 568.8 | AZ35: 18330 | BA35: 522.3
A36: $29,001 - $30,000 | B36: 32280 | C36: 952.9 | D36: 34820 | E36: 1027.8 | F36: 33390 | G36: 985.5 | H36: 34200 | I36: 1009.6 | J36: 33750 | K36: 995.9 | L36: 32960 | M36: 972.8 | N36: 32830 | O36: 968.6 | P36: 35410 | Q36: 1045.5 | R36: $29,001 - $30,000 | S36: 33450 | T36: 987.6 | U36: 30490 | V36: 899.9 | W36: 29410 | X36: 868.5 | Y36: 30380 | Z36: 897.3 | AA36: 26620 | AB36: 786 | AC36: 27130 | AD36: 800.7 | AE36: 25720 | AF36: 758.9 | AG36: 24840 | AH36: 733.3 | AI36: 25780 | AJ36: 761.2 | AK36: 25040 | AL36: 739.34653 | AM36: $29,001 - $30,000 | AN36: 24330 | AO36: 718 | AP36: 23580 | AQ36: 695.9 | AR36: 22140 | AS36: 653.4 | AT36: 20330 | AU36: 600 | AV36: 20040 | AW36: 591.6 | AX36: 20510 | AY36: 605.3 | AZ36: 18810 | BA36: 555.2
A37: $30,001 - $31,000 | B37: 32160 | C37: 981.1 | D37: 33080 | E37: 1009 | F37: 32780 | G37: 999.5 | H37: 32060 | I37: 977.8 | J37: 34330 | K37: 1046.2 | L37: 32340 | M37: 986.7 | N37: 30470 | O37: 929.3 | P37: 31730 | Q37: 967.5 | R37: $30,001 - $31,000 | S37: 32420 | T37: 989 | U37: 30000 | V37: 915 | W37: 29320 | X37: 894.8 | Y37: 27320 | Z37: 833.2 | AA37: 27500 | AB37: 838.5 | AC37: 25810 | AD37: 787.5 | AE37: 26680 | AF37: 813.7 | AG37: 25320 | AH37: 772.2 | AI37: 25170 | AJ37: 767.6 | AK37: 24750 | AL37: 755.02666 | AM37: $30,001 - $31,000 | AN37: 24020 | AO37: 732.8 | AP37: 23160 | AQ37: 706.5 | AR37: 22000 | AS37: 670.8 | AT37: 20150 | AU37: 614.5 | AV37: 19750 | AW37: 602.3 | AX37: 19970 | AY37: 608.9 | AZ37: 18270 | BA37: 557.2 | BC37: $30,001 - $40,000 | BD37: =SUM(S37:S46) -> 328110 | BE37: =SUM(T37:T46) -> 11495.7 | BF37: =SUM(U37:U46) -> 312160 | BG37: =SUM(V37:V46) -> 10949.9 | BH37: =SUM(W37:W46) -> 301250 | BI37: =SUM(X37:X46) -> 10565 | BJ37: =SUM(Y37:Y46) -> 291580 | BK37: =SUM(Z37:Z46) -> 10234.6 | ... BW37: =SUM(AL37:AL46) -> 9895.9924 | BX37: =SUM(AN37:AN46) -> 268660 | BY37: =SUM(AO37:AO46) -> 9461.2 | BZ37: =SUM(AP37:AP46) -> 250680 | CA37: =SUM(AQ37:AQ46) -> 8826 | CB37: =SUM(AR37:AR46) -> 236770 | CC37: =SUM(AS37:AS46) -> 8331.6 | CD37: =SUM(AT37:AT46) -> 213430 | CE37: =SUM(AU37:AU46) -> 7494.8 | ... CK37: =SUM(BA37:BA46) -> 6521.4
A38: $31,001 - $32,000 | B38: 32980 | C38: 1038.7 | D38: 31330 | E38: 986.7 | F38: 33290 | G38: 1048.2 | H38: 32000 | I38: 1007.9 | J38: 32670 | K38: 1029.3 | L38: 32890 | M38: 1035.9 | N38: 31270 | O38: 985.3 | P38: 34680 | Q38: 1092.3 | R38: $31,001 - $32,000 | S38: 33240 | T38: 1046.9 | U38: 32460 | V38: 1022.6 | W38: 30280 | X38: 953.8 | Y38: 28400 | Z38: 894.6 | AA38: 26940 | AB38: 847.9 | AC38: 27230 | AD38: 858.1 | AE38: 24690 | AF38: 777.4 | AG38: 26540 | AH38: 836 | AI38: 26720 | AJ38: 841.9 | AK38: 25560 | AL38: 805.10427 | AM38: $31,001 - $32,000 | AN38: 24650 | AO38: 776.6 | AP38: 23250 | AQ38: 732.2 | AR38: 22440 | AS38: 706.8 | AT38: 20820 | AU38: 655.8 | AV38: 19730 | AW38: 621.4 | AX38: 19950 | AY38: 628.4 | AZ38: 18430 | BA38: 580.3
A39: $32,001 - $33,000 | B39: 32230 | C39: 1047.5 | D39: 31620 | E39: 1028.1 | F39: 29480 | G39: 958.9 | H39: 31960 | I39: 1039.5 | J39: 34290 | K39: 1114.2 | L39: 35490 | M39: 1153.5 | N39: 34620 | O39: 1125.2 | P39: 33870 | Q39: 1100.9 | R39: $32,001 - $33,000 | S39: 30860 | T39: 1002.8 | U39: 31410 | V39: 1020.5 | W39: 28390 | X39: 922.7 | Y39: 27080 | Z39: 880 | AA39: 29390 | AB39: 954.8 | AC39: 28000 | AD39: 910.6 | AE39: 26460 | AF39: 860.2 | AG39: 26290 | AH39: 854.6 | AI39: 27070 | AJ39: 879.7 | AK39: 26620 | AL39: 865.39464 | AM39: $32,001 - $33,000 | AN39: 25150 | AO39: 817.6 | AP39: 23630 | AQ39: 768 | AR39: 22180 | AS39: 720.9 | AT39: 20710 | AU39: 673.1 | AV39: 19600 | AW39: 637 | AX39: 20210 | AY39: 656.7 | AZ39: 18410 | BA39: 598.2
A40: $33,001 - $34,000 | B40: 31040 | C40: 1040.5 | D40: 31800 | E40: 1064.7 | F40: 33410 | G40: 1119.6 | H40: 31730 | I40: 1063.2 | J40: 31280 | K40: 1047.5 | L40: 33620 | M40: 1126.9 | N40: 34600 | O40: 1159.4 | P40: 31450 | Q40: 1053.6 | R40: $33,001 - $34,000 | S40: 32410 | T40: 1085.1 | U40: 28740 | V40: 963 | W40: 30370 | X40: 1017.3 | Y40: 28900 | Z40: 968.6 | AA40: 26610 | AB40: 891.6 | AC40: 28250 | AD40: 946.6 | AE40: 27910 | AF40: 934.9 | AG40: 27140 | AH40: 909.3 | AI40: 27360 | AJ40: 916.6 | AK40: 27020 | AL40: 905.17023 | AM40: $33,001 - $34,000 | AN40: 25370 | AO40: 850 | AP40: 23360 | AQ40: 782.7 | AR40: 22450 | AS40: 752 | AT40: 20470 | AU40: 685.9 | AV40: 19800 | AW40: 663.4 | AX40: 20270 | AY40: 678.9 | AZ40: 18520 | BA40: 620.4
A41: $34,001 - $35,000 | B41: 29450 | C41: 1016.6 | D41: 32220 | E41: 1112 | F41: 32910 | G41: 1135.8 | H41: 30660 | I41: 1058.7 | J41: 32730 | K41: 1129.5 | L41: 34200 | M41: 1180.8 | N41: 33070 | O41: 1141.2 | P41: 34020 | Q41: 1174.7 | R41: $34,001 - $35,000 | S41: 34180 | T41: 1179.7 | U41: 29810 | V41: 1028.6 | W41: 28160 | X41: 971.6 | Y41: 29860 | Z41: 1030.3 | AA41: 30580 | AB41: 1055.5 | AC41: 30430 | AD41: 1050 | AE41: 27390 | AF41: 945 | AG41: 27800 | AH41: 959.4 | AI41: 28420 | AJ41: 980.7 | AK41: 28070 | AL41: 968.74746 | AM41: $34,001 - $35,000 | AN41: 26500 | AO41: 914.6 | AP41: 23840 | AQ41: 822.4 | AR41: 22730 | AS41: 784.4 | AT41: 20860 | AU41: 719.9 | AV41: 19810 | AW41: 683.5 | AX41: 19890 | AY41: 686.2 | AZ41: 18330 | BA41: 632.5
A42: $35,001 - $36,000 | B42: 30300 | C42: 1075.2 | D42: 28080 | E42: 997.3 | F42: 31750 | G42: 1127.6 | H42: 33240 | I42: 1180.2 | J42: 33040 | K42: 1173.5 | L42: 33490 | M42: 1188.9 | N42: 31620 | O42: 1122.8 | P42: 33750 | Q42: 1198.1 | R42: $35,001 - $36,000 | S42: 32280 | T42: 1146.2 | U42: 30400 | V42: 1079.3 | W42: 31820 | X42: 1130.1 | Y42: 29290 | Z42: 1039.5 | AA42: 29080 | AB42: 1032.5 | AC42: 29400 | AD42: 1043.4 | AE42: 29880 | AF42: 1060.7 | AG42: 28360 | AH42: 1007.1 | AI42: 29070 | AJ42: 1032.4 | AK42: 28860 | AL42: 1025.0177 | AM42: $35,001 - $36,000 | AN42: 27150 | AO42: 964.1 | AP42: 24640 | AQ42: 874.9 | AR42: 23500 | AS42: 834.4 | AT42: 21450 | AU42: 761.5 | AV42: 20370 | AW42: 723.4 | AX42: 20660 | AY42: 733.6 | AZ42: 18700 | BA42: 664.1
A43: $36,001 - $37,000 | B43: 26460 | C43: 965.5 | D43: 29210 | E43: 1065.8 | F43: 30370 | G43: 1108.4 | H43: 30880 | I43: 1127.3 | J43: 31850 | K43: 1162.7 | L43: 32440 | M43: 1184.2 | N43: 32940 | O43: 1202.4 | P43: 32900 | Q43: 1200.9 | R43: $36,001 - $37,000 | S43: 31980 | T43: 1167.5 | U43: 30330 | V43: 1106.8 | W43: 29570 | X43: 1078.9 | Y43: 29140 | Z43: 1063.3 | AA43: 28790 | AB43: 1050.9 | AC43: 29060 | AD43: 1060.7 | AE43: 29950 | AF43: 1093.3 | AG43: 28280 | AH43: 1032.2 | AI43: 28930 | AJ43: 1055.9 | AK43: 29080 | AL43: 1061.3767 | AM43: $36,001 - $37,000 | AN43: 27830 | AO43: 1015.9 | AP43: 25920 | AQ43: 946.2 | AR43: 23720 | AS43: 865.7 | AT43: 21370 | AU43: 779.8 | AV43: 19790 | AW43: 722.1 | AX43: 20260 | AY43: 739.6 | AZ43: 18750 | BA43: 684.2
A44: $37,001 - $38,000 | B44: 27050 | C44: 1015 | D44: 28140 | E44: 1056.1 | F44: 28470 | G44: 1067.6 | H44: 30760 | I44: 1153.8 | J44: 32810 | K44: 1230.6 | L44: 33980 | M44: 1275.1 | N44: 31950 | O44: 1198.7 | P44: 34490 | Q44: 1294.7 | R44: $37,001 - $38,000 | S44: 33840 | T44: 1269.4 | U44: 32630 | V44: 1223.6 | W44: 30540 | X44: 1145.5 | Y44: 32690 | Z44: 1226.1 | AA44: 30150 | AB44: 1130.5 | AC44: 30810 | AD44: 1155.1 | AE44: 29690 | AF44: 1113.6 | AG44: 29160 | AH44: 1093.5 | AI44: 29710 | AJ44: 1114.4 | AK44: 29900 | AL44: 1121.3582 | AM44: $37,001 - $38,000 | AN44: 28570 | AO44: 1071.3 | AP44: 26870 | AQ44: 1007.8 | AR44: 24740 | AS44: 927.7 | AT44: 21910 | AU44: 821.6 | AV44: 20230 | AW44: 758.5 | AX44: 20120 | AY44: 754.6 | AZ44: 18630 | BA44: 698.6
A45: $38,001 - $39,000 | B45: 24690 | C45: 950.5 | D45: 27410 | E45: 1055.7 | F45: 27230 | G45: 1048.9 | H45: 29910 | I45: 1151.5 | J45: 31230 | K45: 1202 | L45: 30980 | M45: 1192.3 | N45: 32590 | O45: 1255 | P45: 34840 | Q45: 1341.9 | R45: $38,001 - $39,000 | S45: 33630 | T45: 1294.8 | U45: 32520 | V45: 1252.2 | W45: 31260 | X45: 1203.9 | Y45: 28070 | Z45: 1080.7 | AA45: 30840 | AB45: 1187.5 | AC45: 31320 | AD45: 1206.4 | AE45: 29850 | AF45: 1149.1 | AG45: 28950 | AH45: 1114.5 | AI45: 29960 | AJ45: 1153.6 | AK45: 30090 | AL45: 1158.5088 | AM45: $38,001 - $39,000 | AN45: 29160 | AO45: 1122.7 | AP45: 27530 | AQ45: 1059.8 | AR45: 25610 | AS45: 986.2 | AT45: 22360 | AU45: 860.8 | AV45: 20560 | AW45: 791.6 | AX45: 20160 | AY45: 776.1 | AZ45: 19060 | BA45: 734.1
A46: $39,001 - $40,000 | B46: 25570 | C46: 1010.8 | D46: 25610 | E46: 1012.1 | F46: 26770 | G46: 1058 | H46: 30690 | I46: 1212.9 | J46: 30750 | K46: 1216 | L46: 31100 | M46: 1228.5 | N46: 31770 | O46: 1255.7 | P46: 32750 | Q46: 1294.3 | R46: $39,001 - $40,000 | S46: 33270 | T46: 1314.3 | U46: 33860 | V46: 1338.3 | W46: 31540 | X46: 1246.4 | Y46: 30830 | Z46: 1218.3 | AA46: 31550 | AB46: 1247.1 | AC46: 29830 | AD46: 1179 | AE46: 30060 | AF46: 1187.8 | AG46: 29820 | AH46: 1178.3 | AI46: 30710 | AJ46: 1213.4 | AK46: 31130 | AL46: 1230.2877 | AM46: $39,001 - $40,000 | AN46: 30260 | AO46: 1195.6 | AP46: 28480 | AQ46: 1125.5 | AR46: 27400 | AS46: 1082.7 | AT46: 23330 | AU46: 921.9 | AV46: 21290 | AW46: 841.2 | AX46: 20410 | AY46: 806.6 | AZ46: 19030 | BA46: 751.8
A47: $40,001 - $41,000 | B47: 21730 | C47: 879.8 | D47: 23600 | E47: 955.8 | F47: 25360 | G47: 1027.4 | H47: 27590 | I47: 1117.7 | J47: 29070 | K47: 1177.1 | L47: 30380 | M47: 1229.5 | N47: 31650 | O47: 1281.5 | P47: 28930 | Q47: 1171.7 | R47: $40,001 - $41,000 | S47: 30180 | T47: 1222.8 | U47: 32180 | V47: 1303.7 | W47: 29950 | X47: 1212.3 | Y47: 28470 | Z47: 1153.6 | AA47: 27960 | AB47: 1132.6 | AC47: 29130 | AD47: 1180.4 | AE47: 30310 | AF47: 1227.9 | AG47: 29350 | AH47: 1188.6 | AI47: 30330 | AJ47: 1228.6 | AK47: 30490 | AL47: 1235.0824 | AM47: $40,001 - $41,000 | AN47: 30020 | AO47: 1216 | AP47: 29180 | AQ47: 1181.8 | AR47: 27900 | AS47: 1130.1 | AT47: 23530 | AU47: 953.1 | AV47: 20780 | AW47: 841.7 | AX47: 20390 | AY47: 825.6 | AZ47: 19200 | BA47: 777.6 | BC47: $40,001 - $50,000 | BD47: =SUM(S47:S56) -> 279370 | BE47: =SUM(T47:T56) -> 12517 | BF47: =SUM(U47:U56) -> 274860 | BG47: =SUM(V47:V56) -> 12309.3 | BH47: =SUM(W47:W56) -> 275660 | BI47: =SUM(X47:X56) -> 12361 | BJ47: =SUM(Y47:Y56) -> 274510 | BK47: =SUM(Z47:Z56) -> 12319.7 | ... BW47: =SUM(AL47:AL56) -> 13988.193 | BX47: =SUM(AN47:AN56) -> 314170 | BY47: =SUM(AO47:AO56) -> 14154.9 | BZ47: =SUM(AP47:AP56) -> 308780 | CA47: =SUM(AQ47:AQ56) -> 13919.7 | CB47: =SUM(AR47:AR56) -> 306050 | CC47: =SUM(AS47:AS56) -> 13814.3 | CD47: =SUM(AT47:AT56) -> 280300 | CE47: =SUM(AU47:AU56) -> 12687.2 | ... CK47: =SUM(BA47:BA56) -> 9319.7
A48: $41,001 - $42,000 | B48: 21900 | C48: 908.3 | D48: 24390 | E48: 1012.6 | F48: 25880 | G48: 1073.9 | H48: 26440 | I48: 1097.1 | J48: 28450 | K48: 1180.9 | L48: 27710 | M48: 1150 | N48: 31370 | O48: 1301.6 | P48: 30610 | Q48: 1269.9 | R48: $41,001 - $42,000 | S48: 29990 | T48: 1244.7 | U48: 29220 | V48: 1213.4 | W48: 29690 | X48: 1232.8 | Y48: 29070 | Z48: 1206.9 | AA48: 28280 | AB48: 1173.8 | AC48: 28390 | AD48: 1177.8 | AE48: 31100 | AF48: 1291.4 | AG48: 29890 | AH48: 1240.9 | AI48: 30460 | AJ48: 1264.5 | AK48: 31370 | AL48: 1301.9524 | AM48: $41,001 - $42,000 | AN48: 31000 | AO48: 1286.9 | AP48: 30060 | AQ48: 1247.8 | AR48: 28890 | AS48: 1199.1 | AT48: 25500 | AU48: 1058.4 | AV48: 21410 | AW48: 888.8 | AX48: 20770 | AY48: 862.2 | AZ48: 19110 | BA48: 793.3
A49: $42,001 - $43,000 | B49: 21050 | C49: 894.5 | D49: 20850 | E49: 885.8 | F49: 22620 | G49: 961.6 | H49: 25240 | I49: 1072.9 | J49: 23560 | K49: 1000.7 | L49: 27720 | M49: 1178.3 | N49: 26380 | O49: 1121.3 | P49: 30130 | Q49: 1280.8 | R49: $42,001 - $43,000 | S49: 30440 | T49: 1293.1 | U49: 29010 | V49: 1232.7 | W49: 27580 | X49: 1171.9 | Y49: 29760 | Z49: 1264.9 | AA49: 28770 | AB49: 1222.6 | AC49: 29460 | AD49: 1252.1 | AE49: 29730 | AF49: 1263.7 | AG49: 29420 | AH49: 1250.5 | AI49: 30090 | AJ49: 1278.8 | AK49: 31030 | AL49: 1318.8552 | AM49: $42,001 - $43,000 | AN49: 30940 | AO49: 1315.2 | AP49: 29850 | AQ49: 1268.7 | AR49: 29070 | AS49: 1235.3 | AT49: 25590 | AU49: 1087.5 | AV49: 21470 | AW49: 912.4 | AX49: 20470 | AY49: 870 | AZ49: 19130 | BA49: 813.2
A50: $43,001 - $44,000 | B50: 18210 | C50: 791.9 | D50: 19590 | E50: 852 | F50: 21040 | G50: 915.3 | H50: 22410 | I50: 974.9 | J50: 24280 | K50: 1056.3 | L50: 26060 | M50: 1133.5 | N50: 26980 | O50: 1173.5 | P50: 28340 | Q50: 1232.8 | R50: $43,001 - $44,000 | S50: 30140 | T50: 1311.4 | U50: 28100 | V50: 1222.8 | W50: 28830 | X50: 1254.6 | Y50: 28850 | Z50: 1255.3 | AA50: 28770 | AB50: 1251.8 | AC50: 29270 | AD50: 1273 | AE50: 29340 | AF50: 1276.6 | AG50: 29230 | AH50: 1271.6 | AI50: 30240 | AJ50: 1315.6 | AK50: 31220 | AL50: 1358.1584 | AM50: $43,001 - $44,000 | AN50: 31070 | AO50: 1351.4 | AP50: 30890 | AQ50: 1343.8 | AR50: 29970 | AS50: 1304 | AT50: 26750 | AU50: 1163.9 | AV50: 22230 | AW50: 967.1 | AX50: 21210 | AY50: 922.7 | AZ50: 19950 | BA50: 868
A51: $44,001 - $45,000 | B51: 17580 | C51: 782.7 | D51: 19220 | E51: 855.4 | F51: 19230 | G51: 856.2 | H51: 22080 | I51: 982.6 | J51: 23620 | K51: 1051.2 | L51: 24710 | M51: 1100.3 | N51: 27440 | O51: 1221.7 | P51: 27910 | Q51: 1242.6 | R51: $44,001 - $45,000 | S51: 28130 | T51: 1252 | U51: 28470 | V51: 1268 | W51: 29150 | X51: 1297.7 | Y51: 27200 | Z51: 1210.4 | AA51: 28770 | AB51: 1280.3 | AC51: 28340 | AD51: 1261.6 | AE51: 29420 | AF51: 1309.2 | AG51: 29750 | AH51: 1324 | AI51: 30470 | AJ51: 1356.4 | AK51: 31820 | AL51: 1416.4293 | AM51: $44,001 - $45,000 | AN51: 31950 | AO51: 1422.2 | AP51: 30860 | AQ51: 1373.5 | AR51: 30760 | AS51: 1368.9 | AT51: 27540 | AU51: 1225.6 | AV51: 23840 | AW51: 1060.8 | AX51: 21500 | AY51: 956.7 | AZ51: 19790 | BA51: 880.8
A52: $45,001 - $46,000 | B52: 17520 | C52: 796.7 | D52: 17100 | E52: 778.2 | F52: 19830 | G52: 902.1 | H52: 21070 | I52: 958.8 | J52: 23860 | K52: 1085.9 | L52: 25140 | M52: 1144.7 | N52: 24330 | O52: 1107 | P52: 28450 | Q52: 1294.3 | R52: $45,001 - $46,000 | S52: 27660 | T52: 1258.8 | U52: 27460 | V52: 1249.5 | W52: 28150 | X52: 1281.6 | Y52: 27290 | Z52: 1242.1 | AA52: 27210 | AB52: 1238.1 | AC52: 29380 | AD52: 1336.7 | AE52: 32300 | AF52: 1470.5 | AG52: 28910 | AH52: 1315.6 | AI52: 29840 | AJ52: 1357.9 | AK52: 31190 | AL52: 1419.3607 | AM52: $45,001 - $46,000 | AN52: 31630 | AO52: 1439.4 | AP52: 31080 | AQ52: 1414 | AR52: 31250 | AS52: 1421.8 | AT52: 28650 | AU52: 1303.7 | AV52: 23850 | AW52: 1085.3 | AX52: 21650 | AY52: 985.3 | AZ52: 20210 | BA52: 919.6
A53: $46,001 - $47,000 | B53: 15220 | C53: 707.6 | D53: 16400 | E53: 762.7 | F53: 18260 | G53: 849.3 | H53: 20430 | I53: 949.8 | J53: 22740 | K53: 1057 | L53: 22110 | M53: 1028.2 | N53: 23030 | O53: 1070.7 | P53: 26130 | Q53: 1215.5 | R53: $46,001 - $47,000 | S53: 27150 | T53: 1262.8 | U53: 25920 | V53: 1205.4 | W53: 26320 | X53: 1224.3 | Y53: 24980 | Z53: 1161.9 | AA53: 26730 | AB53: 1243.2 | AC53: 27600 | AD53: 1283.6 | AE53: 29270 | AF53: 1361.5 | AG53: 28750 | AH53: 1337.1 | AI53: 29610 | AJ53: 1377.1 | AK53: 30760 | AL53: 1430.6085 | AM53: $46,001 - $47,000 | AN53: 31760 | AO53: 1477 | AP53: 31330 | AQ53: 1456.8 | AR53: 31510 | AS53: 1465.5 | AT53: 29550 | AU53: 1374.4 | AV53: 24870 | AW53: 1156.7 | AX53: 22470 | AY53: 1044.8 | AZ53: 21750 | BA53: 1011.4
A54: $47,001 - $48,000 | B54: 14110 | C54: 670.4 | D54: 16150 | E54: 767.7 | F54: 17710 | G54: 841.3 | H54: 17700 | I54: 840.7 | J54: 17870 | K54: 849.1 | L54: 22890 | M54: 1087.2 | N54: 24000 | O54: 1139.9 | P54: 26140 | Q54: 1242.2 | R54: $47,001 - $48,000 | S54: 26520 | T54: 1260.3 | U54: 25480 | V54: 1210.1 | W54: 26860 | X54: 1276.6 | Y54: 28200 | Z54: 1340 | AA54: 25300 | AB54: 1202.4 | AC54: 27850 | AD54: 1323.5 | AE54: 29540 | AF54: 1404.3 | AG54: 29670 | AH54: 1410.2 | AI54: 30560 | AJ54: 1452.4 | AK54: 32100 | AL54: 1525.5259 | AM54: $47,001 - $48,000 | AN54: 32510 | AO54: 1544.8 | AP54: 32320 | AQ54: 1535.8 | AR54: 32780 | AS54: 1557.3 | AT54: 31330 | AU54: 1488.8 | AV54: 26770 | AW54: 1272.1 | AX54: 24720 | AY54: 1174.4 | AZ54: 21990 | BA54: 1045
A55: $48,001 - $49,000 | B55: 12060 | C55: 584.7 | D55: 14080 | E55: 682.8 | F55: 14470 | G55: 701.4 | H55: 17280 | I55: 838.2 | J55: 19230 | K55: 932.8 | L55: 20770 | M55: 1007.6 | N55: 23910 | O55: 1159.7 | P55: 23270 | Q55: 1128.5 | R55: $48,001 - $49,000 | S55: 24190 | T55: 1173.8 | U55: 24030 | V55: 1165.7 | W55: 23520 | X55: 1141 | Y55: 25300 | Z55: 1227.2 | AA55: 24660 | AB55: 1196.3 | AC55: 25260 | AD55: 1225.3 | AE55: 26300 | AF55: 1275.5 | AG55: 27670 | AH55: 1341.8 | AI55: 29110 | AJ55: 1411.7 | AK55: 29880 | AL55: 1449.2556 | AM55: $48,001 - $49,000 | AN55: 31170 | AO55: 1511.6 | AP55: 31640 | AQ55: 1534.6 | AR55: 31750 | AS55: 1539.6 | AT55: 30800 | AU55: 1493.8 | AV55: 26930 | AW55: 1305.8 | AX55: 24170 | AY55: 1172.2 | AZ55: 22410 | BA55: 1086.8
A56: $49,001 - $50,000 | B56: 12220 | C56: 605.2 | D56: 14660 | E56: 726.5 | F56: 15690 | G56: 777 | H56: 16720 | I56: 828.2 | J56: 19870 | K56: 984.3 | L56: 20870 | M56: 1033.7 | N56: 22810 | O56: 1129.9 | P56: 24260 | Q56: 1201.6 | R56: $49,001 - $50,000 | S56: 24970 | T56: 1237.3 | U56: 24990 | V56: 1238 | W56: 25610 | X56: 1268.2 | Y56: 25390 | Z56: 1257.4 | AA56: 26700 | AB56: 1322.4 | AC56: 28020 | AD56: 1387.4 | AE56: 27280 | AF56: 1351.4 | AG56: 28310 | AH56: 1401.9 | AI56: 29340 | AJ56: 1453.3 | AK56: 30950 | AL56: 1532.9651 | AM56: $49,001 - $50,000 | AN56: 32120 | AO56: 1590.4 | AP56: 31570 | AQ56: 1562.9 | AR56: 32170 | AS56: 1592.7 | AT56: 31060 | AU56: 1538 | AV56: 27800 | AW56: 1376.6 | AX56: 24670 | AY56: 1221.6 | AZ56: 22700 | BA56: 1124
A57: $50,000 - $51,000 | B57: 13080 | C57: 659.8 | D57: 14030 | E57: 708.5 | F57: 13330 | G57: 673.1 | H57: 17240 | I57: 870.7 | J57: 17120 | K57: 864.5 | L57: 19010 | M57: 960.5 | N57: 21360 | O57: 1078.7 | P57: 23290 | Q57: 1176.7 | R57: $50,000 - $51,000 | S57: 23710 | T57: 1197.2 | U57: 24050 | V57: 1214.3 | W57: 23500 | X57: 1187.1 | Y57: 24170 | Z57: 1220.5 | AA57: 23380 | AB57: 1180.6 | AC57: 25780 | AD57: 1302.2 | AE57: 26260 | AF57: 1326.2 | AG57: 27510 | AH57: 1389.4 | AI57: 28070 | AJ57: 1417.3 | AK57: 29610 | AL57: 1495.662 | AM57: $50,000 - $51,000 | AN57: 30800 | AO57: 1555.3 | AP57: 32250 | AQ57: 1628.4 | AR57: 32480 | AS57: 1640 | AT57: 32330 | AU57: 1632.3 | AV57: 28400 | AW57: 1433.8 | AX57: 25990 | AY57: 1312.3 | AZ57: 23600 | BA57: 1191.9 | BC57: $50,001 - $60,000 | BD57: =SUM(S57:S66) -> 198320 | BE57: =SUM(T57:T66) -> 10864 | BF57: =SUM(U57:U66) -> 196460 | BG57: =SUM(V57:V66) -> 10750.4 | BH57: =SUM(W57:W66) -> 197760 | BI57: =SUM(X57:X66) -> 10814.4 | BJ57: =SUM(Y57:Y66) -> 203100 | BK57: =SUM(Z57:Z66) -> 11124.3 | ... BW57: =SUM(AL57:AL66) -> 14443.399 | BX57: =SUM(AN57:AN66) -> 279600 | BY57: =SUM(AO57:AO66) -> 15324.5 | BZ57: =SUM(AP57:AP66) -> 294230 | CA57: =SUM(AQ57:AQ66) -> 16133.9 | CB57: =SUM(AR57:AR66) -> 303540 | CC57: =SUM(AS57:AS66) -> 16653.6 | CD57: =SUM(AT57:AT66) -> 314610 | CE57: =SUM(AU57:AU66) -> 17282.1 | ... CK57: =SUM(BA57:BA66) -> 14261.9
A58: $51,001 - $52,000 | B58: 10790 | C58: 555.9 | D58: 12740 | E58: 656.5 | F58: 15750 | G58: 811.4 | H58: 15380 | I58: 792.3 | J58: 16350 | K58: 842.4 | L58: 18250 | M58: 940.3 | N58: 19790 | O58: 1020.1 | P58: 20860 | Q58: 1074.7 | R58: $51,001 - $52,000 | S58: 21330 | T58: 1098.8 | U58: 21660 | V58: 1115.9 | W58: 22730 | X58: 1171.1 | Y58: 23130 | Z58: 1191.9 | AA58: 24580 | AB58: 1266.7 | AC58: 26510 | AD58: 1366 | AE58: 24420 | AF58: 1257.9 | AG58: 26860 | AH58: 1383.7 | AI58: 27530 | AJ58: 1418.4 | AK58: 29140 | AL58: 1501.182 | AM58: $51,001 - $52,000 | AN58: 31330 | AO58: 1614 | AP58: 31460 | AQ58: 1621.2 | AR58: 32170 | AS58: 1657.4 | AT58: 32330 | AU58: 1665.5 | AV58: 29340 | AW58: 1511.8 | AX58: 26560 | AY58: 1368.3 | AZ58: 24350 | BA58: 1254.4
A59: $52,001 - $53,000 | B59: 12780 | C59: 671.5 | D59: 13270 | E59: 696.4 | F59: 13720 | G59: 720.3 | H59: 14590 | I59: 766.2 | J59: 14100 | K59: 740.3 | L59: 17260 | M59: 906.6 | N59: 18890 | O59: 991.9 | P59: 19960 | Q59: 1047.7 | R59: $52,001 - $53,000 | S59: 21980 | T59: 1154.3 | U59: 21430 | V59: 1125.3 | W59: 22320 | X59: 1171.7 | Y59: 22240 | Z59: 1167.5 | AA59: 24230 | AB59: 1272.6 | AC59: 22060 | AD59: 1158.6 | AE59: 26430 | AF59: 1388 | AG59: 25600 | AH59: 1344.1 | AI59: 26490 | AJ59: 1390.7 | AK59: 27650 | AL59: 1451.3821 | AM59: $52,001 - $53,000 | AN59: 29350 | AO59: 1541.1 | AP59: 31150 | AQ59: 1635.4 | AR59: 31170 | AS59: 1636.4 | AT59: 31680 | AU59: 1663.4 | AV59: 29240 | AW59: 1534.9 | AX59: 26850 | AY59: 1409.5 | AZ59: 24350 | BA59: 1278.5
A60: $53,001 - $54,000 | B60: 10800 | C60: 577.9 | D60: 11820 | E60: 632.7 | F60: 13130 | G60: 702.3 | H60: 12860 | I60: 688.2 | J60: 15470 | K60: 827.6 | L60: 16570 | M60: 886.2 | N60: 17650 | O60: 944.2 | P60: 19180 | Q60: 1026.2 | R60: $53,001 - $54,000 | S60: 20370 | T60: 1089.5 | U60: 19660 | V60: 1051.7 | W60: 19720 | X60: 1055.3 | Y60: 20400 | Z60: 1091.2 | AA60: 22260 | AB60: 1190.9 | AC60: 21550 | AD60: 1153.1 | AE60: 24580 | AF60: 1315 | AG60: 24570 | AH60: 1314.6 | AI60: 25180 | AJ60: 1347 | AK60: 26800 | AL60: 1433.7876 | AM60: $53,001 - $54,000 | AN60: 28700 | AO60: 1535.6 | AP60: 30290 | AQ60: 1620.6 | AR60: 31120 | AS60: 1664.8 | AT60: 31950 | AU60: 1709.3 | AV60: 29540 | AW60: 1580.4 | AX60: 27390 | AY60: 1465.3 | AZ60: 24610 | BA60: 1317
A61: $54,001 - $55,000 | B61: 10100 | C61: 550.6 | D61: 11280 | E61: 615.1 | F61: 13040 | G61: 711.2 | H61: 12100 | I61: 659.6 | J61: 15700 | K61: 856.5 | L61: 16650 | M61: 907.7 | N61: 16310 | O61: 888.8 | P61: 20010 | Q61: 1091.4 | R61: $54,001 - $55,000 | S61: 18460 | T61: 1006.2 | U61: 20570 | V61: 1122 | W61: 21390 | X61: 1165.9 | Y61: 18450 | Z61: 1006.2 | AA61: 20860 | AB61: 1137.5 | AC61: 23190 | AD61: 1264.3 | AE61: 22350 | AF61: 1218.2 | AG61: 24900 | AH61: 1357.2 | AI61: 25210 | AJ61: 1374.5 | AK61: 26670 | AL61: 1453.9478 | AM61: $54,001 - $55,000 | AN61: 28550 | AO61: 1556.1 | AP61: 29750 | AQ61: 1621.9 | AR61: 31200 | AS61: 1700.4 | AT61: 32270 | AU61: 1759 | AV61: 29470 | AW61: 1606.5 | AX61: 28290 | AY61: 1541.9 | AZ61: 26000 | BA61: 1416.9
A62: $55,001 - $56,000 | B62: 10190 | C62: 565.5 | D62: 10550 | E62: 585.5 | F62: 12300 | G62: 682.6 | H62: 12460 | I62: 691.6 | J62: 14130 | K62: 783.9 | L62: 14490 | M62: 804.7 | N62: 17320 | O62: 961.4 | P62: 17250 | Q62: 957.4 | R62: $55,001 - $56,000 | S62: 19050 | T62: 1056.8 | U62: 18200 | V62: 1009.9 | W62: 18660 | X62: 1035.7 | Y62: 18930 | Z62: 1050.6 | AA62: 20990 | AB62: 1164.7 | AC62: 23270 | AD62: 1291.9 | AE62: 22840 | AF62: 1267.7 | AG62: 23440 | AH62: 1300.9 | AI62: 24330 | AJ62: 1350.1 | AK62: 25540 | AL62: 1417.5683 | AM62: $55,001 - $56,000 | AN62: 27130 | AO62: 1505.7 | AP62: 29110 | AQ62: 1615.3 | AR62: 30270 | AS62: 1680.1 | AT62: 32100 | AU62: 1781.7 | AV62: 29840 | AW62: 1656 | AX62: 28050 | AY62: 1556.7 | AZ62: 25960 | BA62: 1440.5
A63: $56,001 - $57,000 | B63: 8590 | C63: 485.3 | D63: 8530 | E63: 482 | F63: 10390 | G63: 587.4 | H63: 11300 | I63: 638.5 | J63: 12790 | K63: 722.7 | L63: 13740 | M63: 776.5 | N63: 16170 | O63: 913.2 | P63: 18270 | Q63: 1031.9 | R63: $56,001 - $57,000 | S63: 18370 | T63: 1038.3 | U63: 18840 | V63: 1064.3 | W63: 18080 | X63: 1021.1 | Y63: 20330 | Z63: 1148.7 | AA63: 19990 | AB63: 1129.3 | AC63: 21460 | AD63: 1211.7 | AE63: 20900 | AF63: 1180.8 | AG63: 22620 | AH63: 1277.7 | AI63: 23700 | AJ63: 1339.2 | AK63: 25360 | AL63: 1432.6037 | AM63: $56,001 - $57,000 | AN63: 26400 | AO63: 1491.2 | AP63: 28490 | AQ63: 1609.6 | AR63: 29890 | AS63: 1688.7 | AT63: 31310 | AU63: 1768.8 | AV63: 30140 | AW63: 1702.7 | AX63: 28450 | AY63: 1607.4 | AZ63: 26660 | BA63: 1506.4
A64: $57,001 - $58,000 | B64: 7700 | C64: 442.9 | D64: 9360 | E64: 538.2 | F64: 9730 | G64: 559.9 | H64: 12810 | I64: 736.7 | J64: 13710 | K64: 788.2 | L64: 13630 | M64: 784 | N64: 14600 | O64: 839.6 | P64: 16990 | Q64: 977.2 | R64: $57,001 - $58,000 | S64: 18460 | T64: 1061.6 | U64: 17060 | V64: 980.9 | W64: 17190 | X64: 988.5 | Y64: 18000 | Z64: 1035.4 | AA64: 18820 | AB64: 1081.9 | AC64: 19870 | AD64: 1142.9 | AE64: 19560 | AF64: 1124.9 | AG64: 22130 | AH64: 1272.3 | AI64: 23380 | AJ64: 1344.1 | AK64: 24290 | AL64: 1396.887 | AM64: $57,001 - $58,000 | AN64: 25900 | AO64: 1489 | AP64: 27360 | AQ64: 1572.8 | AR64: 29120 | AS64: 1674.3 | AT64: 30530 | AU64: 1755.5 | AV64: 29570 | AW64: 1700.1 | AX64: 28780 | AY64: 1654.6 | AZ64: 27250 | BA64: 1566.6
A65: $58,001 - $59,000 | B65: 7280 | C65: 425.8 | D65: 8510 | E65: 497.9 | F65: 10720 | G65: 627 | H65: 11570 | I65: 676.6 | J65: 12360 | K65: 723.2 | L65: 14790 | M65: 865.9 | N65: 13070 | O65: 764.6 | P65: 17080 | Q65: 999.4 | R65: $58,001 - $59,000 | S65: 17690 | T65: 1035.1 | U65: 16840 | V65: 984.8 | W65: 16400 | X65: 959.5 | Y65: 17480 | Z65: 1022.6 | AA65: 18510 | AB65: 1083.5 | AC65: 19360 | AD65: 1131.9 | AE65: 19950 | AF65: 1166.8 | AG65: 21240 | AH65: 1242.5 | AI65: 22330 | AJ65: 1305.9 | AK65: 23290 | AL65: 1362.3577 | AM65: $58,001 - $59,000 | AN65: 25160 | AO65: 1471.8 | AP65: 27110 | AQ65: 1586 | AR65: 28050 | AS65: 1640.7 | AT65: 30200 | AU65: 1766.5 | AV65: 30190 | AW65: 1765.8 | AX65: 28830 | AY65: 1686.5 | AZ65: 27390 | BA65: 1602
A66: $59,001 - $60,000 | B66: 7690 | C66: 458 | D66: 9410 | E66: 560.5 | F66: 11460 | G66: 682.6 | H66: 12730 | I66: 758.6 | J66: 14580 | K66: 868.9 | L66: 16640 | M66: 991.7 | N66: 16410 | O66: 978.2 | P66: 17710 | Q66: 1054.9 | R66: $59,001 - $60,000 | S66: 18900 | T66: 1126.2 | U66: 18150 | V66: 1081.3 | W66: 17770 | X66: 1058.5 | Y66: 19970 | Z66: 1189.7 | AA66: 19350 | AB66: 1152 | AC66: 19020 | AD66: 1132.8 | AE66: 20190 | AF66: 1202.2 | AG66: 22300 | AH66: 1327.6 | AI66: 23220 | AJ66: 1382.9 | AK66: 25160 | AL66: 1498.021 | AM66: $59,001 - $60,000 | AN66: 26280 | AO66: 1564.7 | AP66: 27260 | AQ66: 1622.7 | AR66: 28070 | AS66: 1670.8 | AT66: 29910 | AU66: 1780.1 | AV66: 30440 | AW66: 1811.8 | AX66: 29620 | AY66: 1763 | AZ66: 28360 | BA66: 1687.7
A67: $60,001 - $61,000 | B67: 6400 | C67: 387.3 | D67: 7120 | E67: 430.6 | F67: 8430 | G67: 510.1 | H67: 10350 | I67: 626.1 | J67: 11210 | K67: 678.6 | L67: 12670 | M67: 766.3 | N67: 14710 | O67: 889.8 | P67: 14500 | Q67: 877 | R67: $60,001 - $61,000 | S67: 16080 | T67: 972.3 | U67: 15110 | V67: 913.7 | W67: 16700 | X67: 1010.5 | Y67: 17050 | Z67: 1031.6 | AA67: 16190 | AB67: 979.3 | AC67: 17940 | AD67: 1085.6 | AE67: 20180 | AF67: 1221 | AG67: 20180 | AH67: 1220.8 | AI67: 20830 | AJ67: 1260.4 | AK67: 22540 | AL67: 1363.4815 | AM67: $60,001 - $61,000 | AN67: 24100 | AO67: 1457.8 | AP67: 26190 | AQ67: 1584.4 | AR67: 27070 | AS67: 1637.2 | AT67: 29640 | AU67: 1792.7 | AV67: 29600 | AW67: 1790.7 | AX67: 29670 | AY67: 1794.8 | AZ67: 28250 | BA67: 1708.8 | BC67: $60,001 - $70,000 | BD67: =SUM(S67:S76) -> 135640 | BE67: =SUM(T67:T76) -> 8768.9 | BF67: =SUM(U67:U76) -> 140260 | BG67: =SUM(V67:V76) -> 9088.7 | BH67: =SUM(W67:W76) -> 145260 | BI67: =SUM(X67:X76) -> 9409 | BJ67: =SUM(Y67:Y76) -> 150710 | BK67: =SUM(Z67:Z76) -> 9767 | ... BW67: =SUM(AL67:AL76) -> 12973.138 | BX67: =SUM(AN67:AN76) -> 215350 | BY67: =SUM(AO67:AO76) -> 13958 | BZ67: =SUM(AP67:AP76) -> 231560 | CA67: =SUM(AQ67:AQ76) -> 15002.5 | CB67: =SUM(AR67:AR76) -> 241150 | CC67: =SUM(AS67:AS76) -> 15623.2 | CD67: =SUM(AT67:AT76) -> 263630 | CE67: =SUM(AU67:AU76) -> 17086.1 | ... CK67: =SUM(BA67:BA76) -> 18116.3
A68: $61,001 - $62,000 | B68: 6580 | C68: 404.5 | D68: 6290 | E68: 386.8 | F68: 8260 | G68: 508 | H68: 11390 | I68: 700.2 | J68: 11160 | K68: 686.7 | L68: 10770 | M68: 662.6 | N68: 13660 | O68: 839.9 | P68: 15430 | Q68: 948.7 | R68: $61,001 - $62,000 | S68: 14420 | T68: 886.6 | U68: 15640 | V68: 961.7 | W68: 15970 | X68: 982.2 | Y68: 16390 | Z68: 1008.4 | AA68: 17680 | AB68: 1086.8 | AC68: 18000 | AD68: 1106.8 | AE68: 19150 | AF68: 1177.7 | AG68: 19360 | AH68: 1190.8 | AI68: 20200 | AJ68: 1242.3 | AK68: 21510 | AL68: 1323.1881 | AM68: $61,001 - $62,000 | AN68: 23610 | AO68: 1452.1 | AP68: 24660 | AQ68: 1516.6 | AR68: 26020 | AS68: 1600.2 | AT68: 28510 | AU68: 1753.1 | AV68: 28740 | AW68: 1767.3 | AX68: 28560 | AY68: 1756.1 | AZ68: 28060 | BA68: 1725.8
A69: $62,001 - $63,000 | B69: 5000 | C69: 312.6 | D69: 6110 | E69: 382.1 | F69: 7350 | G69: 459.2 | H69: 9860 | I69: 616.1 | J69: 10150 | K69: 634.4 | L69: 11170 | M69: 697.9 | N69: 12580 | O69: 786.2 | P69: 15170 | Q69: 948.5 | R69: $62,001 - $63,000 | S69: 15300 | T69: 956.7 | U69: 14990 | V69: 936.8 | W69: 15580 | X69: 974 | Y69: 14670 | Z69: 916.9 | AA69: 16250 | AB69: 1015.5 | AC69: 16190 | AD69: 1011.5 | AE69: 17810 | AF69: 1112.9 | AG69: 18900 | AH69: 1181 | AI69: 20390 | AJ69: 1274.3 | AK69: 21250 | AL69: 1328.0784 | AM69: $62,001 - $63,000 | AN69: 23080 | AO69: 1442.4 | AP69: 25020 | AQ69: 1563.5 | AR69: 26210 | AS69: 1637.7 | AT69: 28110 | AU69: 1757 | AV69: 29270 | AW69: 1829.5 | AX69: 29290 | AY69: 1830.3 | AZ69: 29480 | BA69: 1842.1
A70: $63,001 - $64,000 | B70: 4400 | C70: 279.3 | D70: 6540 | E70: 415 | F70: 6090 | G70: 386.8 | H70: 8360 | I70: 530.8 | J70: 10280 | K70: 652.7 | L70: 10850 | M70: 689.3 | N70: 11670 | O70: 741.2 | P70: 12160 | Q70: 772.3 | R70: $63,001 - $64,000 | S70: 14960 | T70: 950 | U70: 15030 | V70: 954.1 | W70: 14970 | X70: 950.7 | Y70: 16000 | Z70: 1015.8 | AA70: 14940 | AB70: 949 | AC70: 17070 | AD70: 1083.9 | AE70: 17660 | AF70: 1121.5 | AG70: 18270 | AH70: 1160.2 | AI70: 18700 | AJ70: 1187.6 | AK70: 20240 | AL70: 1285.3717 | AM70: $63,001 - $64,000 | AN70: 22000 | AO70: 1397 | AP70: 23890 | AQ70: 1517.2 | AR70: 24950 | AS70: 1584.2 | AT70: 26580 | AU70: 1687.9 | AV70: 28050 | AW70: 1781 | AX70: 27980 | AY70: 1776.6 | AZ70: 28210 | BA70: 1791.1
A71: $64,001 - $65,000 | B71: 4590 | C71: 296.3 | D71: 5160 | E71: 333 | F71: 5880 | G71: 379.6 | H71: 7950 | I71: 512.6 | J71: 9000 | K71: 580.7 | L71: 10550 | M71: 680.6 | N71: 12050 | O71: 777 | P71: 13620 | Q71: 879.2 | R71: $64,001 - $65,000 | S71: 15390 | T71: 993.2 | U71: 14930 | V71: 964.2 | W71: 14880 | X71: 960.5 | Y71: 15680 | Z71: 1012 | AA71: 17360 | AB71: 1120.4 | AC71: 17210 | AD71: 1110.6 | AE71: 18060 | AF71: 1165.4 | AG71: 18350 | AH71: 1183.8 | AI71: 19150 | AJ71: 1236.1 | AK71: 20860 | AL71: 1346.3309 | AM71: $64,001 - $65,000 | AN71: 22020 | AO71: 1421 | AP71: 23940 | AQ71: 1544.6 | AR71: 24310 | AS71: 1568.2 | AT71: 26760 | AU71: 1726.3 | AV71: 27960 | AW71: 1803.9 | AX71: 28570 | AY71: 1842.8 | AZ71: 28220 | BA71: 1820.8
A72: $65,001 - $66,000 | B72: 4550 | C72: 298.1 | D72: 4560 | E72: 298.8 | F72: 6390 | G72: 418.6 | H72: 6750 | I72: 442.2 | J72: 8280 | K72: 542.1 | L72: 9060 | M72: 593.6 | N72: 10900 | O72: 713.8 | P72: 11930 | Q72: 781.4 | R72: $65,001 - $66,000 | S72: 13720 | T72: 899 | U72: 12960 | V72: 848.9 | W72: 14650 | X72: 959.2 | Y72: 15560 | Z72: 1018.6 | AA72: 15270 | AB72: 999.5 | AC72: 17680 | AD72: 1158.1 | AE72: 17410 | AF72: 1140.4 | AG72: 17330 | AH72: 1135.4 | AI72: 18310 | AJ72: 1199 | AK72: 19370 | AL72: 1268.4906 | AM72: $65,001 - $66,000 | AN72: 20830 | AO72: 1364.5 | AP72: 22920 | AQ72: 1500.9 | AR72: 23480 | AS72: 1538 | AT72: 25780 | AU72: 1688.8 | AV72: 27500 | AW72: 1801.3 | AX72: 27780 | AY72: 1819.8 | AZ72: 28430 | BA72: 1862
A73: $66,001 - $67,000 | B73: 4400 | C73: 292.3 | D73: 4670 | E73: 310.5 | F73: 5620 | G73: 373.7 | H73: 6330 | I73: 420.8 | J73: 7270 | K73: 483.6 | L73: 9080 | M73: 603.8 | N73: 10070 | O73: 669.9 | P73: 11600 | Q73: 771.3 | R73: $66,001 - $67,000 | S73: 12130 | T73: 806.7 | U73: 12820 | V73: 852.4 | W73: 12970 | X73: 862.4 | Y73: 14110 | Z73: 938.5 | AA73: 14020 | AB73: 932.4 | AC73: 15400 | AD73: 1024.1 | AE73: 14410 | AF73: 958.3 | AG73: 16590 | AH73: 1102.9 | AI73: 17560 | AJ73: 1167.5 | AK73: 18810 | AL73: 1251.1252 | AM73: $66,001 - $67,000 | AN73: 20090 | AO73: 1336.2 | AP73: 21880 | AQ73: 1455.3 | AR73: 22810 | AS73: 1516.5 | AT73: 25200 | AU73: 1675.5 | AV73: 26680 | AW73: 1774.2 | AX73: 27470 | AY73: 1827 | AZ73: 27440 | BA73: 1824.5
A74: $67,001 - $68,000 | B74: 4280 | C74: 289 | D74: 4190 | E74: 282.9 | F74: 5120 | G74: 345.8 | H74: 6410 | I74: 432.7 | J74: 7010 | K74: 473.1 | L74: 7700 | M74: 519.9 | N74: 10610 | O74: 716.2 | P74: 11650 | Q74: 786.6 | R74: $67,001 - $68,000 | S74: 11290 | T74: 762.2 | U74: 12780 | V74: 862.8 | W74: 13270 | X74: 896.2 | Y74: 14670 | Z74: 990 | AA74: 14630 | AB74: 987.2 | AC74: 15240 | AD74: 1028.8 | AE74: 15380 | AF74: 1037.9 | AG74: 16380 | AH74: 1106 | AI74: 17400 | AJ74: 1174.6 | AK74: 18420 | AL74: 1243.5505 | AM74: $67,001 - $68,000 | AN74: 19510 | AO74: 1317.1 | AP74: 21450 | AQ74: 1448 | AR74: 22670 | AS74: 1530.5 | AT74: 24560 | AU74: 1657.7 | AV74: 25770 | AW74: 1739.6 | AX74: 26950 | AY74: 1819.5 | AZ74: 26950 | BA74: 1819.4
A75: $68,001 - $69,000 | B75: 3970 | C75: 271.8 | D75: 4130 | E75: 282.9 | F75: 5100 | G75: 349.4 | H75: 5350 | I75: 366.3 | J75: 6120 | K75: 419.1 | L75: 7690 | M75: 526.8 | N75: 9500 | O75: 650.6 | P75: 11230 | Q75: 769.3 | R75: $68,001 - $69,000 | S75: 11640 | T75: 797.6 | U75: 13370 | V75: 915.5 | W75: 13170 | X75: 902.3 | Y75: 12760 | Z75: 874.4 | AA75: 13950 | AB75: 955.7 | AC75: 15260 | AD75: 1045.5 | AE75: 14750 | AF75: 1010.1 | AG75: 15560 | AH75: 1066.1 | AI75: 16450 | AJ75: 1127.2 | AK75: 17960 | AL75: 1230.5842 | AM75: $68,001 - $69,000 | AN75: 19120 | AO75: 1309.9 | AP75: 20650 | AQ75: 1414.3 | AR75: 21930 | AS75: 1501.9 | AT75: 23980 | AU75: 1642.6 | AV75: 25430 | AW75: 1742 | AX75: 26630 | AY75: 1824.2 | AZ75: 26590 | BA75: 1821.1
A76: $69,001 - $70,000 | B76: 3840 | C76: 267 | D76: 3970 | E76: 276.1 | F76: 4270 | G76: 297.1 | H76: 6170 | I76: 429 | J76: 6210 | K76: 431.4 | L76: 8720 | M76: 606.1 | N76: 9660 | O76: 671.7 | P76: 10590 | Q76: 736.3 | R76: $69,001 - $70,000 | S76: 10710 | T76: 744.6 | U76: 12630 | V76: 878.6 | W76: 13100 | X76: 911 | Y76: 13820 | Z76: 960.8 | AA76: 14470 | AB76: 1006.2 | AC76: 14870 | AD76: 1034.5 | AE76: 17200 | AF76: 1196.3 | AG76: 16670 | AH76: 1159.6 | AI76: 18060 | AJ76: 1256.2 | AK76: 19160 | AL76: 1332.9365 | AM76: $69,001 - $70,000 | AN76: 20990 | AO76: 1460 | AP76: 20960 | AQ76: 1457.7 | AR76: 21700 | AS76: 1508.8 | AT76: 24510 | AU76: 1704.5 | AV76: 26460 | AW76: 1839.5 | AX76: 27480 | AY76: 1910.9 | AZ76: 27340 | BA76: 1900.7
A77: $70,001 - $71,000 | B77: 3300 | C77: 232.8 | D77: 3390 | E77: 239 | F77: 4400 | G77: 310.1 | H77: 5010 | I77: 352.9 | J77: 6000 | K77: 422.7 | L77: 6690 | M77: 471.7 | N77: 7000 | O77: 493.5 | P77: 9830 | Q77: 693 | R77: $70,001 - $71,000 | S77: 11640 | T77: 820.4 | U77: 10640 | V77: 749.6 | W77: 11530 | X77: 812.8 | Y77: 13460 | Z77: 949.2 | AA77: 15450 | AB77: 1089.3 | AC77: 13170 | AD77: 928.3 | AE77: 14480 | AF77: 1021 | AG77: 14820 | AH77: 1044.7 | AI77: 16390 | AJ77: 1154.9 | AK77: 17060 | AL77: 1202.2099 | AM77: $70,001 - $71,000 | AN77: 18510 | AO77: 1305.1 | AP77: 20070 | AQ77: 1414.8 | AR77: 20870 | AS77: 1470.7 | AT77: 24000 | AU77: 1691.7 | AV77: 25110 | AW77: 1770 | AX77: 26660 | AY77: 1878.9 | AZ77: 26590 | BA77: 1873.9 | BC77: $70,001 - $80,000 | BD77: =SUM(S77:S86) -> 88160 | BE77: =SUM(T77:T86) -> 6568.5 | BF77: =SUM(U77:U86) -> 92840 | BG77: =SUM(V77:V86) -> 6927.6 | BH77: =SUM(W77:W86) -> 97080 | BI77: =SUM(X77:X86) -> 7252.9 | BJ77: =SUM(Y77:Y86) -> 106310 | BK77: =SUM(Z77:Z86) -> 7937.7 | ... BW77: =SUM(AL77:AL86) -> 11584.336 | BX77: =SUM(AN77:AN86) -> 167660 | BY77: =SUM(AO77:AO86) -> 12545.8 | BZ77: =SUM(AP77:AP86) -> 175870 | CA77: =SUM(AQ77:AQ86) -> 13147.9 | CB77: =SUM(AR77:AR86) -> 181280 | CC77: =SUM(AS77:AS86) -> 13549.8 | CD77: =SUM(AT77:AT86) -> 204560 | CE77: =SUM(AU77:AU86) -> 15290.3 | ... CK77: =SUM(BA77:BA86) -> 17889.9
A78: $71,001 - $72,000 | B78: 3150 | C78: 225.2 | D78: 3690 | E78: 263.9 | F78: 3920 | G78: 280.5 | H78: 4810 | I78: 343.9 | J78: 5350 | K78: 382.6 | L78: 6800 | M78: 486.4 | N78: 7080 | O78: 506.4 | P78: 9180 | Q78: 656.9 | R78: $71,001 - $72,000 | S78: 10350 | T78: 740.1 | U78: 9410 | V78: 672.6 | W78: 11560 | X78: 826.9 | Y78: 12110 | Z78: 865.6 | AA78: 14430 | AB78: 1031.5 | AC78: 15850 | AD78: 1133.6 | AE78: 13530 | AF78: 967.3 | AG78: 15290 | AH78: 1093.5 | AI78: 15840 | AJ78: 1132.6 | AK78: 17130 | AL78: 1225.1164 | AM78: $71,001 - $72,000 | AN78: 18610 | AO78: 1330.4 | AP78: 19670 | AQ78: 1406.1 | AR78: 20420 | AS78: 1460.3 | AT78: 22710 | AU78: 1623.7 | AV78: 24330 | AW78: 1739.5 | AX78: 24930 | AY78: 1782.8 | AZ78: 25610 | BA78: 1831.1
A79: $72,001 - $73,000 | B79: 2670 | C79: 193.5 | D79: 3610 | E79: 261.5 | F79: 3790 | G79: 274.8 | H79: 4180 | I79: 303 | J79: 5700 | K79: 413.2 | L79: 5770 | M79: 418.3 | N79: 6630 | O79: 480.5 | P79: 7890 | Q79: 571.8 | R79: $72,001 - $73,000 | S79: 9970 | T79: 723 | U79: 11280 | V79: 818 | W79: 9520 | X79: 690.3 | Y79: 11620 | Z79: 842.6 | AA79: 12430 | AB79: 901 | AC79: 14040 | AD79: 1017.6 | AE79: 16920 | AF79: 1226.6 | AG79: 14090 | AH79: 1021.8 | AI79: 14920 | AJ79: 1081.8 | AK79: 16080 | AL79: 1166.0917 | AM79: $72,001 - $73,000 | AN79: 17710 | AO79: 1283.7 | AP79: 18630 | AQ79: 1350.8 | AR79: 19420 | AS79: 1408 | AT79: 22100 | AU79: 1602.2 | AV79: 23510 | AW79: 1704.7 | AX79: 24750 | AY79: 1794.6 | AZ79: 25100 | BA79: 1820
A80: $73,001 - $74,000 | B80: 2480 | C80: 182.4 | D80: 3380 | E80: 248.4 | F80: 3430 | G80: 252 | H80: 4500 | I80: 330.7 | J80: 5630 | K80: 413.8 | L80: 5850 | M80: 429.8 | N80: 6190 | O80: 454.9 | P80: 7420 | Q80: 545.5 | R80: $73,001 - $74,000 | S80: 9760 | T80: 717.5 | U80: 11390 | V80: 836.5 | W80: 10010 | X80: 735.9 | Y80: 10390 | Z80: 763.7 | AA80: 12300 | AB80: 903.8 | AC80: 12790 | AD80: 940.3 | AE80: 15250 | AF80: 1120.8 | AG80: 13310 | AH80: 978 | AI80: 14230 | AJ80: 1046.3 | AK80: 15470 | AL80: 1136.8579 | AM80: $73,001 - $74,000 | AN80: 16560 | AO80: 1217 | AP80: 17990 | AQ80: 1322 | AR80: 18310 | AS80: 1345.5 | AT80: 20720 | AU80: 1522.9 | AV80: 22260 | AW80: 1636.1 | AX80: 23570 | AY80: 1732.5 | AZ80: 24270 | BA80: 1784
A81: $74,001 - $75,000 | B81: 2510 | C81: 187.2 | D81: 3090 | E81: 230.4 | F81: 3370 | G81: 251.3 | H81: 4070 | I81: 303.3 | J81: 4760 | K81: 355 | L81: 5780 | M81: 431 | N81: 5950 | O81: 443.5 | P81: 7920 | Q81: 590 | R81: $74,001 - $75,000 | S81: 9640 | T81: 718.6 | U81: 10050 | V81: 749.2 | W81: 10710 | X81: 798.5 | Y81: 10560 | Z81: 787.4 | AA81: 12670 | AB81: 944 | AC81: 11450 | AD81: 853.4 | AE81: 13890 | AF81: 1035.6 | AG81: 13580 | AH81: 1012.3 | AI81: 15750 | AJ81: 1173.4 | AK81: 15880 | AL81: 1183.3585 | AM81: $74,001 - $75,000 | AN81: 16770 | AO81: 1249.5 | AP81: 17630 | AQ81: 1313.7 | AR81: 18300 | AS81: 1363.5 | AT81: 20490 | AU81: 1526.5 | AV81: 22110 | AW81: 1647.3 | AX81: 23950 | AY81: 1784.5 | AZ81: 24150 | BA81: 1799.2
A82: $75,001 - $76,000 | B82: 1840 | C82: 138.9 | D82: 2290 | E82: 172.8 | F82: 2880 | G82: 217.4 | H82: 4230 | I82: 319.4 | J82: 4560 | K82: 344.2 | L82: 4820 | M82: 364 | N82: 5400 | O82: 407.7 | P82: 6080 | Q82: 459 | R82: $75,001 - $76,000 | S82: 8180 | T82: 617.7 | U82: 9580 | V82: 723.3 | W82: 8920 | X82: 673.4 | Y82: 11500 | Z82: 868.6 | AA82: 11640 | AB82: 878.6 | AC82: 12510 | AD82: 944.9 | AE82: 12810 | AF82: 967.2 | AG82: 13750 | AH82: 1038 | AI82: 15080 | AJ82: 1137.8 | AK82: 15480 | AL82: 1168.5684 | AM82: $75,001 - $76,000 | AN82: 16660 | AO82: 1257.5 | AP82: 17930 | AQ82: 1353.4 | AR82: 18110 | AS82: 1366.9 | AT82: 19940 | AU82: 1505.5 | AV82: 21940 | AW82: 1656.4 | AX82: 23470 | AY82: 1771.3 | AZ82: 24310 | BA82: 1835.3
A83: $76,001 - $77,000 | B83: 2360 | C83: 180.7 | D83: 2510 | E83: 191.9 | F83: 3070 | G83: 234.8 | H83: 3450 | I83: 263.9 | J83: 4690 | K83: 359 | L83: 4840 | M83: 370.2 | N83: 5730 | O83: 438.1 | P83: 6870 | Q83: 525.7 | R83: $76,001 - $77,000 | S83: 7890 | T83: 603.6 | U83: 8310 | V83: 635.9 | W83: 8870 | X83: 678.3 | Y83: 10130 | Z83: 775.1 | AA83: 10080 | AB83: 771 | AC83: 11290 | AD83: 863.9 | AE83: 11620 | AF83: 889.3 | AG83: 13910 | AH83: 1063.7 | AI83: 13460 | AJ83: 1029.6 | AK83: 15440 | AL83: 1181.1863 | AM83: $76,001 - $77,000 | AN83: 15600 | AO83: 1193.4 | AP83: 16530 | AQ83: 1264.8 | AR83: 17300 | AS83: 1323.6 | AT83: 19180 | AU83: 1467.3 | AV83: 20980 | AW83: 1605 | AX83: 22710 | AY83: 1737.3 | AZ83: 22760 | BA83: 1740.8
A84: $77,001 - $78,000 | B84: 2230 | C84: 172.9 | D84: 2980 | E84: 231.1 | F84: 2990 | G84: 231.9 | H84: 3020 | I84: 234 | J84: 4040 | K84: 313.1 | L84: 4860 | M84: 376.6 | N84: 5400 | O84: 418.4 | P84: 5920 | Q84: 459.1 | R84: $77,001 - $78,000 | S84: 7070 | T84: 548 | U84: 7490 | V84: 580.6 | W84: 9690 | X84: 751.1 | Y84: 8090 | Z84: 627.3 | AA84: 9650 | AB84: 747.7 | AC84: 10770 | AD84: 835 | AE84: 12410 | AF84: 961.8 | AG84: 13090 | AH84: 1014.3 | AI84: 13120 | AJ84: 1016.4 | AK84: 14650 | AL84: 1135.5449 | AM84: $77,001 - $78,000 | AN84: 16260 | AO84: 1260.7 | AP84: 16200 | AQ84: 1255.4 | AR84: 16630 | AS84: 1289 | AT84: 18940 | AU84: 1467.5 | AV84: 20940 | AW84: 1622.7 | AX84: 22070 | AY84: 1710.9 | AZ84: 22470 | BA84: 1741.8
A85: $78,001 - $79,000 | B85: 2230 | C85: 175 | D85: 2430 | E85: 190.9 | F85: 3460 | G85: 271.6 | H85: 3110 | I85: 244 | J85: 4340 | K85: 340.7 | L85: 4680 | M85: 367.6 | N85: 5440 | O85: 427 | P85: 4720 | Q85: 370.5 | R85: $78,001 - $79,000 | S85: 6600 | T85: 518.1 | U85: 6670 | V85: 523.6 | W85: 8440 | X85: 662.6 | Y85: 8930 | Z85: 701 | AA85: 9420 | AB85: 739.8 | AC85: 9670 | AD85: 758.9 | AE85: 11400 | AF85: 894.8 | AG85: 11540 | AH85: 906.2 | AI85: 12980 | AJ85: 1018.6 | AK85: 13100 | AL85: 1028.4801 | AM85: $78,001 - $79,000 | AN85: 14960 | AO85: 1174.6 | AP85: 15200 | AQ85: 1193.3 | AR85: 15910 | AS85: 1248.9 | AT85: 17780 | AU85: 1395.9 | AV85: 20080 | AW85: 1576 | AX85: 21280 | AY85: 1670.8 | AZ85: 21710 | BA85: 1704.5
A86: $79,001 - $80,000 | B86: 2800 | C86: 222.8 | D86: 2000 | E86: 159.1 | F86: 2610 | G86: 207.7 | H86: 3000 | I86: 238.6 | J86: 3650 | K86: 290.4 | L86: 4890 | M86: 389.1 | N86: 5560 | O86: 442.4 | P86: 6520 | Q86: 518.6 | R86: $79,001 - $80,000 | S86: 7060 | T86: 561.5 | U86: 8020 | V86: 638.3 | W86: 7830 | X86: 623.1 | Y86: 9520 | Z86: 757.2 | AA86: 10770 | AB86: 856.5 | AC86: 11120 | AD86: 884 | AE86: 11150 | AF86: 886.8 | AG86: 12440 | AH86: 989.7 | AI86: 13470 | AJ86: 1071.4 | AK86: 14540 | AL86: 1156.9223 | AM86: $79,001 - $80,000 | AN86: 16020 | AO86: 1273.9 | AP86: 16020 | AQ86: 1273.6 | AR86: 16010 | AS86: 1273.4 | AT86: 18700 | AU86: 1487.1 | AV86: 20580 | AW86: 1636.4 | AX86: 21550 | AY86: 1713.7 | AZ86: 22120 | BA86: 1759.3
A87: $80,000 - $81,000 | B87: 2410 | C87: 194 | D87: 2120 | E87: 170.5 | F87: 2640 | G87: 212.6 | H87: 2880 | I87: 231.8 | J87: 4000 | K87: 322 | L87: 4750 | M87: 382.2 | N87: 5210 | O87: 419.3 | P87: 5360 | Q87: 431.6 | R87: $80,000 - $81,000 | S87: 5740 | T87: 462 | U87: 6490 | V87: 522.5 | W87: 7800 | X87: 628 | Y87: 8100 | Z87: 652 | AA87: 9200 | AB87: 740.4 | AC87: 10360 | AD87: 834.1 | AE87: 12050 | AF87: 969.8 | AG87: 11580 | AH87: 932.4 | AI87: 11790 | AJ87: 948.7 | AK87: 13300 | AL87: 1070.7103 | AM87: $80,000 - $81,000 | AN87: 14260 | AO87: 1147.8 | AP87: 16400 | AQ87: 1320 | AR87: 16310 | AS87: 1313.1 | AT87: 17300 | AU87: 1392.7 | AV87: 19670 | AW87: 1583.3 | AX87: 20630 | AY87: 1660.4 | AZ87: 21570 | BA87: 1736.2 | BC87: $80,001 - $90,000 | BD87: =SUM(S87:S96) -> 51640 | BE87: =SUM(T87:T96) -> 4372.6 | BF87: =SUM(U87:U96) -> 56430 | BG87: =SUM(V87:V96) -> 4786.9 | BH87: =SUM(W87:W96) -> 60310 | BI87: =SUM(X87:X96) -> 5104.3 | BJ87: =SUM(Y87:Y96) -> 66670 | BK87: =SUM(Z87:Z96) -> 5640.3 | ... BW87: =SUM(AL87:AL96) -> 9383.2463 | BX87: =SUM(AN87:AN96) -> 120340 | BY87: =SUM(AO87:AO96) -> 10193.2 | BZ87: =SUM(AP87:AP96) -> 134400 | CA87: =SUM(AQ87:AQ96) -> 11381.1 | CB87: =SUM(AR87:AR96) -> 140520 | CC87: =SUM(AS87:AS96) -> 11913.6 | CD87: =SUM(AT87:AT96) -> 154530 | CE87: =SUM(AU87:AU96) -> 13112 | ... CK87: =SUM(BA87:BA96) -> 16067.7
A88: $81,001 - $82,000 | B88: 1950 | C88: 159 | D88: 2170 | E88: 176.9 | F88: 2430 | G88: 198.1 | H88: 3030 | I88: 247.1 | J88: 3930 | K88: 320.2 | L88: 3340 | M88: 272.5 | N88: 5450 | O88: 444 | P88: 5240 | Q88: 427.3 | R88: $81,001 - $82,000 | S88: 5900 | T88: 480.8 | U88: 6370 | V88: 519.4 | W88: 6970 | X88: 568.3 | Y88: 8540 | Z88: 696.1 | AA88: 8320 | AB88: 677.8 | AC88: 9330 | AD88: 760.7 | AE88: 9190 | AF88: 749.2 | AG88: 11210 | AH88: 913.7 | AI88: 11200 | AJ88: 913.1 | AK88: 12570 | AL88: 1024.2593 | AM88: $81,001 - $82,000 | AN88: 13880 | AO88: 1131.7 | AP88: 14910 | AQ88: 1215.3 | AR88: 14900 | AS88: 1214.5 | AT88: 16550 | AU88: 1348.9 | AV88: 18660 | AW88: 1521 | AX88: 19950 | AY88: 1625.8 | AZ88: 20750 | BA88: 1691.1
A89: $82,001 - $83,000 | B89: 1630 | C89: 134.5 | D89: 1790 | E89: 147.7 | F89: 2480 | G89: 204.7 | H89: 2690 | I89: 221.9 | J89: 2930 | K89: 241.8 | L89: 3640 | M89: 300.3 | N89: 4050 | O89: 334.1 | P89: 4900 | Q89: 404.2 | R89: $82,001 - $83,000 | S89: 6700 | T89: 552.8 | U89: 6130 | V89: 505.9 | W89: 6560 | X89: 540.9 | Y89: 8200 | Z89: 676.4 | AA89: 8280 | AB89: 683 | AC89: 8090 | AD89: 667.7 | AE89: 9150 | AF89: 755 | AG89: 10290 | AH89: 848.7 | AI89: 10750 | AJ89: 886.9 | AK89: 11640 | AL89: 960.60653 | AM89: $82,001 - $83,000 | AN89: 13070 | AO89: 1078 | AP89: 14300 | AQ89: 1179.6 | AR89: 14100 | AS89: 1162.9 | AT89: 15900 | AU89: 1311.7 | AV89: 18140 | AW89: 1496.6 | AX89: 18830 | AY89: 1553.1 | AZ89: 19700 | BA89: 1625.3
A90: $83,001 - $84,000 | B90: 1920 | C90: 160.4 | D90: 1870 | E90: 156.2 | F90: 2150 | G90: 179.5 | H90: 2540 | I90: 212.1 | J90: 3100 | K90: 258.8 | L90: 3190 | M90: 266.2 | N90: 3860 | O90: 322.3 | P90: 4430 | Q90: 370 | R90: $83,001 - $84,000 | S90: 5560 | T90: 464.1 | U90: 5060 | V90: 422.7 | W90: 5950 | X90: 496.7 | Y90: 6510 | Z90: 543.7 | AA90: 8430 | AB90: 703.9 | AC90: 7200 | AD90: 601.1 | AE90: 8290 | AF90: 692.5 | AG90: 10070 | AH90: 841.2 | AI90: 10440 | AJ90: 872 | AK90: 11620 | AL90: 970.55945 | AM90: $83,001 - $84,000 | AN90: 12650 | AO90: 1056.4 | AP90: 13880 | AQ90: 1158.8 | AR90: 14200 | AS90: 1185.4 | AT90: 15640 | AU90: 1305.6 | AV90: 17820 | AW90: 1487.9 | AX90: 19170 | AY90: 1600.6 | AZ90: 19590 | BA90: 1635.8
A91: $84,001 - $85,000 | B91: 1670 | C91: 141.1 | D91: 2330 | E91: 197 | F91: 2480 | G91: 209.8 | H91: 2760 | I91: 233.3 | J91: 2890 | K91: 244.4 | L91: 2960 | M91: 250.3 | N91: 4450 | O91: 376.1 | P91: 5060 | Q91: 427.8 | R91: $84,001 - $85,000 | S91: 5350 | T91: 452.2 | U91: 6120 | V91: 517.7 | W91: 6190 | X91: 523.5 | Y91: 6970 | Z91: 589.1 | AA91: 7180 | AB91: 606.9 | AC91: 7930 | AD91: 670.3 | AE91: 9730 | AF91: 822.5 | AG91: 9970 | AH91: 843.1 | AI91: 10640 | AJ91: 899.4 | AK91: 11410 | AL91: 964.3308 | AM91: $84,001 - $85,000 | AN91: 12230 | AO91: 1033.9 | AP91: 13970 | AQ91: 1180.2 | AR91: 15760 | AS91: 1332.4 | AT91: 16050 | AU91: 1356.8 | AV91: 17480 | AW91: 1477.1 | AX91: 18530 | AY91: 1565.8 | AZ91: 18840 | BA91: 1592.5
A92: $85,001 - $86,000 | B92: 1800 | C92: 154 | D92: 1950 | E92: 166.7 | F92: 1850 | G92: 158.1 | H92: 2460 | I92: 210.5 | J92: 2590 | K92: 221.5 | L92: 3240 | M92: 276.8 | N92: 3700 | O92: 316.4 | P92: 4090 | Q92: 349.5 | R92: $85,001 - $86,000 | S92: 3880 | T92: 331.9 | U92: 5160 | V92: 441.1 | W92: 5710 | X92: 488.3 | Y92: 5470 | Z92: 467.7 | AA92: 5590 | AB92: 477.9 | AC92: 7180 | AD92: 613.9 | AE92: 9530 | AF92: 815.3 | AG92: 9350 | AH92: 799.4 | AI92: 9480 | AJ92: 810.5 | AK92: 10830 | AL92: 926.14996 | AM92: $85,001 - $86,000 | AN92: 11400 | AO92: 974.4 | AP92: 13410 | AQ92: 1146.2 | AR92: 14190 | AS92: 1213.1 | AT92: 15040 | AU92: 1285.6 | AV92: 17560 | AW92: 1500.6 | AX92: 18480 | AY92: 1579.3 | AZ92: 18970 | BA92: 1621.4
A93: $86,001 - $87,000 | B93: 1390 | C93: 120.2 | D93: 1800 | E93: 155.8 | F93: 2060 | G93: 178.1 | H93: 2550 | I93: 220.7 | J93: 2450 | K93: 211.9 | L93: 3780 | M93: 327.1 | N93: 3590 | O93: 310.6 | P93: 3980 | Q93: 344.3 | R93: $86,001 - $87,000 | S93: 4680 | T93: 404.8 | U93: 5850 | V93: 506.1 | W93: 5570 | X93: 481.9 | Y93: 5140 | Z93: 444.7 | AA93: 5950 | AB93: 514.6 | AC93: 6760 | AD93: 584.8 | AE93: 7700 | AF93: 665.8 | AG93: 8830 | AH93: 764.2 | AI93: 9310 | AJ93: 805.5 | AK93: 10380 | AL93: 898.06319 | AM93: $86,001 - $87,000 | AN93: 11350 | AO93: 982.2 | AP93: 12370 | AQ93: 1069.5 | AR93: 13330 | AS93: 1153.3 | AT93: 14420 | AU93: 1247.1 | AV93: 16460 | AW93: 1423.5 | AX93: 17330 | AY93: 1499.4 | AZ93: 17870 | BA93: 1545.4
A94: $87,001 - $88,000 | B94: 1460 | C94: 127.7 | D94: 1940 | E94: 169.7 | F94: 1590 | G94: 139.2 | H94: 1970 | I94: 172.5 | J94: 2150 | K94: 188 | L94: 3100 | M94: 271.3 | N94: 3570 | O94: 312.6 | P94: 4460 | Q94: 390.4 | R94: $87,001 - $88,000 | S94: 4960 | T94: 434 | U94: 4710 | V94: 412.3 | W94: 5620 | X94: 491.8 | Y94: 6110 | Z94: 534.8 | AA94: 5820 | AB94: 509.5 | AC94: 6410 | AD94: 560.9 | AE94: 7640 | AF94: 668.5 | AG94: 8000 | AH94: 700.1 | AI94: 8490 | AJ94: 743.1 | AK94: 9710 | AL94: 849.28411 | AM94: $87,001 - $88,000 | AN94: 10830 | AO94: 947.8 | AP94: 11940 | AQ94: 1044.7 | AR94: 12380 | AS94: 1082.9 | AT94: 13740 | AU94: 1202.6 | AV94: 15650 | AW94: 1369 | AX94: 17010 | AY94: 1487.9 | AZ94: 17920 | BA94: 1568.3
A95: $88,001 - $89,000 | B95: 1120 | C95: 99.2 | D95: 1430 | E95: 126.6 | F95: 1670 | G95: 147.8 | H95: 1910 | I95: 169 | J95: 1920 | K95: 169.9 | L95: 2730 | M95: 241.7 | N95: 3250 | O95: 287.8 | P95: 3440 | Q95: 304.5 | R95: $88,001 - $89,000 | S95: 4180 | T95: 369.8 | U95: 4640 | V95: 410.7 | W95: 5170 | X95: 457.5 | Y95: 5870 | Z95: 519.9 | AA95: 5970 | AB95: 528.3 | AC95: 6710 | AD95: 594 | AE95: 6290 | AF95: 556.4 | AG95: 7880 | AH95: 697.6 | AI95: 8700 | AJ95: 769.9 | AK95: 9210 | AL95: 814.61081 | AM95: $88,001 - $89,000 | AN95: 9960 | AO95: 881.7 | AP95: 11500 | AQ95: 1018 | AR95: 12970 | AS95: 1147.6 | AT95: 15300 | AU95: 1354.7 | AV95: 15250 | AW95: 1349.8 | AX95: 16380 | AY95: 1449.4 | AZ95: 16980 | BA95: 1502.7
A96: $89,001 - $90,000 | B96: 1100 | C96: 98.5 | D96: 1710 | E96: 153.2 | F96: 1760 | G96: 157.6 | H96: 1940 | I96: 173.8 | J96: 2610 | K96: 233.9 | L96: 2560 | M96: 229.2 | N96: 3450 | O96: 308.9 | P96: 4210 | Q96: 377 | R96: $89,001 - $90,000 | S96: 4690 | T96: 420.2 | U96: 5900 | V96: 528.5 | W96: 4770 | X96: 427.4 | Y96: 5760 | Z96: 515.9 | AA96: 5450 | AB96: 487.9 | AC96: 5880 | AD96: 526.7 | AE96: 7440 | AF96: 666.2 | AG96: 8330 | AH96: 745.9 | AI96: 8890 | AJ96: 795.8 | AK96: 10100 | AL96: 904.67188 | AM96: $89,001 - $90,000 | AN96: 10710 | AO96: 959.3 | AP96: 11720 | AQ96: 1048.8 | AR96: 12380 | AS96: 1108.4 | AT96: 14590 | AU96: 1306.3 | AV96: 17720 | AW96: 1586.8 | AX96: 16540 | AY96: 1480.4 | AZ96: 17300 | BA96: 1549
A97: $90,001 - $91,000 | B97: 1160 | C97: 104.9 | D97: 1490 | E97: 134.9 | F97: 1340 | G97: 121.2 | H97: 1810 | I97: 163.9 | J97: 1980 | K97: 179.1 | L97: 2770 | M97: 250.6 | N97: 3040 | O97: 275.1 | P97: 3020 | Q97: 273.3 | R97: $90,001 - $91,000 | S97: 4070 | T97: 368.2 | U97: 3960 | V97: 358.5 | W97: 4240 | X97: 383.5 | Y97: 4590 | Z97: 415.3 | AA97: 5120 | AB97: 463.3 | AC97: 5250 | AD97: 475 | AE97: 6410 | AF97: 580 | AG97: 7630 | AH97: 690.7 | AI97: 7610 | AJ97: 689 | AK97: 8470 | AL97: 766.36356 | AM97: $90,001 - $91,000 | AN97: 9780 | AO97: 885 | AP97: 11160 | AQ97: 1009.3 | AR97: 11540 | AS97: 1043.7 | AT97: 13650 | AU97: 1234.8 | AV97: 16000 | AW97: 1447.8 | AX97: 16070 | AY97: 1453.7 | AZ97: 16950 | BA97: 1533.8 | BC97: $90,001 - $100,000 | BD97: =SUM(S97:S106) -> 32960 | BE97: =SUM(T97:T106) -> 3114.9 | BF97: =SUM(U97:U106) -> 35200 | BG97: =SUM(V97:V106) -> 3341.9 | BH97: =SUM(W97:W106) -> 38740 | BI97: =SUM(X97:X106) -> 3674.8 | BJ97: =SUM(Y97:Y106) -> 42210 | BK97: =SUM(Z97:Z106) -> 3997.4 | ... BW97: =SUM(AL97:AL106) -> 6810.0532 | BX97: =SUM(AN97:AN106) -> 81000 | BY97: =SUM(AO97:AO106) -> 7670.8 | BZ97: =SUM(AP97:AP106) -> 92310 | CA97: =SUM(AQ97:AQ106) -> 8739.1 | CB97: =SUM(AR97:AR106) -> 99590 | CC97: =SUM(AS97:AS106) -> 9434.3 | CD97: =SUM(AT97:AT106) -> 117190 | CE97: =SUM(AU97:AU106) -> 11100.5 | ... CK97: =SUM(BA97:BA106) -> 14259.1
A98: $91,001 - $92,000 | B98: 1180 | C98: 108.1 | D98: 1380 | E98: 126.2 | F98: 1400 | G98: 128.1 | H98: 2080 | I98: 190.3 | J98: 2530 | K98: 231.6 | L98: 2430 | M98: 222.4 | N98: 2940 | O98: 269.1 | P98: 2770 | Q98: 253.5 | R98: $91,001 - $92,000 | S98: 4020 | T98: 367.7 | U98: 4080 | V98: 373.3 | W98: 4350 | X98: 398.3 | Y98: 4970 | Z98: 454.9 | AA98: 5280 | AB98: 483.1 | AC98: 5690 | AD98: 520.8 | AE98: 6110 | AF98: 559.1 | AG98: 7070 | AH98: 646.9 | AI98: 7150 | AJ98: 654.2 | AK98: 8310 | AL98: 760.66869 | AM98: $91,001 - $92,000 | AN98: 9300 | AO98: 850.7 | AP98: 10580 | AQ98: 968.2 | AR98: 11210 | AS98: 1025.6 | AT98: 12800 | AU98: 1171.1 | AV98: 15040 | AW98: 1375.9 | AX98: 15150 | AY98: 1386.1 | AZ98: 15860 | BA98: 1450.8
A99: $92,001 - $93,000 | B99: 1010 | C99: 93.5 | D99: 1470 | E99: 136 | F99: 1530 | G99: 141.6 | H99: 1640 | I99: 151.8 | J99: 1830 | K99: 169.4 | L99: 2730 | M99: 252.5 | N99: 3020 | O99: 279.3 | P99: 3440 | Q99: 318.2 | R99: $92,001 - $93,000 | S99: 4240 | T99: 392.3 | U99: 3350 | V99: 309.8 | W99: 4140 | X99: 383 | Y99: 4520 | Z99: 417.8 | AA99: 3960 | AB99: 366.1 | AC99: 5520 | AD99: 510.7 | AE99: 5720 | AF99: 528.9 | AG99: 6490 | AH99: 600 | AI99: 6900 | AJ99: 638.5 | AK99: 7630 | AL99: 705.46826 | AM99: $92,001 - $93,000 | AN99: 8610 | AO99: 796.2 | AP99: 9970 | AQ99: 921.9 | AR99: 10710 | AS99: 990.4 | AT99: 12820 | AU99: 1186 | AV99: 14170 | AW99: 1310.7 | AX99: 14910 | AY99: 1378.8 | AZ99: 15350 | BA99: 1419.9
A100: $93,001 - $94,000 | B100: 840 | C100: 78.5 | D100: 1220 | E100: 114.2 | F100: 1700 | G100: 158.9 | H100: 1740 | I100: 162.6 | J100: 1920 | K100: 179.5 | L100: 2050 | M100: 191.6 | N100: 2390 | O100: 223.4 | P100: 3230 | Q100: 302 | R100: $93,001 - $94,000 | S100: 3440 | T100: 321.7 | U100: 3250 | V100: 303.8 | W100: 4170 | X100: 389.9 | Y100: 4750 | Z100: 444 | AA100: 4400 | AB100: 411.5 | AC100: 4850 | AD100: 453.4 | AE100: 5290 | AF100: 494.4 | AG100: 6380 | AH100: 596.8 | AI100: 6640 | AJ100: 620.8 | AK100: 7490 | AL100: 699.88656 | AM100: $93,001 - $94,000 | AN100: 8420 | AO100: 787.3 | AP100: 9540 | AQ100: 891.6 | AR100: 10340 | AS100: 967.1 | AT100: 12800 | AU100: 1197.2 | AV100: 14630 | AW100: 1368.2 | AX100: 14740 | AY100: 1377.9 | AZ100: 15490 | BA100: 1448.1
A101: $94,001 - $95,000 | B101: 1000 | C101: 94.4 | D101: 1230 | E101: 116.3 | F101: 1620 | G101: 153 | H101: 1530 | I101: 144.6 | J101: 1910 | K101: 180.5 | L101: 2360 | M101: 223 | N101: 3330 | O101: 314.7 | P101: 2700 | Q101: 255.4 | R101: $94,001 - $95,000 | S101: 3560 | T101: 336.7 | U101: 3500 | V101: 330.8 | W101: 3750 | X101: 354.3 | Y101: 4290 | Z101: 405.5 | AA101: 5050 | AB101: 477.3 | AC101: 4940 | AD101: 467 | AE101: 5290 | AF101: 500 | AG101: 6320 | AH101: 597.5 | AI101: 6440 | AJ101: 608.8 | AK101: 7360 | AL101: 695.93316 | AM101: $94,001 - $95,000 | AN101: 8190 | AO101: 773.8 | AP101: 9510 | AQ101: 898.7 | AR101: 9970 | AS101: 941.9 | AT101: 11730 | AU101: 1108.5 | AV101: 13930 | AW101: 1316.6 | AX101: 14280 | AY101: 1349.6 | AZ101: 15380 | BA101: 1453.4
A102: $95,001 - $96,000 | B102: 980 | C102: 93.6 | D102: 1080 | E102: 103.1 | F102: 940 | G102: 89.7 | H102: 1670 | I102: 159.4 | J102: 2220 | K102: 211.9 | L102: 1640 | M102: 156.5 | N102: 2810 | O102: 268.2 | P102: 3060 | Q102: 292.1 | R102: $95,001 - $96,000 | S102: 3250 | T102: 310.3 | U102: 3480 | V102: 332.5 | W102: 3520 | X102: 336.2 | Y102: 4240 | Z102: 404.8 | AA102: 5920 | AB102: 565.7 | AC102: 4810 | AD102: 459.7 | AE102: 4680 | AF102: 447.2 | AG102: 5950 | AH102: 568.4 | AI102: 6200 | AJ102: 592.2 | AK102: 6830 | AL102: 652.08078 | AM102: $95,001 - $96,000 | AN102: 7910 | AO102: 755.5 | AP102: 8830 | AQ102: 842.9 | AR102: 9640 | AS102: 920.8 | AT102: 11550 | AU102: 1102.7 | AV102: 13240 | AW102: 1264.7 | AX102: 14310 | AY102: 1366.1 | AZ102: 15340 | BA102: 1464.8
...

Sheet Graph data
B1: Number of individuals | H1: Total wage/salary income ($m) | O1: Number of salary and wage earners
A2: Band | B2: 2005 | C2: 2015 | D2: 2022 | E2: 2023 | F2: 2024 | G2: 2025 | H2: 2005 | I2: 2015 | J2: 2022 | K2: 2023 | L2: 2024 | M2: 2025
A3: 0 | O3: 2001 | P3: 1961.03
A4: 1000 | H4: ='Tables - wage and salary'!K7 -> 61.6 | I4: ='Tables - wage and salary'!AF7 -> 49.5 | J4: ='Tables - wage and salary'!AU7 -> 33.6 | K4: ='Tables - wage and salary'!AW7 -> 35.8 | L4: ='Tables - wage and salary'!AY7 -> 34.9 | M4: ='Tables - wage and salary'!BA7 -> 34.7 | O4: 2002 | P4: 2010.03
A5: 2000 | H5: ='Tables - wage and salary'!K8 -> 130.2 | I5: ='Tables - wage and salary'!AF8 -> 97.3 | J5: ='Tables - wage and salary'!AU8 -> 71.8 | K5: ='Tables - wage and salary'!AW8 -> 75.5 | L5: ='Tables - wage and salary'!AY8 -> 74.3 | M5: ='Tables - wage and salary'!BA8 -> 71.2 | O5: 2003 | P5: 2071.49
A6: 3000 | H6: ='Tables - wage and salary'!K9 -> 183.6 | I6: ='Tables - wage and salary'!AF9 -> 140.5 | J6: ='Tables - wage and salary'!AU9 -> 98 | K6: ='Tables - wage and salary'!AW9 -> 104.6 | L6: ='Tables - wage and salary'!AY9 -> 101 | M6: ='Tables - wage and salary'!BA9 -> 96 | O6: 2004 | P6: 2129.2
A7: 4000 | H7: ='Tables - wage and salary'!K10 -> 226.8 | I7: ='Tables - wage and salary'!AF10 -> 175.7 | J7: ='Tables - wage and salary'!AU10 -> 121.6 | K7: ='Tables - wage and salary'!AW10 -> 129.2 | L7: ='Tables - wage and salary'!AY10 -> 126.5 | M7: ='Tables - wage and salary'!BA10 -> 119.2 | O7: 2005 | P7: 2205.82
A8: 5000 | H8: ='Tables - wage and salary'!K11 -> 259.4 | I8: ='Tables - wage and salary'!AF11 -> 197.3 | J8: ='Tables - wage and salary'!AU11 -> 145.7 | K8: ='Tables - wage and salary'!AW11 -> 157.1 | L8: ='Tables - wage and salary'!AY11 -> 149.8 | M8: ='Tables - wage and salary'!BA11 -> 142.1 | O8: 2006 | P8: 2275.66
A9: 6000 | H9: ='Tables - wage and salary'!K12 -> 276.1 | I9: ='Tables - wage and salary'!AF12 -> 233.3 | J9: ='Tables - wage and salary'!AU12 -> 170.7 | K9: ='Tables - wage and salary'!AW12 -> 183.1 | L9: ='Tables - wage and salary'!AY12 -> 177 | M9: ='Tables - wage and salary'!BA12 -> 165.2 | O9: 2007 | P9: 2328.93
A10: 7000 | H10: ='Tables - wage and salary'!K13 -> 300.8 | I10: ='Tables - wage and salary'!AF13 -> 256.6 | J10: ='Tables - wage and salary'!AU13 -> 187.6 | K10: ='Tables - wage and salary'!AW13 -> 203.2 | L10: ='Tables - wage and salary'!AY13 -> 193.4 | M10: ='Tables - wage and salary'!BA13 -> 185.7 | O10: 2008 | P10: 2379.77
A11: 8000 | H11: ='Tables - wage and salary'!K14 -> 333.3 | I11: ='Tables - wage and salary'!AF14 -> 283.2 | J11: ='Tables - wage and salary'!AU14 -> 208.3 | K11: ='Tables - wage and salary'!AW14 -> 224.2 | L11: ='Tables - wage and salary'!AY14 -> 222.3 | M11: ='Tables - wage and salary'!BA14 -> 207.5 | O11: 2009 | P11: 2377.01
A12: 9000 | H12: ='Tables - wage and salary'!K15 -> 329.9 | I12: ='Tables - wage and salary'!AF15 -> 284 | J12: ='Tables - wage and salary'!AU15 -> 230 | K12: ='Tables - wage and salary'!AW15 -> 247.9 | L12: ='Tables - wage and salary'!AY15 -> 241.5 | M12: ='Tables - wage and salary'!BA15 -> 224.8 | O12: 2010 | P12: 2315.21
A13: 10000 | H13: ='Tables - wage and salary'!K16 -> 354.1 | I13: ='Tables - wage and salary'!AF16 -> 302.6 | J13: ='Tables - wage and salary'!AU16 -> 252.7 | K13: ='Tables - wage and salary'!AW16 -> 266.2 | L13: ='Tables - wage and salary'!AY16 -> 265 | M13: ='Tables - wage and salary'!BA16 -> 245.8 | O13: 2011 | P13: 2304.17
A14: 11000 | B14: ='Tables - wage and salary'!J17 -> 34490 | C14: ='Tables - wage and salary'!AE17 -> 31270 | D14: ='Tables - wage and salary'!AT17 -> 25810 | E14: ='Tables - wage and salary'!AV17 -> 27150 | F14: ='Tables - wage and salary'!AX17 -> 26890 | G14: ='Tables - wage and salary'!AZ17 -> 24800 | H14: ='Tables - wage and salary'!K17 -> 362.5 | I14: ='Tables - wage and salary'!AF17 -> 328 | J14: ='Tables - wage and salary'!AU17 -> 271 | K14: ='Tables - wage and salary'!AW17 -> 285 | L14: ='Tables - wage and salary'!AY17 -> 282.3 | M14: ='Tables - wage and salary'!BA17 -> 260.3 | O14: 2012 | P14: 2326.45
A15: 12000 | B15: ='Tables - wage and salary'!J18 -> 33720 | C15: ='Tables - wage and salary'!AE18 -> 30330 | D15: ='Tables - wage and salary'!AT18 -> 25080 | E15: ='Tables - wage and salary'!AV18 -> 26930 | F15: ='Tables - wage and salary'!AX18 -> 26550 | G15: ='Tables - wage and salary'!AZ18 -> 24630 | H15: ='Tables - wage and salary'!K18 -> 388 | I15: ='Tables - wage and salary'!AF18 -> 349.2 | J15: ='Tables - wage and salary'!AU18 -> 288.6 | K15: ='Tables - wage and salary'!AW18 -> 309.7 | L15: ='Tables - wage and salary'!AY18 -> 305.6 | M15: ='Tables - wage and salary'!BA18 -> 283.4 | O15: 2013 | P15: 2339.27
A16: 13000 | B16: ='Tables - wage and salary'!J19 -> 30960 | C16: ='Tables - wage and salary'!AE19 -> 29330 | D16: ='Tables - wage and salary'!AT19 -> 24300 | E16: ='Tables - wage and salary'!AV19 -> 26040 | F16: ='Tables - wage and salary'!AX19 -> 25690 | G16: ='Tables - wage and salary'!AZ19 -> 24130 | H16: ='Tables - wage and salary'!K19 -> 387.8 | I16: ='Tables - wage and salary'!AF19 -> 366.9 | J16: ='Tables - wage and salary'!AU19 -> 303.8 | K16: ='Tables - wage and salary'!AW19 -> 325.5 | L16: ='Tables - wage and salary'!AY19 -> 321.4 | M16: ='Tables - wage and salary'!BA19 -> 301.6 | O16: 2014 | P16: 2385.47
A17: 14000 | B17: ='Tables - wage and salary'!J20 -> 32500 | C17: ='Tables - wage and salary'!AE20 -> 29950 | D17: ='Tables - wage and salary'!AT20 -> 23440 | E17: ='Tables - wage and salary'!AV20 -> 25240 | F17: ='Tables - wage and salary'!AX20 -> 24660 | G17: ='Tables - wage and salary'!AZ20 -> 23240 | H17: ='Tables - wage and salary'!K20 -> 438.7 | I17: ='Tables - wage and salary'!AF20 -> 404 | J17: ='Tables - wage and salary'!AU20 -> 316.5 | K17: ='Tables - wage and salary'!AW20 -> 340.7 | L17: ='Tables - wage and salary'!AY20 -> 332.9 | M17: ='Tables - wage and salary'!BA20 -> 313.7 | O17: 2015 | P17: 2448.43
A18: 15000 | B18: ='Tables - wage and salary'!J21 -> 30430 | C18: ='Tables - wage and salary'!AE21 -> 28050 | D18: ='Tables - wage and salary'!AT21 -> 22950 | E18: ='Tables - wage and salary'!AV21 -> 24700 | F18: ='Tables - wage and salary'!AX21 -> 24350 | G18: ='Tables - wage and salary'!AZ21 -> 22970 | H18: ='Tables - wage and salary'!K21 -> 440.9 | I18: ='Tables - wage and salary'!AF21 -> 407.2 | J18: ='Tables - wage and salary'!AU21 -> 332.9 | K18: ='Tables - wage and salary'!AW21 -> 358.3 | L18: ='Tables - wage and salary'!AY21 -> 353.1 | M18: ='Tables - wage and salary'!BA21 -> 333 | O18: 2016 | P18: 2471.377
A19: 16000 | B19: ='Tables - wage and salary'!J22 -> 29370 | C19: ='Tables - wage and salary'!AE22 -> 27260 | D19: ='Tables - wage and salary'!AT22 -> 22910 | E19: ='Tables - wage and salary'!AV22 -> 23880 | F19: ='Tables - wage and salary'!AX22 -> 23720 | G19: ='Tables - wage and salary'!AZ22 -> 22170 | H19: ='Tables - wage and salary'!K22 -> 455.5 | I19: ='Tables - wage and salary'!AF22 -> 422.4 | J19: ='Tables - wage and salary'!AU22 -> 355.3 | K19: ='Tables - wage and salary'!AW22 -> 370.1 | L19: ='Tables - wage and salary'!AY22 -> 367.7 | M19: ='Tables - wage and salary'!BA22 -> 343.6 | O19: 2017 | P19: 2544.996 | Q19: =P19/P18-1 -> 0.029788656
A20: 17000 | B20: ='Tables - wage and salary'!J23 -> 30160 | C20: ='Tables - wage and salary'!AE23 -> 27950 | D20: ='Tables - wage and salary'!AT23 -> 22420 | E20: ='Tables - wage and salary'!AV23 -> 24070 | F20: ='Tables - wage and salary'!AX23 -> 23050 | G20: ='Tables - wage and salary'!AZ23 -> 21360 | H20: ='Tables - wage and salary'!K23 -> 497.4 | I20: ='Tables - wage and salary'!AF23 -> 461.4 | J20: ='Tables - wage and salary'!AU23 -> 369.6 | K20: ='Tables - wage and salary'!AW23 -> 397.2 | L20: ='Tables - wage and salary'!AY23 -> 380.3 | M20: ='Tables - wage and salary'!BA23 -> 352.4 | O20: 2018 | P20: 2630.498 | Q20: =P20/P19-1 -> 0.033596124
A21: 18000 | B21: ='Tables - wage and salary'!J24 -> 29220 | C21: ='Tables - wage and salary'!AE24 -> 24940 | D21: ='Tables - wage and salary'!AT24 -> 21680 | E21: ='Tables - wage and salary'!AV24 -> 23620 | F21: ='Tables - wage and salary'!AX24 -> 23130 | G21: ='Tables - wage and salary'!AZ24 -> 21180 | H21: ='Tables - wage and salary'!K24 -> 511.3 | I21: ='Tables - wage and salary'!AF24 -> 436.3 | J21: ='Tables - wage and salary'!AU24 -> 379.5 | K21: ='Tables - wage and salary'!AW24 -> 413.2 | L21: ='Tables - wage and salary'!AY24 -> 405 | M21: ='Tables - wage and salary'!BA24 -> 370.7 | O21: 2019 | P21: 2689.032 | Q21: =P21/P20-1 -> 0.02225206
A22: 19000 | B22: ='Tables - wage and salary'!J25 -> 28560 | C22: ='Tables - wage and salary'!AE25 -> 24250 | D22: ='Tables - wage and salary'!AT25 -> 21050 | E22: ='Tables - wage and salary'!AV25 -> 22250 | F22: ='Tables - wage and salary'!AX25 -> 22810 | G22: ='Tables - wage and salary'!AZ25 -> 20960 | H22: ='Tables - wage and salary'!K25 -> 528 | I22: ='Tables - wage and salary'!AF25 -> 448.1 | J22: ='Tables - wage and salary'!AU25 -> 389.3 | K22: ='Tables - wage and salary'!AW25 -> 411.5 | L22: ='Tables - wage and salary'!AY25 -> 421.8 | M22: ='Tables - wage and salary'!BA25 -> 387.8 | O22: 2020 | P22: 2727.51 | Q22: =P22/P21-1 -> 0.014309238
A23: 20000 | B23: ='Tables - wage and salary'!J26 -> 30490 | C23: ='Tables - wage and salary'!AE26 -> 23870 | D23: ='Tables - wage and salary'!AT26 -> 20810 | E23: ='Tables - wage and salary'!AV26 -> 22180 | F23: ='Tables - wage and salary'!AX26 -> 22410 | G23: ='Tables - wage and salary'!AZ26 -> 21490 | H23: ='Tables - wage and salary'!K26 -> 594.4 | I23: ='Tables - wage and salary'!AF26 -> 465.6 | J23: ='Tables - wage and salary'!AU26 -> 405.8 | K23: ='Tables - wage and salary'!AW26 -> 432.6 | L23: ='Tables - wage and salary'!AY26 -> 437.1 | M23: ='Tables - wage and salary'!BA26 -> 419.1 | O23: 2021 | P23: ='Tables - wage and salary'!AR242/1000 -> 2665.34 | Q23: =P23/P22-1 -> -0.022793684
A24: 21000 | B24: ='Tables - wage and salary'!J27 -> 31710 | C24: ='Tables - wage and salary'!AE27 -> 24090 | D24: ='Tables - wage and salary'!AT27 -> 20630 | E24: ='Tables - wage and salary'!AV27 -> 21710 | F24: ='Tables - wage and salary'!AX27 -> 21680 | G24: ='Tables - wage and salary'!AZ27 -> 20250 | H24: ='Tables - wage and salary'!K27 -> 650.2 | I24: ='Tables - wage and salary'!AF27 -> 494.5 | J24: ='Tables - wage and salary'!AU27 -> 423.1 | K24: ='Tables - wage and salary'!AW27 -> 445.1 | L24: ='Tables - wage and salary'!AY27 -> 444.3 | M24: ='Tables - wage and salary'!BA27 -> 415.1 | O24: 2022 | P24: ='Tables - wage and salary'!AT242/1000 -> 2709.74 | Q24: =P24/P23-1 -> 0.016658287
A25: 22000 | B25: ='Tables - wage and salary'!J28 -> 29140 | C25: ='Tables - wage and salary'!AE28 -> 25220 | D25: ='Tables - wage and salary'!AT28 -> 19880 | E25: ='Tables - wage and salary'!AV28 -> 21410 | F25: ='Tables - wage and salary'!AX28 -> 21290 | G25: ='Tables - wage and salary'!AZ28 -> 19350 | H25: ='Tables - wage and salary'!K28 -> 626.4 | I25: ='Tables - wage and salary'!AF28 -> 542.3 | J25: ='Tables - wage and salary'!AU28 -> 427.5 | K25: ='Tables - wage and salary'!AW28 -> 460.4 | L25: ='Tables - wage and salary'!AY28 -> 457.6 | M25: ='Tables - wage and salary'!BA28 -> 416.1 | O25: 2023 | P25: ='Tables - wage and salary'!AV242/1000 -> 2832.84 | Q25: =P25/P24-1 -> 0.045428713
A26: 23000 | B26: ='Tables - wage and salary'!J29 -> 29710 | C26: ='Tables - wage and salary'!AE29 -> 22920 | D26: ='Tables - wage and salary'!AT29 -> 19530 | E26: ='Tables - wage and salary'!AV29 -> 20990 | F26: ='Tables - wage and salary'!AX29 -> 20870 | G26: ='Tables - wage and salary'!AZ29 -> 18950 | H26: ='Tables - wage and salary'!K29 -> 668.5 | I26: ='Tables - wage and salary'!AF29 -> 515.8 | J26: ='Tables - wage and salary'!AU29 -> 439.4 | K26: ='Tables - wage and salary'!AW29 -> 472.1 | L26: ='Tables - wage and salary'!AY29 -> 469.6 | M26: ='Tables - wage and salary'!BA29 -> 426.2 | O26: 2024 | P26: ='Tables - wage and salary'!AX242/1000 -> 2911.36 | Q26: =P26/P25-1 -> 0.027717767
A27: 24000 | B27: ='Tables - wage and salary'!J30 -> 32680 | C27: ='Tables - wage and salary'!AE30 -> 24870 | D27: ='Tables - wage and salary'!AT30 -> 19710 | E27: ='Tables - wage and salary'!AV30 -> 20660 | F27: ='Tables - wage and salary'!AX30 -> 21350 | G27: ='Tables - wage and salary'!AZ30 -> 19340 | H27: ='Tables - wage and salary'!K30 -> 767.6 | I27: ='Tables - wage and salary'!AF30 -> 584.8 | J27: ='Tables - wage and salary'!AU30 -> 463.3 | K27: ='Tables - wage and salary'!AW30 -> 485.6 | L27: ='Tables - wage and salary'!AY30 -> 501.8 | M27: ='Tables - wage and salary'!BA30 -> 454.6 | O27: 2025 | P27: ='Tables - wage and salary'!AZ242/1000 -> 2865.23 | Q27: =P27/P26-1 -> -0.015844829
A28: 25000 | B28: ='Tables - wage and salary'!J31 -> 30500 | C28: ='Tables - wage and salary'!AE31 -> 25730 | D28: ='Tables - wage and salary'!AT31 -> 19850 | E28: ='Tables - wage and salary'!AV31 -> 20380 | F28: ='Tables - wage and salary'!AX31 -> 20750 | G28: ='Tables - wage and salary'!AZ31 -> 19220 | H28: ='Tables - wage and salary'!K31 -> 747 | I28: ='Tables - wage and salary'!AF31 -> 630.7 | J28: ='Tables - wage and salary'!AU31 -> 486.6 | K28: ='Tables - wage and salary'!AW31 -> 499.5 | L28: ='Tables - wage and salary'!AY31 -> 508.5 | M28: ='Tables - wage and salary'!BA31 -> 471
A29: 26000 | B29: ='Tables - wage and salary'!J32 -> 31970 | C29: ='Tables - wage and salary'!AE32 -> 25510 | D29: ='Tables - wage and salary'!AT32 -> 19610 | E29: ='Tables - wage and salary'!AV32 -> 20420 | F29: ='Tables - wage and salary'!AX32 -> 20670 | G29: ='Tables - wage and salary'!AZ32 -> 18900 | H29: ='Tables - wage and salary'!K32 -> 815.9 | I29: ='Tables - wage and salary'!AF32 -> 650.4 | J29: ='Tables - wage and salary'!AU32 -> 500.3 | K29: ='Tables - wage and salary'!AW32 -> 520.7 | L29: ='Tables - wage and salary'!AY32 -> 527.1 | M29: ='Tables - wage and salary'!BA32 -> 482.1
A30: 27000 | B30: ='Tables - wage and salary'!J33 -> 30260 | C30: ='Tables - wage and salary'!AE33 -> 24570 | D30: ='Tables - wage and salary'!AT33 -> 19440 | E30: ='Tables - wage and salary'!AV33 -> 19910 | F30: ='Tables - wage and salary'!AX33 -> 20530 | G30: ='Tables - wage and salary'!AZ33 -> 18390 | H30: ='Tables - wage and salary'!K33 -> 801.8 | I30: ='Tables - wage and salary'!AF33 -> 650.9 | J30: ='Tables - wage and salary'!AU33 -> 515 | K30: ='Tables - wage and salary'!AW33 -> 527.6 | L30: ='Tables - wage and salary'!AY33 -> 544 | M30: ='Tables - wage and salary'!BA33 -> 487.4
A31: 28000 | B31: ='Tables - wage and salary'!J34 -> 31820 | C31: ='Tables - wage and salary'!AE34 -> 23260 | D31: ='Tables - wage and salary'!AT34 -> 19510 | E31: ='Tables - wage and salary'!AV34 -> 19930 | F31: ='Tables - wage and salary'!AX34 -> 20130 | G31: ='Tables - wage and salary'!AZ34 -> 18000 | H31: ='Tables - wage and salary'!K34 -> 874.8 | I31: ='Tables - wage and salary'!AF34 -> 639.6 | J31: ='Tables - wage and salary'!AU34 -> 536.5 | K31: ='Tables - wage and salary'!AW34 -> 548 | L31: ='Tables - wage and salary'!AY34 -> 553.5 | M31: ='Tables - wage and salary'!BA34 -> 494.9
A32: 29000 | B32: ='Tables - wage and salary'!J35 -> 33090 | C32: ='Tables - wage and salary'!AE35 -> 24290 | D32: ='Tables - wage and salary'!AT35 -> 19520 | E32: ='Tables - wage and salary'!AV35 -> 19790 | F32: ='Tables - wage and salary'!AX35 -> 19960 | G32: ='Tables - wage and salary'!AZ35 -> 18330 | H32: ='Tables - wage and salary'!K35 -> 943 | I32: ='Tables - wage and salary'!AF35 -> 691.8 | J32: ='Tables - wage and salary'!AU35 -> 556.4 | K32: ='Tables - wage and salary'!AW35 -> 563.9 | L32: ='Tables - wage and salary'!AY35 -> 568.8 | M32: ='Tables - wage and salary'!BA35 -> 522.3
A33: 30000 | B33: ='Tables - wage and salary'!J36 -> 33750 | C33: ='Tables - wage and salary'!AE36 -> 25720 | D33: ='Tables - wage and salary'!AT36 -> 20330 | E33: ='Tables - wage and salary'!AV36 -> 20040 | F33: ='Tables - wage and salary'!AX36 -> 20510 | G33: ='Tables - wage and salary'!AZ36 -> 18810 | H33: ='Tables - wage and salary'!K36 -> 995.9 | I33: ='Tables - wage and salary'!AF36 -> 758.9 | J33: ='Tables - wage and salary'!AU36 -> 600 | K33: ='Tables - wage and salary'!AW36 -> 591.6 | L33: ='Tables - wage and salary'!AY36 -> 605.3 | M33: ='Tables - wage and salary'!BA36 -> 555.2
A34: 31000 | B34: ='Tables - wage and salary'!J37 -> 34330 | C34: ='Tables - wage and salary'!AE37 -> 26680 | D34: ='Tables - wage and salary'!AT37 -> 20150 | E34: ='Tables - wage and salary'!AV37 -> 19750 | F34: ='Tables - wage and salary'!AX37 -> 19970 | G34: ='Tables - wage and salary'!AZ37 -> 18270 | H34: ='Tables - wage and salary'!K37 -> 1046.2 | I34: ='Tables - wage and salary'!AF37 -> 813.7 | J34: ='Tables - wage and salary'!AU37 -> 614.5 | K34: ='Tables - wage and salary'!AW37 -> 602.3 | L34: ='Tables - wage and salary'!AY37 -> 608.9 | M34: ='Tables - wage and salary'!BA37 -> 557.2
A35: 32000 | B35: ='Tables - wage and salary'!J38 -> 32670 | C35: ='Tables - wage and salary'!AE38 -> 24690 | D35: ='Tables - wage and salary'!AT38 -> 20820 | E35: ='Tables - wage and salary'!AV38 -> 19730 | F35: ='Tables - wage and salary'!AX38 -> 19950 | G35: ='Tables - wage and salary'!AZ38 -> 18430 | H35: ='Tables - wage and salary'!K38 -> 1029.3 | I35: ='Tables - wage and salary'!AF38 -> 777.4 | J35: ='Tables - wage and salary'!AU38 -> 655.8 | K35: ='Tables - wage and salary'!AW38 -> 621.4 | L35: ='Tables - wage and salary'!AY38 -> 628.4 | M35: ='Tables - wage and salary'!BA38 -> 580.3
A36: 33000 | B36: ='Tables - wage and salary'!J39 -> 34290 | C36: ='Tables - wage and salary'!AE39 -> 26460 | D36: ='Tables - wage and salary'!AT39 -> 20710 | E36: ='Tables - wage and salary'!AV39 -> 19600 | F36: ='Tables - wage and salary'!AX39 -> 20210 | G36: ='Tables - wage and salary'!AZ39 -> 18410 | H36: ='Tables - wage and salary'!K39 -> 1114.2 | I36: ='Tables - wage and salary'!AF39 -> 860.2 | J36: ='Tables - wage and salary'!AU39 -> 673.1 | K36: ='Tables - wage and salary'!AW39 -> 637 | L36: ='Tables - wage and salary'!AY39 -> 656.7 | M36: ='Tables - wage and salary'!BA39 -> 598.2
A37: 34000 | B37: ='Tables - wage and salary'!J40 -> 31280 | C37: ='Tables - wage and salary'!AE40 -> 27910 | D37: ='Tables - wage and salary'!AT40 -> 20470 | E37: ='Tables - wage and salary'!AV40 -> 19800 | F37: ='Tables - wage and salary'!AX40 -> 20270 | G37: ='Tables - wage and salary'!AZ40 -> 18520 | H37: ='Tables - wage and salary'!K40 -> 1047.5 | I37: ='Tables - wage and salary'!AF40 -> 934.9 | J37: ='Tables - wage and salary'!AU40 -> 685.9 | K37: ='Tables - wage and salary'!AW40 -> 663.4 | L37: ='Tables - wage and salary'!AY40 -> 678.9 | M37: ='Tables - wage and salary'!BA40 -> 620.4
A38: 35000 | B38: ='Tables - wage and salary'!J41 -> 32730 | C38: ='Tables - wage and salary'!AE41 -> 27390 | D38: ='Tables - wage and salary'!AT41 -> 20860 | E38: ='Tables - wage and salary'!AV41 -> 19810 | F38: ='Tables - wage and salary'!AX41 -> 19890 | G38: ='Tables - wage and salary'!AZ41 -> 18330 | H38: ='Tables - wage and salary'!K41 -> 1129.5 | I38: ='Tables - wage and salary'!AF41 -> 945 | J38: ='Tables - wage and salary'!AU41 -> 719.9 | K38: ='Tables - wage and salary'!AW41 -> 683.5 | L38: ='Tables - wage and salary'!AY41 -> 686.2 | M38: ='Tables - wage and salary'!BA41 -> 632.5
A39: 36000 | B39: ='Tables - wage and salary'!J42 -> 33040 | C39: ='Tables - wage and salary'!AE42 -> 29880 | D39: ='Tables - wage and salary'!AT42 -> 21450 | E39: ='Tables - wage and salary'!AV42 -> 20370 | F39: ='Tables - wage and salary'!AX42 -> 20660 | G39: ='Tables - wage and salary'!AZ42 -> 18700 | H39: ='Tables - wage and salary'!K42 -> 1173.5 | I39: ='Tables - wage and salary'!AF42 -> 1060.7 | J39: ='Tables - wage and salary'!AU42 -> 761.5 | K39: ='Tables - wage and salary'!AW42 -> 723.4 | L39: ='Tables - wage and salary'!AY42 -> 733.6 | M39: ='Tables - wage and salary'!BA42 -> 664.1
... A153: 150000 | B153: ='Tables - wage and salary'!J156 -> 260 | C153: ='Tables - wage and salary'!AE156 -> 1700 | D153: ='Tables - wage and salary'!AT156 -> 2730 | E153: ='Tables - wage and salary'!AV156 -> 3430 | F153: ='Tables - wage and salary'!AX156 -> 4330 | G153: ='Tables - wage and salary'!AZ156 -> 4400 | H153: ='Tables - wage and salary'!K156 -> 38.9 | I153: ='Tables - wage and salary'!AF156 -> 254.3 | J153: ='Tables - wage and salary'!AU156 -> 408.7 | K153: ='Tables - wage and salary'!AW156 -> 513.7 | L153: ='Tables - wage and salary'!AY156 -> 647.5 | M153: ='Tables - wage and salary'!BA156 -> 658.5
A154: =A153+1000 -> 151000 | C154: ='Tables - wage and salary'!AE157 -> 1220 | D154: ='Tables - wage and salary'!AT157 -> 2640 | E154: ='Tables - wage and salary'!AV157 -> 3190 | F154: ='Tables - wage and salary'!AX157 -> 4020 | G154: ='Tables - wage and salary'!AZ157 -> 4310 | I154: ='Tables - wage and salary'!AF157 -> 183.6 | J154: ='Tables - wage and salary'!AU157 -> 397 | K154: ='Tables - wage and salary'!AW157 -> 480.5 | L154: ='Tables - wage and salary'!AY157 -> 605.3 | M154: ='Tables - wage and salary'!BA157 -> 648
A155: =A154+1000 -> 152000 | C155: ='Tables - wage and salary'!AE158 -> 930 | D155: ='Tables - wage and salary'!AT158 -> 2190 | E155: ='Tables - wage and salary'!AV158 -> 2650 | F155: ='Tables - wage and salary'!AX158 -> 3320 | G155: ='Tables - wage and salary'!AZ158 -> 3680 | I155: ='Tables - wage and salary'!AF158 -> 141 | J155: ='Tables - wage and salary'!AU158 -> 332.4 | K155: ='Tables - wage and salary'!AW158 -> 400.9 | L155: ='Tables - wage and salary'!AY158 -> 503.2 | M155: ='Tables - wage and salary'!BA158 -> 556.8
A156: =A155+1000 -> 153000 | C156: ='Tables - wage and salary'!AE159 -> 930 | D156: ='Tables - wage and salary'!AT159 -> 2110 | E156: ='Tables - wage and salary'!AV159 -> 2640 | F156: ='Tables - wage and salary'!AX159 -> 3360 | G156: ='Tables - wage and salary'!AZ159 -> 3610 | I156: ='Tables - wage and salary'!AF159 -> 141.9 | J156: ='Tables - wage and salary'!AU159 -> 321 | K156: ='Tables - wage and salary'!AW159 -> 401.9 | L156: ='Tables - wage and salary'!AY159 -> 512.4 | M156: ='Tables - wage and salary'!BA159 -> 551.2
A157: =A156+1000 -> 154000 | C157: ='Tables - wage and salary'!AE160 -> 910 | D157: ='Tables - wage and salary'!AT160 -> 2090 | E157: ='Tables - wage and salary'!AV160 -> 2460 | F157: ='Tables - wage and salary'!AX160 -> 3110 | G157: ='Tables - wage and salary'!AZ160 -> 3230 | I157: ='Tables - wage and salary'!AF160 -> 139.7 | J157: ='Tables - wage and salary'!AU160 -> 320.2 | K157: ='Tables - wage and salary'!AW160 -> 377.3 | L157: ='Tables - wage and salary'!AY160 -> 478 | M157: ='Tables - wage and salary'!BA160 -> 495.5
A158: =A157+1000 -> 155000 | C158: ='Tables - wage and salary'!AE161 -> 1340 | D158: ='Tables - wage and salary'!AT161 -> 2020 | E158: ='Tables - wage and salary'!AV161 -> 2560 | F158: ='Tables - wage and salary'!AX161 -> 3230 | G158: ='Tables - wage and salary'!AZ161 -> 3360 | I158: ='Tables - wage and salary'!AF161 -> 207 | J158: ='Tables - wage and salary'!AU161 -> 312.4 | K158: ='Tables - wage and salary'!AW161 -> 396.2 | L158: ='Tables - wage and salary'!AY161 -> 498.5 | M158: ='Tables - wage and salary'!BA161 -> 518.5
A159: =A158+1000 -> 156000 | C159: ='Tables - wage and salary'!AE162 -> 1070 | D159: ='Tables - wage and salary'!AT162 -> 2040 | E159: ='Tables - wage and salary'!AV162 -> 2610 | F159: ='Tables - wage and salary'!AX162 -> 3350 | G159: ='Tables - wage and salary'!AZ162 -> 3410 | I159: ='Tables - wage and salary'!AF162 -> 166.4 | J159: ='Tables - wage and salary'!AU162 -> 317.5 | K159: ='Tables - wage and salary'!AW162 -> 406.5 | L159: ='Tables - wage and salary'!AY162 -> 520.1 | M159: ='Tables - wage and salary'!BA162 -> 530.9
A160: =A159+1000 -> 157000 | C160: ='Tables - wage and salary'!AE163 -> 770 | D160: ='Tables - wage and salary'!AT163 -> 1880 | E160: ='Tables - wage and salary'!AV163 -> 2290 | F160: ='Tables - wage and salary'!AX163 -> 2980 | G160: ='Tables - wage and salary'!AZ163 -> 3020 | I160: ='Tables - wage and salary'!AF163 -> 120.5 | J160: ='Tables - wage and salary'!AU163 -> 294.5 | K160: ='Tables - wage and salary'!AW163 -> 358.7 | L160: ='Tables - wage and salary'!AY163 -> 465.9 | M160: ='Tables - wage and salary'!BA163 -> 472.5
A161: =A160+1000 -> 158000 | C161: ='Tables - wage and salary'!AE164 -> 840 | D161: ='Tables - wage and salary'!AT164 -> 1880 | E161: ='Tables - wage and salary'!AV164 -> 2230 | F161: ='Tables - wage and salary'!AX164 -> 2920 | G161: ='Tables - wage and salary'!AZ164 -> 3140 | I161: ='Tables - wage and salary'!AF164 -> 132.3 | J161: ='Tables - wage and salary'!AU164 -> 295.3 | K161: ='Tables - wage and salary'!AW164 -> 350.9 | L161: ='Tables - wage and salary'!AY164 -> 460.5 | M161: ='Tables - wage and salary'!BA164 -> 494.4
A162: =A161+1000 -> 159000 | C162: ='Tables - wage and salary'!AE165 -> 830 | D162: ='Tables - wage and salary'!AT165 -> 1800 | E162: ='Tables - wage and salary'!AV165 -> 2240 | F162: ='Tables - wage and salary'!AX165 -> 2820 | G162: ='Tables - wage and salary'!AZ165 -> 2970 | I162: ='Tables - wage and salary'!AF165 -> 131.6 | J162: ='Tables - wage and salary'!AU165 -> 285.1 | K162: ='Tables - wage and salary'!AW165 -> 355.5 | L162: ='Tables - wage and salary'!AY165 -> 447.6 | M162: ='Tables - wage and salary'!BA165 -> 470.3
A163: =A162+1000 -> 160000 | C163: ='Tables - wage and salary'!AE166 -> 830 | D163: ='Tables - wage and salary'!AT166 -> 1940 | E163: ='Tables - wage and salary'!AV166 -> 2460 | F163: ='Tables - wage and salary'!AX166 -> 2980 | G163: ='Tables - wage and salary'!AZ166 -> 3180 | I163: ='Tables - wage and salary'!AF166 -> 132.5 | J163: ='Tables - wage and salary'!AU166 -> 309.1 | K163: ='Tables - wage and salary'!AW166 -> 392.2 | L163: ='Tables - wage and salary'!AY166 -> 474.8 | M163: ='Tables - wage and salary'!BA166 -> 507
A164: =A163+1000 -> 161000 | C164: ='Tables - wage and salary'!AE167 -> 810 | D164: ='Tables - wage and salary'!AT167 -> 1850 | E164: ='Tables - wage and salary'!AV167 -> 2300 | F164: ='Tables - wage and salary'!AX167 -> 3000 | G164: ='Tables - wage and salary'!AZ167 -> 3150 | I164: ='Tables - wage and salary'!AF167 -> 130.1 | J164: ='Tables - wage and salary'!AU167 -> 296.4 | K164: ='Tables - wage and salary'!AW167 -> 368.9 | L164: ='Tables - wage and salary'!AY167 -> 481.4 | M164: ='Tables - wage and salary'!BA167 -> 505
A165: =A164+1000 -> 162000 | C165: ='Tables - wage and salary'!AE168 -> 820 | D165: ='Tables - wage and salary'!AT168 -> 1620 | E165: ='Tables - wage and salary'!AV168 -> 2040 | F165: ='Tables - wage and salary'!AX168 -> 2770 | G165: ='Tables - wage and salary'!AZ168 -> 2750 | I165: ='Tables - wage and salary'!AF168 -> 132.4 | J165: ='Tables - wage and salary'!AU168 -> 260.8 | K165: ='Tables - wage and salary'!AW168 -> 329.9 | L165: ='Tables - wage and salary'!AY168 -> 446.7 | M165: ='Tables - wage and salary'!BA168 -> 443.6
... A203: =A202+1000 -> 200000 | C203: ='Tables - wage and salary'!AE206 -> 450 | D203: ='Tables - wage and salary'!AT206 -> 900 | E203: ='Tables - wage and salary'!AV206 -> 1080 | F203: ='Tables - wage and salary'!AX206 -> 1340 | G203: ='Tables - wage and salary'!AZ206 -> 1390 | I203: ='Tables - wage and salary'!AF206 -> 89.9 | J203: ='Tables - wage and salary'!AU206 -> 179 | K203: ='Tables - wage and salary'!AW206 -> 215.7 | L203: ='Tables - wage and salary'!AY206 -> 266.7 | M203: ='Tables - wage and salary'!BA206 -> 277.4
B204: =SUM(B14:B34)/SUM(B14:B153) -> 0.42627554 | G204: =SUM(G14:G66)/SUM(G14:G203) -> 0.47638247
