Workbook

Sheet Sheet1
A1: ethnicityVarType | B1: ethnicityVars | C1: ethnicityVars_label | D1: i_wklfs_code | E1: i_wklfs_code_label | F1: Count | G1: Percentage | H1: MEC group
A2: ethnic_group_MEC_lvl1 | B2: 1 EC | C2: Ethnic Communities (total) | D2: 1 | E2: Employed Full-time | F2: 503190 | G2: =IFERROR(ROUND(F2/VLOOKUP(B2,$B$1096:$F$1317,5,0),4),F2) -> 0.5679 | H2: =VLOOKUP(B2,Ref!$B$2:$D$219,3,0) -> Ethnic Communities
A3: ethnic_group_MEC_lvl1 | B3: 1 EC | C3: Ethnic Communities (total) | D3: 2 | E3: Employed Part-time | F3: 106710 | G3: =IFERROR(ROUND(F3/VLOOKUP(B3,$B$1096:$F$1317,5,0),4),F3) -> 0.1204 | H3: =VLOOKUP(B3,Ref!$B$2:$D$219,3,0) -> Ethnic Communities
A4: ethnic_group_MEC_lvl1 | B4: 1 EC | C4: Ethnic Communities (total) | D4: 3 | E4: Unemployed | F4: 25932 | G4: =IFERROR(ROUND(F4/VLOOKUP(B4,$B$1096:$F$1317,5,0),4),F4) -> 0.0293 | H4: =VLOOKUP(B4,Ref!$B$2:$D$219,3,0) -> Ethnic Communities
A5: ethnic_group_MEC_lvl1 | B5: 1 EC | C5: Ethnic Communities (total) | D5: 4 | E5: Not in the Labour Force | F5: 250149 | G5: =IFERROR(ROUND(F5/VLOOKUP(B5,$B$1096:$F$1317,5,0),4),F5) -> 0.2823 | H5: =VLOOKUP(B5,Ref!$B$2:$D$219,3,0) -> Ethnic Communities
A6: ethnic_group_MEC_lvl1 | B6: 1 EC | C6: Ethnic Communities (total) | D6: Total | E6: Total | F6: 885981 | G6: =IFERROR(ROUND(F6/VLOOKUP(B6,$B$1096:$F$1317,5,0),4),F6) -> 1 | H6: =VLOOKUP(B6,Ref!$B$2:$D$219,3,0) -> Ethnic Communities
A7: ethnic_group_MEC_lvl1 | B7: 2 NE | C7: Non Ethnic Communities (total) | D7: 1 | E7: Employed Full-time | F7: 1616082 | G7: =IFERROR(ROUND(F7/VLOOKUP(B7,$B$1096:$F$1317,5,0),4),F7) -> 0.4966 | H7: =VLOOKUP(B7,Ref!$B$2:$D$219,3,0) -> Non Ethnic Communities
A8: ethnic_group_MEC_lvl1 | B8: 2 NE | C8: Non Ethnic Communities (total) | D8: 2 | E8: Employed Part-time | F8: 453657 | G8: =IFERROR(ROUND(F8/VLOOKUP(B8,$B$1096:$F$1317,5,0),4),F8) -> 0.1394 | H8: =VLOOKUP(B8,Ref!$B$2:$D$219,3,0) -> Non Ethnic Communities
A9: ethnic_group_MEC_lvl1 | B9: 2 NE | C9: Non Ethnic Communities (total) | D9: 3 | E9: Unemployed | F9: 97842 | G9: =IFERROR(ROUND(F9/VLOOKUP(B9,$B$1096:$F$1317,5,0),4),F9) -> 0.0301 | H9: =VLOOKUP(B9,Ref!$B$2:$D$219,3,0) -> Non Ethnic Communities
A10: ethnic_group_MEC_lvl1 | B10: 2 NE | C10: Non Ethnic Communities (total) | D10: 4 | E10: Not in the Labour Force | F10: 1087017 | G10: =IFERROR(ROUND(F10/VLOOKUP(B10,$B$1096:$F$1317,5,0),4),F10) -> 0.334 | H10: =VLOOKUP(B10,Ref!$B$2:$D$219,3,0) -> Non Ethnic Communities
A11: ethnic_group_MEC_lvl1 | B11: 2 NE | C11: Non Ethnic Communities (total) | D11: Total | E11: Total | F11: 3254598 | G11: =IFERROR(ROUND(F11/VLOOKUP(B11,$B$1096:$F$1317,5,0),4),F11) -> 1 | H11: =VLOOKUP(B11,Ref!$B$2:$D$219,3,0) -> Non Ethnic Communities
A12: ethnic_group_MEC_lvl2 | B12: 1 CE | C12: Continental European | D12: 1 | E12: Employed Full-time | F12: 46713 | G12: =IFERROR(ROUND(F12/VLOOKUP(B12,$B$1096:$F$1317,5,0),4),F12) -> 0.5336 | H12: =VLOOKUP(B12,Ref!$B$2:$D$219,3,0) -> Continental European
A13: ethnic_group_MEC_lvl2 | B13: 1 CE | C13: Continental European | D13: 2 | E13: Employed Part-time | F13: 13104 | G13: =IFERROR(ROUND(F13/VLOOKUP(B13,$B$1096:$F$1317,5,0),4),F13) -> 0.1497 | H13: =VLOOKUP(B13,Ref!$B$2:$D$219,3,0) -> Continental European
... A1091: ethnic_group_MEC_lvl4 | B1091: Total | C1091: Total | D1091: Total | E1091: Total | F1091: 4057623 | G1091: =IFERROR(ROUND(F1091/VLOOKUP(B1091,$B$1096:$F$1317,5,0),4),F1091) -> 1 | H1091: =VLOOKUP(B1091,Ref!$B$2:$D$219,3,0) -> Total
A1096: ethnicityVarType | B1096: ethnicityVars | C1096: ethnicityVars_label | D1096: i_wklfs_code | E1096: i_wklfs_code_label | F1096: Count
A1097: ethnic_group_MEC_lvl1 | B1097: 1 EC | C1097: Ethnic Communities (total) | D1097: Total | E1097: Total | F1097: 885981
A1098: ethnic_group_MEC_lvl1 | B1098: 2 NE | C1098: Non Ethnic Communities (total) | D1098: Total | E1098: Total | F1098: 3254598
A1099: ethnic_group_MEC_lvl1 | B1099: Total | C1099: Total | D1099: Total | E1099: Total | F1099: 4057623
A1100: ethnic_group_MEC_lvl2 | B1100: 1 CE | C1100: Continental European | D1100: Total | E1100: Total | F1100: 87537
A1101: ethnic_group_MEC_lvl2 | B1101: 2 AS | C1101: Asian | D1101: Total | E1101: Total | F1101: 683280
A1102: ethnic_group_MEC_lvl2 | B1102: 3 ME | C1102: MELAA+ | D1102: Total | E1102: Total | F1102: 121815
A1103: ethnic_group_MEC_lvl2 | B1103: 4 OE | C1103: Other European | D1103: Total | E1103: Total | F1103: 2680557
A1104: ethnic_group_MEC_lvl2 | B1104: 5 MM | C1104: Māori | D1104: Total | E1104: Total | F1104: 625074
A1105: ethnic_group_MEC_lvl2 | B1105: 6 PP | C1105: Pacific Peoples | D1105: Total | E1105: Total | F1105: 306555
A1106: ethnic_group_MEC_lvl2 | B1106: 7 EO | C1106: Other ethnicities | D1106: Total | E1106: Total | F1106: 39018
A1107: ethnic_group_MEC_lvl2 | B1107: Total | C1107: Total | D1107: Total | E1107: Total | F1107: 4057623
... A1317: ethnic_group_MEC_lvl4 | B1317: Total | C1317: Total | D1317: Total | E1317: Total | F1317: 4057623

Sheet Ref
B1: ethnicityVars | C1: ethnicityVars_label | D1: MEC
B2: 1 CE | C2: Continental European | D2: Continental European
B3: 1 EC | C3: Ethnic Communities (total) | D3: Ethnic Communities
B4: 100 | C4: European nfd | D4: Other European
B5: 10000 | C5: European nfd | D5: Other European
B6: 111 | C6: New Zealand European | D6: Other European
B7: 11111 | C7: New Zealand European | D7: Other European
B8: 121 | C8: British and Irish | D8: Other European
B9: 12100 | C9: British nfd | D9: Other European
B10: 12111 | C10: Celtic nfd | D10: Other European
B11: 12112 | C11: Channel Islander | D11: Other European
B12: 12113 | C12: Cornish | D12: Other European
... B219: Total | C219: Total | D219: Total
