Workbook

Sheet RC
A1: LOOKUP | B1: geographyVars | C1: geographyVars_label | D1: occupationVars | E1: occupationVars_label | F1: i_sex_at_birth_code | G1: i_sex_at_birth_code_label | H1: Count | I1: Rate per 1000 employed
A2: =C2&F2 -> Northland Region11 | B2: 1 | C2: Northland Region | D2: 1111 | E2: Chief Executives and Managing Directors | F2: 11 | G2: Male/Tāne | H2: 1113 | I2: =ROUND(IFERROR(H2/VLOOKUP(A2,Totals!$A$2:$H$55,8,0)*1000,0),1) -> 24.6
A3: =C3&F3 -> Northland Region22 | B3: 1 | C3: Northland Region | D3: 1111 | E3: Chief Executives and Managing Directors | F3: 22 | G3: Female/Wahine | H3: 582 | I3: =ROUND(IFERROR(H3/VLOOKUP(A3,Totals!$A$2:$H$55,8,0)*1000,0),1) -> 13.1
A4: =C4&F4 -> Northland RegionTotal | B4: 1 | C4: Northland Region | D4: 1111 | E4: Chief Executives and Managing Directors | F4: Total | G4: Total | H4: 1692 | I4: =ROUND(IFERROR(H4/VLOOKUP(A4,Totals!$A$2:$H$55,8,0)*1000,0),1) -> 18.9
A5: =C5&F5 -> Northland Region11 | B5: 1 | C5: Northland Region | D5: 1112 | E5: General Managers | F5: 11 | G5: Male/Tāne | H5: 468 | I5: =ROUND(IFERROR(H5/VLOOKUP(A5,Totals!$A$2:$H$55,8,0)*1000,0),1) -> 10.3
A6: =C6&F6 -> Northland Region22 | B6: 1 | C6: Northland Region | D6: 1112 | E6: General Managers | F6: 22 | G6: Female/Wahine | H6: 297 | I6: =ROUND(IFERROR(H6/VLOOKUP(A6,Totals!$A$2:$H$55,8,0)*1000,0),1) -> 6.7
A7: =C7&F7 -> Northland RegionTotal | B7: 1 | C7: Northland Region | D7: 1112 | E7: General Managers | F7: Total | G7: Total | H7: 765 | I7: =ROUND(IFERROR(H7/VLOOKUP(A7,Totals!$A$2:$H$55,8,0)*1000,0),1) -> 8.5
A8: =C8&F8 -> Northland Region11 | B8: 1 | C8: Northland Region | D8: 1113 | E8: Legislators | F8: 11 | G8: Male/Tāne | H8: 33 | I8: =ROUND(IFERROR(H8/VLOOKUP(A8,Totals!$A$2:$H$55,8,0)*1000,0),1) -> 0.7
A9: =C9&F9 -> Northland Region22 | B9: 1 | C9: Northland Region | D9: 1113 | E9: Legislators | F9: 22 | G9: Female/Wahine | H9: 30 | I9: =ROUND(IFERROR(H9/VLOOKUP(A9,Totals!$A$2:$H$55,8,0)*1000,0),1) -> 0.7
A10: =C10&F10 -> Northland RegionTotal | B10: 1 | C10: Northland Region | D10: 1113 | E10: Legislators | F10: Total | G10: Total | H10: 63 | I10: =ROUND(IFERROR(H10/VLOOKUP(A10,Totals!$A$2:$H$55,8,0)*1000,0),1) -> 0.7
A11: =C11&F11 -> Northland Region11 | B11: 1 | C11: Northland Region | D11: 1211 | E11: Aquaculture Farmers | F11: 11 | G11: Male/Tāne | H11: 72 | I11: =ROUND(IFERROR(H11/VLOOKUP(A11,Totals!$A$2:$H$55,8,0)*1000,0),1) -> 1.6
A12: =C12&F12 -> Northland Region22 | B12: 1 | C12: Northland Region | D12: 1211 | E12: Aquaculture Farmers | F12: 22 | G12: Female/Wahine | H12: 12 | I12: =ROUND(IFERROR(H12/VLOOKUP(A12,Totals!$A$2:$H$55,8,0)*1000,0),1) -> 0.3
A13: =C13&F13 -> Northland RegionTotal | B13: 1 | C13: Northland Region | D13: 1211 | E13: Aquaculture Farmers | F13: Total | G13: Total | H13: 84 | I13: =ROUND(IFERROR(H13/VLOOKUP(A13,Totals!$A$2:$H$55,8,0)*1000,0),1) -> 0.9
... A1075: =C1075&F1075 -> Northland RegionTotal | B1075: 1 | C1075: Northland Region | D1075: 8999 | E1075: Other Miscellaneous Labourers | F1075: Total | G1075: Total | H1075: 1551 | I1075: =ROUND(IFERROR(H1075/VLOOKUP(A1075,Totals!$A$2:$H$55,8,0)*1000,0),1) -> 17.3
A1076: =C1076&F1076 -> Northland Region11 | B1076: 1 | C1076: Northland Region | E1076: Total stated | F1076: 11 | G1076: Male/Tāne | H1076: 45228 | I1076: =ROUND(IFERROR(H1076/VLOOKUP(A1076,Totals!$A$2:$H$55,8,0)*1000,0),1) -> 1000
A1077: =C1077&F1077 -> Northland Region22 | B1077: 1 | C1077: Northland Region | E1077: Total stated | F1077: 22 | G1077: Female/Wahine | H1077: 44292 | I1077: =ROUND(IFERROR(H1077/VLOOKUP(A1077,Totals!$A$2:$H$55,8,0)*1000,0),1) -> 1000
A1078: =C1078&F1078 -> Northland RegionTotal | B1078: 1 | C1078: Northland Region | E1078: Total stated | F1078: Total | G1078: Total | H1078: 89520 | I1078: =ROUND(IFERROR(H1078/VLOOKUP(A1078,Totals!$A$2:$H$55,8,0)*1000,0),1) -> 1000
A1079: =C1079&F1079 -> Northland Region11 | B1079: 1 | C1079: Northland Region | E1079: Total | F1079: 11 | G1079: Male/Tāne | H1079: 45228 | I1079: =ROUND(IFERROR(H1079/VLOOKUP(A1079,Totals!$A$2:$H$55,8,0)*1000,0),1) -> 1000
A1080: =C1080&F1080 -> Northland Region22 | B1080: 1 | C1080: Northland Region | E1080: Total | F1080: 22 | G1080: Female/Wahine | H1080: 44292 | I1080: =ROUND(IFERROR(H1080/VLOOKUP(A1080,Totals!$A$2:$H$55,8,0)*1000,0),1) -> 1000
A1081: =C1081&F1081 -> Northland RegionTotal | B1081: 1 | C1081: Northland Region | E1081: Total | F1081: Total | G1081: Total | H1081: 89520 | I1081: =ROUND(IFERROR(H1081/VLOOKUP(A1081,Totals!$A$2:$H$55,8,0)*1000,0),1) -> 1000
A1082: =C1082&F1082 -> Auckland Region11 | B1082: 2 | C1082: Auckland Region | D1082: 1111 | E1082: Chief Executives and Managing Directors | F1082: 11 | G1082: Male/Tāne | H1082: 14820 | I1082: =ROUND(IFERROR(H1082/VLOOKUP(A1082,Totals!$A$2:$H$55,8,0)*1000,0),1) -> 32.5
A1083: =C1083&F1083 -> Auckland Region22 | B1083: 2 | C1083: Auckland Region | D1083: 1111 | E1083: Chief Executives and Managing Directors | F1083: 22 | G1083: Female/Wahine | H1083: 6099 | I1083: =ROUND(IFERROR(H1083/VLOOKUP(A1083,Totals!$A$2:$H$55,8,0)*1000,0),1) -> 14.6
A1084: =C1084&F1084 -> Auckland RegionTotal | B1084: 2 | C1084: Auckland Region | D1084: 1111 | E1084: Chief Executives and Managing Directors | F1084: Total | G1084: Total | H1084: 20916 | I1084: =ROUND(IFERROR(H1084/VLOOKUP(A1084,Totals!$A$2:$H$55,8,0)*1000,0),1) -> 23.9
A1085: =C1085&F1085 -> Auckland Region11 | B1085: 2 | C1085: Auckland Region | D1085: 1112 | E1085: General Managers | F1085: 11 | G1085: Male/Tāne | H1085: 6897 | I1085: =ROUND(IFERROR(H1085/VLOOKUP(A1085,Totals!$A$2:$H$55,8,0)*1000,0),1) -> 15.1
A1086: =C1086&F1086 -> Auckland Region22 | B1086: 2 | C1086: Auckland Region | D1086: 1112 | E1086: General Managers | F1086: 22 | G1086: Female/Wahine | H1086: 3555 | I1086: =ROUND(IFERROR(H1086/VLOOKUP(A1086,Totals!$A$2:$H$55,8,0)*1000,0),1) -> 8.5
A1087: =C1087&F1087 -> Auckland RegionTotal | B1087: 2 | C1087: Auckland Region | D1087: 1112 | E1087: General Managers | F1087: Total | G1087: Total | H1087: 10452 | I1087: =ROUND(IFERROR(H1087/VLOOKUP(A1087,Totals!$A$2:$H$55,8,0)*1000,0),1) -> 12
A1088: =C1088&F1088 -> Auckland Region11 | B1088: 2 | C1088: Auckland Region | D1088: 1113 | E1088: Legislators | F1088: 11 | G1088: Male/Tāne | H1088: 156 | I1088: =ROUND(IFERROR(H1088/VLOOKUP(A1088,Totals!$A$2:$H$55,8,0)*1000,0),1) -> 0.3
A1089: =C1089&F1089 -> Auckland Region22 | B1089: 2 | C1089: Auckland Region | D1089: 1113 | E1089: Legislators | F1089: 22 | G1089: Female/Wahine | H1089: 123 | I1089: =ROUND(IFERROR(H1089/VLOOKUP(A1089,Totals!$A$2:$H$55,8,0)*1000,0),1) -> 0.3
A1090: =C1090&F1090 -> Auckland RegionTotal | B1090: 2 | C1090: Auckland Region | D1090: 1113 | E1090: Legislators | F1090: Total | G1090: Total | H1090: 282 | I1090: =ROUND(IFERROR(H1090/VLOOKUP(A1090,Totals!$A$2:$H$55,8,0)*1000,0),1) -> 0.3
A1091: =C1091&F1091 -> Auckland Region11 | B1091: 2 | C1091: Auckland Region | D1091: 1211 | E1091: Aquaculture Farmers | F1091: 11 | G1091: Male/Tāne | H1091: 84 | I1091: =ROUND(IFERROR(H1091/VLOOKUP(A1091,Totals!$A$2:$H$55,8,0)*1000,0),1) -> 0.2
A1092: =C1092&F1092 -> Auckland Region22 | B1092: 2 | C1092: Auckland Region | D1092: 1211 | E1092: Aquaculture Farmers | F1092: 22 | G1092: Female/Wahine | H1092: 27 | I1092: =ROUND(IFERROR(H1092/VLOOKUP(A1092,Totals!$A$2:$H$55,8,0)*1000,0),1) -> 0.1
A1093: =C1093&F1093 -> Auckland RegionTotal | B1093: 2 | C1093: Auckland Region | D1093: 1211 | E1093: Aquaculture Farmers | F1093: Total | G1093: Total | H1093: 108 | I1093: =ROUND(IFERROR(H1093/VLOOKUP(A1093,Totals!$A$2:$H$55,8,0)*1000,0),1) -> 0.1
... A2155: =C2155&F2155 -> Auckland RegionTotal | B2155: 2 | C2155: Auckland Region | D2155: 8999 | E2155: Other Miscellaneous Labourers | F2155: Total | G2155: Total | H2155: 11544 | I2155: =ROUND(IFERROR(H2155/VLOOKUP(A2155,Totals!$A$2:$H$55,8,0)*1000,0),1) -> 13.2
A2156: =C2156&F2156 -> Auckland Region11 | B2156: 2 | C2156: Auckland Region | E2156: Total stated | F2156: 11 | G2156: Male/Tāne | H2156: 456357 | I2156: =ROUND(IFERROR(H2156/VLOOKUP(A2156,Totals!$A$2:$H$55,8,0)*1000,0),1) -> 1000
A2157: =C2157&F2157 -> Auckland Region22 | B2157: 2 | C2157: Auckland Region | E2157: Total stated | F2157: 22 | G2157: Female/Wahine | H2157: 417696 | I2157: =ROUND(IFERROR(H2157/VLOOKUP(A2157,Totals!$A$2:$H$55,8,0)*1000,0),1) -> 1000
A2158: =C2158&F2158 -> Auckland RegionTotal | B2158: 2 | C2158: Auckland Region | E2158: Total stated | F2158: Total | G2158: Total | H2158: 874056 | I2158: =ROUND(IFERROR(H2158/VLOOKUP(A2158,Totals!$A$2:$H$55,8,0)*1000,0),1) -> 1000
A2159: =C2159&F2159 -> Auckland Region11 | B2159: 2 | C2159: Auckland Region | E2159: Total | F2159: 11 | G2159: Male/Tāne | H2159: 456357 | I2159: =ROUND(IFERROR(H2159/VLOOKUP(A2159,Totals!$A$2:$H$55,8,0)*1000,0),1) -> 1000
A2160: =C2160&F2160 -> Auckland Region22 | B2160: 2 | C2160: Auckland Region | E2160: Total | F2160: 22 | G2160: Female/Wahine | H2160: 417696 | I2160: =ROUND(IFERROR(H2160/VLOOKUP(A2160,Totals!$A$2:$H$55,8,0)*1000,0),1) -> 1000
A2161: =C2161&F2161 -> Auckland RegionTotal | B2161: 2 | C2161: Auckland Region | E2161: Total | F2161: Total | G2161: Total | H2161: 874056 | I2161: =ROUND(IFERROR(H2161/VLOOKUP(A2161,Totals!$A$2:$H$55,8,0)*1000,0),1) -> 1000
A2162: =C2162&F2162 -> Waikato Region11 | B2162: 3 | C2162: Waikato Region | D2162: 1111 | E2162: Chief Executives and Managing Directors | F2162: 11 | G2162: Male/Tāne | H2162: 3135 | I2162: =ROUND(IFERROR(H2162/VLOOKUP(A2162,Totals!$A$2:$H$55,8,0)*1000,0),1) -> 23.6
...

Sheet Totals
A1: LOOKUP | B1: geographyVars | C1: geographyVars_label | D1: occupationVars | E1: occupationVars_label | F1: i_sex_at_birth_code | G1: i_sex_at_birth_code_label | H1: Count
A2: =C2&F2 -> Northland Region11 | B2: 1 | C2: Northland Region | E2: Total stated | F2: 11 | G2: Male/Tāne | H2: 45228
A3: =C3&F3 -> Northland Region22 | B3: 1 | C3: Northland Region | E3: Total stated | F3: 22 | G3: Female/Wahine | H3: 44292
A4: =C4&F4 -> Northland RegionTotal | B4: 1 | C4: Northland Region | E4: Total stated | F4: Total | G4: Total | H4: 89520
A5: =C5&F5 -> Auckland Region11 | B5: 2 | C5: Auckland Region | E5: Total stated | F5: 11 | G5: Male/Tāne | H5: 456357
A6: =C6&F6 -> Auckland Region22 | B6: 2 | C6: Auckland Region | E6: Total stated | F6: 22 | G6: Female/Wahine | H6: 417696
A7: =C7&F7 -> Auckland RegionTotal | B7: 2 | C7: Auckland Region | E7: Total stated | F7: Total | G7: Total | H7: 874056
A8: =C8&F8 -> Waikato Region11 | B8: 3 | C8: Waikato Region | E8: Total stated | F8: 11 | G8: Male/Tāne | H8: 132852
A9: =C9&F9 -> Waikato Region22 | B9: 3 | C9: Waikato Region | E9: Total stated | F9: 22 | G9: Female/Wahine | H9: 121743
A10: =C10&F10 -> Waikato RegionTotal | B10: 3 | C10: Waikato Region | E10: Total stated | F10: Total | G10: Total | H10: 254598
A11: =C11&F11 -> Bay of Plenty Region11 | B11: 4 | C11: Bay of Plenty Region | E11: Total stated | F11: 11 | G11: Male/Tāne | H11: 85191
A12: =C12&F12 -> Bay of Plenty Region22 | B12: 4 | C12: Bay of Plenty Region | E12: Total stated | F12: 22 | G12: Female/Wahine | H12: 81174
A13: =C13&F13 -> Bay of Plenty RegionTotal | B13: 4 | C13: Bay of Plenty Region | E13: Total stated | F13: Total | G13: Total | H13: 166365
... A52: =C52&F52 -> Area Outside RegionTotal | B52: 99 | C52: Area Outside Region | E52: Total stated | F52: Total | G52: Total | H52: 423
A53: =C53&F53 -> Total11 | C53: Total | E53: Total stated | F53: 11 | G53: Male/Tāne | H53: 1360242
A54: =C54&F54 -> Total22 | C54: Total | E54: Total stated | F54: 22 | G54: Female/Wahine | H54: 1262481
A55: =C55&F55 -> TotalTotal | C55: Total | E55: Total stated | F55: Total | G55: Total | H55: 2622723
