Workbook

Sheet TA
A1: geographyVarType | B1: geographyVars | C1: geographyVars_label | D1: ethnicityVarType | E1: ethnicityVars | F1: ethnicityVars_label | G1: Count | H1: Percent | I1: MEC group
A2: i_ur_address_ta | B2: 1 | C2: Far North District | D2: ethnic_group_MEC_lvl2 | E2: 1 CE | F2: Continental European | G2: 1800 | H2: =IFERROR(ROUND(G2/VLOOKUP(E2,$E$15253:$G$15470,3,0),4),G2) -> 0.0166 | I2: =VLOOKUP(E2,Ref!$B$2:$D$219,3,0) -> Continental European
A3: i_ur_address_ta | B3: 1 | C3: Far North District | D3: ethnic_group_MEC_lvl1 | E3: 1 EC | F3: Ethnic Communities (total) | G3: 4779 | H3: =IFERROR(ROUND(G3/VLOOKUP(E3,$E$15253:$G$15470,3,0),4),G3) -> 0.0043 | I3: =VLOOKUP(E3,Ref!$B$2:$D$219,3,0) -> Ethnic Communities
A4: i_ur_address_ta | B4: 1 | C4: Far North District | D4: ethnic_group_MEC_lvl3 | E4: 100 | F4: European nfd | G4: 507 | H4: =IFERROR(ROUND(G4/VLOOKUP(E4,$E$15253:$G$15470,3,0),4),G4) -> 0.0232 | I4: =VLOOKUP(E4,Ref!$B$2:$D$219,3,0) -> Other European
A5: i_ur_address_ta | B5: 1 | C5: Far North District | D5: ethnic_group_MEC_lvl4 | E5: 10000 | F5: European nfd | G5: 507 | H5: =IFERROR(ROUND(G5/VLOOKUP(E5,$E$15253:$G$15470,3,0),4),G5) -> 0.0232 | I5: =VLOOKUP(E5,Ref!$B$2:$D$219,3,0) -> Other European
A6: i_ur_address_ta | B6: 1 | C6: Far North District | D6: ethnic_group_MEC_lvl3 | E6: 111 | F6: New Zealand European | G6: 42138 | H6: =IFERROR(ROUND(G6/VLOOKUP(E6,$E$15253:$G$15470,3,0),4),G6) -> 0.0136 | I6: =VLOOKUP(E6,Ref!$B$2:$D$219,3,0) -> Other European
A7: i_ur_address_ta | B7: 1 | C7: Far North District | D7: ethnic_group_MEC_lvl4 | E7: 11111 | F7: New Zealand European | G7: 42138 | H7: =IFERROR(ROUND(G7/VLOOKUP(E7,$E$15253:$G$15470,3,0),4),G7) -> 0.0136 | I7: =VLOOKUP(E7,Ref!$B$2:$D$219,3,0) -> Other European
A8: i_ur_address_ta | B8: 1 | C8: Far North District | D8: ethnic_group_MEC_lvl3 | E8: 121 | F8: British and Irish | G8: 1773 | H8: =IFERROR(ROUND(G8/VLOOKUP(E8,$E$15253:$G$15470,3,0),4),G8) -> 0.0145 | I8: =VLOOKUP(E8,Ref!$B$2:$D$219,3,0) -> Other European
A9: i_ur_address_ta | B9: 1 | C9: Far North District | D9: ethnic_group_MEC_lvl4 | E9: 12100 | F9: British nfd | G9: 270 | H9: =IFERROR(ROUND(G9/VLOOKUP(E9,$E$15253:$G$15470,3,0),4),G9) -> 0.0225 | I9: =VLOOKUP(E9,Ref!$B$2:$D$219,3,0) -> Other European
A10: i_ur_address_ta | B10: 1 | C10: Far North District | D10: ethnic_group_MEC_lvl4 | E10: 12111 | F10: Celtic nfd | G10: 21 | H10: =IFERROR(ROUND(G10/VLOOKUP(E10,$E$15253:$G$15470,3,0),4),G10) -> 0.0337 | I10: =VLOOKUP(E10,Ref!$B$2:$D$219,3,0) -> Other European
A11: i_ur_address_ta | B11: 1 | C11: Far North District | D11: ethnic_group_MEC_lvl4 | E11: 12112 | F11: Channel Islander | G11: ..C | H11: =IFERROR(ROUND(G11/VLOOKUP(E11,$E$15253:$G$15470,3,0),4),G11) -> ..C | I11: =VLOOKUP(E11,Ref!$B$2:$D$219,3,0) -> Other European
A12: i_ur_address_ta | B12: 1 | C12: Far North District | D12: ethnic_group_MEC_lvl4 | E12: 12113 | F12: Cornish | G12: ..C | H12: =IFERROR(ROUND(G12/VLOOKUP(E12,$E$15253:$G$15470,3,0),4),G12) -> ..C | I12: =VLOOKUP(E12,Ref!$B$2:$D$219,3,0) -> Other European
A13: i_ur_address_ta | B13: 1 | C13: Far North District | D13: ethnic_group_MEC_lvl4 | E13: 12114 | F13: English | G13: 801 | H13: =IFERROR(ROUND(G13/VLOOKUP(E13,$E$15253:$G$15470,3,0),4),G13) -> 0.0117 | I13: =VLOOKUP(E13,Ref!$B$2:$D$219,3,0) -> Other European
A14: i_ur_address_ta | B14: 1 | C14: Far North District | D14: ethnic_group_MEC_lvl4 | E14: 12116 | F14: Irish | G14: 327 | H14: =IFERROR(ROUND(G14/VLOOKUP(E14,$E$15253:$G$15470,3,0),4),G14) -> 0.0154 | I14: =VLOOKUP(E14,Ref!$B$2:$D$219,3,0) -> Other European
A15: i_ur_address_ta | B15: 1 | C15: Far North District | D15: ethnic_group_MEC_lvl4 | E15: 12117 | F15: Manx | G15: ..C | H15: =IFERROR(ROUND(G15/VLOOKUP(E15,$E$15253:$G$15470,3,0),4),G15) -> ..C | I15: =VLOOKUP(E15,Ref!$B$2:$D$219,3,0) -> Other European
A16: i_ur_address_ta | B16: 1 | C16: Far North District | D16: ethnic_group_MEC_lvl4 | E16: 12119 | F16: Scottish | G16: 372 | H16: =IFERROR(ROUND(G16/VLOOKUP(E16,$E$15253:$G$15470,3,0),4),G16) -> 0.0188 | I16: =VLOOKUP(E16,Ref!$B$2:$D$219,3,0) -> Other European
A17: i_ur_address_ta | B17: 1 | C17: Far North District | D17: ethnic_group_MEC_lvl4 | E17: 12121 | F17: Welsh | G17: 90 | H17: =IFERROR(ROUND(G17/VLOOKUP(E17,$E$15253:$G$15470,3,0),4),G17) -> 0.0157 | I17: =VLOOKUP(E17,Ref!$B$2:$D$219,3,0) -> Other European
A18: i_ur_address_ta | B18: 1 | C18: Far North District | D18: ethnic_group_MEC_lvl4 | E18: 12199 | F18: British nec | G18: ..C | H18: =IFERROR(ROUND(G18/VLOOKUP(E18,$E$15253:$G$15470,3,0),4),G18) -> ..C | I18: =VLOOKUP(E18,Ref!$B$2:$D$219,3,0) -> Other European
A19: i_ur_address_ta | B19: 1 | C19: Far North District | D19: ethnic_group_MEC_lvl4 | E19: 12211 | F19: Dutch | G19: 504 | H19: =IFERROR(ROUND(G19/VLOOKUP(E19,$E$15253:$G$15470,3,0),4),G19) -> 0.0163 | I19: =VLOOKUP(E19,Ref!$B$2:$D$219,3,0) -> Continental European
A20: i_ur_address_ta | B20: 1 | C20: Far North District | D20: ethnic_group_MEC_lvl4 | E20: 12311 | F20: Greek | G20: 30 | H20: =IFERROR(ROUND(G20/VLOOKUP(E20,$E$15253:$G$15470,3,0),4),G20) -> 0.0106 | I20: =VLOOKUP(E20,Ref!$B$2:$D$219,3,0) -> Continental European
A21: i_ur_address_ta | B21: 1 | C21: Far North District | D21: ethnic_group_MEC_lvl4 | E21: 12411 | F21: Polish | G21: 39 | H21: =IFERROR(ROUND(G21/VLOOKUP(E21,$E$15253:$G$15470,3,0),4),G21) -> 0.0116 | I21: =VLOOKUP(E21,Ref!$B$2:$D$219,3,0) -> Continental European
A22: i_ur_address_ta | B22: 1 | C22: Far North District | D22: ethnic_group_MEC_lvl4 | E22: 12500 | F22: South Slav nfd | G22: 33 | H22: =IFERROR(ROUND(G22/VLOOKUP(E22,$E$15253:$G$15470,3,0),4),G22) -> 0.0692 | I22: =VLOOKUP(E22,Ref!$B$2:$D$219,3,0) -> Continental European
A23: i_ur_address_ta | B23: 1 | C23: Far North District | D23: ethnic_group_MEC_lvl4 | E23: 12511 | F23: Croatian | G23: 216 | H23: =IFERROR(ROUND(G23/VLOOKUP(E23,$E$15253:$G$15470,3,0),4),G23) -> 0.0599 | I23: =VLOOKUP(E23,Ref!$B$2:$D$219,3,0) -> Continental European
A24: i_ur_address_ta | B24: 1 | C24: Far North District | D24: ethnic_group_MEC_lvl4 | E24: 12512 | F24: Dalmatian | G24: 39 | H24: =IFERROR(ROUND(G24/VLOOKUP(E24,$E$15253:$G$15470,3,0),4),G24) -> 0.2453 | I24: =VLOOKUP(E24,Ref!$B$2:$D$219,3,0) -> Continental European
A25: i_ur_address_ta | B25: 1 | C25: Far North District | D25: ethnic_group_MEC_lvl4 | E25: 12513 | F25: Macedonian | G25: ..C | H25: =IFERROR(ROUND(G25/VLOOKUP(E25,$E$15253:$G$15470,3,0),4),G25) -> ..C | I25: =VLOOKUP(E25,Ref!$B$2:$D$219,3,0) -> Continental European
A26: i_ur_address_ta | B26: 1 | C26: Far North District | D26: ethnic_group_MEC_lvl4 | E26: 12514 | F26: Serbian | G26: ..C | H26: =IFERROR(ROUND(G26/VLOOKUP(E26,$E$15253:$G$15470,3,0),4),G26) -> ..C | I26: =VLOOKUP(E26,Ref!$B$2:$D$219,3,0) -> Continental European
A27: i_ur_address_ta | B27: 1 | C27: Far North District | D27: ethnic_group_MEC_lvl4 | E27: 12515 | F27: Slovenian | G27: ..C | H27: =IFERROR(ROUND(G27/VLOOKUP(E27,$E$15253:$G$15470,3,0),4),G27) -> ..C | I27: =VLOOKUP(E27,Ref!$B$2:$D$219,3,0) -> Continental European
A28: i_ur_address_ta | B28: 1 | C28: Far North District | D28: ethnic_group_MEC_lvl4 | E28: 12516 | F28: Bosnian | G28: ..C | H28: =IFERROR(ROUND(G28/VLOOKUP(E28,$E$15253:$G$15470,3,0),4),G28) -> ..C | I28: =VLOOKUP(E28,Ref!$B$2:$D$219,3,0) -> Continental European
A29: i_ur_address_ta | B29: 1 | C29: Far North District | D29: ethnic_group_MEC_lvl4 | E29: 12599 | F29: South Slav nec | G29: ..C | H29: =IFERROR(ROUND(G29/VLOOKUP(E29,$E$15253:$G$15470,3,0),4),G29) -> ..C | I29: =VLOOKUP(E29,Ref!$B$2:$D$219,3,0) -> Continental European
A30: i_ur_address_ta | B30: 1 | C30: Far North District | D30: ethnic_group_MEC_lvl4 | E30: 12611 | F30: Italian | G30: 57 | H30: =IFERROR(ROUND(G30/VLOOKUP(E30,$E$15253:$G$15470,3,0),4),G30) -> 0.0088 | I30: =VLOOKUP(E30,Ref!$B$2:$D$219,3,0) -> Continental European
A31: i_ur_address_ta | B31: 1 | C31: Far North District | D31: ethnic_group_MEC_lvl4 | E31: 12711 | F31: German | G31: 375 | H31: =IFERROR(ROUND(G31/VLOOKUP(E31,$E$15253:$G$15470,3,0),4),G31) -> 0.0213 | I31: =VLOOKUP(E31,Ref!$B$2:$D$219,3,0) -> Continental European
A32: i_ur_address_ta | B32: 1 | C32: Far North District | D32: ethnic_group_MEC_lvl3 | E32: 128 | F32: Australian European | G32: 537 | H32: =IFERROR(ROUND(G32/VLOOKUP(E32,$E$15253:$G$15470,3,0),4),G32) -> 0.0176 | I32: =VLOOKUP(E32,Ref!$B$2:$D$219,3,0) -> Other European
A33: i_ur_address_ta | B33: 1 | C33: Far North District | D33: ethnic_group_MEC_lvl4 | E33: 12811 | F33: Australian | G33: 537 | H33: =IFERROR(ROUND(G33/VLOOKUP(E33,$E$15253:$G$15470,3,0),4),G33) -> 0.0176 | I33: =VLOOKUP(E33,Ref!$B$2:$D$219,3,0) -> Other European
A34: i_ur_address_ta | B34: 1 | C34: Far North District | D34: ethnic_group_MEC_lvl3 | E34: 129 | F34: Other European | G34: 450 | H34: =IFERROR(ROUND(G34/VLOOKUP(E34,$E$15253:$G$15470,3,0),4),G34) -> 0.0149 | I34: =VLOOKUP(E34,Ref!$B$2:$D$219,3,0) -> Other European
A35: i_ur_address_ta | B35: 1 | C35: Far North District | D35: ethnic_group_MEC_lvl4 | E35: 12911 | F35: Albanian | G35: ..C | H35: =IFERROR(ROUND(G35/VLOOKUP(E35,$E$15253:$G$15470,3,0),4),G35) -> ..C | I35: =VLOOKUP(E35,Ref!$B$2:$D$219,3,0) -> Continental European
A36: i_ur_address_ta | B36: 1 | C36: Far North District | D36: ethnic_group_MEC_lvl4 | E36: 12912 | F36: Armenian | G36: 6 | H36: =IFERROR(ROUND(G36/VLOOKUP(E36,$E$15253:$G$15470,3,0),4),G36) -> 0.019 | I36: =VLOOKUP(E36,Ref!$B$2:$D$219,3,0) -> Continental European
A37: i_ur_address_ta | B37: 1 | C37: Far North District | D37: ethnic_group_MEC_lvl4 | E37: 12913 | F37: Austrian | G37: 21 | H37: =IFERROR(ROUND(G37/VLOOKUP(E37,$E$15253:$G$15470,3,0),4),G37) -> 0.0157 | I37: =VLOOKUP(E37,Ref!$B$2:$D$219,3,0) -> Continental European
A38: i_ur_address_ta | B38: 1 | C38: Far North District | D38: ethnic_group_MEC_lvl4 | E38: 12914 | F38: Belgian | G38: 12 | H38: =IFERROR(ROUND(G38/VLOOKUP(E38,$E$15253:$G$15470,3,0),4),G38) -> 0.0122 | I38: =VLOOKUP(E38,Ref!$B$2:$D$219,3,0) -> Continental European
A39: i_ur_address_ta | B39: 1 | C39: Far North District | D39: ethnic_group_MEC_lvl4 | E39: 12915 | F39: Bulgarian | G39: ..C | H39: =IFERROR(ROUND(G39/VLOOKUP(E39,$E$15253:$G$15470,3,0),4),G39) -> ..C | I39: =VLOOKUP(E39,Ref!$B$2:$D$219,3,0) -> Continental European
A40: i_ur_address_ta | B40: 1 | C40: Far North District | D40: ethnic_group_MEC_lvl4 | E40: 12916 | F40: Belorussian | G40: ..C | H40: =IFERROR(ROUND(G40/VLOOKUP(E40,$E$15253:$G$15470,3,0),4),G40) -> ..C | I40: =VLOOKUP(E40,Ref!$B$2:$D$219,3,0) -> Continental European
...

Sheet Ref
B1: ethnicityVars | C1: ethnicityVars_label | D1: MEC
B2: 1 CE | C2: Continental European | D2: Continental European
B3: 1 EC | C3: Ethnic Communities (total) | D3: Ethnic Communities
B4: 100 | C4: European nfd | D4: Other European
B5: 10000 | C5: European nfd | D5: Other European
B6: 111 | C6: New Zealand European | D6: Other European
B7: 11111 | C7: New Zealand European | D7: Other European
B8: 121 | C8: British and Irish | D8: Other European
B9: 12100 | C9: British nfd | D9: Other European
B10: 12111 | C10: Celtic nfd | D10: Other European
B11: 12112 | C11: Channel Islander | D11: Other European
B12: 12113 | C12: Cornish | D12: Other European
... B219: Total | C219: Total | D219: Total
