Workbook

Sheet TA
A1: geographyVarType | B1: geographyVars | C1: geographyVars_label | D1: ethnicityVarType | E1: ethnicityVars | F1: ethnicityVars_label | G1: Count | H1: Percent | I1: MEC group
A2: i_ur_address_ta | B2: 1 | C2: Far North District | D2: ethnic_group_MEC_lvl2 | E2: 1 CE | F2: Continental European | G2: 1800 | H2: =IFERROR(ROUND(G2/VLOOKUP(E2,$E$15253:$G$15470,3,0),4),G2) -> 0.0166 | I2: =VLOOKUP(E2,Ref!$B$2:$D$219,3,0) -> Continental European
A3: i_ur_address_ta | B3: 1 | C3: Far North District | D3: ethnic_group_MEC_lvl1 | E3: 1 EC | F3: Ethnic Communities (total) | G3: 4779 | H3: =IFERROR(ROUND(G3/VLOOKUP(E3,$E$15253:$G$15470,3,0),4),G3) -> 0.0043 | I3: =VLOOKUP(E3,Ref!$B$2:$D$219,3,0) -> Ethnic Communities
A4: i_ur_address_ta | B4: 1 | C4: Far North District | D4: ethnic_group_MEC_lvl3 | E4: 100 | F4: European nfd | G4: 507 | H4: =IFERROR(ROUND(G4/VLOOKUP(E4,$E$15253:$G$15470,3,0),4),G4) -> 0.0232 | I4: =VLOOKUP(E4,Ref!$B$2:$D$219,3,0) -> Other European
A5: i_ur_address_ta | B5: 1 | C5: Far North District | D5: ethnic_group_MEC_lvl4 | E5: 10000 | F5: European nfd | G5: 507 | H5: =IFERROR(ROUND(G5/VLOOKUP(E5,$E$15253:$G$15470,3,0),4),G5) -> 0.0232 | I5: =VLOOKUP(E5,Ref!$B$2:$D$219,3,0) -> Other European
A6: i_ur_address_ta | B6: 1 | C6: Far North District | D6: ethnic_group_MEC_lvl3 | E6: 111 | F6: New Zealand European | G6: 42138 | H6: =IFERROR(ROUND(G6/VLOOKUP(E6,$E$15253:$G$15470,3,0),4),G6) -> 0.0136 | I6: =VLOOKUP(E6,Ref!$B$2:$D$219,3,0) -> Other European
A7: i_ur_address_ta | B7: 1 | C7: Far North District | D7: ethnic_group_MEC_lvl4 | E7: 11111 | F7: New Zealand European | G7: 42138 | H7: =IFERROR(ROUND(G7/VLOOKUP(E7,$E$15253:$G$15470,3,0),4),G7) -> 0.0136 | I7: =VLOOKUP(E7,Ref!$B$2:$D$219,3,0) -> Other European
A8: i_ur_address_ta | B8: 1 | C8: Far North District | D8: ethnic_group_MEC_lvl3 | E8: 121 | F8: British and Irish | G8: 1773 | H8: =IFERROR(ROUND(G8/VLOOKUP(E8,$E$15253:$G$15470,3,0),4),G8) -> 0.0145 | I8: =VLOOKUP(E8,Ref!$B$2:$D$219,3,0) -> Other European
A9: i_ur_address_ta | B9: 1 | C9: Far North District | D9: ethnic_group_MEC_lvl4 | E9: 12100 | F9: British nfd | G9: 270 | H9: =IFERROR(ROUND(G9/VLOOKUP(E9,$E$15253:$G$15470,3,0),4),G9) -> 0.0225 | I9: =VLOOKUP(E9,Ref!$B$2:$D$219,3,0) -> Other European
A10: i_ur_address_ta | B10: 1 | C10: Far North District | D10: ethnic_group_MEC_lvl4 | E10: 12111 | F10: Celtic nfd | G10: 21 | H10: =IFERROR(ROUND(G10/VLOOKUP(E10,$E$15253:$G$15470,3,0),4),G10) -> 0.0337 | I10: =VLOOKUP(E10,Ref!$B$2:$D$219,3,0) -> Other European
A11: i_ur_address_ta | B11: 1 | C11: Far North District | D11: ethnic_group_MEC_lvl4 | E11: 12112 | F11: Channel Islander | G11: ..C | H11: =IFERROR(ROUND(G11/VLOOKUP(E11,$E$15253:$G$15470,3,0),4),G11) -> ..C | I11: =VLOOKUP(E11,Ref!$B$2:$D$219,3,0) -> Other European
A12: i_ur_address_ta | B12: 1 | C12: Far North District | D12: ethnic_group_MEC_lvl4 | E12: 12113 | F12: Cornish | G12: ..C | H12: =IFERROR(ROUND(G12/VLOOKUP(E12,$E$15253:$G$15470,3,0),4),G12) -> ..C | I12: =VLOOKUP(E12,Ref!$B$2:$D$219,3,0) -> Other European
A13: i_ur_address_ta | B13: 1 | C13: Far North District | D13: ethnic_group_MEC_lvl4 | E13: 12114 | F13: English | G13: 801 | H13: =IFERROR(ROUND(G13/VLOOKUP(E13,$E$15253:$G$15470,3,0),4),G13) -> 0.0117 | I13: =VLOOKUP(E13,Ref!$B$2:$D$219,3,0) -> Other European
A14: i_ur_address_ta | B14: 1 | C14: Far North District | D14: ethnic_group_MEC_lvl4 | E14: 12116 | F14: Irish | G14: 327 | H14: =IFERROR(ROUND(G14/VLOOKUP(E14,$E$15253:$G$15470,3,0),4),G14) -> 0.0154 | I14: =VLOOKUP(E14,Ref!$B$2:$D$219,3,0) -> Other European
A15: i_ur_address_ta | B15: 1 | C15: Far North District | D15: ethnic_group_MEC_lvl4 | E15: 12117 | F15: Manx | G15: ..C | H15: =IFERROR(ROUND(G15/VLOOKUP(E15,$E$15253:$G$15470,3,0),4),G15) -> ..C | I15: =VLOOKUP(E15,Ref!$B$2:$D$219,3,0) -> Other European
A16: i_ur_address_ta | B16: 1 | C16: Far North District | D16: ethnic_group_MEC_lvl4 | E16: 12119 | F16: Scottish | G16: 372 | H16: =IFERROR(ROUND(G16/VLOOKUP(E16,$E$15253:$G$15470,3,0),4),G16) -> 0.0188 | I16: =VLOOKUP(E16,Ref!$B$2:$D$219,3,0) -> Other European
A17: i_ur_address_ta | B17: 1 | C17: Far North District | D17: ethnic_group_MEC_lvl4 | E17: 12121 | F17: Welsh | G17: 90 | H17: =IFERROR(ROUND(G17/VLOOKUP(E17,$E$15253:$G$15470,3,0),4),G17) -> 0.0157 | I17: =VLOOKUP(E17,Ref!$B$2:$D$219,3,0) -> Other European
A18: i_ur_address_ta | B18: 1 | C18: Far North District | D18: ethnic_group_MEC_lvl4 | E18: 12199 | F18: British nec | G18: ..C | H18: =IFERROR(ROUND(G18/VLOOKUP(E18,$E$15253:$G$15470,3,0),4),G18) -> ..C | I18: =VLOOKUP(E18,Ref!$B$2:$D$219,3,0) -> Other European
A19: i_ur_address_ta | B19: 1 | C19: Far North District | D19: ethnic_group_MEC_lvl4 | E19: 12211 | F19: Dutch | G19: 504 | H19: =IFERROR(ROUND(G19/VLOOKUP(E19,$E$15253:$G$15470,3,0),4),G19) -> 0.0163 | I19: =VLOOKUP(E19,Ref!$B$2:$D$219,3,0) -> Continental European
A20: i_ur_address_ta | B20: 1 | C20: Far North District | D20: ethnic_group_MEC_lvl4 | E20: 12311 | F20: Greek | G20: 30 | H20: =IFERROR(ROUND(G20/VLOOKUP(E20,$E$15253:$G$15470,3,0),4),G20) -> 0.0106 | I20: =VLOOKUP(E20,Ref!$B$2:$D$219,3,0) -> Continental European
A21: i_ur_address_ta | B21: 1 | C21: Far North District | D21: ethnic_group_MEC_lvl4 | E21: 12411 | F21: Polish | G21: 39 | H21: =IFERROR(ROUND(G21/VLOOKUP(E21,$E$15253:$G$15470,3,0),4),G21) -> 0.0116 | I21: =VLOOKUP(E21,Ref!$B$2:$D$219,3,0) -> Continental European
A22: i_ur_address_ta | B22: 1 | C22: Far North District | D22: ethnic_group_MEC_lvl4 | E22: 12500 | F22: South Slav nfd | G22: 33 | H22: =IFERROR(ROUND(G22/VLOOKUP(E22,$E$15253:$G$15470,3,0),4),G22) -> 0.0692 | I22: =VLOOKUP(E22,Ref!$B$2:$D$219,3,0) -> Continental European
A23: i_ur_address_ta | B23: 1 | C23: Far North District | D23: ethnic_group_MEC_lvl4 | E23: 12511 | F23: Croatian | G23: 216 | H23: =IFERROR(ROUND(G23/VLOOKUP(E23,$E$15253:$G$15470,3,0),4),G23) -> 0.0599 | I23: =VLOOKUP(E23,Ref!$B$2:$D$219,3,0) -> Continental European
A24: i_ur_address_ta | B24: 1 | C24: Far North District | D24: ethnic_group_MEC_lvl4 | E24: 12512 | F24: Dalmatian | G24: 39 | H24: =IFERROR(ROUND(G24/VLOOKUP(E24,$E$15253:$G$15470,3,0),4),G24) -> 0.2453 | I24: =VLOOKUP(E24,Ref!$B$2:$D$219,3,0) -> Continental European
A25: i_ur_address_ta | B25: 1 | C25: Far North District | D25: ethnic_group_MEC_lvl4 | E25: 12513 | F25: Macedonian | G25: ..C | H25: =IFERROR(ROUND(G25/VLOOKUP(E25,$E$15253:$G$15470,3,0),4),G25) -> ..C | I25: =VLOOKUP(E25,Ref!$B$2:$D$219,3,0) -> Continental European
A26: i_ur_address_ta | B26: 1 | C26: Far North District | D26: ethnic_group_MEC_lvl4 | E26: 12514 | F26: Serbian | G26: ..C | H26: =IFERROR(ROUND(G26/VLOOKUP(E26,$E$15253:$G$15470,3,0),4),G26) -> ..C | I26: =VLOOKUP(E26,Ref!$B$2:$D$219,3,0) -> Continental European
A27: i_ur_address_ta | B27: 1 | C27: Far North District | D27: ethnic_group_MEC_lvl4 | E27: 12515 | F27: Slovenian | G27: ..C | H27: =IFERROR(ROUND(G27/VLOOKUP(E27,$E$15253:$G$15470,3,0),4),G27) -> ..C | I27: =VLOOKUP(E27,Ref!$B$2:$D$219,3,0) -> Continental European
A28: i_ur_address_ta | B28: 1 | C28: Far North District | D28: ethnic_group_MEC_lvl4 | E28: 12516 | F28: Bosnian | G28: ..C | H28: =IFERROR(ROUND(G28/VLOOKUP(E28,$E$15253:$G$15470,3,0),4),G28) -> ..C | I28: =VLOOKUP(E28,Ref!$B$2:$D$219,3,0) -> Continental European
A29: i_ur_address_ta | B29: 1 | C29: Far North District | D29: ethnic_group_MEC_lvl4 | E29: 12599 | F29: South Slav nec | G29: ..C | H29: =IFERROR(ROUND(G29/VLOOKUP(E29,$E$15253:$G$15470,3,0),4),G29) -> ..C | I29: =VLOOKUP(E29,Ref!$B$2:$D$219,3,0) -> Continental European
A30: i_ur_address_ta | B30: 1 | C30: Far North District | D30: ethnic_group_MEC_lvl4 | E30: 12611 | F30: Italian | G30: 57 | H30: =IFERROR(ROUND(G30/VLOOKUP(E30,$E$15253:$G$15470,3,0),4),G30) -> 0.0088 | I30: =VLOOKUP(E30,Ref!$B$2:$D$219,3,0) -> Continental European
A31: i_ur_address_ta | B31: 1 | C31: Far North District | D31: ethnic_group_MEC_lvl4 | E31: 12711 | F31: German | G31: 375 | H31: =IFERROR(ROUND(G31/VLOOKUP(E31,$E$15253:$G$15470,3,0),4),G31) -> 0.0213 | I31: =VLOOKUP(E31,Ref!$B$2:$D$219,3,0) -> Continental European
A32: i_ur_address_ta | B32: 1 | C32: Far North District | D32: ethnic_group_MEC_lvl3 | E32: 128 | F32: Australian European | G32: 537 | H32: =IFERROR(ROUND(G32/VLOOKUP(E32,$E$15253:$G$15470,3,0),4),G32) -> 0.0176 | I32: =VLOOKUP(E32,Ref!$B$2:$D$219,3,0) -> Other European
A33: i_ur_address_ta | B33: 1 | C33: Far North District | D33: ethnic_group_MEC_lvl4 | E33: 12811 | F33: Australian | G33: 537 | H33: =IFERROR(ROUND(G33/VLOOKUP(E33,$E$15253:$G$15470,3,0),4),G33) -> 0.0176 | I33: =VLOOKUP(E33,Ref!$B$2:$D$219,3,0) -> Other European
A34: i_ur_address_ta | B34: 1 | C34: Far North District | D34: ethnic_group_MEC_lvl3 | E34: 129 | F34: Other European | G34: 450 | H34: =IFERROR(ROUND(G34/VLOOKUP(E34,$E$15253:$G$15470,3,0),4),G34) -> 0.0149 | I34: =VLOOKUP(E34,Ref!$B$2:$D$219,3,0) -> Other European
A35: i_ur_address_ta | B35: 1 | C35: Far North District | D35: ethnic_group_MEC_lvl4 | E35: 12911 | F35: Albanian | G35: ..C | H35: =IFERROR(ROUND(G35/VLOOKUP(E35,$E$15253:$G$15470,3,0),4),G35) -> ..C | I35: =VLOOKUP(E35,Ref!$B$2:$D$219,3,0) -> Continental European
A36: i_ur_address_ta | B36: 1 | C36: Far North District | D36: ethnic_group_MEC_lvl4 | E36: 12912 | F36: Armenian | G36: 6 | H36: =IFERROR(ROUND(G36/VLOOKUP(E36,$E$15253:$G$15470,3,0),4),G36) -> 0.019 | I36: =VLOOKUP(E36,Ref!$B$2:$D$219,3,0) -> Continental European
A37: i_ur_address_ta | B37: 1 | C37: Far North District | D37: ethnic_group_MEC_lvl4 | E37: 12913 | F37: Austrian | G37: 21 | H37: =IFERROR(ROUND(G37/VLOOKUP(E37,$E$15253:$G$15470,3,0),4),G37) -> 0.0157 | I37: =VLOOKUP(E37,Ref!$B$2:$D$219,3,0) -> Continental European
A38: i_ur_address_ta | B38: 1 | C38: Far North District | D38: ethnic_group_MEC_lvl4 | E38: 12914 | F38: Belgian | G38: 12 | H38: =IFERROR(ROUND(G38/VLOOKUP(E38,$E$15253:$G$15470,3,0),4),G38) -> 0.0122 | I38: =VLOOKUP(E38,Ref!$B$2:$D$219,3,0) -> Continental European
A39: i_ur_address_ta | B39: 1 | C39: Far North District | D39: ethnic_group_MEC_lvl4 | E39: 12915 | F39: Bulgarian | G39: ..C | H39: =IFERROR(ROUND(G39/VLOOKUP(E39,$E$15253:$G$15470,3,0),4),G39) -> ..C | I39: =VLOOKUP(E39,Ref!$B$2:$D$219,3,0) -> Continental European
A40: i_ur_address_ta | B40: 1 | C40: Far North District | D40: ethnic_group_MEC_lvl4 | E40: 12916 | F40: Belorussian | G40: ..C | H40: =IFERROR(ROUND(G40/VLOOKUP(E40,$E$15253:$G$15470,3,0),4),G40) -> ..C | I40: =VLOOKUP(E40,Ref!$B$2:$D$219,3,0) -> Continental European
A41: i_ur_address_ta | B41: 1 | C41: Far North District | D41: ethnic_group_MEC_lvl4 | E41: 12918 | F41: Cypriot nfd | G41: ..C | H41: =IFERROR(ROUND(G41/VLOOKUP(E41,$E$15253:$G$15470,3,0),4),G41) -> ..C | I41: =VLOOKUP(E41,Ref!$B$2:$D$219,3,0) -> Continental European
A42: i_ur_address_ta | B42: 1 | C42: Far North District | D42: ethnic_group_MEC_lvl4 | E42: 12919 | F42: Czech | G42: 18 | H42: =IFERROR(ROUND(G42/VLOOKUP(E42,$E$15253:$G$15470,3,0),4),G42) -> 0.0092 | I42: =VLOOKUP(E42,Ref!$B$2:$D$219,3,0) -> Continental European
A43: i_ur_address_ta | B43: 1 | C43: Far North District | D43: ethnic_group_MEC_lvl4 | E43: 12920 | F43: Danish | G43: 51 | H43: =IFERROR(ROUND(G43/VLOOKUP(E43,$E$15253:$G$15470,3,0),4),G43) -> 0.0204 | I43: =VLOOKUP(E43,Ref!$B$2:$D$219,3,0) -> Continental European
A44: i_ur_address_ta | B44: 1 | C44: Far North District | D44: ethnic_group_MEC_lvl4 | E44: 12921 | F44: Estonian | G44: ..C | H44: =IFERROR(ROUND(G44/VLOOKUP(E44,$E$15253:$G$15470,3,0),4),G44) -> ..C | I44: =VLOOKUP(E44,Ref!$B$2:$D$219,3,0) -> Continental European
A45: i_ur_address_ta | B45: 1 | C45: Far North District | D45: ethnic_group_MEC_lvl4 | E45: 12922 | F45: Finnish | G45: 6 | H45: =IFERROR(ROUND(G45/VLOOKUP(E45,$E$15253:$G$15470,3,0),4),G45) -> 0.007 | I45: =VLOOKUP(E45,Ref!$B$2:$D$219,3,0) -> Continental European
A46: i_ur_address_ta | B46: 1 | C46: Far North District | D46: ethnic_group_MEC_lvl4 | E46: 12923 | F46: Flemish | G46: ..C | H46: =IFERROR(ROUND(G46/VLOOKUP(E46,$E$15253:$G$15470,3,0),4),G46) -> ..C | I46: =VLOOKUP(E46,Ref!$B$2:$D$219,3,0) -> Continental European
A47: i_ur_address_ta | B47: 1 | C47: Far North District | D47: ethnic_group_MEC_lvl4 | E47: 12924 | F47: French | G47: 132 | H47: =IFERROR(ROUND(G47/VLOOKUP(E47,$E$15253:$G$15470,3,0),4),G47) -> 0.0156 | I47: =VLOOKUP(E47,Ref!$B$2:$D$219,3,0) -> Continental European
A48: i_ur_address_ta | B48: 1 | C48: Far North District | D48: ethnic_group_MEC_lvl4 | E48: 12926 | F48: Hungarian | G48: 30 | H48: =IFERROR(ROUND(G48/VLOOKUP(E48,$E$15253:$G$15470,3,0),4),G48) -> 0.0168 | I48: =VLOOKUP(E48,Ref!$B$2:$D$219,3,0) -> Continental European
A49: i_ur_address_ta | B49: 1 | C49: Far North District | D49: ethnic_group_MEC_lvl4 | E49: 12927 | F49: Icelandic | G49: ..C | H49: =IFERROR(ROUND(G49/VLOOKUP(E49,$E$15253:$G$15470,3,0),4),G49) -> ..C | I49: =VLOOKUP(E49,Ref!$B$2:$D$219,3,0) -> Continental European
A50: i_ur_address_ta | B50: 1 | C50: Far North District | D50: ethnic_group_MEC_lvl4 | E50: 12928 | F50: Latvian | G50: 6 | H50: =IFERROR(ROUND(G50/VLOOKUP(E50,$E$15253:$G$15470,3,0),4),G50) -> 0.0168 | I50: =VLOOKUP(E50,Ref!$B$2:$D$219,3,0) -> Continental European
A51: i_ur_address_ta | B51: 1 | C51: Far North District | D51: ethnic_group_MEC_lvl4 | E51: 12929 | F51: Lithuanian | G51: ..C | H51: =IFERROR(ROUND(G51/VLOOKUP(E51,$E$15253:$G$15470,3,0),4),G51) -> ..C | I51: =VLOOKUP(E51,Ref!$B$2:$D$219,3,0) -> Continental European
A52: i_ur_address_ta | B52: 1 | C52: Far North District | D52: ethnic_group_MEC_lvl4 | E52: 12930 | F52: Maltese | G52: ..C | H52: =IFERROR(ROUND(G52/VLOOKUP(E52,$E$15253:$G$15470,3,0),4),G52) -> ..C | I52: =VLOOKUP(E52,Ref!$B$2:$D$219,3,0) -> Continental European
A53: i_ur_address_ta | B53: 1 | C53: Far North District | D53: ethnic_group_MEC_lvl4 | E53: 12931 | F53: Norwegian | G53: 30 | H53: =IFERROR(ROUND(G53/VLOOKUP(E53,$E$15253:$G$15470,3,0),4),G53) -> 0.0213 | I53: =VLOOKUP(E53,Ref!$B$2:$D$219,3,0) -> Continental European
A54: i_ur_address_ta | B54: 1 | C54: Far North District | D54: ethnic_group_MEC_lvl4 | E54: 12932 | F54: Portuguese | G54: 27 | H54: =IFERROR(ROUND(G54/VLOOKUP(E54,$E$15253:$G$15470,3,0),4),G54) -> 0.0155 | I54: =VLOOKUP(E54,Ref!$B$2:$D$219,3,0) -> Continental European
A55: i_ur_address_ta | B55: 1 | C55: Far North District | D55: ethnic_group_MEC_lvl4 | E55: 12933 | F55: Romanian | G55: ..C | H55: =IFERROR(ROUND(G55/VLOOKUP(E55,$E$15253:$G$15470,3,0),4),G55) -> ..C | I55: =VLOOKUP(E55,Ref!$B$2:$D$219,3,0) -> Continental European
A56: i_ur_address_ta | B56: 1 | C56: Far North District | D56: ethnic_group_MEC_lvl4 | E56: 12934 | F56: Romani | G56: ..C | H56: =IFERROR(ROUND(G56/VLOOKUP(E56,$E$15253:$G$15470,3,0),4),G56) -> ..C | I56: =VLOOKUP(E56,Ref!$B$2:$D$219,3,0) -> Continental European
A57: i_ur_address_ta | B57: 1 | C57: Far North District | D57: ethnic_group_MEC_lvl4 | E57: 12935 | F57: Russian | G57: 60 | H57: =IFERROR(ROUND(G57/VLOOKUP(E57,$E$15253:$G$15470,3,0),4),G57) -> 0.0075 | I57: =VLOOKUP(E57,Ref!$B$2:$D$219,3,0) -> Continental European
A58: i_ur_address_ta | B58: 1 | C58: Far North District | D58: ethnic_group_MEC_lvl4 | E58: 12937 | F58: Slavic | G58: ..C | H58: =IFERROR(ROUND(G58/VLOOKUP(E58,$E$15253:$G$15470,3,0),4),G58) -> ..C | I58: =VLOOKUP(E58,Ref!$B$2:$D$219,3,0) -> Continental European
A59: i_ur_address_ta | B59: 1 | C59: Far North District | D59: ethnic_group_MEC_lvl4 | E59: 12938 | F59: Slovak | G59: ..C | H59: =IFERROR(ROUND(G59/VLOOKUP(E59,$E$15253:$G$15470,3,0),4),G59) -> ..C | I59: =VLOOKUP(E59,Ref!$B$2:$D$219,3,0) -> Continental European
A60: i_ur_address_ta | B60: 1 | C60: Far North District | D60: ethnic_group_MEC_lvl4 | E60: 12939 | F60: Spanish | G60: 39 | H60: =IFERROR(ROUND(G60/VLOOKUP(E60,$E$15253:$G$15470,3,0),4),G60) -> 0.0123 | I60: =VLOOKUP(E60,Ref!$B$2:$D$219,3,0) -> Continental European
A61: i_ur_address_ta | B61: 1 | C61: Far North District | D61: ethnic_group_MEC_lvl4 | E61: 12940 | F61: Swedish | G61: 33 | H61: =IFERROR(ROUND(G61/VLOOKUP(E61,$E$15253:$G$15470,3,0),4),G61) -> 0.0155 | I61: =VLOOKUP(E61,Ref!$B$2:$D$219,3,0) -> Continental European
A62: i_ur_address_ta | B62: 1 | C62: Far North District | D62: ethnic_group_MEC_lvl4 | E62: 12941 | F62: Swiss | G62: 69 | H62: =IFERROR(ROUND(G62/VLOOKUP(E62,$E$15253:$G$15470,3,0),4),G62) -> 0.024 | I62: =VLOOKUP(E62,Ref!$B$2:$D$219,3,0) -> Continental European
A63: i_ur_address_ta | B63: 1 | C63: Far North District | D63: ethnic_group_MEC_lvl4 | E63: 12942 | F63: Ukrainian | G63: 21 | H63: =IFERROR(ROUND(G63/VLOOKUP(E63,$E$15253:$G$15470,3,0),4),G63) -> 0.0098 | I63: =VLOOKUP(E63,Ref!$B$2:$D$219,3,0) -> Continental European
A64: i_ur_address_ta | B64: 1 | C64: Far North District | D64: ethnic_group_MEC_lvl4 | E64: 12943 | F64: American | G64: 297 | H64: =IFERROR(ROUND(G64/VLOOKUP(E64,$E$15253:$G$15470,3,0),4),G64) -> 0.016 | I64: =VLOOKUP(E64,Ref!$B$2:$D$219,3,0) -> Other European
A65: i_ur_address_ta | B65: 1 | C65: Far North District | D65: ethnic_group_MEC_lvl4 | E65: 12945 | F65: Canadian | G65: 123 | H65: =IFERROR(ROUND(G65/VLOOKUP(E65,$E$15253:$G$15470,3,0),4),G65) -> 0.0138 | I65: =VLOOKUP(E65,Ref!$B$2:$D$219,3,0) -> Other European
A66: i_ur_address_ta | B66: 1 | C66: Far North District | D66: ethnic_group_MEC_lvl4 | E66: 12947 | F66: New Caledonian | G66: ..C | H66: =IFERROR(ROUND(G66/VLOOKUP(E66,$E$15253:$G$15470,3,0),4),G66) -> ..C | I66: =VLOOKUP(E66,Ref!$B$2:$D$219,3,0) -> Other European
A67: i_ur_address_ta | B67: 1 | C67: Far North District | D67: ethnic_group_MEC_lvl4 | E67: 12948 | F67: South African European | G67: 321 | H67: =IFERROR(ROUND(G67/VLOOKUP(E67,$E$15253:$G$15470,3,0),4),G67) -> 0.0066 | I67: =VLOOKUP(E67,Ref!$B$2:$D$219,3,0) -> African
A68: i_ur_address_ta | B68: 1 | C68: Far North District | D68: ethnic_group_MEC_lvl4 | E68: 12949 | F68: Afrikaner | G68: 24 | H68: =IFERROR(ROUND(G68/VLOOKUP(E68,$E$15253:$G$15470,3,0),4),G68) -> 0.004 | I68: =VLOOKUP(E68,Ref!$B$2:$D$219,3,0) -> African
A69: i_ur_address_ta | B69: 1 | C69: Far North District | D69: ethnic_group_MEC_lvl4 | E69: 12950 | F69: Zimbabwean European | G69: 18 | H69: =IFERROR(ROUND(G69/VLOOKUP(E69,$E$15253:$G$15470,3,0),4),G69) -> 0.012 | I69: =VLOOKUP(E69,Ref!$B$2:$D$219,3,0) -> African
A70: i_ur_address_ta | B70: 1 | C70: Far North District | D70: ethnic_group_MEC_lvl4 | E70: 12999 | F70: European nec | G70: 36 | H70: =IFERROR(ROUND(G70/VLOOKUP(E70,$E$15253:$G$15470,3,0),4),G70) -> 0.0141 | I70: =VLOOKUP(E70,Ref!$B$2:$D$219,3,0) -> Other European
A71: i_ur_address_ta | B71: 1 | C71: Far North District | D71: ethnic_group_MEC_lvl3 | E71: 129C | F71: Continental European | G71: 1800 | H71: =IFERROR(ROUND(G71/VLOOKUP(E71,$E$15253:$G$15470,3,0),4),G71) -> 0.0166 | I71: =VLOOKUP(E71,Ref!$B$2:$D$219,3,0) -> Continental European
A72: i_ur_address_ta | B72: 1 | C72: Far North District | D72: ethnic_group_MEC_lvl2 | E72: 2 AS | F72: Asian | G72: 2265 | H72: =IFERROR(ROUND(G72/VLOOKUP(E72,$E$15253:$G$15470,3,0),4),G72) -> 0.0026 | I72: =VLOOKUP(E72,Ref!$B$2:$D$219,3,0) -> Asian
A73: i_ur_address_ta | B73: 1 | C73: Far North District | D73: ethnic_group_MEC_lvl1 | E73: 2 NE | F73: Non Ethnic Communities (total) | G73: 68526 | H73: =IFERROR(ROUND(G73/VLOOKUP(E73,$E$15253:$G$15470,3,0),4),G73) -> 0.017 | I73: =VLOOKUP(E73,Ref!$B$2:$D$219,3,0) -> Non Ethnic Communities
A74: i_ur_address_ta | B74: 1 | C74: Far North District | D74: ethnic_group_MEC_lvl3 | E74: 211 | F74: Māori | G74: 35679 | H74: =IFERROR(ROUND(G74/VLOOKUP(E74,$E$15253:$G$15470,3,0),4),G74) -> 0.0402 | I74: =VLOOKUP(E74,Ref!$B$2:$D$219,3,0) -> Māori
A75: i_ur_address_ta | B75: 1 | C75: Far North District | D75: ethnic_group_MEC_lvl4 | E75: 21111 | F75: Māori | G75: 35679 | H75: =IFERROR(ROUND(G75/VLOOKUP(E75,$E$15253:$G$15470,3,0),4),G75) -> 0.0402 | I75: =VLOOKUP(E75,Ref!$B$2:$D$219,3,0) -> Māori
A76: i_ur_address_ta | B76: 1 | C76: Far North District | D76: ethnic_group_MEC_lvl2 | E76: 3 ME | F76: MELAA+ | G76: 828 | H76: =IFERROR(ROUND(G76/VLOOKUP(E76,$E$15253:$G$15470,3,0),4),G76) -> 0.0052 | I76: =VLOOKUP(E76,Ref!$B$2:$D$219,3,0) -> N/A
A77: i_ur_address_ta | B77: 1 | C77: Far North District | D77: ethnic_group_MEC_lvl3 | E77: 300 | F77: Pacific Peoples nfd | G77: 30 | H77: =IFERROR(ROUND(G77/VLOOKUP(E77,$E$15253:$G$15470,3,0),4),G77) -> 0.0132 | I77: =VLOOKUP(E77,Ref!$B$2:$D$219,3,0) -> Pacific Peoples
A78: i_ur_address_ta | B78: 1 | C78: Far North District | D78: ethnic_group_MEC_lvl4 | E78: 30000 | F78: Pacific Peoples nfd | G78: 30 | H78: =IFERROR(ROUND(G78/VLOOKUP(E78,$E$15253:$G$15470,3,0),4),G78) -> 0.0132 | I78: =VLOOKUP(E78,Ref!$B$2:$D$219,3,0) -> Pacific Peoples
... A94: i_ur_address_ta | B94: 1 | C94: Far North District | D94: ethnic_group_MEC_lvl4 | E94: 37124 | F94: Kiribati | G94: 12 | H94: =IFERROR(ROUND(G94/VLOOKUP(E94,$E$15253:$G$15470,3,0),4),G94) -> 0.0026 | I94: =VLOOKUP(E94,Ref!$B$2:$D$219,3,0) -> Pacific Peoples
A95: i_ur_address_ta | B95: 1 | C95: Far North District | D95: ethnic_group_MEC_lvl4 | E95: 37130 | F95: Nauruan | G95: ..C | H95: =IFERROR(ROUND(G95/VLOOKUP(E95,$E$15253:$G$15470,3,0),4),G95) -> ..C | I95: =VLOOKUP(E95,Ref!$B$2:$D$219,3,0) -> Pacific Peoples
A96: i_ur_address_ta | B96: 1 | C96: Far North District | D96: ethnic_group_MEC_lvl4 | E96: 37135 | F96: Papua New Guinean | G96: 9 | H96: =IFERROR(ROUND(G96/VLOOKUP(E96,$E$15253:$G$15470,3,0),4),G96) -> 0.007 | I96: =VLOOKUP(E96,Ref!$B$2:$D$219,3,0) -> Pacific Peoples
A97: i_ur_address_ta | B97: 1 | C97: Far North District | D97: ethnic_group_MEC_lvl4 | E97: 37137 | F97: Pitcairn Islander | G97: ..C | H97: =IFERROR(ROUND(G97/VLOOKUP(E97,$E$15253:$G$15470,3,0),4),G97) -> ..C | I97: =VLOOKUP(E97,Ref!$B$2:$D$219,3,0) -> Pacific Peoples
A98: i_ur_address_ta | B98: 1 | C98: Far North District | D98: ethnic_group_MEC_lvl4 | E98: 37138 | F98: Rotuman | G98: 9 | H98: =IFERROR(ROUND(G98/VLOOKUP(E98,$E$15253:$G$15470,3,0),4),G98) -> 0.0068 | I98: =VLOOKUP(E98,Ref!$B$2:$D$219,3,0) -> Pacific Peoples
A99: i_ur_address_ta | B99: 1 | C99: Far North District | D99: ethnic_group_MEC_lvl4 | E99: 37140 | F99: Tahitian | G99: 39 | H99: =IFERROR(ROUND(G99/VLOOKUP(E99,$E$15253:$G$15470,3,0),4),G99) -> 0.0193 | I99: =VLOOKUP(E99,Ref!$B$2:$D$219,3,0) -> Pacific Peoples
A100: i_ur_address_ta | B100: 1 | C100: Far North District | D100: ethnic_group_MEC_lvl4 | E100: 37141 | F100: Solomon Islander | G100: 9 | H100: =IFERROR(ROUND(G100/VLOOKUP(E100,$E$15253:$G$15470,3,0),4),G100) -> 0.0097 | I100: =VLOOKUP(E100,Ref!$B$2:$D$219,3,0) -> Pacific Peoples
A101: i_ur_address_ta | B101: 1 | C101: Far North District | D101: ethnic_group_MEC_lvl4 | E101: 37144 | F101: Tuvaluan | G101: ..C | H101: =IFERROR(ROUND(G101/VLOOKUP(E101,$E$15253:$G$15470,3,0),4),G101) -> ..C | I101: =VLOOKUP(E101,Ref!$B$2:$D$219,3,0) -> Pacific Peoples
A102: i_ur_address_ta | B102: 1 | C102: Far North District | D102: ethnic_group_MEC_lvl4 | E102: 37145 | F102: Ni Vanuatu | G102: 39 | H102: =IFERROR(ROUND(G102/VLOOKUP(E102,$E$15253:$G$15470,3,0),4),G102) -> 0.0336 | I102: =VLOOKUP(E102,Ref!$B$2:$D$219,3,0) -> Pacific Peoples
A103: i_ur_address_ta | B103: 1 | C103: Far North District | D103: ethnic_group_MEC_lvl4 | E103: 37199 | F103: Pacific Peoples nec | G103: ..C | H103: =IFERROR(ROUND(G103/VLOOKUP(E103,$E$15253:$G$15470,3,0),4),G103) -> ..C | I103: =VLOOKUP(E103,Ref!$B$2:$D$219,3,0) -> Pacific Peoples
A104: i_ur_address_ta | B104: 1 | C104: Far North District | D104: ethnic_group_MEC_lvl2 | E104: 4 OE | F104: Other European | G104: 44739 | H104: =IFERROR(ROUND(G104/VLOOKUP(E104,$E$15253:$G$15470,3,0),4),G104) -> 0.0137 | I104: =VLOOKUP(E104,Ref!$B$2:$D$219,3,0) -> Other European
A105: i_ur_address_ta | B105: 1 | C105: Far North District | D105: ethnic_group_MEC_lvl4 | E105: 40000 | F105: Asian nfd | G105: 60 | H105: =IFERROR(ROUND(G105/VLOOKUP(E105,$E$15253:$G$15470,3,0),4),G105) -> 0.0047 | I105: =VLOOKUP(E105,Ref!$B$2:$D$219,3,0) -> Asian
A106: i_ur_address_ta | B106: 1 | C106: Far North District | D106: ethnic_group_MEC_lvl3 | E106: 410 | F106: Southeast Asian | G106: 636 | H106: =IFERROR(ROUND(G106/VLOOKUP(E106,$E$15253:$G$15470,3,0),4),G106) -> 0.0036 | I106: =VLOOKUP(E106,Ref!$B$2:$D$219,3,0) -> Asian
A107: i_ur_address_ta | B107: 1 | C107: Far North District | D107: ethnic_group_MEC_lvl4 | E107: 41000 | F107: Southeast Asian nfd | G107: 39 | H107: =IFERROR(ROUND(G107/VLOOKUP(E107,$E$15253:$G$15470,3,0),4),G107) -> 0.0047 | I107: =VLOOKUP(E107,Ref!$B$2:$D$219,3,0) -> Asian
A108: i_ur_address_ta | B108: 1 | C108: Far North District | D108: ethnic_group_MEC_lvl4 | E108: 41111 | F108: Filipino | G108: 309 | H108: =IFERROR(ROUND(G108/VLOOKUP(E108,$E$15253:$G$15470,3,0),4),G108) -> 0.0029 | I108: =VLOOKUP(E108,Ref!$B$2:$D$219,3,0) -> Asian
A109: i_ur_address_ta | B109: 1 | C109: Far North District | D109: ethnic_group_MEC_lvl4 | E109: 41211 | F109: Cambodian | G109: 42 | H109: =IFERROR(ROUND(G109/VLOOKUP(E109,$E$15253:$G$15470,3,0),4),G109) -> 0.0036 | I109: =VLOOKUP(E109,Ref!$B$2:$D$219,3,0) -> Asian
A110: i_ur_address_ta | B110: 1 | C110: Far North District | D110: ethnic_group_MEC_lvl4 | E110: 41311 | F110: Vietnamese | G110: 33 | H110: =IFERROR(ROUND(G110/VLOOKUP(E110,$E$15253:$G$15470,3,0),4),G110) -> 0.0023 | I110: =VLOOKUP(E110,Ref!$B$2:$D$219,3,0) -> Asian
A111: i_ur_address_ta | B111: 1 | C111: Far North District | D111: ethnic_group_MEC_lvl4 | E111: 41411 | F111: Burmese | G111: ..C | H111: =IFERROR(ROUND(G111/VLOOKUP(E111,$E$15253:$G$15470,3,0),4),G111) -> ..C | I111: =VLOOKUP(E111,Ref!$B$2:$D$219,3,0) -> Asian
A112: i_ur_address_ta | B112: 1 | C112: Far North District | D112: ethnic_group_MEC_lvl4 | E112: 41412 | F112: Indonesian | G112: 54 | H112: =IFERROR(ROUND(G112/VLOOKUP(E112,$E$15253:$G$15470,3,0),4),G112) -> 0.0071 | I112: =VLOOKUP(E112,Ref!$B$2:$D$219,3,0) -> Asian
A113: i_ur_address_ta | B113: 1 | C113: Far North District | D113: ethnic_group_MEC_lvl4 | E113: 41413 | F113: Lao | G113: ..C | H113: =IFERROR(ROUND(G113/VLOOKUP(E113,$E$15253:$G$15470,3,0),4),G113) -> ..C | I113: =VLOOKUP(E113,Ref!$B$2:$D$219,3,0) -> Asian
A114: i_ur_address_ta | B114: 1 | C114: Far North District | D114: ethnic_group_MEC_lvl4 | E114: 41414 | F114: Malay | G114: 15 | H114: =IFERROR(ROUND(G114/VLOOKUP(E114,$E$15253:$G$15470,3,0),4),G114) -> 0.0031 | I114: =VLOOKUP(E114,Ref!$B$2:$D$219,3,0) -> Asian
A115: i_ur_address_ta | B115: 1 | C115: Far North District | D115: ethnic_group_MEC_lvl4 | E115: 41415 | F115: Thai | G115: 147 | H115: =IFERROR(ROUND(G115/VLOOKUP(E115,$E$15253:$G$15470,3,0),4),G115) -> 0.0114 | I115: =VLOOKUP(E115,Ref!$B$2:$D$219,3,0) -> Asian
...

Sheet Ref
B1: ethnicityVars | C1: ethnicityVars_label | D1: MEC
B2: 1 CE | C2: Continental European | D2: Continental European
B3: 1 EC | C3: Ethnic Communities (total) | D3: Ethnic Communities
B4: 100 | C4: European nfd | D4: Other European
B5: 10000 | C5: European nfd | D5: Other European
B6: 111 | C6: New Zealand European | D6: Other European
B7: 11111 | C7: New Zealand European | D7: Other European
B8: 121 | C8: British and Irish | D8: Other European
B9: 12100 | C9: British nfd | D9: Other European
B10: 12111 | C10: Celtic nfd | D10: Other European
B11: 12112 | C11: Channel Islander | D11: Other European
B12: 12113 | C12: Cornish | D12: Other European
... B219: Total | C219: Total | D219: Total
