Workbook

Sheet Contents
A10: Family violence offences
A11: These tables provide information on finalised charges (such as those that have been convicted and sentenced, withdrawn or with a not guilty outcome) for family violence offences each year, including specific breakdowns for: - breach of protection order offences - assault on a family member offences. Charges that are still active in court are not included. In the Family Violence Act 2018, family violence offences include any offence involving family violence (as defined in section 9 of the Act: physical, sexual or psychological abuse by a person who is or has been in a family relationship) or any offence against the Family Violence Act (such as breaching a protection order or failing to attend a non-violence programme). This workbook includes information on finalised charges flagged as family violence in the Ministry of Justice Case Management System OR involving these specific offence types: - assault on a family member (section 194A Crimes Act 1961) - common assault (domestic) (section 9 Summary Offences Act 1981 or section 196 Crimes Act 1961) - sexual offences against a spouse (section 128(4)/128B or section 129 Crimes Act 1961) - incest (section 130 or section 131 Crimes Act 1961) - coercion to marry (section 207A Crimes Act 1961) - all offences included in the Domestic Violence Act 1995 (such as breach of protection order) - all offences included the in the Family Violence Act 2018 (such as breach of protection order). This is the most comprehensive family violence offences data published by the Ministry of Justice as it includes all finalised charges flagged as family violence, regardless of the offence type (for example, finalised charges for wilful damage and homicide that are flagged as family violence are included).
A13: Contents: | B13: All family violence offences
B14: =HYPERLINK('1a.All charges'!A1) -> Table 1a: Number of finalised charges for family violence offences, 2015/2016 - 2024/2025
B15: =HYPERLINK('1b.FV charges by offence'!A1) -> Table 1b: Number and percentage of finalised charges for family violence offences, by offence type, 2015/2016 - 2024/2025
B16: =HYPERLINK('1c.d.e.FV charges outcome'!$A$1) -> Table 1c: Number and percentage of finalised charges for family violence offences, by charge outcome, 2015/2016 - 2024/2025
B17: =HYPERLINK('1c.d.e.FV charges outcome'!$A13) -> Table 1d: Number of finalised charges for breach of protection order offences, by charge outcome, 2015/2016 - 2024/2025
B18: =HYPERLINK('1c.d.e.FV charges outcome'!$A23) -> Table 1e: Number of finalised charges for assault on a family member offences, by charge outcome, 2018/2019 - 2024/2025
B20: =HYPERLINK('2a.People charged by offence'!A1) -> Table 2a: Number and percentage of people with finalised charges for family violence offences, by offence type, 2015/2016 - 2024/2025
B21: =HYPERLINK('2b.People charged court outcome'!A1) -> Table 2b: Number and percentage of people with finalised charges for family violence offences, by court and charge outcome, 2015/2016 -2024/2025
B22: =HYPERLINK('2c.People charged demographic'!A1) -> Table 2c: Number and percentage of people with finalised charges for family violence offences, by gender, ethnicity and age group, 2015/2016 -2024/2025
B24: =HYPERLINK('3a.People convicted by offence'!A1) -> Table 3a: Number and percentage of people convicted of family violence offences, by offence type, 2015/2016 - 2024/2025
B25: =HYPERLINK('3b.People convicted sentence'!A1) -> Table 3b: Number and percentage of people convicted of family violence offences, by most serious sentence, 2015/2016 - 2024/2025
B26: =HYPERLINK('3c.People convicted demographic'!A1) -> Table 3c: Number and percentage of people convicted of family violence offences, by gender, ethnicity and age group, 2015/2016 - 2024/2025
B28: Breach of protection order
B29: =HYPERLINK('4a.b.BPO offence types'!A1) -> Table 4a: Number and percentage of finalised charges for breach of protection order offences, by offence type, 2015/2016 - 2024/2025
B30: =HYPERLINK('4a.b.BPO offence types'!A25) -> Table 4b: Number and percentage of convicted charges for breach of protection order offences, by offence type, 2015/2016 - 2024/2025
B31: =HYPERLINK('4c.BPO people_outcome_court'!A1) -> Table 4c: Number of people with finalised charges for breach of protection order offences, by court and charge outcome, 2015/2016 - 2024/2025
B32: =HYPERLINK('4d.BPO people_demographic'!A1) -> Table 4d: Number and percentage of people with finalised charges for breach of protection order offences, by gender, ethnicity and age, 2015/2016 - 2024/2025
B33: =HYPERLINK('4e.BPO conv ppl_sentence'!A1) -> Table 4e: Number of people convicted of breach of protection order offences, by most serious sentence, 2015/2016 - 2024/2025
B34: =HYPERLINK('4f.BPO conv ppl_demographic'!A1) -> Table 4f: Number and percentage of people convicted of breach of protection order offences, by gender, ethnicity and age, 2015/2016 - 2024/2025
B36: Assault on a family member
B37: =HYPERLINK('5a.Assault fam pp_outcome_court'!A1) -> Table 5a: Number of people with finalised charges for assault on a family member offences, by court and charge outcome, 2018/2019 - 2024/2025
B38: =HYPERLINK('5b.Assault fam pp_demographic'!A1) -> Table 5b: Number and percentage of people with finalised charges of assault on a family member offences, by gender, ethnicity and age, 2018/2019 - 2024/2025
B39: =HYPERLINK('5c.Assault fam conv pp_sent'!A1) -> Table 5c: Number of people convicted of assault on a family member offences, by most serious sentence, 2018/2019 - 2024/2025
B40: =HYPERLINK('5d.Assault fam conv_demographic'!A1) -> Table 5d: Number and percentage of people convicted of assault on a family member offences, by gender, ethnicity and age, 2018/2019 - 2024/2025
B42: Definitions and data notes
B43: Notes - Justice service areas
A45: If this information does not answer your query you may wish to request specific information via an Official Information Act request. Information on this process is available on the Ministry website: https://www.justice.govt.nz/about/official-information-act-requests/
A47: Published 16 September 2025

Sheet 1a.All charges
A1: Table 1a: Number of finalised charges for family violence offences, 2015/2016 - 2024/2025
A2: For more information on how to interpret these figures, please read the definitions and data notes
A3: Back to contents page
A4: Example interpretation: In 2024/2025, 14% of all the charges finalised in court were for family violence offences (32,326 charges).
B5: Number of charges | L5: Percentage of total
A6: Offence type | B6: 2015/2016 | C6: 2016/2017 | D6: 2017/2018 | E6: 2018/2019 | F6: 2019/2020 | G6: 2020/2021 | H6: 2021/2022 | I6: 2022/2023 | J6: 2023/2024 | K6: 2024/2025 | L6: 2015/2016 | M6: 2016/2017 | N6: 2017/2018 | O6: 2018/2019 | P6: 2019/2020 | Q6: 2020/2021 | R6: 2021/2022 | S6: 2022/2023 | T6: 2023/2024 | U6: 2024/2025
A7: Family violence | B7: 28856 | C7: 29334 | D7: 28643 | E7: 28608 | F7: 30163 | G7: 31634 | H7: 25723 | I7: 29076 | J7: 31119 | K7: 32326 | L7: 0.13 | M7: 0.13 | N7: 0.13 | O7: 0.13 | P7: 0.15 | Q7: 0.15 | R7: 0.15 | S7: 0.15 | T7: 0.14 | U7: 0.14
A8: Other offences | B8: 191329 | C8: 196597 | D8: 193114 | E8: 184264 | F8: 174403 | G8: 180430 | H8: 142465 | I8: 163237 | J8: 185414 | K8: 193991 | L8: 0.87 | M8: 0.87 | N8: 0.87 | O8: 0.87 | P8: 0.85 | Q8: 0.85 | R8: 0.85 | S8: 0.85 | T8: 0.86 | U8: 0.86
A9: Total | B9: 220185 | C9: 225931 | D9: 221757 | E9: 212872 | F9: 204566 | G9: 212064 | H9: 168188 | I9: 192313 | J9: 216533 | K9: 226317 | L9: 1 | M9: 1 | N9: 1 | O9: 1 | P9: 1 | Q9: 1 | R9: 1 | S9: 1 | T9: 1 | U9: 1

Sheet 1b.FV charges by offence
A1: Table 1b: Number and percentage of finalised charges for family violence offences, by offence type, 2015/2016 - 2024/2025
A2: For more information on how to interpret these figures, please read the definitions and data notes
A3: Back to contents page
A4: Example interpretation: In 2024/2025, 45% of finalised charges for family violence offences were for assault (14,533 charges).
B5: Number of charges | L5: Percentage of total
A6: Offence type (ANZSOC division) | B6: 2015/2016 | C6: 2016/2017 | D6: 2017/2018 | E6: 2018/2019 | F6: 2019/2020 | G6: 2020/2021 | H6: 2021/2022 | I6: 2022/2023 | J6: 2023/2024 | K6: 2024/2025 | L6: 2015/2016 | M6: 2016/2017 | N6: 2017/2018 | O6: 2018/2019 | P6: 2019/2020 | Q6: 2020/2021 | R6: 2021/2022 | S6: 2022/2023 | T6: 2023/2024 | U6: 2024/2025
A7: 01: Homicide | B7: 39 | C7: 30 | D7: 27 | E7: 23 | F7: 32 | G7: 41 | H7: 32 | I7: 24 | J7: 44 | K7: 39 | L7: <1% | M7: <1% | N7: <1% | O7: <1% | P7: <1% | Q7: <1% | R7: <1% | S7: <1% | T7: <1% | U7: <1%
A8: 02: Assault | B8: 14666 | C8: 15112 | D8: 14841 | E8: 14280 | F8: 14838 | G8: 15637 | H8: 12108 | I8: 13327 | J8: 14283 | K8: 14533 | L8: 0.51 | M8: 0.52 | N8: 0.52 | O8: 0.5 | P8: 0.49 | Q8: 0.49 | R8: 0.47 | S8: 0.46 | T8: 0.46 | U8: 0.45
A9: 03: Sexual offences | B9: 2014 | C9: 1808 | D9: 1780 | E9: 1638 | F9: 1698 | G9: 2136 | H9: 2132 | I9: 2731 | J9: 2992 | K9: 3149 | L9: 0.07 | M9: 0.06 | N9: 0.06 | O9: 0.06 | P9: 0.06 | Q9: 0.07 | R9: 0.08 | S9: 0.09 | T9: 0.1 | U9: 0.1
A10: 04: Harm or endanger persons | B10: 2754 | C10: 3039 | D10: 2889 | E10: 3046 | F10: 3229 | G10: 3486 | H10: 3106 | I10: 3489 | J10: 3834 | K10: 4236 | L10: 0.1 | M10: 0.1 | N10: 0.1 | O10: 0.11 | P10: 0.11 | Q10: 0.11 | R10: 0.12 | S10: 0.12 | T10: 0.12 | U10: 0.13
A11: 05: Robbery, blackmail, and extortion | B11: 9 | C11: 17 | D11: 18 | E11: 26 | F11: 19 | G11: 25 | H11: 18 | I11: 37 | J11: 18 | K11: 27 | L11: <1% | M11: <1% | N11: <1% | O11: <1% | P11: <1% | Q11: <1% | R11: <1% | S11: <1% | T11: <1% | U11: <1%
A12: 06: Burglary | B12: 101 | C12: 134 | D12: 113 | E12: 113 | F12: 135 | G12: 110 | H12: 140 | I12: 153 | J12: 149 | K12: 190 | L12: <1% | M12: <1% | N12: <1% | O12: <1% | P12: <1% | Q12: <1% | R12: 0.01 | S12: 0.01 | T12: <1% | U12: 0.01
A13: 07: Theft | B13: 159 | C13: 178 | D13: 169 | E13: 224 | F13: 280 | G13: 271 | H13: 216 | I13: 266 | J13: 316 | K13: 293 | L13: 0.01 | M13: 0.01 | N13: 0.01 | O13: 0.01 | P13: 0.01 | Q13: 0.01 | R13: 0.01 | S13: 0.01 | T13: 0.01 | U13: 0.01
A14: 08: Fraud and related offences | B14: 26 | C14: 32 | D14: 33 | E14: 25 | F14: 31 | G14: 82 | H14: 52 | I14: 31 | J14: 51 | K14: 109 | L14: <1% | M14: <1% | N14: <1% | O14: <1% | P14: <1% | Q14: <1% | R14: <1% | S14: <1% | T14: <1% | U14: <1%
A15: 09: Drug offences | B15: 28 | C15: 54 | D15: 23 | E15: 39 | F15: 67 | G15: 82 | H15: 77 | I15: 80 | J15: 103 | K15: 142 | L15: <1% | M15: <1% | N15: <1% | O15: <1% | P15: <1% | Q15: <1% | R15: <1% | S15: <1% | T15: <1% | U15: <1%
A16: 10: Weapons and explosives offences | B16: 417 | C16: 436 | D16: 372 | E16: 389 | F16: 463 | G16: 508 | H16: 413 | I16: 447 | J16: 463 | K16: 483 | L16: 0.01 | M16: 0.01 | N16: 0.01 | O16: 0.01 | P16: 0.02 | Q16: 0.02 | R16: 0.02 | S16: 0.02 | T16: 0.01 | U16: 0.01
A17: 11: Property damage | B17: 2442 | C17: 2428 | D17: 2358 | E17: 2511 | F17: 2843 | G17: 2872 | H17: 2057 | I17: 2495 | J17: 2555 | K17: 2379 | L17: 0.08 | M17: 0.08 | N17: 0.08 | O17: 0.09 | P17: 0.09 | Q17: 0.09 | R17: 0.08 | S17: 0.09 | T17: 0.08 | U17: 0.07
A18: 12: Public order, health, and safety offences | B18: 483 | C18: 505 | D18: 472 | E18: 457 | F18: 538 | G18: 494 | H18: 411 | I18: 431 | J18: 489 | K18: 593 | L18: 0.02 | M18: 0.02 | N18: 0.02 | O18: 0.02 | P18: 0.02 | Q18: 0.02 | R18: 0.02 | S18: 0.01 | T18: 0.02 | U18: 0.02
A19: 13: Traffic and vehicle offences | B19: 50 | C19: 67 | D19: 44 | E19: 73 | F19: 99 | G19: 168 | H19: 138 | I19: 163 | J19: 155 | K19: 170 | L19: <1% | M19: <1% | N19: <1% | O19: <1% | P19: <1% | Q19: 0.01 | R19: 0.01 | S19: 0.01 | T19: <1% | U19: 0.01
A20: 14: Offences against justice procedures and orders | B20: 5659 | C20: 5488 | D20: 5499 | E20: 5757 | F20: 5878 | G20: 5694 | H20: 4804 | I20: 5381 | J20: 5642 | K20: 5951 | L20: 0.2 | M20: 0.19 | N20: 0.19 | O20: 0.2 | P20: 0.19 | Q20: 0.18 | R20: 0.19 | S20: 0.19 | T20: 0.18 | U20: 0.18
A21: 15: Offences against government | B21: 1 | C21: 0 | D21: 0 | E21: 1 | F21: 3 | G21: 7 | H21: 1 | I21: 2 | J21: 3 | K21: 2 | L21: <1% | M21: 0 | N21: 0 | O21: <1% | P21: <1% | Q21: <1% | R21: <1% | S21: <1% | T21: <1% | U21: <1%
A22: 16: Environmental offences | B22: 8 | C22: 6 | D22: 4 | E22: 6 | F22: 10 | G22: 18 | H22: 18 | I22: 18 | J22: 21 | K22: 30 | L22: <1% | M22: <1% | N22: <1% | O22: <1% | P22: <1% | Q22: <1% | R22: <1% | S22: <1% | T22: <1% | U22: <1%
A23: 17: Miscellaneous offences | B23: 0 | C23: 0 | D23: 1 | E23: 0 | F23: 0 | G23: 3 | H23: 0 | I23: 1 | J23: 1 | K23: 0 | L23: 0 | M23: 0 | N23: <1% | O23: 0 | P23: 0 | Q23: <1% | R23: 0 | S23: <1% | T23: <1% | U23: 0
A24: Total | B24: 28856 | C24: 29334 | D24: 28643 | E24: 28608 | F24: 30163 | G24: 31634 | H24: 25723 | I24: 29076 | J24: 31119 | K24: 32326 | L24: 1 | M24: 1 | N24: 1 | O24: 1 | P24: 1 | Q24: 1 | R24: 1 | S24: 1 | T24: 1 | U24: 1

Sheet 1c.d.e.FV charges outcome
A1: Table 1c: Number and percentage of finalised charges for family violence offences, by charge outcome, 2015/2016 - 2024/2025
A2: For more information on how to interpret these figures, please read the definitions and data notes
A3: Back to contents page
A4: Example interpretation: In 2024/2025, 59% of finalised charges for family violence offences were convicted (19,063 charges).
B5: Number of charges | L5: Percentage of total
A6: Charge outcome | B6: 2015/2016 | C6: 2016/2017 | D6: 2017/2018 | E6: 2018/2019 | F6: 2019/2020 | G6: 2020/2021 | H6: 2021/2022 | I6: 2022/2023 | J6: 2023/2024 | K6: 2024/2025 | L6: 2015/2016 | M6: 2016/2017 | N6: 2017/2018 | O6: 2018/2019 | P6: 2019/2020 | Q6: 2020/2021 | R6: 2021/2022 | S6: 2022/2023 | T6: 2023/2024 | U6: 2024/2025
A7: Convicted | B7: 18983 | C7: 19026 | D7: 18517 | E7: 18067 | F7: 18926 | G7: 19218 | H7: 15711 | I7: 17359 | J7: 18603 | K7: 19063 | L7: 0.66 | M7: 0.65 | N7: 0.65 | O7: 0.63 | P7: 0.63 | Q7: 0.61 | R7: 0.61 | S7: 0.6 | T7: 0.6 | U7: 0.59
A8: Other proved | B8: 1978 | C8: 2076 | D8: 1986 | E8: 1908 | F8: 1964 | G8: 2100 | H8: 1519 | I8: 1755 | J8: 1765 | K8: 1799 | L8: 0.07 | M8: 0.07 | N8: 0.07 | O8: 0.07 | P8: 0.07 | Q8: 0.07 | R8: 0.06 | S8: 0.06 | T8: 0.06 | U8: 0.06
A9: Not proved | B9: 7807 | C9: 8069 | D9: 8015 | E9: 8508 | F9: 9108 | G9: 10055 | H9: 8238 | I9: 9589 | J9: 10474 | K9: 11214 | L9: 0.27 | M9: 0.28 | N9: 0.28 | O9: 0.3 | P9: 0.3 | Q9: 0.32 | R9: 0.32 | S9: 0.33 | T9: 0.34 | U9: 0.35
A10: Other | B10: 88 | C10: 163 | D10: 125 | E10: 125 | F10: 165 | G10: 261 | H10: 255 | I10: 373 | J10: 277 | K10: 250 | L10: <1% | M10: 0.01 | N10: <1% | O10: <1% | P10: 0.01 | Q10: 0.01 | R10: 0.01 | S10: 0.01 | T10: 0.01 | U10: 0.01
A11: Total | B11: 28856 | C11: 29334 | D11: 28643 | E11: 28608 | F11: 30163 | G11: 31634 | H11: 25723 | I11: 29076 | J11: 31119 | K11: 32326 | L11: 1 | M11: 1 | N11: 1 | O11: 1 | P11: 1 | Q11: 1 | R11: 1 | S11: 1 | T11: 1 | U11: 1
A13: Table 1d: Number of finalised charges for breach of protection order offences, by charge outcome, 2015/2016 - 2024/2025
A14: Example interpretation: In 2024/2025, 68% of finalised charges for breach of protection order offences were convicted (3,753 charges).
B15: Number of charges | L15: Percentage of total
A16: Charge outcome | B16: 2015/2016 | C16: 2016/2017 | D16: 2017/2018 | E16: 2018/2019 | F16: 2019/2020 | G16: 2020/2021 | H16: 2021/2022 | I16: 2022/2023 | J16: 2023/2024 | K16: 2024/2025 | L16: 2015/2016 | M16: 2016/2017 | N16: 2017/2018 | O16: 2018/2019 | P16: 2019/2020 | Q16: 2020/2021 | R16: 2021/2022 | S16: 2022/2023 | T16: 2023/2024 | U16: 2024/2025
A17: Convicted | B17: 4062 | C17: 4009 | D17: 3890 | E17: 4022 | F17: 4073 | G17: 3916 | H17: 3275 | I17: 3581 | J17: 3736 | K17: 3753 | L17: 0.75 | M17: 0.76 | N17: 0.73 | O17: 0.73 | P17: 0.72 | Q17: 0.72 | R17: 0.72 | S17: 0.7 | T17: 0.71 | U17: 0.68
A18: Other proved | B18: 56 | C18: 44 | D18: 47 | E18: 44 | F18: 42 | G18: 95 | H18: 71 | I18: 101 | J18: 105 | K18: 102 | L18: 0.01 | M18: 0.01 | N18: 0.01 | O18: 0.01 | P18: 0.01 | Q18: 0.02 | R18: 0.02 | S18: 0.02 | T18: 0.02 | U18: 0.02
A19: Not proved | B19: 1284 | C19: 1209 | D19: 1379 | E19: 1411 | F19: 1496 | G19: 1433 | H19: 1177 | I19: 1356 | J19: 1424 | K19: 1623 | L19: 0.24 | M19: 0.23 | N19: 0.26 | O19: 0.26 | P19: 0.27 | Q19: 0.26 | R19: 0.26 | S19: 0.27 | T19: 0.27 | U19: 0.3
A20: Other | B20: 3 | C20: 9 | D20: 10 | E20: 5 | F20: 10 | G20: 27 | H20: 24 | I20: 42 | J20: 17 | K20: 20 | L20: <1% | M20: <1% | N20: <1% | O20: <1% | P20: <1% | Q20: <1% | R20: 0.01 | S20: 0.01 | T20: <1% | U20: <1%
A21: Total | B21: 5405 | C21: 5271 | D21: 5326 | E21: 5482 | F21: 5621 | G21: 5471 | H21: 4547 | I21: 5080 | J21: 5282 | K21: 5498 | L21: 1 | M21: 1 | N21: 1 | O21: 1 | P21: 1 | Q21: 1 | R21: 1 | S21: 1 | T21: 1 | U21: 1
A23: Table 1e: Number of finalised charges for assault on a family member offences, by charge outcome, 2018/2019 - 2024/2025
A24: Example interpretation: In 2024/2025, 60% of finalised charges for assault on a family member offences were convicted (3,578 charges).
B25: Number of charges | L25: Percentage of total
A26: Charge outcome | B26: 2015/2016 | C26: 2016/2017 | D26: 2017/2018 | E26: 2018/2019 | F26: 2019/2020 | G26: 2020/2021 | H26: 2021/2022 | I26: 2022/2023 | J26: 2023/2024 | K26: 2024/2025 | L26: 2015/2016 | M26: 2016/2017 | N26: 2017/2018 | O26: 2018/2019 | P26: 2019/2020 | Q26: 2020/2021 | R26: 2021/2022 | S26: 2022/2023 | T26: 2023/2024 | U26: 2024/2025
A27: Convicted | B27: - | C27: - | D27: - | E27: 610 | F27: 3433 | G27: 4140 | H27: 3353 | I27: 3493 | J27: 3638 | K27: 3578 | L27: - | M27: - | N27: - | O27: 0.67 | P27: 0.62 | Q27: 0.61 | R27: 0.61 | S27: 0.6 | T27: 0.61 | U27: 0.6
A28: Other proved | B28: - | C28: - | D28: - | E28: 69 | F28: 529 | G28: 705 | H28: 518 | I28: 592 | J28: 534 | K28: 526 | L28: - | M28: - | N28: - | O28: 0.08 | P28: 0.1 | Q28: 0.1 | R28: 0.09 | S28: 0.1 | T28: 0.09 | U28: 0.09
A29: Not proved | B29: - | C29: - | D29: - | E29: 234 | F29: 1526 | G29: 1888 | H29: 1576 | I29: 1722 | J29: 1799 | K29: 1834 | L29: - | M29: - | N29: - | O29: 0.26 | P29: 0.28 | Q29: 0.28 | R29: 0.29 | S29: 0.29 | T29: 0.3 | U29: 0.31
A30: Other | B30: - | C30: - | D30: - | E30: 4 | F30: 16 | G30: 28 | H30: 35 | I30: 45 | J30: 28 | K30: 34 | L30: - | M30: - | N30: - | O30: <1% | P30: <1% | Q30: <1% | R30: 0.01 | S30: 0.01 | T30: <1% | U30: 0.01
A31: Total | B31: - | C31: - | D31: - | E31: 917 | F31: 5504 | G31: 6761 | H31: 5482 | I31: 5852 | J31: 5999 | K31: 5972 | L31: - | M31: - | N31: - | O31: 1 | P31: 1 | Q31: 1 | R31: 1 | S31: 1 | T31: 1 | U31: 1

Sheet 2a.People charged by offence
A1: Table 2a: Number and percentage of people with finalised charges for family violence offences, by offence type, 2015/2016 - 2024/2025
A2: This data counts a person once per financial year for their most serious family violence offence finalised in the year, and only the details of that charge are shown.
A3: For more information on how to interpret these figures, please read the definitions and data notes
A4: Back to contents page
A5: Example interpretation: In 2024/2025, for 52% of people with finalised charges for family violence offences, their most serious family violence offence was assault (6,416 people).
B6: Number of people | L6: Percentage of total
A7: Offence type (ANZSOC division) | B7: 2015/2016 | C7: 2016/2017 | D7: 2017/2018 | E7: 2018/2019 | F7: 2019/2020 | G7: 2020/2021 | H7: 2021/2022 | I7: 2022/2023 | J7: 2023/2024 | K7: 2024/2025 | L7: 2015/2016 | M7: 2016/2017 | N7: 2017/2018 | O7: 2018/2019 | P7: 2019/2020 | Q7: 2020/2021 | R7: 2021/2022 | S7: 2022/2023 | T7: 2023/2024 | U7: 2024/2025
A8: 01: Homicide | B8: 29 | C8: 24 | D8: 22 | E8: 18 | F8: 23 | G8: 31 | H8: 25 | I8: 18 | J8: 36 | K8: 27 | L8: <1% | M8: <1% | N8: <1% | O8: <1% | P8: <1% | Q8: <1% | R8: <1% | S8: <1% | T8: <1% | U8: <1%
A9: 02: Assault | B9: 8616 | C9: 8863 | D9: 8535 | E9: 8034 | F9: 7611 | G9: 7611 | H9: 5804 | I9: 6296 | J9: 6639 | K9: 6416 | L9: 0.61 | M9: 0.61 | N9: 0.61 | O9: 0.6 | P9: 0.57 | Q9: 0.56 | R9: 0.53 | S9: 0.54 | T9: 0.53 | U9: 0.52
A10: 03: Sexual offences | B10: 425 | C10: 428 | D10: 426 | E10: 387 | F10: 368 | G10: 460 | H10: 467 | I10: 584 | J10: 619 | K10: 595 | L10: 0.03 | M10: 0.03 | N10: 0.03 | O10: 0.03 | P10: 0.03 | Q10: 0.03 | R10: 0.04 | S10: 0.05 | T10: 0.05 | U10: 0.05
A11: 04: Harm or endanger persons | B11: 1151 | C11: 1228 | D11: 1183 | E11: 1125 | F11: 1169 | G11: 1220 | H11: 1087 | I11: 1152 | J11: 1250 | K11: 1379 | L11: 0.08 | M11: 0.08 | N11: 0.08 | O11: 0.08 | P11: 0.09 | Q11: 0.09 | R11: 0.1 | S11: 0.1 | T11: 0.1 | U11: 0.11
A12: 05: Robbery, blackmail, and extortion | B12: 2 | C12: 6 | D12: 7 | E12: 13 | F12: 11 | G12: 13 | H12: 9 | I12: 19 | J12: 8 | K12: 12 | L12: <1% | M12: <1% | N12: <1% | O12: <1% | P12: <1% | Q12: <1% | R12: <1% | S12: <1% | T12: <1% | U12: <1%
A13: 06: Burglary | B13: 47 | C13: 61 | D13: 39 | E13: 54 | F13: 47 | G13: 46 | H13: 69 | I13: 80 | J13: 67 | K13: 94 | L13: <1% | M13: <1% | N13: <1% | O13: <1% | P13: <1% | Q13: <1% | R13: 0.01 | S13: 0.01 | T13: 0.01 | U13: 0.01
A14: 07: Theft | B14: 55 | C14: 72 | D14: 62 | E14: 84 | F14: 96 | G14: 84 | H14: 70 | I14: 89 | J14: 101 | K14: 105 | L14: <1% | M14: <1% | N14: <1% | O14: 0.01 | P14: 0.01 | Q14: 0.01 | R14: 0.01 | S14: 0.01 | T14: 0.01 | U14: 0.01
A15: 08: Fraud and related offences | B15: 11 | C15: 17 | D15: 15 | E15: 12 | F15: 17 | G15: 31 | H15: 14 | I15: 12 | J15: 17 | K15: 22 | L15: <1% | M15: <1% | N15: <1% | O15: <1% | P15: <1% | Q15: <1% | R15: <1% | S15: <1% | T15: <1% | U15: <1%
A16: 09: Drug offences | B16: 6 | C16: 15 | D16: 11 | E16: 12 | F16: 19 | G16: 24 | H16: 19 | I16: 20 | J16: 25 | K16: 44 | L16: <1% | M16: <1% | N16: <1% | O16: <1% | P16: <1% | Q16: <1% | R16: <1% | S16: <1% | T16: <1% | U16: <1%
A17: 10: Weapons and explosives offences | B17: 212 | C17: 196 | D17: 147 | E17: 171 | F17: 182 | G17: 181 | H17: 138 | I17: 167 | J17: 151 | K17: 163 | L17: 0.01 | M17: 0.01 | N17: 0.01 | O17: 0.01 | P17: 0.01 | Q17: 0.01 | R17: 0.01 | S17: 0.01 | T17: 0.01 | U17: 0.01
A18: 11: Property damage | B18: 1173 | C18: 1107 | D18: 1070 | E18: 1082 | F18: 1101 | G18: 1057 | H18: 738 | I18: 791 | J18: 856 | K18: 740 | L18: 0.08 | M18: 0.08 | N18: 0.08 | O18: 0.08 | P18: 0.08 | Q18: 0.08 | R18: 0.07 | S18: 0.07 | T18: 0.07 | U18: 0.06
A19: 12: Public order, health, and safety offences | B19: 249 | C19: 272 | D19: 232 | E19: 240 | F19: 259 | G19: 222 | H19: 187 | I19: 173 | J19: 200 | K19: 238 | L19: 0.02 | M19: 0.02 | N19: 0.02 | O19: 0.02 | P19: 0.02 | Q19: 0.02 | R19: 0.02 | S19: 0.01 | T19: 0.02 | U19: 0.02
A20: 13: Traffic and vehicle offences | B20: 28 | C20: 36 | D20: 19 | E20: 35 | F20: 36 | G20: 84 | H20: 60 | I20: 63 | J20: 52 | K20: 78 | L20: <1% | M20: <1% | N20: <1% | O20: <1% | P20: <1% | Q20: 0.01 | R20: 0.01 | S20: 0.01 | T20: <1% | U20: 0.01
A21: 14: Offences against justice procedures and orders | B21: 2197 | C21: 2209 | D21: 2170 | E21: 2229 | F21: 2407 | G21: 2470 | H21: 2171 | I21: 2294 | J21: 2388 | K21: 2489 | L21: 0.15 | M21: 0.15 | N21: 0.16 | O21: 0.17 | P21: 0.18 | Q21: 0.18 | R21: 0.2 | S21: 0.2 | T21: 0.19 | U21: 0.2
A22: 15: Offences against government | B22: 1 | C22: 0 | D22: 0 | E22: 1 | F22: 3 | G22: 3 | H22: 0 | I22: 0 | J22: 1 | K22: 2 | L22: <1% | M22: 0 | N22: 0 | O22: <1% | P22: <1% | Q22: <1% | R22: 0 | S22: 0 | T22: <1% | U22: <1%
A23: 16: Environmental offences | B23: 3 | C23: 2 | D23: 1 | E23: 2 | F23: 0 | G23: 3 | H23: 2 | I23: 2 | J23: 9 | K23: 10 | L23: <1% | M23: <1% | N23: <1% | O23: <1% | P23: 0 | Q23: <1% | R23: <1% | S23: <1% | T23: <1% | U23: <1%
A24: 17: Miscellaneous offences | B24: 0 | C24: 0 | D24: 1 | E24: 0 | F24: 0 | G24: 1 | H24: 0 | I24: 1 | J24: 1 | K24: 0 | L24: 0 | M24: 0 | N24: <1% | O24: 0 | P24: 0 | Q24: <1% | R24: 0 | S24: <1% | T24: <1% | U24: 0
A25: Total | B25: 14205 | C25: 14536 | D25: 13940 | E25: 13499 | F25: 13349 | G25: 13541 | H25: 10860 | I25: 11761 | J25: 12420 | K25: 12414 | L25: 1 | M25: 1 | N25: 1 | O25: 1 | P25: 1 | Q25: 1 | R25: 1 | S25: 1 | T25: 1 | U25: 1

Sheet 2b.People charged court outcome
A1: Table 2b: Number and percentage of people with finalised charges for family violence offences, by court and charge outcome, 2015/2016 -2024/2025
A2: This data counts a person once per financial year for their most serious family violence offence finalised in the year, and only the details of that charge are shown.
A3: For more information on how to interpret these figures, please read the definitions and data notes
A4: Back to contents page
A5: Example interpretation: In 2024/2025, 711 people had their most serious finalised charge for a family violence offence in the Taitokerau justice service area.
D6: Number of people | N6: Percentage of total
C7: Charge outcome | D7: 2015/2016 | E7: 2016/2017 | F7: 2017/2018 | G7: 2018/2019 | H7: 2019/2020 | I7: 2020/2021 | J7: 2021/2022 | K7: 2022/2023 | L7: 2023/2024 | M7: 2024/2025 | N7: 2015/2016 | O7: 2016/2017 | P7: 2017/2018 | Q7: 2018/2019 | R7: 2019/2020 | S7: 2020/2021 | T7: 2021/2022 | U7: 2022/2023 | V7: 2023/2024 | W7: 2024/2025
A8: New Zealand total | C8: Convicted | D8: 10390 | E8: 10448 | F8: 10026 | G8: 9555 | H8: 9348 | I8: 9465 | J8: 7480 | K8: 7983 | L8: 8568 | M8: 8610 | N8: 0.73 | O8: 0.72 | P8: 0.72 | Q8: 0.71 | R8: 0.7 | S8: 0.7 | T8: 0.69 | U8: 0.68 | V8: 0.69 | W8: 0.69
C9: Other proved | D9: 1560 | E9: 1623 | F9: 1555 | G9: 1462 | H9: 1439 | I9: 1442 | J9: 1033 | K9: 1174 | L9: 1187 | M9: 1180 | N9: 0.11 | O9: 0.11 | P9: 0.11 | Q9: 0.11 | R9: 0.11 | S9: 0.11 | T9: 0.1 | U9: 0.1 | V9: 0.1 | W9: 0.1
C10: Not proved | D10: 2219 | E10: 2395 | F10: 2295 | G10: 2427 | H10: 2504 | I10: 2540 | J10: 2267 | K10: 2507 | L10: 2592 | M10: 2545 | N10: 0.16 | O10: 0.16 | P10: 0.16 | Q10: 0.18 | R10: 0.19 | S10: 0.19 | T10: 0.21 | U10: 0.21 | V10: 0.21 | W10: 0.21
C11: Other | D11: 36 | E11: 70 | F11: 64 | G11: 55 | H11: 58 | I11: 94 | J11: 80 | K11: 97 | L11: 73 | M11: 79 | N11: <1% | O11: <1% | P11: <1% | Q11: <1% | R11: <1% | S11: 0.01 | T11: 0.01 | U11: 0.01 | V11: 0.01 | W11: 0.01
C12: Total | D12: 14205 | E12: 14536 | F12: 13940 | G12: 13499 | H12: 13349 | I12: 13541 | J12: 10860 | K12: 11761 | L12: 12420 | M12: 12414 | N12: 1 | O12: 1 | P12: 1 | Q12: 1 | R12: 1 | S12: 1 | T12: 1 | U12: 1 | V12: 1 | W12: 1
A13: Choose which categories to show or hide
A14: Justice service area | B14: Court | C14: Charge outcome | D14: 2015/2016 | E14: 2016/2017 | F14: 2017/2018 | G14: 2018/2019 | H14: 2019/2020 | I14: 2020/2021 | J14: 2021/2022 | K14: 2022/2023 | L14: 2023/2024 | M14: 2024/2025
A15: Taitokerau | B15: Dargaville | C15: Convicted | D15: 34 | E15: 27 | F15: 27 | G15: 23 | H15: 11 | I15: 14 | J15: 12 | K15: 11 | L15: 10 | M15: 9
A16: Taitokerau | B16: =B15 -> Dargaville | C16: Other proved | D16: 2 | E16: 2 | F16: 3 | G16: 1 | H16: 1 | I16: 1 | J16: 0 | K16: 2 | L16: 0 | M16: 1
A17: Taitokerau | B17: =B16 -> Dargaville | C17: Not proved | D17: 4 | E17: 3 | F17: 2 | G17: 4 | H17: 2 | I17: 5 | J17: 2 | K17: 1 | L17: 2 | M17: 0
A18: Taitokerau | B18: =B17 -> Dargaville | C18: Other | D18: 0 | E18: 0 | F18: 0 | G18: 0 | H18: 0 | I18: 0 | J18: 0 | K18: 0 | L18: 0 | M18: 0
A19: Taitokerau | B19: =B18 -> Dargaville | C19: Total | D19: 40 | E19: 32 | F19: 32 | G19: 28 | H19: 14 | I19: 20 | J19: 14 | K19: 14 | L19: 12 | M19: 10
A20: Taitokerau | B20: Kaikohe | C20: Convicted | D20: 188 | E20: 195 | F20: 156 | G20: 123 | H20: 148 | I20: 149 | J20: 133 | K20: 124 | L20: 123 | M20: 127
A21: Taitokerau | B21: =B20 -> Kaikohe | C21: Other proved | D21: 11 | E21: 23 | F21: 16 | G21: 9 | H21: 11 | I21: 12 | J21: 7 | K21: 13 | L21: 6 | M21: 9
A22: Taitokerau | B22: =B21 -> Kaikohe | C22: Not proved | D22: 22 | E22: 30 | F22: 33 | G22: 29 | H22: 29 | I22: 28 | J22: 23 | K22: 22 | L22: 21 | M22: 14
A23: Taitokerau | B23: =B22 -> Kaikohe | C23: Other | D23: 0 | E23: 1 | F23: 5 | G23: 0 | H23: 0 | I23: 2 | J23: 0 | K23: 5 | L23: 2 | M23: 2
A24: Taitokerau | B24: =B23 -> Kaikohe | C24: Total | D24: 221 | E24: 249 | F24: 210 | G24: 161 | H24: 188 | I24: 191 | J24: 163 | K24: 164 | L24: 152 | M24: 152
A25: Taitokerau | B25: Kaitaia | C25: Convicted | D25: 124 | E25: 132 | F25: 109 | G25: 80 | H25: 129 | I25: 162 | J25: 101 | K25: 85 | L25: 99 | M25: 118
A26: Taitokerau | B26: =B25 -> Kaitaia | C26: Other proved | D26: 10 | E26: 10 | F26: 9 | G26: 7 | H26: 9 | I26: 6 | J26: 6 | K26: 12 | L26: 6 | M26: 9
A27: Taitokerau | B27: =B26 -> Kaitaia | C27: Not proved | D27: 17 | E27: 13 | F27: 21 | G27: 32 | H27: 19 | I27: 22 | J27: 22 | K27: 31 | L27: 23 | M27: 28
A28: Taitokerau | B28: =B27 -> Kaitaia | C28: Other | D28: 0 | E28: 0 | F28: 0 | G28: 1 | H28: 2 | I28: 3 | J28: 2 | K28: 2 | L28: 1 | M28: 1
A29: Taitokerau | B29: =B28 -> Kaitaia | C29: Total | D29: 151 | E29: 155 | F29: 139 | G29: 120 | H29: 159 | I29: 193 | J29: 131 | K29: 130 | L29: 129 | M29: 156
A30: Taitokerau | B30: Whangārei | C30: Convicted | D30: 322 | E30: 274 | F30: 256 | G30: 249 | H30: 304 | I30: 260 | J30: 258 | K30: 265 | L30: 319 | M30: 309
A31: Taitokerau | B31: =B30 -> Whangārei | C31: Other proved | D31: 23 | E31: 15 | F31: 15 | G31: 18 | H31: 15 | I31: 16 | J31: 17 | K31: 12 | L31: 25 | M31: 19
A32: Taitokerau | B32: =B31 -> Whangārei | C32: Not proved | D32: 59 | E32: 45 | F32: 39 | G32: 54 | H32: 37 | I32: 62 | J32: 54 | K32: 60 | L32: 69 | M32: 58
A33: Taitokerau | B33: =B32 -> Whangārei | C33: Other | D33: 1 | E33: 2 | F33: 4 | G33: 5 | H33: 2 | I33: 5 | J33: 2 | K33: 4 | L33: 5 | M33: 7
A34: Taitokerau | B34: =B33 -> Whangārei | C34: Total | D34: 405 | E34: 336 | F34: 314 | G34: 326 | H34: 358 | I34: 343 | J34: 331 | K34: 341 | L34: 418 | M34: 393
A35: Taitokerau | B35: Justice service area total | C35: Convicted | D35: 668 | E35: 628 | F35: 548 | G35: 475 | H35: 592 | I35: 585 | J35: 504 | K35: 485 | L35: 551 | M35: 563
A36: Taitokerau | B36: =B35 -> Justice service area total | C36: Other proved | D36: 46 | E36: 50 | F36: 43 | G36: 35 | H36: 36 | I36: 35 | J36: 30 | K36: 39 | L36: 37 | M36: 38
A37: Taitokerau | B37: =B36 -> Justice service area total | C37: Not proved | D37: 102 | E37: 91 | F37: 95 | G37: 119 | H37: 87 | I37: 117 | J37: 101 | K37: 114 | L37: 115 | M37: 100
A38: Taitokerau | B38: =B37 -> Justice service area total | C38: Other | D38: 1 | E38: 3 | F38: 9 | G38: 6 | H38: 4 | I38: 10 | J38: 4 | K38: 11 | L38: 8 | M38: 10
A39: Taitokerau | B39: =B38 -> Justice service area total | C39: Total | D39: 817 | E39: 772 | F39: 695 | G39: 635 | H39: 719 | I39: 747 | J39: 639 | K39: 649 | L39: 711 | M39: 711
A40: Waitematā | B40: North Shore | C40: Convicted | D40: 189 | E40: 167 | F40: 183 | G40: 175 | H40: 159 | I40: 160 | J40: 103 | K40: 100 | L40: 164 | M40: 154
...

Sheet 2c.People charged demographic
A1: Table 2c: Number and percentage of people with finalised charges for family violence offences, by gender, ethnicity and age group, 2015/2016 -2024/2025
A2: This data counts a person once per financial year. All of their charges have the same recorded gender and ethnicity information. Age in this table is the person's age at the offence date of their most serious family violence charge finalised in the year.
A3: 'Multiple ethnicity' information is used in this table. This means for each ethnicity a person is counted once per year (e.g. they may be counted in both European and Māori). As some people have multiple recorded ethnicities this will result in the sum of ethnicities being greater than the total number of people each year.
A4: For more information on how to interpret these figures, please read the definitions and data notes
A5: Back to contents page
A6: Example interpretation: In 2024/2025, 87% of people with finalised charges for family violence offences were male (10,829 people).
B7: Number of people | L7: Percentage of total
B8: 2015/2016 | C8: 2016/2017 | D8: 2017/2018 | E8: 2018/2019 | F8: 2019/2020 | G8: 2020/2021 | H8: 2021/2022 | I8: 2022/2023 | J8: 2023/2024 | K8: 2024/2025 | L8: 2015/2016 | M8: 2016/2017 | N8: 2017/2018 | O8: 2018/2019 | P8: 2019/2020 | Q8: 2020/2021 | R8: 2021/2022 | S8: 2022/2023 | T8: 2023/2024 | U8: 2024/2025
A9: Total | B9: 14205 | C9: 14536 | D9: 13940 | E9: 13499 | F9: 13349 | G9: 13541 | H9: 10860 | I9: 11761 | J9: 12420 | K9: 12414 | L9: 1 | M9: 1 | N9: 1 | O9: 1 | P9: 1 | Q9: 1 | R9: 1 | S9: 1 | T9: 1 | U9: 1
A10: Gender
A11: Female | B11: 2111 | C11: 2195 | D11: 1996 | E11: 1785 | F11: 1675 | G11: 1722 | H11: 1278 | I11: 1455 | J11: 1561 | K11: 1585 | L11: 0.15 | M11: 0.15 | N11: 0.14 | O11: 0.13 | P11: 0.13 | Q11: 0.13 | R11: 0.12 | S11: 0.12 | T11: 0.13 | U11: 0.13
A12: Male | B12: 12086 | C12: 12338 | D12: 11938 | E12: 11713 | F12: 11673 | G12: 11818 | H12: 9581 | I12: 10304 | J12: 10858 | K12: 10829 | L12: 0.85 | M12: 0.85 | N12: 0.86 | O12: 0.87 | P12: 0.87 | Q12: 0.87 | R12: 0.88 | S12: 0.88 | T12: 0.87 | U12: 0.87
A13: Unknown | B13: 8 | C13: 3 | D13: 6 | E13: 1 | F13: 1 | G13: 1 | H13: 1 | I13: 2 | J13: 1 | K13: 0 | L13: <1% | M13: <1% | N13: <1% | O13: <1% | P13: <1% | Q13: <1% | R13: <1% | S13: <1% | T13: <1% | U13: 0
A14: Ethnicity
A15: European | B15: 5574 | C15: 5513 | D15: 5351 | E15: 5009 | F15: 4972 | G15: 4950 | H15: 3943 | I15: 4056 | J15: 4053 | K15: 4105 | L15: 0.39 | M15: 0.38 | N15: 0.38 | O15: 0.37 | P15: 0.37 | Q15: 0.37 | R15: 0.36 | S15: 0.34 | T15: 0.33 | U15: 0.33
A16: Māori | B16: 7134 | C16: 7420 | D16: 7098 | E16: 6898 | F16: 7001 | G16: 7024 | H16: 5786 | I16: 6148 | J16: 6570 | K16: 6487 | L16: 0.5 | M16: 0.51 | N16: 0.51 | O16: 0.51 | P16: 0.52 | Q16: 0.52 | R16: 0.53 | S16: 0.52 | T16: 0.53 | U16: 0.52
A17: Pacific Peoples | B17: 1622 | C17: 1679 | D17: 1538 | E17: 1580 | F17: 1441 | G17: 1508 | H17: 1171 | I17: 1391 | J17: 1417 | K17: 1318 | L17: 0.11 | M17: 0.12 | N17: 0.11 | O17: 0.12 | P17: 0.11 | Q17: 0.11 | R17: 0.11 | S17: 0.12 | T17: 0.11 | U17: 0.11
A18: Asian | B18: 546 | C18: 612 | D18: 587 | E18: 582 | F18: 534 | G18: 552 | H18: 410 | I18: 448 | J18: 472 | K18: 456 | L18: 0.04 | M18: 0.04 | N18: 0.04 | O18: 0.04 | P18: 0.04 | Q18: 0.04 | R18: 0.04 | S18: 0.04 | T18: 0.04 | U18: 0.04
A19: Other | B19: 323 | C19: 331 | D19: 303 | E19: 314 | F19: 281 | G19: 289 | H19: 224 | I19: 233 | J19: 257 | K19: 219 | L19: 0.02 | M19: 0.02 | N19: 0.02 | O19: 0.02 | P19: 0.02 | Q19: 0.02 | R19: 0.02 | S19: 0.02 | T19: 0.02 | U19: 0.02
A20: Unknown | B20: 86 | C20: 90 | D20: 96 | E20: 101 | F20: 107 | G20: 135 | H20: 121 | I20: 295 | J20: 464 | K20: 595 | L20: 0.01 | M20: 0.01 | N20: 0.01 | O20: 0.01 | P20: 0.01 | Q20: 0.01 | R20: 0.01 | S20: 0.03 | T20: 0.04 | U20: 0.05
A21: Age group (years)
A22: 19 years and under | B22: 1284 | C22: 1240 | D22: 1100 | E22: 976 | F22: 788 | G22: 762 | H22: 564 | I22: 607 | J22: 633 | K22: 604 | L22: 0.09 | M22: 0.09 | N22: 0.08 | O22: 0.07 | P22: 0.06 | Q22: 0.06 | R22: 0.05 | S22: 0.05 | T22: 0.05 | U22: 0.05
A23: 20-24 | B23: 2657 | C23: 2556 | D23: 2296 | E23: 2163 | F23: 2030 | G23: 1966 | H23: 1419 | I23: 1539 | J23: 1520 | K23: 1451 | L23: 0.19 | M23: 0.18 | N23: 0.16 | O23: 0.16 | P23: 0.15 | Q23: 0.15 | R23: 0.13 | S23: 0.13 | T23: 0.12 | U23: 0.12
A24: 25-29 | B24: 2636 | C24: 2760 | D24: 2790 | E24: 2685 | F24: 2657 | G24: 2655 | H24: 1989 | I24: 2171 | J24: 2216 | K24: 2120 | L24: 0.19 | M24: 0.19 | N24: 0.2 | O24: 0.2 | P24: 0.2 | Q24: 0.2 | R24: 0.18 | S24: 0.18 | T24: 0.18 | U24: 0.17
A25: 30-34 | B25: 2120 | C25: 2290 | D25: 2256 | E25: 2212 | F25: 2410 | G25: 2542 | H25: 2174 | I25: 2215 | J25: 2472 | K25: 2385 | L25: 0.15 | M25: 0.16 | N25: 0.16 | O25: 0.16 | P25: 0.18 | Q25: 0.19 | R25: 0.2 | S25: 0.19 | T25: 0.2 | U25: 0.19
A26: 35-39 | B26: 1716 | C26: 1784 | D26: 1744 | E26: 1807 | F26: 1785 | G26: 1876 | H26: 1640 | I26: 1821 | J26: 1973 | K26: 2029 | L26: 0.12 | M26: 0.12 | N26: 0.13 | O26: 0.13 | P26: 0.13 | Q26: 0.14 | R26: 0.15 | S26: 0.15 | T26: 0.16 | U26: 0.16
A27: 40-44 | B27: 1472 | C27: 1473 | D27: 1402 | E27: 1396 | F27: 1379 | G27: 1432 | H27: 1165 | I27: 1280 | J27: 1378 | K27: 1464 | L27: 0.1 | M27: 0.1 | N27: 0.1 | O27: 0.1 | P27: 0.1 | Q27: 0.11 | R27: 0.11 | S27: 0.11 | T27: 0.11 | U27: 0.12
A28: 45-49 | B28: 1080 | C28: 1112 | D28: 1088 | E28: 1023 | F28: 1057 | G28: 1042 | H28: 812 | I28: 918 | J28: 927 | K28: 976 | L28: 0.08 | M28: 0.08 | N28: 0.08 | O28: 0.08 | P28: 0.08 | Q28: 0.08 | R28: 0.07 | S28: 0.08 | T28: 0.07 | U28: 0.08
A29: 50-54 | B29: 646 | C29: 667 | D29: 657 | E29: 662 | F29: 616 | G29: 605 | H29: 533 | I29: 593 | J29: 631 | K29: 644 | L29: 0.05 | M29: 0.05 | N29: 0.05 | O29: 0.05 | P29: 0.05 | Q29: 0.04 | R29: 0.05 | S29: 0.05 | T29: 0.05 | U29: 0.05
A30: 55-59 | B30: 326 | C30: 338 | D30: 317 | E30: 313 | F30: 353 | G30: 354 | H30: 311 | I30: 329 | J30: 348 | K30: 383 | L30: 0.02 | M30: 0.02 | N30: 0.02 | O30: 0.02 | P30: 0.03 | Q30: 0.03 | R30: 0.03 | S30: 0.03 | T30: 0.03 | U30: 0.03
A31: 60-64 | B31: 146 | C31: 157 | D31: 162 | E31: 129 | F31: 143 | G31: 157 | H31: 129 | I31: 148 | J31: 150 | K31: 168 | L31: 0.01 | M31: 0.01 | N31: 0.01 | O31: 0.01 | P31: 0.01 | Q31: 0.01 | R31: 0.01 | S31: 0.01 | T31: 0.01 | U31: 0.01
A32: 65 years and over | B32: 112 | C32: 132 | D32: 108 | E32: 103 | F32: 114 | G32: 118 | H32: 88 | I32: 98 | J32: 121 | K32: 147 | L32: 0.01 | M32: 0.01 | N32: 0.01 | O32: 0.01 | P32: 0.01 | Q32: 0.01 | R32: 0.01 | S32: 0.01 | T32: 0.01 | U32: 0.01
A33: Unknown | B33: 10 | C33: 27 | D33: 20 | E33: 30 | F33: 17 | G33: 32 | H33: 36 | I33: 42 | J33: 51 | K33: 43 | L33: <1% | M33: <1% | N33: <1% | O33: <1% | P33: <1% | Q33: <1% | R33: <1% | S33: <1% | T33: <1% | U33: <1%

Sheet 3a.People convicted by offence
A1: Table 3a: Number and percentage of people convicted of family violence offences, by offence type, 2015/2016 - 2024/2025
A2: This data counts a person once per financial year for their most serious family violence conviction, and only the details of that convicted charge are shown.
A3: For more information on how to interpret these figures, please read the definitions and data notes
A4: Back to contents page
A5: Example interpretation: In 2024/2025, for 50% of people convicted of a family violence offence, their most serious family violence conviction was for assault (4,278 people).
B6: Number of people | L6: Percentage of total
A7: Offence type (ANZSOC division) | B7: 2015/2016 | C7: 2016/2017 | D7: 2017/2018 | E7: 2018/2019 | F7: 2019/2020 | G7: 2020/2021 | H7: 2021/2022 | I7: 2022/2023 | J7: 2023/2024 | K7: 2024/2025 | L7: 2015/2016 | M7: 2016/2017 | N7: 2017/2018 | O7: 2018/2019 | P7: 2019/2020 | Q7: 2020/2021 | R7: 2021/2022 | S7: 2022/2023 | T7: 2023/2024 | U7: 2024/2025
A8: 01: Homicide | B8: 23 | C8: 17 | D8: 12 | E8: 11 | F8: 16 | G8: 22 | H8: 20 | I8: 9 | J8: 28 | K8: 13 | L8: <1% | M8: <1% | N8: <1% | O8: <1% | P8: <1% | Q8: <1% | R8: <1% | S8: <1% | T8: <1% | U8: <1%
A9: 02: Assault | B9: 6089 | C9: 6123 | D9: 5924 | E9: 5458 | F9: 5045 | G9: 5072 | H9: 3834 | I9: 4075 | J9: 4394 | K9: 4278 | L9: 0.59 | M9: 0.59 | N9: 0.59 | O9: 0.57 | P9: 0.54 | Q9: 0.54 | R9: 0.51 | S9: 0.51 | T9: 0.51 | U9: 0.5
A10: 03: Sexual offences | B10: 211 | C10: 249 | D10: 253 | E10: 205 | F10: 237 | G10: 234 | H10: 245 | I10: 320 | J10: 331 | K10: 314 | L10: 0.02 | M10: 0.02 | N10: 0.03 | O10: 0.02 | P10: 0.03 | Q10: 0.02 | R10: 0.03 | S10: 0.04 | T10: 0.04 | U10: 0.04
A11: 04: Harm or endanger persons | B11: 825 | C11: 853 | D11: 813 | E11: 781 | F11: 791 | G11: 810 | H11: 698 | I11: 726 | J11: 833 | K11: 905 | L11: 0.08 | M11: 0.08 | N11: 0.08 | O11: 0.08 | P11: 0.08 | Q11: 0.09 | R11: 0.09 | S11: 0.09 | T11: 0.1 | U11: 0.11
A12: 05: Robbery, blackmail, and extortion | B12: 0 | C12: 3 | D12: 4 | E12: 6 | F12: 3 | G12: 7 | H12: 5 | I12: 11 | J12: 3 | K12: 6 | L12: 0 | M12: <1% | N12: <1% | O12: <1% | P12: <1% | Q12: <1% | R12: <1% | S12: <1% | T12: <1% | U12: <1%
A13: 06: Burglary | B13: 32 | C13: 34 | D13: 18 | E13: 28 | F13: 30 | G13: 27 | H13: 38 | I13: 45 | J13: 30 | K13: 60 | L13: <1% | M13: <1% | N13: <1% | O13: <1% | P13: <1% | Q13: <1% | R13: 0.01 | S13: 0.01 | T13: <1% | U13: 0.01
A14: 07: Theft | B14: 32 | C14: 38 | D14: 39 | E14: 49 | F14: 55 | G14: 55 | H14: 41 | I14: 52 | J14: 50 | K14: 63 | L14: <1% | M14: <1% | N14: <1% | O14: 0.01 | P14: 0.01 | Q14: 0.01 | R14: 0.01 | S14: 0.01 | T14: 0.01 | U14: 0.01
A15: 08: Fraud and related offences | B15: 10 | C15: 12 | D15: 11 | E15: 9 | F15: 9 | G15: 15 | H15: 10 | I15: 5 | J15: 9 | K15: 13 | L15: <1% | M15: <1% | N15: <1% | O15: <1% | P15: <1% | Q15: <1% | R15: <1% | S15: <1% | T15: <1% | U15: <1%
A16: 09: Drug offences | B16: 4 | C16: 11 | D16: 6 | E16: 11 | F16: 13 | G16: 17 | H16: 13 | I16: 13 | J16: 14 | K16: 33 | L16: <1% | M16: <1% | N16: <1% | O16: <1% | P16: <1% | Q16: <1% | R16: <1% | S16: <1% | T16: <1% | U16: <1%
A17: 10: Weapons and explosives offences | B17: 142 | C17: 133 | D17: 107 | E17: 119 | F17: 116 | G17: 125 | H17: 83 | I17: 107 | J17: 101 | K17: 111 | L17: 0.01 | M17: 0.01 | N17: 0.01 | O17: 0.01 | P17: 0.01 | Q17: 0.01 | R17: 0.01 | S17: 0.01 | T17: 0.01 | U17: 0.01
A18: 11: Property damage | B18: 922 | C18: 848 | D18: 809 | E18: 792 | F18: 821 | G18: 817 | H18: 549 | I18: 576 | J18: 651 | K18: 565 | L18: 0.09 | M18: 0.08 | N18: 0.08 | O18: 0.08 | P18: 0.09 | Q18: 0.09 | R18: 0.07 | S18: 0.07 | T18: 0.08 | U18: 0.07
A19: 12: Public order, health, and safety offences | B19: 204 | C19: 203 | D19: 177 | E19: 182 | F19: 190 | G19: 168 | H19: 145 | I19: 130 | J19: 141 | K19: 180 | L19: 0.02 | M19: 0.02 | N19: 0.02 | O19: 0.02 | P19: 0.02 | Q19: 0.02 | R19: 0.02 | S19: 0.02 | T19: 0.02 | U19: 0.02
A20: 13: Traffic and vehicle offences | B20: 27 | C20: 33 | D20: 16 | E20: 28 | F20: 30 | G20: 72 | H20: 50 | I20: 51 | J20: 46 | K20: 64 | L20: <1% | M20: <1% | N20: <1% | O20: <1% | P20: <1% | Q20: 0.01 | R20: 0.01 | S20: 0.01 | T20: 0.01 | U20: 0.01
A21: 14: Offences against justice procedures and orders | B21: 1866 | C21: 1891 | D21: 1837 | E21: 1874 | F21: 1992 | G21: 2020 | H21: 1747 | I21: 1863 | J21: 1934 | K21: 1995 | L21: 0.18 | M21: 0.18 | N21: 0.18 | O21: 0.2 | P21: 0.21 | Q21: 0.21 | R21: 0.23 | S21: 0.23 | T21: 0.23 | U21: 0.23
A22: 15: Offences against government | B22: 0 | C22: 0 | D22: 0 | E22: 1 | F22: 0 | G22: 1 | H22: 0 | I22: 0 | J22: 1 | K22: 2 | L22: 0 | M22: 0 | N22: 0 | O22: <1% | P22: 0 | Q22: <1% | R22: 0 | S22: 0 | T22: <1% | U22: <1%
A23: 16: Environmental offences | B23: 3 | C23: 0 | D23: 0 | E23: 1 | F23: 0 | G23: 3 | H23: 2 | I23: 0 | J23: 2 | K23: 8 | L23: <1% | M23: 0 | N23: 0 | O23: <1% | P23: 0 | Q23: <1% | R23: <1% | S23: 0 | T23: <1% | U23: <1%
A24: 17: Miscellaneous offences | B24: 0 | C24: 0 | D24: 0 | E24: 0 | F24: 0 | G24: 0 | H24: 0 | I24: 0 | J24: 0 | K24: 0 | L24: 0 | M24: 0 | N24: 0 | O24: 0 | P24: 0 | Q24: 0 | R24: 0 | S24: 0 | T24: 0 | U24: 0
A25: Total | B25: 10390 | C25: 10448 | D25: 10026 | E25: 9555 | F25: 9348 | G25: 9465 | H25: 7480 | I25: 7983 | J25: 8568 | K25: 8610 | L25: 1 | M25: 1 | N25: 1 | O25: 1 | P25: 1 | Q25: 1 | R25: 1 | S25: 1 | T25: 1 | U25: 1

Sheet 3b.People convicted sentence
A1: Table 3b: Number and percentage of people convicted of family violence offences, by most serious sentence, 2015/2016 - 2024/2025
A2: This data counts a person once per financial year for their most serious family violence conviction, and only the details of that convicted charge are shown.
A3: For more information on how to interpret these figures, please read the definitions and data notes
A4: Back to contents page
A5: Example interpretation: In 2024/2025, 29% of people convicted of a family violence offence received an imprisonment sentence as their most serious sentence (2,465 people).
B6: Number of people | L6: Percentage of total
A7: Most serious sentence | B7: 2015/2016 | C7: 2016/2017 | D7: 2017/2018 | E7: 2018/2019 | F7: 2019/2020 | G7: 2020/2021 | H7: 2021/2022 | I7: 2022/2023 | J7: 2023/2024 | K7: 2024/2025 | L7: 2015/2016 | M7: 2016/2017 | N7: 2017/2018 | O7: 2018/2019 | P7: 2019/2020 | Q7: 2020/2021 | R7: 2021/2022 | S7: 2022/2023 | T7: 2023/2024 | U7: 2024/2025
A8: Imprisonment | B8: 2455 | C8: 2598 | D8: 2561 | E8: 2301 | F8: 2442 | G8: 1986 | H8: 1777 | I8: 1965 | J8: 2315 | K8: 2465 | L8: 0.24 | M8: 0.25 | N8: 0.26 | O8: 0.24 | P8: 0.26 | Q8: 0.21 | R8: 0.24 | S8: 0.25 | T8: 0.27 | U8: 0.29
A9: Home detention | B9: 540 | C9: 566 | D9: 628 | E9: 591 | F9: 634 | G9: 795 | H9: 635 | I9: 745 | J9: 792 | K9: 841 | L9: 0.05 | M9: 0.05 | N9: 0.06 | O9: 0.06 | P9: 0.07 | Q9: 0.08 | R9: 0.08 | S9: 0.09 | T9: 0.09 | U9: 0.1
A10: Community detention | B10: 620 | C10: 704 | D10: 742 | E10: 783 | F10: 832 | G10: 1089 | H10: 788 | I10: 841 | J10: 944 | K10: 886 | L10: 0.06 | M10: 0.07 | N10: 0.07 | O10: 0.08 | P10: 0.09 | Q10: 0.12 | R10: 0.11 | S10: 0.11 | T10: 0.11 | U10: 0.1
A11: Intensive supervision | B11: 616 | C11: 714 | D11: 773 | E11: 898 | F11: 1022 | G11: 1157 | H11: 939 | I11: 1034 | J11: 1056 | K11: 931 | L11: 0.06 | M11: 0.07 | N11: 0.08 | O11: 0.09 | P11: 0.11 | Q11: 0.12 | R11: 0.13 | S11: 0.13 | T11: 0.12 | U11: 0.11
A12: Community work | B12: 2577 | C12: 2391 | D12: 2066 | E12: 1644 | F12: 1340 | G12: 1370 | H12: 962 | I12: 916 | J12: 1032 | K12: 1092 | L12: 0.25 | M12: 0.23 | N12: 0.21 | O12: 0.17 | P12: 0.14 | Q12: 0.14 | R12: 0.13 | S12: 0.11 | T12: 0.12 | U12: 0.13
A13: Supervision | B13: 1438 | C13: 1495 | D13: 1427 | E13: 1584 | F13: 1515 | G13: 1618 | H13: 1243 | I13: 1348 | J13: 1304 | K13: 1234 | L13: 0.14 | M13: 0.14 | N13: 0.14 | O13: 0.17 | P13: 0.16 | Q13: 0.17 | R13: 0.17 | S13: 0.17 | T13: 0.15 | U13: 0.14
A14: Monetary | B14: 688 | C14: 665 | D14: 609 | E14: 533 | F14: 477 | G14: 441 | H14: 337 | I14: 339 | J14: 301 | K14: 289 | L14: 0.07 | M14: 0.06 | N14: 0.06 | O14: 0.06 | P14: 0.05 | Q14: 0.05 | R14: 0.05 | S14: 0.04 | T14: 0.04 | U14: 0.03
A15: Deferment | B15: 1044 | C15: 987 | D15: 893 | E15: 869 | F15: 738 | G15: 735 | H15: 536 | I15: 531 | J15: 534 | K15: 528 | L15: 0.1 | M15: 0.09 | N15: 0.09 | O15: 0.09 | P15: 0.08 | Q15: 0.08 | R15: 0.07 | S15: 0.07 | T15: 0.06 | U15: 0.06
A16: Other | B16: 116 | C16: 77 | D16: 75 | E16: 89 | F16: 82 | G16: 65 | H16: 61 | I16: 68 | J16: 71 | K16: 63 | L16: 0.01 | M16: 0.01 | N16: 0.01 | O16: 0.01 | P16: 0.01 | Q16: 0.01 | R16: 0.01 | S16: 0.01 | T16: 0.01 | U16: 0.01
A17: No sentence recorded | B17: 296 | C17: 251 | D17: 252 | E17: 263 | F17: 266 | G17: 209 | H17: 202 | I17: 196 | J17: 219 | K17: 281 | L17: 0.03 | M17: 0.02 | N17: 0.03 | O17: 0.03 | P17: 0.03 | Q17: 0.02 | R17: 0.03 | S17: 0.02 | T17: 0.03 | U17: 0.03
A18: Total | B18: 10390 | C18: 10448 | D18: 10026 | E18: 9555 | F18: 9348 | G18: 9465 | H18: 7480 | I18: 7983 | J18: 8568 | K18: 8610 | L18: 1 | M18: 1 | N18: 1 | O18: 1 | P18: 1 | Q18: 1 | R18: 1 | S18: 1 | T18: 1 | U18: 1

Sheet 3c.People convicted demographic
A1: Table 3c: Number and percentage of people convicted of family violence offences, by gender, ethnicity and age group, 2015/2016 - 2024/2025
A2: This data counts a person once per financial year. All of their charges have the same recorded gender and ethnicity information. Age in this table is the person's age at the offence date of their most serious family violence conviction.
A3: 'Multiple ethnicity' information is used in this table. This means for each ethnicity a person is counted once per year (e.g. they may be counted in both European and Māori). As some people have multiple recorded ethnicities this will result in the sum of ethnicities being greater than the total number of people each year.
A4: For more information on how to interpret these figures, please read the definitions and data notes
A5: Back to contents page
A6: Example interpretation: In 2024/2025, 90% of people convicted of family violence offences were male (7,706 people).
B7: Number of people | L7: Percentage of total
B8: 2015/2016 | C8: 2016/2017 | D8: 2017/2018 | E8: 2018/2019 | F8: 2019/2020 | G8: 2020/2021 | H8: 2021/2022 | I8: 2022/2023 | J8: 2023/2024 | K8: 2024/2025 | L8: 2015/2016 | M8: 2016/2017 | N8: 2017/2018 | O8: 2018/2019 | P8: 2019/2020 | Q8: 2020/2021 | R8: 2021/2022 | S8: 2022/2023 | T8: 2023/2024 | U8: 2024/2025
A9: Total | B9: 10390 | C9: 10448 | D9: 10026 | E9: 9555 | F9: 9348 | G9: 9465 | H9: 7480 | I9: 7983 | J9: 8568 | K9: 8610 | L9: 1 | M9: 1 | N9: 1 | O9: 1 | P9: 1 | Q9: 1 | R9: 1 | S9: 1 | T9: 1 | U9: 1
A10: Gender
A11: Female | B11: 1259 | C11: 1238 | D11: 1120 | E11: 1032 | F11: 920 | G11: 973 | H11: 722 | I11: 761 | J11: 886 | K11: 904 | L11: 0.12 | M11: 0.12 | N11: 0.11 | O11: 0.11 | P11: 0.1 | Q11: 0.1 | R11: 0.1 | S11: 0.1 | T11: 0.1 | U11: 0.1
A12: Male | B12: 9129 | C12: 9209 | D12: 8904 | E12: 8522 | F12: 8427 | G12: 8492 | H12: 6758 | I12: 7220 | J12: 7682 | K12: 7706 | L12: 0.88 | M12: 0.88 | N12: 0.89 | O12: 0.89 | P12: 0.9 | Q12: 0.9 | R12: 0.9 | S12: 0.9 | T12: 0.9 | U12: 0.9
A13: Unknown | B13: 2 | C13: 1 | D13: 2 | E13: 1 | F13: 1 | G13: 0 | H13: 0 | I13: 2 | J13: 0 | K13: 0 | L13: <1% | M13: <1% | N13: <1% | O13: <1% | P13: <1% | Q13: 0 | R13: 0 | S13: <1% | T13: 0 | U13: 0
A14: Ethnicity
A15: European | B15: 3849 | C15: 3813 | D15: 3671 | E15: 3426 | F15: 3315 | G15: 3307 | H15: 2685 | I15: 2746 | J15: 2834 | K15: 2843 | L15: 0.37 | M15: 0.36 | N15: 0.37 | O15: 0.36 | P15: 0.35 | Q15: 0.35 | R15: 0.36 | S15: 0.34 | T15: 0.33 | U15: 0.33
A16: Māori | B16: 5708 | C16: 5782 | D16: 5576 | E16: 5292 | F16: 5365 | G16: 5336 | H16: 4297 | I16: 4491 | J16: 4882 | K16: 4899 | L16: 0.55 | M16: 0.55 | N16: 0.56 | O16: 0.55 | P16: 0.57 | Q16: 0.56 | R16: 0.57 | S16: 0.56 | T16: 0.57 | U16: 0.57
A17: Pacific Peoples | B17: 1188 | C17: 1189 | D17: 1085 | E17: 1106 | F17: 985 | G17: 1036 | H17: 762 | I17: 930 | J17: 920 | K17: 918 | L17: 0.11 | M17: 0.11 | N17: 0.11 | O17: 0.12 | P17: 0.11 | Q17: 0.11 | R17: 0.1 | S17: 0.12 | T17: 0.11 | U17: 0.11
A18: Asian | B18: 267 | C18: 298 | D18: 285 | E18: 267 | F18: 231 | G18: 267 | H18: 176 | I18: 201 | J18: 230 | K18: 216 | L18: 0.03 | M18: 0.03 | N18: 0.03 | O18: 0.03 | P18: 0.02 | Q18: 0.03 | R18: 0.02 | S18: 0.03 | T18: 0.03 | U18: 0.03
A19: Other | B19: 211 | C19: 228 | D19: 198 | E19: 197 | F19: 164 | G19: 187 | H19: 139 | I19: 153 | J19: 161 | K19: 136 | L19: 0.02 | M19: 0.02 | N19: 0.02 | O19: 0.02 | P19: 0.02 | Q19: 0.02 | R19: 0.02 | S19: 0.02 | T19: 0.02 | U19: 0.02
A20: Unknown | B20: 31 | C20: 37 | D20: 35 | E20: 37 | F20: 29 | G20: 52 | H20: 53 | I20: 78 | J20: 155 | K20: 207 | L20: <1% | M20: <1% | N20: <1% | O20: <1% | P20: <1% | Q20: 0.01 | R20: 0.01 | S20: 0.01 | T20: 0.02 | U20: 0.02
A21: Age group (years)
A22: 19 years and under | B22: 733 | C22: 661 | D22: 596 | E22: 459 | F22: 334 | G22: 287 | H22: 195 | I22: 207 | J22: 223 | K22: 199 | L22: 0.07 | M22: 0.06 | N22: 0.06 | O22: 0.05 | P22: 0.04 | Q22: 0.03 | R22: 0.03 | S22: 0.03 | T22: 0.03 | U22: 0.02
A23: 20-24 | B23: 2036 | C23: 1885 | D23: 1707 | E23: 1572 | F23: 1412 | G23: 1348 | H23: 967 | I23: 987 | J23: 1006 | K23: 944 | L23: 0.2 | M23: 0.18 | N23: 0.17 | O23: 0.16 | P23: 0.15 | Q23: 0.14 | R23: 0.13 | S23: 0.12 | T23: 0.12 | U23: 0.11
A24: 25-29 | B24: 2024 | C24: 2134 | D24: 2152 | E24: 2024 | F24: 2040 | G24: 1977 | H24: 1448 | I24: 1563 | J24: 1584 | K24: 1547 | L24: 0.19 | M24: 0.2 | N24: 0.21 | O24: 0.21 | P24: 0.22 | Q24: 0.21 | R24: 0.19 | S24: 0.2 | T24: 0.18 | U24: 0.18
A25: 30-34 | B25: 1659 | C25: 1749 | D25: 1725 | E25: 1650 | F25: 1778 | G25: 1916 | H25: 1626 | I25: 1617 | J25: 1825 | K25: 1758 | L25: 0.16 | M25: 0.17 | N25: 0.17 | O25: 0.17 | P25: 0.19 | Q25: 0.2 | R25: 0.22 | S25: 0.2 | T25: 0.21 | U25: 0.2
A26: 35-39 | B26: 1274 | C26: 1308 | D26: 1273 | E26: 1336 | F26: 1277 | G26: 1376 | H26: 1186 | I26: 1317 | J26: 1427 | K26: 1507 | L26: 0.12 | M26: 0.13 | N26: 0.13 | O26: 0.14 | P26: 0.14 | Q26: 0.15 | R26: 0.16 | S26: 0.16 | T26: 0.17 | U26: 0.18
A27: 40-44 | B27: 1078 | C27: 1066 | D27: 994 | E27: 993 | F27: 982 | G27: 1004 | H27: 824 | I27: 904 | J27: 995 | K27: 1060 | L27: 0.1 | M27: 0.1 | N27: 0.1 | O27: 0.1 | P27: 0.11 | Q27: 0.11 | R27: 0.11 | S27: 0.11 | T27: 0.12 | U27: 0.12
A28: 45-49 | B28: 780 | C28: 783 | D28: 761 | E28: 713 | F28: 752 | G28: 743 | H28: 554 | I28: 637 | J28: 653 | K28: 698 | L28: 0.08 | M28: 0.07 | N28: 0.08 | O28: 0.07 | P28: 0.08 | Q28: 0.08 | R28: 0.07 | S28: 0.08 | T28: 0.08 | U28: 0.08
A29: 50-54 | B29: 444 | C29: 456 | D29: 446 | E29: 455 | F29: 388 | G29: 410 | H29: 359 | I29: 388 | J29: 447 | K29: 435 | L29: 0.04 | M29: 0.04 | N29: 0.04 | O29: 0.05 | P29: 0.04 | Q29: 0.04 | R29: 0.05 | S29: 0.05 | T29: 0.05 | U29: 0.05
A30: 55-59 | B30: 201 | C30: 227 | D30: 203 | E30: 203 | F30: 223 | G30: 227 | H30: 184 | I30: 210 | J30: 219 | K30: 258 | L30: 0.02 | M30: 0.02 | N30: 0.02 | O30: 0.02 | P30: 0.02 | Q30: 0.02 | R30: 0.02 | S30: 0.03 | T30: 0.03 | U30: 0.03
A31: 60-64 | B31: 92 | C31: 93 | D31: 100 | E31: 79 | F31: 89 | G31: 95 | H31: 79 | I31: 79 | J31: 94 | K31: 102 | L31: 0.01 | M31: 0.01 | N31: 0.01 | O31: 0.01 | P31: 0.01 | Q31: 0.01 | R31: 0.01 | S31: 0.01 | T31: 0.01 | U31: 0.01
A32: 65 years and over | B32: 65 | C32: 74 | D32: 61 | E32: 60 | F32: 66 | G32: 69 | H32: 43 | I32: 54 | J32: 64 | K32: 82 | L32: 0.01 | M32: 0.01 | N32: 0.01 | O32: 0.01 | P32: 0.01 | Q32: 0.01 | R32: 0.01 | S32: 0.01 | T32: 0.01 | U32: 0.01
A33: Unknown | B33: 4 | C33: 12 | D33: 8 | E33: 11 | F33: 7 | G33: 13 | H33: 15 | I33: 20 | J33: 31 | K33: 20 | L33: <1% | M33: <1% | N33: <1% | O33: <1% | P33: <1% | Q33: <1% | R33: <1% | S33: <1% | T33: <1% | U33: <1%

Sheet 4a.b.BPO offence types
A1: Table 4a: Number and percentage of finalised charges for breach of protection order offences, by offence type, 2015/2016 - 2024/2025
A2: This data counts a person once per financial year. Prior to the introduction of the Family Violence Act on 1 July 2019, there were two offences for breaching a protection order (Contravenes Protection Order (firearm) and Contravenes Protection Order (no firearm)). The new offence types introduced with the Act provide additional information on the type of breach that occurred.
A3: For more information on how to interpret these figures, please read the definitions and data notes
A4: Back to contents page
A5: Example interpretation: In 2024/2025, 41% of finalised charges for breach of protection order offences were for unauthorised contact (2,258 charges).
B6: Number of charges | L6: Percentage of total
A7: Offence type | B7: 2015/2016 | C7: 2016/2017 | D7: 2017/2018 | E7: 2018/2019 | F7: 2019/2020 | G7: 2020/2021 | H7: 2021/2022 | I7: 2022/2023 | J7: 2023/2024 | K7: 2024/2025 | L7: 2015/2016 | M7: 2016/2017 | N7: 2017/2018 | O7: 2018/2019 | P7: 2019/2020 | Q7: 2020/2021 | R7: 2021/2022 | S7: 2022/2023 | T7: 2023/2024 | U7: 2024/2025
A8: Contravenes Protection Order (firearm) | B8: 94 | C8: 111 | D8: 77 | E8: 56 | F8: 34 | G8: 8 | H8: 2 | I8: 0 | J8: 0 | K8: 0 | L8: 0.02 | M8: 0.02 | N8: 0.01 | O8: 0.01 | P8: 0.01 | Q8: <1% | R8: <1% | S8: 0 | T8: 0 | U8: 0
A9: Contravenes Protection Order (no firearm) | B9: 5311 | C9: 5160 | D9: 5249 | E9: 5426 | F9: 2760 | G9: 379 | H9: 87 | I9: 19 | J9: 9 | K9: 3 | L9: 0.98 | M9: 0.98 | N9: 0.99 | O9: 0.99 | P9: 0.49 | Q9: 0.07 | R9: 0.02 | S9: <1% | T9: <1% | U9: <1%
A10: Contravenes Protection Order - family violence | B10: - | C10: - | D10: - | E10: - | F10: 1809 | G10: 3114 | H10: 2731 | I10: 2936 | J10: 3030 | K10: 2885 | L10: - | M10: - | N10: - | O10: - | P10: 0.32 | Q10: 0.57 | R10: 0.6 | S10: 0.58 | T10: 0.57 | U10: 0.52
A11: Contravenes Protection Order - unauthorised contact | B11: - | C11: - | D11: - | E11: - | F11: 956 | G11: 1831 | H11: 1556 | I11: 1918 | J11: 2007 | K11: 2258 | L11: - | M11: - | N11: - | O11: - | P11: 0.17 | Q11: 0.33 | R11: 0.34 | S11: 0.38 | T11: 0.38 | U11: 0.41
A12: Contravenes Protection Order - encourages a person to engage in behaviour | B12: - | C12: - | D12: - | E12: - | F12: 14 | G12: 24 | H12: 23 | I12: 25 | J12: 14 | K12: 13 | L12: - | M12: - | N12: - | O12: - | P12: <1% | Q12: <1% | R12: 0.01 | S12: <1% | T12: <1% | U12: <1%
A13: Contravenes Protection Order - dowry-related violence | B13: - | C13: - | D13: - | E13: - | F13: 0 | G13: 0 | H13: 0 | I13: 0 | J13: 0 | K13: 0 | L13: - | M13: - | N13: - | O13: - | P13: 0 | Q13: 0 | R13: 0 | S13: 0 | T13: 0 | U13: 0
A14: Contravenes Protection Order - breach of special condition | B14: - | C14: - | D14: - | E14: - | F14: 22 | G14: 31 | H14: 20 | I14: 20 | J14: 17 | K14: 24 | L14: - | M14: - | N14: - | O14: - | P14: <1% | Q14: 0.01 | R14: <1% | S14: <1% | T14: <1% | U14: <1%
A15: Fail to comply with conditions of Protection Order - fail/refuse to surrender weapon | B15: - | C15: - | D15: - | E15: - | F15: 24 | G15: 14 | H15: 8 | I15: 3 | J15: 4 | K15: 5 | L15: - | M15: - | N15: - | O15: - | P15: <1% | Q15: <1% | R15: <1% | S15: <1% | T15: <1% | U15: <1%
A16: Fail to comply with conditions of Protection Order - fail/refuse to surrender Firearms Licence | B16: - | C16: - | D16: - | E16: - | F16: 0 | G16: 0 | H16: 0 | I16: 1 | J16: 0 | K16: 1 | L16: - | M16: - | N16: - | O16: - | P16: 0 | Q16: 0 | R16: 0 | S16: <1% | T16: 0 | U16: <1%
A17: Fail to comply with conditions of Protection Order - possess weapon | B17: - | C17: - | D17: - | E17: - | F17: 1 | G17: 69 | H17: 115 | I17: 153 | J17: 193 | K17: 303 | L17: - | M17: - | N17: - | O17: - | P17: <1% | Q17: 0.01 | R17: 0.03 | S17: 0.03 | T17: 0.04 | U17: 0.06
A18: Fail to comply with conditions of Protection Order - held Firearms Licence | B18: - | C18: - | D18: - | E18: - | F18: 0 | G18: 0 | H18: 0 | I18: 1 | J18: 0 | K18: 0 | L18: - | M18: - | N18: - | O18: - | P18: 0 | Q18: 0 | R18: 0 | S18: <1% | T18: 0 | U18: 0
A19: Contravenes Protection Order - Occupation Order | B19: - | C19: - | D19: - | E19: - | F19: 0 | G19: 0 | H19: 4 | I19: 4 | J19: 4 | K19: 3 | L19: - | M19: - | N19: - | O19: - | P19: 0 | Q19: 0 | R19: <1% | S19: <1% | T19: <1% | U19: <1%
A20: Contravenes Protection Order - Tenancy Order | B20: - | C20: - | D20: - | E20: - | F20: 0 | G20: 1 | H20: 0 | I20: 0 | J20: 1 | K20: 1 | L20: - | M20: - | N20: - | O20: - | P20: 0 | Q20: <1% | R20: 0 | S20: 0 | T20: <1% | U20: <1%
A21: Contravenes Protection Order - Ancillary Furniture Order | B21: - | C21: - | D21: - | E21: - | F21: 0 | G21: 0 | H21: 0 | I21: 0 | J21: 1 | K21: 1 | L21: - | M21: - | N21: - | O21: - | P21: 0 | Q21: 0 | R21: 0 | S21: 0 | T21: <1% | U21: <1%
A22: Contravenes Protection Order - Furniture Order | B22: - | C22: - | D22: - | E22: - | F22: 1 | G22: 0 | H22: 1 | I22: 0 | J22: 2 | K22: 1 | L22: - | M22: - | N22: - | O22: - | P22: <1% | Q22: 0 | R22: <1% | S22: 0 | T22: <1% | U22: <1%
A23: Total | B23: 5405 | C23: 5271 | D23: 5326 | E23: 5482 | F23: 5621 | G23: 5471 | H23: 4547 | I23: 5080 | J23: 5282 | K23: 5498 | L23: 1 | M23: 1 | N23: 1 | O23: 1 | P23: 1 | Q23: 1 | R23: 1 | S23: 1 | T23: 1 | U23: 1
A25: Table 4b: Number and percentage of convicted charges for breach of protection order offences, by offence type, 2015/2016 - 2024/2025
A26: Example interpretation: In 2024/2025, 39% of convicted charges for breach of protection order offences were for unauthorised contact (1,470 charges).
B27: Number of convicted charges | L27: Percentage of total
A28: Offence type | B28: 2015/2016 | C28: 2016/2017 | D28: 2017/2018 | E28: 2018/2019 | F28: 2019/2020 | G28: 2020/2021 | H28: 2021/2022 | I28: 2022/2023 | J28: 2023/2024 | K28: 2024/2025 | L28: 2015/2016 | M28: 2016/2017 | N28: 2017/2018 | O28: 2018/2019 | P28: 2019/2020 | Q28: 2020/2021 | R28: 2021/2022 | S28: 2022/2023 | T28: 2023/2024 | U28: 2024/2025
A29: Contravenes Protection Order (firearm) | B29: 68 | C29: 85 | D29: 56 | E29: 36 | F29: 20 | G29: 4 | H29: 1 | I29: 0 | J29: 0 | K29: 0 | L29: 0.02 | M29: 0.02 | N29: 0.01 | O29: 0.01 | P29: <1% | Q29: <1% | R29: <1% | S29: 0 | T29: 0 | U29: 0
A30: Contravenes Protection Order (no firearm) | B30: 3994 | C30: 3924 | D30: 3834 | E30: 3986 | F30: 1931 | G30: 238 | H30: 50 | I30: 10 | J30: 2 | K30: 3 | L30: 0.98 | M30: 0.98 | N30: 0.99 | O30: 0.99 | P30: 0.47 | Q30: 0.06 | R30: 0.02 | S30: <1% | T30: <1% | U30: <1%
