Workbook

Sheet Contents
A10: Family violence offences
A11: These tables provide information on finalised charges (such as those that have been convicted and sentenced, withdrawn or with a not guilty outcome) for family violence offences each year, including specific breakdowns for: - breach of protection order offences - assault on a family member offences. Charges that are still active in court are not included. In the Family Violence Act 2018, family violence offences include any offence involving family violence (as defined in section 9 of the Act: physical, sexual or psychological abuse by a person who is or has been in a family relationship) or any offence against the Family Violence Act (such as breaching a protection order or failing to attend a non-violence programme). This workbook includes information on finalised charges flagged as family violence in the Ministry of Justice Case Management System OR involving these specific offence types: - assault on a family member (section 194A Crimes Act 1961) - common assault (domestic) (section 9 Summary Offences Act 1981 or section 196 Crimes Act 1961) - sexual offences against a spouse (section 128(4)/128B or section 129 Crimes Act 1961) - incest (section 130 or section 131 Crimes Act 1961) - coercion to marry (section 207A Crimes Act 1961) - all offences included in the Domestic Violence Act 1995 (such as breach of protection order) - all offences included the in the Family Violence Act 2018 (such as breach of protection order). This is the most comprehensive family violence offences data published by the Ministry of Justice as it includes all finalised charges flagged as family violence, regardless of the offence type (for example, finalised charges for wilful damage and homicide that are flagged as family violence are included).
A13: Contents: | B13: All family violence offences
B14: =HYPERLINK('1a.All charges'!A1) -> Table 1a: Number of finalised charges for family violence offences, 2015/2016 - 2024/2025
B15: =HYPERLINK('1b.FV charges by offence'!A1) -> Table 1b: Number and percentage of finalised charges for family violence offences, by offence type, 2015/2016 - 2024/2025
B16: =HYPERLINK('1c.d.e.FV charges outcome'!$A$1) -> Table 1c: Number and percentage of finalised charges for family violence offences, by charge outcome, 2015/2016 - 2024/2025
B17: =HYPERLINK('1c.d.e.FV charges outcome'!$A13) -> Table 1d: Number of finalised charges for breach of protection order offences, by charge outcome, 2015/2016 - 2024/2025
B18: =HYPERLINK('1c.d.e.FV charges outcome'!$A23) -> Table 1e: Number of finalised charges for assault on a family member offences, by charge outcome, 2018/2019 - 2024/2025
B20: =HYPERLINK('2a.People charged by offence'!A1) -> Table 2a: Number and percentage of people with finalised charges for family violence offences, by offence type, 2015/2016 - 2024/2025
B21: =HYPERLINK('2b.People charged court outcome'!A1) -> Table 2b: Number and percentage of people with finalised charges for family violence offences, by court and charge outcome, 2015/2016 -2024/2025
B22: =HYPERLINK('2c.People charged demographic'!A1) -> Table 2c: Number and percentage of people with finalised charges for family violence offences, by gender, ethnicity and age group, 2015/2016 -2024/2025
B24: =HYPERLINK('3a.People convicted by offence'!A1) -> Table 3a: Number and percentage of people convicted of family violence offences, by offence type, 2015/2016 - 2024/2025
B25: =HYPERLINK('3b.People convicted sentence'!A1) -> Table 3b: Number and percentage of people convicted of family violence offences, by most serious sentence, 2015/2016 - 2024/2025
B26: =HYPERLINK('3c.People convicted demographic'!A1) -> Table 3c: Number and percentage of people convicted of family violence offences, by gender, ethnicity and age group, 2015/2016 - 2024/2025
B28: Breach of protection order
B29: =HYPERLINK('4a.b.BPO offence types'!A1) -> Table 4a: Number and percentage of finalised charges for breach of protection order offences, by offence type, 2015/2016 - 2024/2025
B30: =HYPERLINK('4a.b.BPO offence types'!A25) -> Table 4b: Number and percentage of convicted charges for breach of protection order offences, by offence type, 2015/2016 - 2024/2025
B31: =HYPERLINK('4c.BPO people_outcome_court'!A1) -> Table 4c: Number of people with finalised charges for breach of protection order offences, by court and charge outcome, 2015/2016 - 2024/2025
B32: =HYPERLINK('4d.BPO people_demographic'!A1) -> Table 4d: Number and percentage of people with finalised charges for breach of protection order offences, by gender, ethnicity and age, 2015/2016 - 2024/2025
B33: =HYPERLINK('4e.BPO conv ppl_sentence'!A1) -> Table 4e: Number of people convicted of breach of protection order offences, by most serious sentence, 2015/2016 - 2024/2025
B34: =HYPERLINK('4f.BPO conv ppl_demographic'!A1) -> Table 4f: Number and percentage of people convicted of breach of protection order offences, by gender, ethnicity and age, 2015/2016 - 2024/2025
B36: Assault on a family member
B37: =HYPERLINK('5a.Assault fam pp_outcome_court'!A1) -> Table 5a: Number of people with finalised charges for assault on a family member offences, by court and charge outcome, 2018/2019 - 2024/2025
B38: =HYPERLINK('5b.Assault fam pp_demographic'!A1) -> Table 5b: Number and percentage of people with finalised charges of assault on a family member offences, by gender, ethnicity and age, 2018/2019 - 2024/2025
B39: =HYPERLINK('5c.Assault fam conv pp_sent'!A1) -> Table 5c: Number of people convicted of assault on a family member offences, by most serious sentence, 2018/2019 - 2024/2025
B40: =HYPERLINK('5d.Assault fam conv_demographic'!A1) -> Table 5d: Number and percentage of people convicted of assault on a family member offences, by gender, ethnicity and age, 2018/2019 - 2024/2025
B42: Definitions and data notes
B43: Notes - Justice service areas
A45: If this information does not answer your query you may wish to request specific information via an Official Information Act request. Information on this process is available on the Ministry website: https://www.justice.govt.nz/about/official-information-act-requests/
A47: Published 16 September 2025

Sheet 1a.All charges
A1: Table 1a: Number of finalised charges for family violence offences, 2015/2016 - 2024/2025
A2: For more information on how to interpret these figures, please read the definitions and data notes
A3: Back to contents page
A4: Example interpretation: In 2024/2025, 14% of all the charges finalised in court were for family violence offences (32,326 charges).
B5: Number of charges | L5: Percentage of total
A6: Offence type | B6: 2015/2016 | C6: 2016/2017 | D6: 2017/2018 | E6: 2018/2019 | F6: 2019/2020 | G6: 2020/2021 | H6: 2021/2022 | I6: 2022/2023 | J6: 2023/2024 | K6: 2024/2025 | L6: 2015/2016 | M6: 2016/2017 | N6: 2017/2018 | O6: 2018/2019 | P6: 2019/2020 | Q6: 2020/2021 | R6: 2021/2022 | S6: 2022/2023 | T6: 2023/2024 | U6: 2024/2025
A7: Family violence | B7: 28856 | C7: 29334 | D7: 28643 | E7: 28608 | F7: 30163 | G7: 31634 | H7: 25723 | I7: 29076 | J7: 31119 | K7: 32326 | L7: 0.13 | M7: 0.13 | N7: 0.13 | O7: 0.13 | P7: 0.15 | Q7: 0.15 | R7: 0.15 | S7: 0.15 | T7: 0.14 | U7: 0.14
A8: Other offences | B8: 191329 | C8: 196597 | D8: 193114 | E8: 184264 | F8: 174403 | G8: 180430 | H8: 142465 | I8: 163237 | J8: 185414 | K8: 193991 | L8: 0.87 | M8: 0.87 | N8: 0.87 | O8: 0.87 | P8: 0.85 | Q8: 0.85 | R8: 0.85 | S8: 0.85 | T8: 0.86 | U8: 0.86
A9: Total | B9: 220185 | C9: 225931 | D9: 221757 | E9: 212872 | F9: 204566 | G9: 212064 | H9: 168188 | I9: 192313 | J9: 216533 | K9: 226317 | L9: 1 | M9: 1 | N9: 1 | O9: 1 | P9: 1 | Q9: 1 | R9: 1 | S9: 1 | T9: 1 | U9: 1

Sheet 1b.FV charges by offence
A1: Table 1b: Number and percentage of finalised charges for family violence offences, by offence type, 2015/2016 - 2024/2025
A2: For more information on how to interpret these figures, please read the definitions and data notes
A3: Back to contents page
A4: Example interpretation: In 2024/2025, 45% of finalised charges for family violence offences were for assault (14,533 charges).
B5: Number of charges | L5: Percentage of total
A6: Offence type (ANZSOC division) | B6: 2015/2016 | C6: 2016/2017 | D6: 2017/2018 | E6: 2018/2019 | F6: 2019/2020 | G6: 2020/2021 | H6: 2021/2022 | I6: 2022/2023 | J6: 2023/2024 | K6: 2024/2025 | L6: 2015/2016 | M6: 2016/2017 | N6: 2017/2018 | O6: 2018/2019 | P6: 2019/2020 | Q6: 2020/2021 | R6: 2021/2022 | S6: 2022/2023 | T6: 2023/2024 | U6: 2024/2025
A7: 01: Homicide | B7: 39 | C7: 30 | D7: 27 | E7: 23 | F7: 32 | G7: 41 | H7: 32 | I7: 24 | J7: 44 | K7: 39 | L7: <1% | M7: <1% | N7: <1% | O7: <1% | P7: <1% | Q7: <1% | R7: <1% | S7: <1% | T7: <1% | U7: <1%
A8: 02: Assault | B8: 14666 | C8: 15112 | D8: 14841 | E8: 14280 | F8: 14838 | G8: 15637 | H8: 12108 | I8: 13327 | J8: 14283 | K8: 14533 | L8: 0.51 | M8: 0.52 | N8: 0.52 | O8: 0.5 | P8: 0.49 | Q8: 0.49 | R8: 0.47 | S8: 0.46 | T8: 0.46 | U8: 0.45
A9: 03: Sexual offences | B9: 2014 | C9: 1808 | D9: 1780 | E9: 1638 | F9: 1698 | G9: 2136 | H9: 2132 | I9: 2731 | J9: 2992 | K9: 3149 | L9: 0.07 | M9: 0.06 | N9: 0.06 | O9: 0.06 | P9: 0.06 | Q9: 0.07 | R9: 0.08 | S9: 0.09 | T9: 0.1 | U9: 0.1
A10: 04: Harm or endanger persons | B10: 2754 | C10: 3039 | D10: 2889 | E10: 3046 | F10: 3229 | G10: 3486 | H10: 3106 | I10: 3489 | J10: 3834 | K10: 4236 | L10: 0.1 | M10: 0.1 | N10: 0.1 | O10: 0.11 | P10: 0.11 | Q10: 0.11 | R10: 0.12 | S10: 0.12 | T10: 0.12 | U10: 0.13
A11: 05: Robbery, blackmail, and extortion | B11: 9 | C11: 17 | D11: 18 | E11: 26 | F11: 19 | G11: 25 | H11: 18 | I11: 37 | J11: 18 | K11: 27 | L11: <1% | M11: <1% | N11: <1% | O11: <1% | P11: <1% | Q11: <1% | R11: <1% | S11: <1% | T11: <1% | U11: <1%
A12: 06: Burglary | B12: 101 | C12: 134 | D12: 113 | E12: 113 | F12: 135 | G12: 110 | H12: 140 | I12: 153 | J12: 149 | K12: 190 | L12: <1% | M12: <1% | N12: <1% | O12: <1% | P12: <1% | Q12: <1% | R12: 0.01 | S12: 0.01 | T12: <1% | U12: 0.01
A13: 07: Theft | B13: 159 | C13: 178 | D13: 169 | E13: 224 | F13: 280 | G13: 271 | H13: 216 | I13: 266 | J13: 316 | K13: 293 | L13: 0.01 | M13: 0.01 | N13: 0.01 | O13: 0.01 | P13: 0.01 | Q13: 0.01 | R13: 0.01 | S13: 0.01 | T13: 0.01 | U13: 0.01
A14: 08: Fraud and related offences | B14: 26 | C14: 32 | D14: 33 | E14: 25 | F14: 31 | G14: 82 | H14: 52 | I14: 31 | J14: 51 | K14: 109 | L14: <1% | M14: <1% | N14: <1% | O14: <1% | P14: <1% | Q14: <1% | R14: <1% | S14: <1% | T14: <1% | U14: <1%
A15: 09: Drug offences | B15: 28 | C15: 54 | D15: 23 | E15: 39 | F15: 67 | G15: 82 | H15: 77 | I15: 80 | J15: 103 | K15: 142 | L15: <1% | M15: <1% | N15: <1% | O15: <1% | P15: <1% | Q15: <1% | R15: <1% | S15: <1% | T15: <1% | U15: <1%
A16: 10: Weapons and explosives offences | B16: 417 | C16: 436 | D16: 372 | E16: 389 | F16: 463 | G16: 508 | H16: 413 | I16: 447 | J16: 463 | K16: 483 | L16: 0.01 | M16: 0.01 | N16: 0.01 | O16: 0.01 | P16: 0.02 | Q16: 0.02 | R16: 0.02 | S16: 0.02 | T16: 0.01 | U16: 0.01
A17: 11: Property damage | B17: 2442 | C17: 2428 | D17: 2358 | E17: 2511 | F17: 2843 | G17: 2872 | H17: 2057 | I17: 2495 | J17: 2555 | K17: 2379 | L17: 0.08 | M17: 0.08 | N17: 0.08 | O17: 0.09 | P17: 0.09 | Q17: 0.09 | R17: 0.08 | S17: 0.09 | T17: 0.08 | U17: 0.07
A18: 12: Public order, health, and safety offences | B18: 483 | C18: 505 | D18: 472 | E18: 457 | F18: 538 | G18: 494 | H18: 411 | I18: 431 | J18: 489 | K18: 593 | L18: 0.02 | M18: 0.02 | N18: 0.02 | O18: 0.02 | P18: 0.02 | Q18: 0.02 | R18: 0.02 | S18: 0.01 | T18: 0.02 | U18: 0.02
A19: 13: Traffic and vehicle offences | B19: 50 | C19: 67 | D19: 44 | E19: 73 | F19: 99 | G19: 168 | H19: 138 | I19: 163 | J19: 155 | K19: 170 | L19: <1% | M19: <1% | N19: <1% | O19: <1% | P19: <1% | Q19: 0.01 | R19: 0.01 | S19: 0.01 | T19: <1% | U19: 0.01
A20: 14: Offences against justice procedures and orders | B20: 5659 | C20: 5488 | D20: 5499 | E20: 5757 | F20: 5878 | G20: 5694 | H20: 4804 | I20: 5381 | J20: 5642 | K20: 5951 | L20: 0.2 | M20: 0.19 | N20: 0.19 | O20: 0.2 | P20: 0.19 | Q20: 0.18 | R20: 0.19 | S20: 0.19 | T20: 0.18 | U20: 0.18
A21: 15: Offences against government | B21: 1 | C21: 0 | D21: 0 | E21: 1 | F21: 3 | G21: 7 | H21: 1 | I21: 2 | J21: 3 | K21: 2 | L21: <1% | M21: 0 | N21: 0 | O21: <1% | P21: <1% | Q21: <1% | R21: <1% | S21: <1% | T21: <1% | U21: <1%
A22: 16: Environmental offences | B22: 8 | C22: 6 | D22: 4 | E22: 6 | F22: 10 | G22: 18 | H22: 18 | I22: 18 | J22: 21 | K22: 30 | L22: <1% | M22: <1% | N22: <1% | O22: <1% | P22: <1% | Q22: <1% | R22: <1% | S22: <1% | T22: <1% | U22: <1%
A23: 17: Miscellaneous offences | B23: 0 | C23: 0 | D23: 1 | E23: 0 | F23: 0 | G23: 3 | H23: 0 | I23: 1 | J23: 1 | K23: 0 | L23: 0 | M23: 0 | N23: <1% | O23: 0 | P23: 0 | Q23: <1% | R23: 0 | S23: <1% | T23: <1% | U23: 0
A24: Total | B24: 28856 | C24: 29334 | D24: 28643 | E24: 28608 | F24: 30163 | G24: 31634 | H24: 25723 | I24: 29076 | J24: 31119 | K24: 32326 | L24: 1 | M24: 1 | N24: 1 | O24: 1 | P24: 1 | Q24: 1 | R24: 1 | S24: 1 | T24: 1 | U24: 1

Sheet 1c.d.e.FV charges outcome
A1: Table 1c: Number and percentage of finalised charges for family violence offences, by charge outcome, 2015/2016 - 2024/2025
A2: For more information on how to interpret these figures, please read the definitions and data notes
A3: Back to contents page
A4: Example interpretation: In 2024/2025, 59% of finalised charges for family violence offences were convicted (19,063 charges).
B5: Number of charges | L5: Percentage of total
A6: Charge outcome | B6: 2015/2016 | C6: 2016/2017 | D6: 2017/2018 | E6: 2018/2019 | F6: 2019/2020 | G6: 2020/2021 | H6: 2021/2022 | I6: 2022/2023 | J6: 2023/2024 | K6: 2024/2025 | L6: 2015/2016 | M6: 2016/2017 | N6: 2017/2018 | O6: 2018/2019 | P6: 2019/2020 | Q6: 2020/2021 | R6: 2021/2022 | S6: 2022/2023 | T6: 2023/2024 | U6: 2024/2025
A7: Convicted | B7: 18983 | C7: 19026 | D7: 18517 | E7: 18067 | F7: 18926 | G7: 19218 | H7: 15711 | I7: 17359 | J7: 18603 | K7: 19063 | L7: 0.66 | M7: 0.65 | N7: 0.65 | O7: 0.63 | P7: 0.63 | Q7: 0.61 | R7: 0.61 | S7: 0.6 | T7: 0.6 | U7: 0.59
A8: Other proved | B8: 1978 | C8: 2076 | D8: 1986 | E8: 1908 | F8: 1964 | G8: 2100 | H8: 1519 | I8: 1755 | J8: 1765 | K8: 1799 | L8: 0.07 | M8: 0.07 | N8: 0.07 | O8: 0.07 | P8: 0.07 | Q8: 0.07 | R8: 0.06 | S8: 0.06 | T8: 0.06 | U8: 0.06
A9: Not proved | B9: 7807 | C9: 8069 | D9: 8015 | E9: 8508 | F9: 9108 | G9: 10055 | H9: 8238 | I9: 9589 | J9: 10474 | K9: 11214 | L9: 0.27 | M9: 0.28 | N9: 0.28 | O9: 0.3 | P9: 0.3 | Q9: 0.32 | R9: 0.32 | S9: 0.33 | T9: 0.34 | U9: 0.35
A10: Other | B10: 88 | C10: 163 | D10: 125 | E10: 125 | F10: 165 | G10: 261 | H10: 255 | I10: 373 | J10: 277 | K10: 250 | L10: <1% | M10: 0.01 | N10: <1% | O10: <1% | P10: 0.01 | Q10: 0.01 | R10: 0.01 | S10: 0.01 | T10: 0.01 | U10: 0.01
A11: Total | B11: 28856 | C11: 29334 | D11: 28643 | E11: 28608 | F11: 30163 | G11: 31634 | H11: 25723 | I11: 29076 | J11: 31119 | K11: 32326 | L11: 1 | M11: 1 | N11: 1 | O11: 1 | P11: 1 | Q11: 1 | R11: 1 | S11: 1 | T11: 1 | U11: 1
A13: Table 1d: Number of finalised charges for breach of protection order offences, by charge outcome, 2015/2016 - 2024/2025
A14: Example interpretation: In 2024/2025, 68% of finalised charges for breach of protection order offences were convicted (3,753 charges).
B15: Number of charges | L15: Percentage of total
A16: Charge outcome | B16: 2015/2016 | C16: 2016/2017 | D16: 2017/2018 | E16: 2018/2019 | F16: 2019/2020 | G16: 2020/2021 | H16: 2021/2022 | I16: 2022/2023 | J16: 2023/2024 | K16: 2024/2025 | L16: 2015/2016 | M16: 2016/2017 | N16: 2017/2018 | O16: 2018/2019 | P16: 2019/2020 | Q16: 2020/2021 | R16: 2021/2022 | S16: 2022/2023 | T16: 2023/2024 | U16: 2024/2025
A17: Convicted | B17: 4062 | C17: 4009 | D17: 3890 | E17: 4022 | F17: 4073 | G17: 3916 | H17: 3275 | I17: 3581 | J17: 3736 | K17: 3753 | L17: 0.75 | M17: 0.76 | N17: 0.73 | O17: 0.73 | P17: 0.72 | Q17: 0.72 | R17: 0.72 | S17: 0.7 | T17: 0.71 | U17: 0.68
A18: Other proved | B18: 56 | C18: 44 | D18: 47 | E18: 44 | F18: 42 | G18: 95 | H18: 71 | I18: 101 | J18: 105 | K18: 102 | L18: 0.01 | M18: 0.01 | N18: 0.01 | O18: 0.01 | P18: 0.01 | Q18: 0.02 | R18: 0.02 | S18: 0.02 | T18: 0.02 | U18: 0.02
A19: Not proved | B19: 1284 | C19: 1209 | D19: 1379 | E19: 1411 | F19: 1496 | G19: 1433 | H19: 1177 | I19: 1356 | J19: 1424 | K19: 1623 | L19: 0.24 | M19: 0.23 | N19: 0.26 | O19: 0.26 | P19: 0.27 | Q19: 0.26 | R19: 0.26 | S19: 0.27 | T19: 0.27 | U19: 0.3
A20: Other | B20: 3 | C20: 9 | D20: 10 | E20: 5 | F20: 10 | G20: 27 | H20: 24 | I20: 42 | J20: 17 | K20: 20 | L20: <1% | M20: <1% | N20: <1% | O20: <1% | P20: <1% | Q20: <1% | R20: 0.01 | S20: 0.01 | T20: <1% | U20: <1%
A21: Total | B21: 5405 | C21: 5271 | D21: 5326 | E21: 5482 | F21: 5621 | G21: 5471 | H21: 4547 | I21: 5080 | J21: 5282 | K21: 5498 | L21: 1 | M21: 1 | N21: 1 | O21: 1 | P21: 1 | Q21: 1 | R21: 1 | S21: 1 | T21: 1 | U21: 1
A23: Table 1e: Number of finalised charges for assault on a family member offences, by charge outcome, 2018/2019 - 2024/2025
A24: Example interpretation: In 2024/2025, 60% of finalised charges for assault on a family member offences were convicted (3,578 charges).
B25: Number of charges | L25: Percentage of total
A26: Charge outcome | B26: 2015/2016 | C26: 2016/2017 | D26: 2017/2018 | E26: 2018/2019 | F26: 2019/2020 | G26: 2020/2021 | H26: 2021/2022 | I26: 2022/2023 | J26: 2023/2024 | K26: 2024/2025 | L26: 2015/2016 | M26: 2016/2017 | N26: 2017/2018 | O26: 2018/2019 | P26: 2019/2020 | Q26: 2020/2021 | R26: 2021/2022 | S26: 2022/2023 | T26: 2023/2024 | U26: 2024/2025
A27: Convicted | B27: - | C27: - | D27: - | E27: 610 | F27: 3433 | G27: 4140 | H27: 3353 | I27: 3493 | J27: 3638 | K27: 3578 | L27: - | M27: - | N27: - | O27: 0.67 | P27: 0.62 | Q27: 0.61 | R27: 0.61 | S27: 0.6 | T27: 0.61 | U27: 0.6
A28: Other proved | B28: - | C28: - | D28: - | E28: 69 | F28: 529 | G28: 705 | H28: 518 | I28: 592 | J28: 534 | K28: 526 | L28: - | M28: - | N28: - | O28: 0.08 | P28: 0.1 | Q28: 0.1 | R28: 0.09 | S28: 0.1 | T28: 0.09 | U28: 0.09
A29: Not proved | B29: - | C29: - | D29: - | E29: 234 | F29: 1526 | G29: 1888 | H29: 1576 | I29: 1722 | J29: 1799 | K29: 1834 | L29: - | M29: - | N29: - | O29: 0.26 | P29: 0.28 | Q29: 0.28 | R29: 0.29 | S29: 0.29 | T29: 0.3 | U29: 0.31
A30: Other | B30: - | C30: - | D30: - | E30: 4 | F30: 16 | G30: 28 | H30: 35 | I30: 45 | J30: 28 | K30: 34 | L30: - | M30: - | N30: - | O30: <1% | P30: <1% | Q30: <1% | R30: 0.01 | S30: 0.01 | T30: <1% | U30: 0.01
A31: Total | B31: - | C31: - | D31: - | E31: 917 | F31: 5504 | G31: 6761 | H31: 5482 | I31: 5852 | J31: 5999 | K31: 5972 | L31: - | M31: - | N31: - | O31: 1 | P31: 1 | Q31: 1 | R31: 1 | S31: 1 | T31: 1 | U31: 1

Sheet 2a.People charged by offence
A1: Table 2a: Number and percentage of people with finalised charges for family violence offences, by offence type, 2015/2016 - 2024/2025
A2: This data counts a person once per financial year for their most serious family violence offence finalised in the year, and only the details of that charge are shown.
A3: For more information on how to interpret these figures, please read the definitions and data notes
A4: Back to contents page
A5: Example interpretation: In 2024/2025, for 52% of people with finalised charges for family violence offences, their most serious family violence offence was assault (6,416 people).
B6: Number of people | L6: Percentage of total
A7: Offence type (ANZSOC division) | B7: 2015/2016 | C7: 2016/2017 | D7: 2017/2018 | E7: 2018/2019 | F7: 2019/2020 | G7: 2020/2021 | H7: 2021/2022 | I7: 2022/2023 | J7: 2023/2024 | K7: 2024/2025 | L7: 2015/2016 | M7: 2016/2017 | N7: 2017/2018 | O7: 2018/2019 | P7: 2019/2020 | Q7: 2020/2021 | R7: 2021/2022 | S7: 2022/2023 | T7: 2023/2024 | U7: 2024/2025
A8: 01: Homicide | B8: 29 | C8: 24 | D8: 22 | E8: 18 | F8: 23 | G8: 31 | H8: 25 | I8: 18 | J8: 36 | K8: 27 | L8: <1% | M8: <1% | N8: <1% | O8: <1% | P8: <1% | Q8: <1% | R8: <1% | S8: <1% | T8: <1% | U8: <1%
A9: 02: Assault | B9: 8616 | C9: 8863 | D9: 8535 | E9: 8034 | F9: 7611 | G9: 7611 | H9: 5804 | I9: 6296 | J9: 6639 | K9: 6416 | L9: 0.61 | M9: 0.61 | N9: 0.61 | O9: 0.6 | P9: 0.57 | Q9: 0.56 | R9: 0.53 | S9: 0.54 | T9: 0.53 | U9: 0.52
A10: 03: Sexual offences | B10: 425 | C10: 428 | D10: 426 | E10: 387 | F10: 368 | G10: 460 | H10: 467 | I10: 584 | J10: 619 | K10: 595 | L10: 0.03 | M10: 0.03 | N10: 0.03 | O10: 0.03 | P10: 0.03 | Q10: 0.03 | R10: 0.04 | S10: 0.05 | T10: 0.05 | U10: 0.05
A11: 04: Harm or endanger persons | B11: 1151 | C11: 1228 | D11: 1183 | E11: 1125 | F11: 1169 | G11: 1220 | H11: 1087 | I11: 1152 | J11: 1250 | K11: 1379 | L11: 0.08 | M11: 0.08 | N11: 0.08 | O11: 0.08 | P11: 0.09 | Q11: 0.09 | R11: 0.1 | S11: 0.1 | T11: 0.1 | U11: 0.11
A12: 05: Robbery, blackmail, and extortion | B12: 2 | C12: 6 | D12: 7 | E12: 13 | F12: 11 | G12: 13 | H12: 9 | I12: 19 | J12: 8 | K12: 12 | L12: <1% | M12: <1% | N12: <1% | O12: <1% | P12: <1% | Q12: <1% | R12: <1% | S12: <1% | T12: <1% | U12: <1%
A13: 06: Burglary | B13: 47 | C13: 61 | D13: 39 | E13: 54 | F13: 47 | G13: 46 | H13: 69 | I13: 80 | J13: 67 | K13: 94 | L13: <1% | M13: <1% | N13: <1% | O13: <1% | P13: <1% | Q13: <1% | R13: 0.01 | S13: 0.01 | T13: 0.01 | U13: 0.01
A14: 07: Theft | B14: 55 | C14: 72 | D14: 62 | E14: 84 | F14: 96 | G14: 84 | H14: 70 | I14: 89 | J14: 101 | K14: 105 | L14: <1% | M14: <1% | N14: <1% | O14: 0.01 | P14: 0.01 | Q14: 0.01 | R14: 0.01 | S14: 0.01 | T14: 0.01 | U14: 0.01
A15: 08: Fraud and related offences | B15: 11 | C15: 17 | D15: 15 | E15: 12 | F15: 17 | G15: 31 | H15: 14 | I15: 12 | J15: 17 | K15: 22 | L15: <1% | M15: <1% | N15: <1% | O15: <1% | P15: <1% | Q15: <1% | R15: <1% | S15: <1% | T15: <1% | U15: <1%
A16: 09: Drug offences | B16: 6 | C16: 15 | D16: 11 | E16: 12 | F16: 19 | G16: 24 | H16: 19 | I16: 20 | J16: 25 | K16: 44 | L16: <1% | M16: <1% | N16: <1% | O16: <1% | P16: <1% | Q16: <1% | R16: <1% | S16: <1% | T16: <1% | U16: <1%
A17: 10: Weapons and explosives offences | B17: 212 | C17: 196 | D17: 147 | E17: 171 | F17: 182 | G17: 181 | H17: 138 | I17: 167 | J17: 151 | K17: 163 | L17: 0.01 | M17: 0.01 | N17: 0.01 | O17: 0.01 | P17: 0.01 | Q17: 0.01 | R17: 0.01 | S17: 0.01 | T17: 0.01 | U17: 0.01
A18: 11: Property damage | B18: 1173 | C18: 1107 | D18: 1070 | E18: 1082 | F18: 1101 | G18: 1057 | H18: 738 | I18: 791 | J18: 856 | K18: 740 | L18: 0.08 | M18: 0.08 | N18: 0.08 | O18: 0.08 | P18: 0.08 | Q18: 0.08 | R18: 0.07 | S18: 0.07 | T18: 0.07 | U18: 0.06
A19: 12: Public order, health, and safety offences | B19: 249 | C19: 272 | D19: 232 | E19: 240 | F19: 259 | G19: 222 | H19: 187 | I19: 173 | J19: 200 | K19: 238 | L19: 0.02 | M19: 0.02 | N19: 0.02 | O19: 0.02 | P19: 0.02 | Q19: 0.02 | R19: 0.02 | S19: 0.01 | T19: 0.02 | U19: 0.02
A20: 13: Traffic and vehicle offences | B20: 28 | C20: 36 | D20: 19 | E20: 35 | F20: 36 | G20: 84 | H20: 60 | I20: 63 | J20: 52 | K20: 78 | L20: <1% | M20: <1% | N20: <1% | O20: <1% | P20: <1% | Q20: 0.01 | R20: 0.01 | S20: 0.01 | T20: <1% | U20: 0.01
A21: 14: Offences against justice procedures and orders | B21: 2197 | C21: 2209 | D21: 2170 | E21: 2229 | F21: 2407 | G21: 2470 | H21: 2171 | I21: 2294 | J21: 2388 | K21: 2489 | L21: 0.15 | M21: 0.15 | N21: 0.16 | O21: 0.17 | P21: 0.18 | Q21: 0.18 | R21: 0.2 | S21: 0.2 | T21: 0.19 | U21: 0.2
A22: 15: Offences against government | B22: 1 | C22: 0 | D22: 0 | E22: 1 | F22: 3 | G22: 3 | H22: 0 | I22: 0 | J22: 1 | K22: 2 | L22: <1% | M22: 0 | N22: 0 | O22: <1% | P22: <1% | Q22: <1% | R22: 0 | S22: 0 | T22: <1% | U22: <1%
A23: 16: Environmental offences | B23: 3 | C23: 2 | D23: 1 | E23: 2 | F23: 0 | G23: 3 | H23: 2 | I23: 2 | J23: 9 | K23: 10 | L23: <1% | M23: <1% | N23: <1% | O23: <1% | P23: 0 | Q23: <1% | R23: <1% | S23: <1% | T23: <1% | U23: <1%
A24: 17: Miscellaneous offences | B24: 0 | C24: 0 | D24: 1 | E24: 0 | F24: 0 | G24: 1 | H24: 0 | I24: 1 | J24: 1 | K24: 0 | L24: 0 | M24: 0 | N24: <1% | O24: 0 | P24: 0 | Q24: <1% | R24: 0 | S24: <1% | T24: <1% | U24: 0
A25: Total | B25: 14205 | C25: 14536 | D25: 13940 | E25: 13499 | F25: 13349 | G25: 13541 | H25: 10860 | I25: 11761 | J25: 12420 | K25: 12414 | L25: 1 | M25: 1 | N25: 1 | O25: 1 | P25: 1 | Q25: 1 | R25: 1 | S25: 1 | T25: 1 | U25: 1

Sheet 2b.People charged court outcome
A1: Table 2b: Number and percentage of people with finalised charges for family violence offences, by court and charge outcome, 2015/2016 -2024/2025
A2: This data counts a person once per financial year for their most serious family violence offence finalised in the year, and only the details of that charge are shown.
A3: For more information on how to interpret these figures, please read the definitions and data notes
A4: Back to contents page
A5: Example interpretation: In 2024/2025, 711 people had their most serious finalised charge for a family violence offence in the Taitokerau justice service area.
D6: Number of people | N6: Percentage of total
C7: Charge outcome | D7: 2015/2016 | E7: 2016/2017 | F7: 2017/2018 | G7: 2018/2019 | H7: 2019/2020 | I7: 2020/2021 | J7: 2021/2022 | K7: 2022/2023 | L7: 2023/2024 | M7: 2024/2025 | N7: 2015/2016 | O7: 2016/2017 | P7: 2017/2018 | Q7: 2018/2019 | R7: 2019/2020 | S7: 2020/2021 | T7: 2021/2022 | U7: 2022/2023 | V7: 2023/2024 | W7: 2024/2025
A8: New Zealand total | C8: Convicted | D8: 10390 | E8: 10448 | F8: 10026 | G8: 9555 | H8: 9348 | I8: 9465 | J8: 7480 | K8: 7983 | L8: 8568 | M8: 8610 | N8: 0.73 | O8: 0.72 | P8: 0.72 | Q8: 0.71 | R8: 0.7 | S8: 0.7 | T8: 0.69 | U8: 0.68 | V8: 0.69 | W8: 0.69
C9: Other proved | D9: 1560 | E9: 1623 | F9: 1555 | G9: 1462 | H9: 1439 | I9: 1442 | J9: 1033 | K9: 1174 | L9: 1187 | M9: 1180 | N9: 0.11 | O9: 0.11 | P9: 0.11 | Q9: 0.11 | R9: 0.11 | S9: 0.11 | T9: 0.1 | U9: 0.1 | V9: 0.1 | W9: 0.1
C10: Not proved | D10: 2219 | E10: 2395 | F10: 2295 | G10: 2427 | H10: 2504 | I10: 2540 | J10: 2267 | K10: 2507 | L10: 2592 | M10: 2545 | N10: 0.16 | O10: 0.16 | P10: 0.16 | Q10: 0.18 | R10: 0.19 | S10: 0.19 | T10: 0.21 | U10: 0.21 | V10: 0.21 | W10: 0.21
C11: Other | D11: 36 | E11: 70 | F11: 64 | G11: 55 | H11: 58 | I11: 94 | J11: 80 | K11: 97 | L11: 73 | M11: 79 | N11: <1% | O11: <1% | P11: <1% | Q11: <1% | R11: <1% | S11: 0.01 | T11: 0.01 | U11: 0.01 | V11: 0.01 | W11: 0.01
C12: Total | D12: 14205 | E12: 14536 | F12: 13940 | G12: 13499 | H12: 13349 | I12: 13541 | J12: 10860 | K12: 11761 | L12: 12420 | M12: 12414 | N12: 1 | O12: 1 | P12: 1 | Q12: 1 | R12: 1 | S12: 1 | T12: 1 | U12: 1 | V12: 1 | W12: 1
A13: Choose which categories to show or hide
A14: Justice service area | B14: Court | C14: Charge outcome | D14: 2015/2016 | E14: 2016/2017 | F14: 2017/2018 | G14: 2018/2019 | H14: 2019/2020 | I14: 2020/2021 | J14: 2021/2022 | K14: 2022/2023 | L14: 2023/2024 | M14: 2024/2025
A15: Taitokerau | B15: Dargaville | C15: Convicted | D15: 34 | E15: 27 | F15: 27 | G15: 23 | H15: 11 | I15: 14 | J15: 12 | K15: 11 | L15: 10 | M15: 9
A16: Taitokerau | B16: =B15 -> Dargaville | C16: Other proved | D16: 2 | E16: 2 | F16: 3 | G16: 1 | H16: 1 | I16: 1 | J16: 0 | K16: 2 | L16: 0 | M16: 1
A17: Taitokerau | B17: =B16 -> Dargaville | C17: Not proved | D17: 4 | E17: 3 | F17: 2 | G17: 4 | H17: 2 | I17: 5 | J17: 2 | K17: 1 | L17: 2 | M17: 0
A18: Taitokerau | B18: =B17 -> Dargaville | C18: Other | D18: 0 | E18: 0 | F18: 0 | G18: 0 | H18: 0 | I18: 0 | J18: 0 | K18: 0 | L18: 0 | M18: 0
A19: Taitokerau | B19: =B18 -> Dargaville | C19: Total | D19: 40 | E19: 32 | F19: 32 | G19: 28 | H19: 14 | I19: 20 | J19: 14 | K19: 14 | L19: 12 | M19: 10
A20: Taitokerau | B20: Kaikohe | C20: Convicted | D20: 188 | E20: 195 | F20: 156 | G20: 123 | H20: 148 | I20: 149 | J20: 133 | K20: 124 | L20: 123 | M20: 127
A21: Taitokerau | B21: =B20 -> Kaikohe | C21: Other proved | D21: 11 | E21: 23 | F21: 16 | G21: 9 | H21: 11 | I21: 12 | J21: 7 | K21: 13 | L21: 6 | M21: 9
A22: Taitokerau | B22: =B21 -> Kaikohe | C22: Not proved | D22: 22 | E22: 30 | F22: 33 | G22: 29 | H22: 29 | I22: 28 | J22: 23 | K22: 22 | L22: 21 | M22: 14
A23: Taitokerau | B23: =B22 -> Kaikohe | C23: Other | D23: 0 | E23: 1 | F23: 5 | G23: 0 | H23: 0 | I23: 2 | J23: 0 | K23: 5 | L23: 2 | M23: 2
A24: Taitokerau | B24: =B23 -> Kaikohe | C24: Total | D24: 221 | E24: 249 | F24: 210 | G24: 161 | H24: 188 | I24: 191 | J24: 163 | K24: 164 | L24: 152 | M24: 152
A25: Taitokerau | B25: Kaitaia | C25: Convicted | D25: 124 | E25: 132 | F25: 109 | G25: 80 | H25: 129 | I25: 162 | J25: 101 | K25: 85 | L25: 99 | M25: 118
A26: Taitokerau | B26: =B25 -> Kaitaia | C26: Other proved | D26: 10 | E26: 10 | F26: 9 | G26: 7 | H26: 9 | I26: 6 | J26: 6 | K26: 12 | L26: 6 | M26: 9
A27: Taitokerau | B27: =B26 -> Kaitaia | C27: Not proved | D27: 17 | E27: 13 | F27: 21 | G27: 32 | H27: 19 | I27: 22 | J27: 22 | K27: 31 | L27: 23 | M27: 28
A28: Taitokerau | B28: =B27 -> Kaitaia | C28: Other | D28: 0 | E28: 0 | F28: 0 | G28: 1 | H28: 2 | I28: 3 | J28: 2 | K28: 2 | L28: 1 | M28: 1
A29: Taitokerau | B29: =B28 -> Kaitaia | C29: Total | D29: 151 | E29: 155 | F29: 139 | G29: 120 | H29: 159 | I29: 193 | J29: 131 | K29: 130 | L29: 129 | M29: 156
A30: Taitokerau | B30: Whangārei | C30: Convicted | D30: 322 | E30: 274 | F30: 256 | G30: 249 | H30: 304 | I30: 260 | J30: 258 | K30: 265 | L30: 319 | M30: 309
A31: Taitokerau | B31: =B30 -> Whangārei | C31: Other proved | D31: 23 | E31: 15 | F31: 15 | G31: 18 | H31: 15 | I31: 16 | J31: 17 | K31: 12 | L31: 25 | M31: 19
A32: Taitokerau | B32: =B31 -> Whangārei | C32: Not proved | D32: 59 | E32: 45 | F32: 39 | G32: 54 | H32: 37 | I32: 62 | J32: 54 | K32: 60 | L32: 69 | M32: 58
A33: Taitokerau | B33: =B32 -> Whangārei | C33: Other | D33: 1 | E33: 2 | F33: 4 | G33: 5 | H33: 2 | I33: 5 | J33: 2 | K33: 4 | L33: 5 | M33: 7
A34: Taitokerau | B34: =B33 -> Whangārei | C34: Total | D34: 405 | E34: 336 | F34: 314 | G34: 326 | H34: 358 | I34: 343 | J34: 331 | K34: 341 | L34: 418 | M34: 393
A35: Taitokerau | B35: Justice service area total | C35: Convicted | D35: 668 | E35: 628 | F35: 548 | G35: 475 | H35: 592 | I35: 585 | J35: 504 | K35: 485 | L35: 551 | M35: 563
A36: Taitokerau | B36: =B35 -> Justice service area total | C36: Other proved | D36: 46 | E36: 50 | F36: 43 | G36: 35 | H36: 36 | I36: 35 | J36: 30 | K36: 39 | L36: 37 | M36: 38
A37: Taitokerau | B37: =B36 -> Justice service area total | C37: Not proved | D37: 102 | E37: 91 | F37: 95 | G37: 119 | H37: 87 | I37: 117 | J37: 101 | K37: 114 | L37: 115 | M37: 100
A38: Taitokerau | B38: =B37 -> Justice service area total | C38: Other | D38: 1 | E38: 3 | F38: 9 | G38: 6 | H38: 4 | I38: 10 | J38: 4 | K38: 11 | L38: 8 | M38: 10
A39: Taitokerau | B39: =B38 -> Justice service area total | C39: Total | D39: 817 | E39: 772 | F39: 695 | G39: 635 | H39: 719 | I39: 747 | J39: 639 | K39: 649 | L39: 711 | M39: 711
A40: Waitematā | B40: North Shore | C40: Convicted | D40: 189 | E40: 167 | F40: 183 | G40: 175 | H40: 159 | I40: 160 | J40: 103 | K40: 100 | L40: 164 | M40: 154
A41: =A40 -> Waitematā | B41: =B40 -> North Shore | C41: Other proved | D41: 69 | E41: 50 | F41: 54 | G41: 67 | H41: 54 | I41: 45 | J41: 27 | K41: 31 | L41: 42 | M41: 38
A42: =A41 -> Waitematā | B42: =B41 -> North Shore | C42: Not proved | D42: 81 | E42: 73 | F42: 68 | G42: 62 | H42: 70 | I42: 64 | J42: 37 | K42: 36 | L42: 39 | M42: 34
A43: =A42 -> Waitematā | B43: =B42 -> North Shore | C43: Other | D43: 1 | E43: 3 | F43: 1 | G43: 0 | H43: 1 | I43: 1 | J43: 1 | K43: 0 | L43: 0 | M43: 0
A44: =A43 -> Waitematā | B44: =B43 -> North Shore | C44: Total | D44: 340 | E44: 293 | F44: 306 | G44: 304 | H44: 284 | I44: 270 | J44: 168 | K44: 167 | L44: 245 | M44: 226
A45: =A44 -> Waitematā | B45: Waitākere | C45: Convicted | D45: 341 | E45: 372 | F45: 341 | G45: 409 | H45: 392 | I45: 341 | J45: 220 | K45: 271 | L45: 290 | M45: 302
A46: =A45 -> Waitematā | B46: =B45 -> Waitākere | C46: Other proved | D46: 75 | E46: 82 | F46: 78 | G46: 81 | H46: 66 | I46: 91 | J46: 54 | K46: 71 | L46: 71 | M46: 61
A47: =A46 -> Waitematā | B47: =B46 -> Waitākere | C47: Not proved | D47: 107 | E47: 113 | F47: 124 | G47: 116 | H47: 133 | I47: 113 | J47: 107 | K47: 132 | L47: 130 | M47: 109
A48: =A47 -> Waitematā | B48: =B47 -> Waitākere | C48: Other | D48: 1 | E48: 3 | F48: 5 | G48: 4 | H48: 0 | I48: 2 | J48: 0 | K48: 6 | L48: 0 | M48: 3
A49: =A48 -> Waitematā | B49: =B48 -> Waitākere | C49: Total | D49: 524 | E49: 570 | F49: 548 | G49: 610 | H49: 591 | I49: 547 | J49: 381 | K49: 480 | L49: 491 | M49: 475
A50: =A49 -> Waitematā | B50: Justice service area total | C50: Convicted | D50: 530 | E50: 539 | F50: 524 | G50: 584 | H50: 551 | I50: 501 | J50: 323 | K50: 371 | L50: 454 | M50: 456
A51: =A50 -> Waitematā | B51: =B50 -> Justice service area total | C51: Other proved | D51: 144 | E51: 132 | F51: 132 | G51: 148 | H51: 120 | I51: 136 | J51: 81 | K51: 102 | L51: 113 | M51: 99
A52: =A51 -> Waitematā | B52: =B51 -> Justice service area total | C52: Not proved | D52: 188 | E52: 186 | F52: 192 | G52: 178 | H52: 203 | I52: 177 | J52: 144 | K52: 168 | L52: 169 | M52: 143
A53: =A52 -> Waitematā | B53: =B52 -> Justice service area total | C53: Other | D53: 2 | E53: 6 | F53: 6 | G53: 4 | H53: 1 | I53: 3 | J53: 1 | K53: 6 | L53: 0 | M53: 3
A54: =A53 -> Waitematā | B54: =B53 -> Justice service area total | C54: Total | D54: 864 | E54: 863 | F54: 854 | G54: 914 | H54: 875 | I54: 817 | J54: 549 | K54: 647 | L54: 736 | M54: 701
A55: Auckland | B55: Auckland | C55: Convicted | D55: 525 | E55: 594 | F55: 505 | G55: 483 | H55: 495 | I55: 524 | J55: 367 | K55: 529 | L55: 610 | M55: 656
A56: =A55 -> Auckland | B56: =B55 -> Auckland | C56: Other proved | D56: 151 | E56: 171 | F56: 144 | G56: 146 | H56: 149 | I56: 153 | J56: 83 | K56: 115 | L56: 90 | M56: 95
A57: =A56 -> Auckland | B57: =B56 -> Auckland | C57: Not proved | D57: 224 | E57: 190 | F57: 198 | G57: 221 | H57: 244 | I57: 243 | J57: 249 | K57: 285 | L57: 315 | M57: 329
A58: =A57 -> Auckland | B58: =B57 -> Auckland | C58: Other | D58: 3 | E58: 7 | F58: 4 | G58: 9 | H58: 10 | I58: 12 | J58: 10 | K58: 17 | L58: 9 | M58: 14
A59: =A58 -> Auckland | B59: =B58 -> Auckland | C59: Total | D59: 903 | E59: 962 | F59: 851 | G59: 859 | H59: 898 | I59: 932 | J59: 709 | K59: 946 | L59: 1024 | M59: 1094
A60: =A59 -> Auckland | B60: Justice service area total | C60: Convicted | D60: 525 | E60: 594 | F60: 505 | G60: 483 | H60: 495 | I60: 524 | J60: 367 | K60: 529 | L60: 610 | M60: 656
A61: =A60 -> Auckland | B61: =B60 -> Justice service area total | C61: Other proved | D61: 151 | E61: 171 | F61: 144 | G61: 146 | H61: 149 | I61: 153 | J61: 83 | K61: 115 | L61: 90 | M61: 95
A62: =A61 -> Auckland | B62: =B61 -> Justice service area total | C62: Not proved | D62: 224 | E62: 190 | F62: 198 | G62: 221 | H62: 244 | I62: 243 | J62: 249 | K62: 285 | L62: 315 | M62: 329
A63: =A62 -> Auckland | B63: =B62 -> Justice service area total | C63: Other | D63: 3 | E63: 7 | F63: 4 | G63: 9 | H63: 10 | I63: 12 | J63: 10 | K63: 17 | L63: 9 | M63: 14
A64: =A63 -> Auckland | B64: =B63 -> Justice service area total | C64: Total | D64: 903 | E64: 962 | F64: 851 | G64: 859 | H64: 898 | I64: 932 | J64: 709 | K64: 946 | L64: 1024 | M64: 1094
A65: South Auckland | B65: Manukau | C65: Convicted | D65: 749 | E65: 770 | F65: 822 | G65: 851 | H65: 791 | I65: 1028 | J65: 687 | K65: 850 | L65: 910 | M65: 804
A66: South Auckland | B66: =B65 -> Manukau | C66: Other proved | D66: 95 | E66: 118 | F66: 148 | G66: 147 | H66: 134 | I66: 158 | J66: 112 | K66: 149 | L66: 213 | M66: 176
A67: South Auckland | B67: =B66 -> Manukau | C67: Not proved | D67: 246 | E67: 322 | F67: 291 | G67: 252 | H67: 249 | I67: 332 | J67: 356 | K67: 406 | L67: 338 | M67: 315
A68: South Auckland | B68: =B67 -> Manukau | C68: Other | D68: 3 | E68: 12 | F68: 9 | G68: 7 | H68: 12 | I68: 12 | J68: 9 | K68: 7 | L68: 15 | M68: 6
A69: South Auckland | B69: =B68 -> Manukau | C69: Total | D69: 1093 | E69: 1222 | F69: 1270 | G69: 1257 | H69: 1186 | I69: 1530 | J69: 1164 | K69: 1412 | L69: 1476 | M69: 1301
A70: South Auckland | B70: Papakura | C70: Convicted | D70: 181 | E70: 194 | F70: 146 | G70: 153 | H70: 124 | I70: 108 | J70: 90 | K70: 116 | L70: 151 | M70: 157
A71: South Auckland | B71: =B70 -> Papakura | C71: Other proved | D71: 26 | E71: 29 | F71: 6 | G71: 13 | H71: 11 | I71: 6 | J71: 12 | K71: 16 | L71: 19 | M71: 18
A72: South Auckland | B72: =B71 -> Papakura | C72: Not proved | D72: 40 | E72: 58 | F72: 48 | G72: 34 | H72: 33 | I72: 24 | J72: 29 | K72: 42 | L72: 48 | M72: 28
A73: South Auckland | B73: =B72 -> Papakura | C73: Other | D73: 0 | E73: 1 | F73: 0 | G73: 2 | H73: 2 | I73: 0 | J73: 0 | K73: 3 | L73: 0 | M73: 0
A74: South Auckland | B74: =B73 -> Papakura | C74: Total | D74: 247 | E74: 282 | F74: 200 | G74: 202 | H74: 170 | I74: 138 | J74: 131 | K74: 177 | L74: 218 | M74: 203
A75: South Auckland | B75: Pukekohe | C75: Convicted | D75: 102 | E75: 108 | F75: 107 | G75: 104 | H75: 78 | I75: 83 | J75: 56 | K75: 77 | L75: 95 | M75: 83
A76: South Auckland | B76: =B75 -> Pukekohe | C76: Other proved | D76: 16 | E76: 13 | F76: 6 | G76: 13 | H76: 9 | I76: 3 | J76: 2 | K76: 10 | L76: 10 | M76: 11
A77: South Auckland | B77: =B76 -> Pukekohe | C77: Not proved | D77: 25 | E77: 14 | F77: 10 | G77: 11 | H77: 18 | I77: 14 | J77: 12 | K77: 11 | L77: 16 | M77: 12
A78: South Auckland | B78: =B77 -> Pukekohe | C78: Other | D78: 0 | E78: 0 | F78: 1 | G78: 0 | H78: 1 | I78: 0 | J78: 0 | K78: 0 | L78: 0 | M78: 0
A79: South Auckland | B79: =B78 -> Pukekohe | C79: Total | D79: 143 | E79: 135 | F79: 124 | G79: 128 | H79: 106 | I79: 100 | J79: 70 | K79: 98 | L79: 121 | M79: 106
A80: South Auckland | B80: Justice service area total | C80: Convicted | D80: 1032 | E80: 1072 | F80: 1075 | G80: 1108 | H80: 993 | I80: 1219 | J80: 833 | K80: 1043 | L80: 1156 | M80: 1044
A81: South Auckland | B81: =B80 -> Justice service area total | C81: Other proved | D81: 137 | E81: 160 | F81: 160 | G81: 173 | H81: 154 | I81: 167 | J81: 126 | K81: 175 | L81: 242 | M81: 205
A82: South Auckland | B82: =B81 -> Justice service area total | C82: Not proved | D82: 311 | E82: 394 | F82: 349 | G82: 297 | H82: 300 | I82: 370 | J82: 397 | K82: 459 | L82: 402 | M82: 355
A83: South Auckland | B83: =B82 -> Justice service area total | C83: Other | D83: 3 | E83: 13 | F83: 10 | G83: 9 | H83: 15 | I83: 12 | J83: 9 | K83: 10 | L83: 15 | M83: 6
A84: South Auckland | B84: =B83 -> Justice service area total | C84: Total | D84: 1483 | E84: 1639 | F84: 1594 | G84: 1587 | H84: 1462 | I84: 1768 | J84: 1365 | K84: 1687 | L84: 1815 | M84: 1610
A85: Waikato | B85: Hamilton | C85: Convicted | D85: 647 | E85: 645 | F85: 699 | G85: 644 | H85: 654 | I85: 648 | J85: 474 | K85: 525 | L85: 581 | M85: 554
A86: =A85 -> Waikato | B86: =B85 -> Hamilton | C86: Other proved | D86: 62 | E86: 53 | F86: 62 | G86: 39 | H86: 42 | I86: 40 | J86: 37 | K86: 42 | L86: 35 | M86: 43
A87: =A86 -> Waikato | B87: =B86 -> Hamilton | C87: Not proved | D87: 119 | E87: 120 | F87: 119 | G87: 141 | H87: 136 | I87: 160 | J87: 128 | K87: 155 | L87: 165 | M87: 175
A88: =A87 -> Waikato | B88: =B87 -> Hamilton | C88: Other | D88: 1 | E88: 4 | F88: 2 | G88: 1 | H88: 0 | I88: 4 | J88: 11 | K88: 6 | L88: 2 | M88: 6
A89: =A88 -> Waikato | B89: =B88 -> Hamilton | C89: Total | D89: 829 | E89: 822 | F89: 882 | G89: 825 | H89: 832 | I89: 852 | J89: 650 | K89: 728 | L89: 783 | M89: 778
A90: =A89 -> Waikato | B90: Huntly | C90: Convicted | D90: 66 | E90: 49 | F90: 60 | G90: 58 | H90: 46 | I90: 60 | J90: 39 | K90: 49 | L90: 34 | M90: 52
A91: =A90 -> Waikato | B91: =B90 -> Huntly | C91: Other proved | D91: 5 | E91: 3 | F91: 3 | G91: 9 | H91: 1 | I91: 7 | J91: 5 | K91: 8 | L91: 6 | M91: 3
A92: =A91 -> Waikato | B92: =B91 -> Huntly | C92: Not proved | D92: 6 | E92: 12 | F92: 12 | G92: 15 | H92: 21 | I92: 14 | J92: 10 | K92: 12 | L92: 10 | M92: 16
A93: =A92 -> Waikato | B93: =B92 -> Huntly | C93: Other | D93: 0 | E93: 1 | F93: 0 | G93: 0 | H93: 0 | I93: 1 | J93: 0 | K93: 0 | L93: 0 | M93: 0
A94: =A93 -> Waikato | B94: =B93 -> Huntly | C94: Total | D94: 77 | E94: 65 | F94: 75 | G94: 82 | H94: 68 | I94: 82 | J94: 54 | K94: 69 | L94: 50 | M94: 71
A95: =A94 -> Waikato | B95: Morrinsville | C95: Convicted | D95: 35 | E95: 49 | F95: 36 | G95: 57 | H95: 53 | I95: 50 | J95: 30 | K95: 35 | L95: 36 | M95: 26
A96: =A95 -> Waikato | B96: =B95 -> Morrinsville | C96: Other proved | D96: 12 | E96: 7 | F96: 3 | G96: 1 | H96: 1 | I96: 6 | J96: 3 | K96: 2 | L96: 4 | M96: 2
A97: =A96 -> Waikato | B97: =B96 -> Morrinsville | C97: Not proved | D97: 6 | E97: 9 | F97: 7 | G97: 11 | H97: 13 | I97: 9 | J97: 7 | K97: 14 | L97: 3 | M97: 5
A98: =A97 -> Waikato | B98: =B97 -> Morrinsville | C98: Other | D98: 0 | E98: 0 | F98: 0 | G98: 0 | H98: 0 | I98: 0 | J98: 0 | K98: 0 | L98: 0 | M98: 0
A99: =A98 -> Waikato | B99: =B98 -> Morrinsville | C99: Total | D99: 53 | E99: 65 | F99: 46 | G99: 69 | H99: 67 | I99: 65 | J99: 40 | K99: 51 | L99: 43 | M99: 33
A100: =A99 -> Waikato | B100: Te Awamutu | C100: Convicted | D100: 43 | E100: 38 | F100: 34 | G100: 32 | H100: 29 | I100: 39 | J100: 37 | K100: 23 | L100: 20 | M100: 31
...

Sheet 2c.People charged demographic
A1: Table 2c: Number and percentage of people with finalised charges for family violence offences, by gender, ethnicity and age group, 2015/2016 -2024/2025
A2: This data counts a person once per financial year. All of their charges have the same recorded gender and ethnicity information. Age in this table is the person's age at the offence date of their most serious family violence charge finalised in the year.
A3: 'Multiple ethnicity' information is used in this table. This means for each ethnicity a person is counted once per year (e.g. they may be counted in both European and Māori). As some people have multiple recorded ethnicities this will result in the sum of ethnicities being greater than the total number of people each year.
A4: For more information on how to interpret these figures, please read the definitions and data notes
A5: Back to contents page
A6: Example interpretation: In 2024/2025, 87% of people with finalised charges for family violence offences were male (10,829 people).
B7: Number of people | L7: Percentage of total
B8: 2015/2016 | C8: 2016/2017 | D8: 2017/2018 | E8: 2018/2019 | F8: 2019/2020 | G8: 2020/2021 | H8: 2021/2022 | I8: 2022/2023 | J8: 2023/2024 | K8: 2024/2025 | L8: 2015/2016 | M8: 2016/2017 | N8: 2017/2018 | O8: 2018/2019 | P8: 2019/2020 | Q8: 2020/2021 | R8: 2021/2022 | S8: 2022/2023 | T8: 2023/2024 | U8: 2024/2025
A9: Total | B9: 14205 | C9: 14536 | D9: 13940 | E9: 13499 | F9: 13349 | G9: 13541 | H9: 10860 | I9: 11761 | J9: 12420 | K9: 12414 | L9: 1 | M9: 1 | N9: 1 | O9: 1 | P9: 1 | Q9: 1 | R9: 1 | S9: 1 | T9: 1 | U9: 1
A10: Gender
A11: Female | B11: 2111 | C11: 2195 | D11: 1996 | E11: 1785 | F11: 1675 | G11: 1722 | H11: 1278 | I11: 1455 | J11: 1561 | K11: 1585 | L11: 0.15 | M11: 0.15 | N11: 0.14 | O11: 0.13 | P11: 0.13 | Q11: 0.13 | R11: 0.12 | S11: 0.12 | T11: 0.13 | U11: 0.13
A12: Male | B12: 12086 | C12: 12338 | D12: 11938 | E12: 11713 | F12: 11673 | G12: 11818 | H12: 9581 | I12: 10304 | J12: 10858 | K12: 10829 | L12: 0.85 | M12: 0.85 | N12: 0.86 | O12: 0.87 | P12: 0.87 | Q12: 0.87 | R12: 0.88 | S12: 0.88 | T12: 0.87 | U12: 0.87
A13: Unknown | B13: 8 | C13: 3 | D13: 6 | E13: 1 | F13: 1 | G13: 1 | H13: 1 | I13: 2 | J13: 1 | K13: 0 | L13: <1% | M13: <1% | N13: <1% | O13: <1% | P13: <1% | Q13: <1% | R13: <1% | S13: <1% | T13: <1% | U13: 0
A14: Ethnicity
A15: European | B15: 5574 | C15: 5513 | D15: 5351 | E15: 5009 | F15: 4972 | G15: 4950 | H15: 3943 | I15: 4056 | J15: 4053 | K15: 4105 | L15: 0.39 | M15: 0.38 | N15: 0.38 | O15: 0.37 | P15: 0.37 | Q15: 0.37 | R15: 0.36 | S15: 0.34 | T15: 0.33 | U15: 0.33
A16: Māori | B16: 7134 | C16: 7420 | D16: 7098 | E16: 6898 | F16: 7001 | G16: 7024 | H16: 5786 | I16: 6148 | J16: 6570 | K16: 6487 | L16: 0.5 | M16: 0.51 | N16: 0.51 | O16: 0.51 | P16: 0.52 | Q16: 0.52 | R16: 0.53 | S16: 0.52 | T16: 0.53 | U16: 0.52
A17: Pacific Peoples | B17: 1622 | C17: 1679 | D17: 1538 | E17: 1580 | F17: 1441 | G17: 1508 | H17: 1171 | I17: 1391 | J17: 1417 | K17: 1318 | L17: 0.11 | M17: 0.12 | N17: 0.11 | O17: 0.12 | P17: 0.11 | Q17: 0.11 | R17: 0.11 | S17: 0.12 | T17: 0.11 | U17: 0.11
A18: Asian | B18: 546 | C18: 612 | D18: 587 | E18: 582 | F18: 534 | G18: 552 | H18: 410 | I18: 448 | J18: 472 | K18: 456 | L18: 0.04 | M18: 0.04 | N18: 0.04 | O18: 0.04 | P18: 0.04 | Q18: 0.04 | R18: 0.04 | S18: 0.04 | T18: 0.04 | U18: 0.04
A19: Other | B19: 323 | C19: 331 | D19: 303 | E19: 314 | F19: 281 | G19: 289 | H19: 224 | I19: 233 | J19: 257 | K19: 219 | L19: 0.02 | M19: 0.02 | N19: 0.02 | O19: 0.02 | P19: 0.02 | Q19: 0.02 | R19: 0.02 | S19: 0.02 | T19: 0.02 | U19: 0.02
A20: Unknown | B20: 86 | C20: 90 | D20: 96 | E20: 101 | F20: 107 | G20: 135 | H20: 121 | I20: 295 | J20: 464 | K20: 595 | L20: 0.01 | M20: 0.01 | N20: 0.01 | O20: 0.01 | P20: 0.01 | Q20: 0.01 | R20: 0.01 | S20: 0.03 | T20: 0.04 | U20: 0.05
A21: Age group (years)
A22: 19 years and under | B22: 1284 | C22: 1240 | D22: 1100 | E22: 976 | F22: 788 | G22: 762 | H22: 564 | I22: 607 | J22: 633 | K22: 604 | L22: 0.09 | M22: 0.09 | N22: 0.08 | O22: 0.07 | P22: 0.06 | Q22: 0.06 | R22: 0.05 | S22: 0.05 | T22: 0.05 | U22: 0.05
A23: 20-24 | B23: 2657 | C23: 2556 | D23: 2296 | E23: 2163 | F23: 2030 | G23: 1966 | H23: 1419 | I23: 1539 | J23: 1520 | K23: 1451 | L23: 0.19 | M23: 0.18 | N23: 0.16 | O23: 0.16 | P23: 0.15 | Q23: 0.15 | R23: 0.13 | S23: 0.13 | T23: 0.12 | U23: 0.12
A24: 25-29 | B24: 2636 | C24: 2760 | D24: 2790 | E24: 2685 | F24: 2657 | G24: 2655 | H24: 1989 | I24: 2171 | J24: 2216 | K24: 2120 | L24: 0.19 | M24: 0.19 | N24: 0.2 | O24: 0.2 | P24: 0.2 | Q24: 0.2 | R24: 0.18 | S24: 0.18 | T24: 0.18 | U24: 0.17
A25: 30-34 | B25: 2120 | C25: 2290 | D25: 2256 | E25: 2212 | F25: 2410 | G25: 2542 | H25: 2174 | I25: 2215 | J25: 2472 | K25: 2385 | L25: 0.15 | M25: 0.16 | N25: 0.16 | O25: 0.16 | P25: 0.18 | Q25: 0.19 | R25: 0.2 | S25: 0.19 | T25: 0.2 | U25: 0.19
A26: 35-39 | B26: 1716 | C26: 1784 | D26: 1744 | E26: 1807 | F26: 1785 | G26: 1876 | H26: 1640 | I26: 1821 | J26: 1973 | K26: 2029 | L26: 0.12 | M26: 0.12 | N26: 0.13 | O26: 0.13 | P26: 0.13 | Q26: 0.14 | R26: 0.15 | S26: 0.15 | T26: 0.16 | U26: 0.16
A27: 40-44 | B27: 1472 | C27: 1473 | D27: 1402 | E27: 1396 | F27: 1379 | G27: 1432 | H27: 1165 | I27: 1280 | J27: 1378 | K27: 1464 | L27: 0.1 | M27: 0.1 | N27: 0.1 | O27: 0.1 | P27: 0.1 | Q27: 0.11 | R27: 0.11 | S27: 0.11 | T27: 0.11 | U27: 0.12
A28: 45-49 | B28: 1080 | C28: 1112 | D28: 1088 | E28: 1023 | F28: 1057 | G28: 1042 | H28: 812 | I28: 918 | J28: 927 | K28: 976 | L28: 0.08 | M28: 0.08 | N28: 0.08 | O28: 0.08 | P28: 0.08 | Q28: 0.08 | R28: 0.07 | S28: 0.08 | T28: 0.07 | U28: 0.08
A29: 50-54 | B29: 646 | C29: 667 | D29: 657 | E29: 662 | F29: 616 | G29: 605 | H29: 533 | I29: 593 | J29: 631 | K29: 644 | L29: 0.05 | M29: 0.05 | N29: 0.05 | O29: 0.05 | P29: 0.05 | Q29: 0.04 | R29: 0.05 | S29: 0.05 | T29: 0.05 | U29: 0.05
A30: 55-59 | B30: 326 | C30: 338 | D30: 317 | E30: 313 | F30: 353 | G30: 354 | H30: 311 | I30: 329 | J30: 348 | K30: 383 | L30: 0.02 | M30: 0.02 | N30: 0.02 | O30: 0.02 | P30: 0.03 | Q30: 0.03 | R30: 0.03 | S30: 0.03 | T30: 0.03 | U30: 0.03
A31: 60-64 | B31: 146 | C31: 157 | D31: 162 | E31: 129 | F31: 143 | G31: 157 | H31: 129 | I31: 148 | J31: 150 | K31: 168 | L31: 0.01 | M31: 0.01 | N31: 0.01 | O31: 0.01 | P31: 0.01 | Q31: 0.01 | R31: 0.01 | S31: 0.01 | T31: 0.01 | U31: 0.01
A32: 65 years and over | B32: 112 | C32: 132 | D32: 108 | E32: 103 | F32: 114 | G32: 118 | H32: 88 | I32: 98 | J32: 121 | K32: 147 | L32: 0.01 | M32: 0.01 | N32: 0.01 | O32: 0.01 | P32: 0.01 | Q32: 0.01 | R32: 0.01 | S32: 0.01 | T32: 0.01 | U32: 0.01
A33: Unknown | B33: 10 | C33: 27 | D33: 20 | E33: 30 | F33: 17 | G33: 32 | H33: 36 | I33: 42 | J33: 51 | K33: 43 | L33: <1% | M33: <1% | N33: <1% | O33: <1% | P33: <1% | Q33: <1% | R33: <1% | S33: <1% | T33: <1% | U33: <1%

Sheet 3a.People convicted by offence
A1: Table 3a: Number and percentage of people convicted of family violence offences, by offence type, 2015/2016 - 2024/2025
A2: This data counts a person once per financial year for their most serious family violence conviction, and only the details of that convicted charge are shown.
A3: For more information on how to interpret these figures, please read the definitions and data notes
A4: Back to contents page
A5: Example interpretation: In 2024/2025, for 50% of people convicted of a family violence offence, their most serious family violence conviction was for assault (4,278 people).
B6: Number of people | L6: Percentage of total
A7: Offence type (ANZSOC division) | B7: 2015/2016 | C7: 2016/2017 | D7: 2017/2018 | E7: 2018/2019 | F7: 2019/2020 | G7: 2020/2021 | H7: 2021/2022 | I7: 2022/2023 | J7: 2023/2024 | K7: 2024/2025 | L7: 2015/2016 | M7: 2016/2017 | N7: 2017/2018 | O7: 2018/2019 | P7: 2019/2020 | Q7: 2020/2021 | R7: 2021/2022 | S7: 2022/2023 | T7: 2023/2024 | U7: 2024/2025
A8: 01: Homicide | B8: 23 | C8: 17 | D8: 12 | E8: 11 | F8: 16 | G8: 22 | H8: 20 | I8: 9 | J8: 28 | K8: 13 | L8: <1% | M8: <1% | N8: <1% | O8: <1% | P8: <1% | Q8: <1% | R8: <1% | S8: <1% | T8: <1% | U8: <1%
A9: 02: Assault | B9: 6089 | C9: 6123 | D9: 5924 | E9: 5458 | F9: 5045 | G9: 5072 | H9: 3834 | I9: 4075 | J9: 4394 | K9: 4278 | L9: 0.59 | M9: 0.59 | N9: 0.59 | O9: 0.57 | P9: 0.54 | Q9: 0.54 | R9: 0.51 | S9: 0.51 | T9: 0.51 | U9: 0.5
A10: 03: Sexual offences | B10: 211 | C10: 249 | D10: 253 | E10: 205 | F10: 237 | G10: 234 | H10: 245 | I10: 320 | J10: 331 | K10: 314 | L10: 0.02 | M10: 0.02 | N10: 0.03 | O10: 0.02 | P10: 0.03 | Q10: 0.02 | R10: 0.03 | S10: 0.04 | T10: 0.04 | U10: 0.04
A11: 04: Harm or endanger persons | B11: 825 | C11: 853 | D11: 813 | E11: 781 | F11: 791 | G11: 810 | H11: 698 | I11: 726 | J11: 833 | K11: 905 | L11: 0.08 | M11: 0.08 | N11: 0.08 | O11: 0.08 | P11: 0.08 | Q11: 0.09 | R11: 0.09 | S11: 0.09 | T11: 0.1 | U11: 0.11
A12: 05: Robbery, blackmail, and extortion | B12: 0 | C12: 3 | D12: 4 | E12: 6 | F12: 3 | G12: 7 | H12: 5 | I12: 11 | J12: 3 | K12: 6 | L12: 0 | M12: <1% | N12: <1% | O12: <1% | P12: <1% | Q12: <1% | R12: <1% | S12: <1% | T12: <1% | U12: <1%
A13: 06: Burglary | B13: 32 | C13: 34 | D13: 18 | E13: 28 | F13: 30 | G13: 27 | H13: 38 | I13: 45 | J13: 30 | K13: 60 | L13: <1% | M13: <1% | N13: <1% | O13: <1% | P13: <1% | Q13: <1% | R13: 0.01 | S13: 0.01 | T13: <1% | U13: 0.01
A14: 07: Theft | B14: 32 | C14: 38 | D14: 39 | E14: 49 | F14: 55 | G14: 55 | H14: 41 | I14: 52 | J14: 50 | K14: 63 | L14: <1% | M14: <1% | N14: <1% | O14: 0.01 | P14: 0.01 | Q14: 0.01 | R14: 0.01 | S14: 0.01 | T14: 0.01 | U14: 0.01
A15: 08: Fraud and related offences | B15: 10 | C15: 12 | D15: 11 | E15: 9 | F15: 9 | G15: 15 | H15: 10 | I15: 5 | J15: 9 | K15: 13 | L15: <1% | M15: <1% | N15: <1% | O15: <1% | P15: <1% | Q15: <1% | R15: <1% | S15: <1% | T15: <1% | U15: <1%
A16: 09: Drug offences | B16: 4 | C16: 11 | D16: 6 | E16: 11 | F16: 13 | G16: 17 | H16: 13 | I16: 13 | J16: 14 | K16: 33 | L16: <1% | M16: <1% | N16: <1% | O16: <1% | P16: <1% | Q16: <1% | R16: <1% | S16: <1% | T16: <1% | U16: <1%
A17: 10: Weapons and explosives offences | B17: 142 | C17: 133 | D17: 107 | E17: 119 | F17: 116 | G17: 125 | H17: 83 | I17: 107 | J17: 101 | K17: 111 | L17: 0.01 | M17: 0.01 | N17: 0.01 | O17: 0.01 | P17: 0.01 | Q17: 0.01 | R17: 0.01 | S17: 0.01 | T17: 0.01 | U17: 0.01
A18: 11: Property damage | B18: 922 | C18: 848 | D18: 809 | E18: 792 | F18: 821 | G18: 817 | H18: 549 | I18: 576 | J18: 651 | K18: 565 | L18: 0.09 | M18: 0.08 | N18: 0.08 | O18: 0.08 | P18: 0.09 | Q18: 0.09 | R18: 0.07 | S18: 0.07 | T18: 0.08 | U18: 0.07
A19: 12: Public order, health, and safety offences | B19: 204 | C19: 203 | D19: 177 | E19: 182 | F19: 190 | G19: 168 | H19: 145 | I19: 130 | J19: 141 | K19: 180 | L19: 0.02 | M19: 0.02 | N19: 0.02 | O19: 0.02 | P19: 0.02 | Q19: 0.02 | R19: 0.02 | S19: 0.02 | T19: 0.02 | U19: 0.02
A20: 13: Traffic and vehicle offences | B20: 27 | C20: 33 | D20: 16 | E20: 28 | F20: 30 | G20: 72 | H20: 50 | I20: 51 | J20: 46 | K20: 64 | L20: <1% | M20: <1% | N20: <1% | O20: <1% | P20: <1% | Q20: 0.01 | R20: 0.01 | S20: 0.01 | T20: 0.01 | U20: 0.01
A21: 14: Offences against justice procedures and orders | B21: 1866 | C21: 1891 | D21: 1837 | E21: 1874 | F21: 1992 | G21: 2020 | H21: 1747 | I21: 1863 | J21: 1934 | K21: 1995 | L21: 0.18 | M21: 0.18 | N21: 0.18 | O21: 0.2 | P21: 0.21 | Q21: 0.21 | R21: 0.23 | S21: 0.23 | T21: 0.23 | U21: 0.23
A22: 15: Offences against government | B22: 0 | C22: 0 | D22: 0 | E22: 1 | F22: 0 | G22: 1 | H22: 0 | I22: 0 | J22: 1 | K22: 2 | L22: 0 | M22: 0 | N22: 0 | O22: <1% | P22: 0 | Q22: <1% | R22: 0 | S22: 0 | T22: <1% | U22: <1%
A23: 16: Environmental offences | B23: 3 | C23: 0 | D23: 0 | E23: 1 | F23: 0 | G23: 3 | H23: 2 | I23: 0 | J23: 2 | K23: 8 | L23: <1% | M23: 0 | N23: 0 | O23: <1% | P23: 0 | Q23: <1% | R23: <1% | S23: 0 | T23: <1% | U23: <1%
A24: 17: Miscellaneous offences | B24: 0 | C24: 0 | D24: 0 | E24: 0 | F24: 0 | G24: 0 | H24: 0 | I24: 0 | J24: 0 | K24: 0 | L24: 0 | M24: 0 | N24: 0 | O24: 0 | P24: 0 | Q24: 0 | R24: 0 | S24: 0 | T24: 0 | U24: 0
A25: Total | B25: 10390 | C25: 10448 | D25: 10026 | E25: 9555 | F25: 9348 | G25: 9465 | H25: 7480 | I25: 7983 | J25: 8568 | K25: 8610 | L25: 1 | M25: 1 | N25: 1 | O25: 1 | P25: 1 | Q25: 1 | R25: 1 | S25: 1 | T25: 1 | U25: 1

Sheet 3b.People convicted sentence
A1: Table 3b: Number and percentage of people convicted of family violence offences, by most serious sentence, 2015/2016 - 2024/2025
A2: This data counts a person once per financial year for their most serious family violence conviction, and only the details of that convicted charge are shown.
A3: For more information on how to interpret these figures, please read the definitions and data notes
A4: Back to contents page
A5: Example interpretation: In 2024/2025, 29% of people convicted of a family violence offence received an imprisonment sentence as their most serious sentence (2,465 people).
B6: Number of people | L6: Percentage of total
A7: Most serious sentence | B7: 2015/2016 | C7: 2016/2017 | D7: 2017/2018 | E7: 2018/2019 | F7: 2019/2020 | G7: 2020/2021 | H7: 2021/2022 | I7: 2022/2023 | J7: 2023/2024 | K7: 2024/2025 | L7: 2015/2016 | M7: 2016/2017 | N7: 2017/2018 | O7: 2018/2019 | P7: 2019/2020 | Q7: 2020/2021 | R7: 2021/2022 | S7: 2022/2023 | T7: 2023/2024 | U7: 2024/2025
A8: Imprisonment | B8: 2455 | C8: 2598 | D8: 2561 | E8: 2301 | F8: 2442 | G8: 1986 | H8: 1777 | I8: 1965 | J8: 2315 | K8: 2465 | L8: 0.24 | M8: 0.25 | N8: 0.26 | O8: 0.24 | P8: 0.26 | Q8: 0.21 | R8: 0.24 | S8: 0.25 | T8: 0.27 | U8: 0.29
A9: Home detention | B9: 540 | C9: 566 | D9: 628 | E9: 591 | F9: 634 | G9: 795 | H9: 635 | I9: 745 | J9: 792 | K9: 841 | L9: 0.05 | M9: 0.05 | N9: 0.06 | O9: 0.06 | P9: 0.07 | Q9: 0.08 | R9: 0.08 | S9: 0.09 | T9: 0.09 | U9: 0.1
A10: Community detention | B10: 620 | C10: 704 | D10: 742 | E10: 783 | F10: 832 | G10: 1089 | H10: 788 | I10: 841 | J10: 944 | K10: 886 | L10: 0.06 | M10: 0.07 | N10: 0.07 | O10: 0.08 | P10: 0.09 | Q10: 0.12 | R10: 0.11 | S10: 0.11 | T10: 0.11 | U10: 0.1
A11: Intensive supervision | B11: 616 | C11: 714 | D11: 773 | E11: 898 | F11: 1022 | G11: 1157 | H11: 939 | I11: 1034 | J11: 1056 | K11: 931 | L11: 0.06 | M11: 0.07 | N11: 0.08 | O11: 0.09 | P11: 0.11 | Q11: 0.12 | R11: 0.13 | S11: 0.13 | T11: 0.12 | U11: 0.11
A12: Community work | B12: 2577 | C12: 2391 | D12: 2066 | E12: 1644 | F12: 1340 | G12: 1370 | H12: 962 | I12: 916 | J12: 1032 | K12: 1092 | L12: 0.25 | M12: 0.23 | N12: 0.21 | O12: 0.17 | P12: 0.14 | Q12: 0.14 | R12: 0.13 | S12: 0.11 | T12: 0.12 | U12: 0.13
A13: Supervision | B13: 1438 | C13: 1495 | D13: 1427 | E13: 1584 | F13: 1515 | G13: 1618 | H13: 1243 | I13: 1348 | J13: 1304 | K13: 1234 | L13: 0.14 | M13: 0.14 | N13: 0.14 | O13: 0.17 | P13: 0.16 | Q13: 0.17 | R13: 0.17 | S13: 0.17 | T13: 0.15 | U13: 0.14
A14: Monetary | B14: 688 | C14: 665 | D14: 609 | E14: 533 | F14: 477 | G14: 441 | H14: 337 | I14: 339 | J14: 301 | K14: 289 | L14: 0.07 | M14: 0.06 | N14: 0.06 | O14: 0.06 | P14: 0.05 | Q14: 0.05 | R14: 0.05 | S14: 0.04 | T14: 0.04 | U14: 0.03
A15: Deferment | B15: 1044 | C15: 987 | D15: 893 | E15: 869 | F15: 738 | G15: 735 | H15: 536 | I15: 531 | J15: 534 | K15: 528 | L15: 0.1 | M15: 0.09 | N15: 0.09 | O15: 0.09 | P15: 0.08 | Q15: 0.08 | R15: 0.07 | S15: 0.07 | T15: 0.06 | U15: 0.06
A16: Other | B16: 116 | C16: 77 | D16: 75 | E16: 89 | F16: 82 | G16: 65 | H16: 61 | I16: 68 | J16: 71 | K16: 63 | L16: 0.01 | M16: 0.01 | N16: 0.01 | O16: 0.01 | P16: 0.01 | Q16: 0.01 | R16: 0.01 | S16: 0.01 | T16: 0.01 | U16: 0.01
A17: No sentence recorded | B17: 296 | C17: 251 | D17: 252 | E17: 263 | F17: 266 | G17: 209 | H17: 202 | I17: 196 | J17: 219 | K17: 281 | L17: 0.03 | M17: 0.02 | N17: 0.03 | O17: 0.03 | P17: 0.03 | Q17: 0.02 | R17: 0.03 | S17: 0.02 | T17: 0.03 | U17: 0.03
A18: Total | B18: 10390 | C18: 10448 | D18: 10026 | E18: 9555 | F18: 9348 | G18: 9465 | H18: 7480 | I18: 7983 | J18: 8568 | K18: 8610 | L18: 1 | M18: 1 | N18: 1 | O18: 1 | P18: 1 | Q18: 1 | R18: 1 | S18: 1 | T18: 1 | U18: 1

Sheet 3c.People convicted demographic
A1: Table 3c: Number and percentage of people convicted of family violence offences, by gender, ethnicity and age group, 2015/2016 - 2024/2025
A2: This data counts a person once per financial year. All of their charges have the same recorded gender and ethnicity information. Age in this table is the person's age at the offence date of their most serious family violence conviction.
A3: 'Multiple ethnicity' information is used in this table. This means for each ethnicity a person is counted once per year (e.g. they may be counted in both European and Māori). As some people have multiple recorded ethnicities this will result in the sum of ethnicities being greater than the total number of people each year.
A4: For more information on how to interpret these figures, please read the definitions and data notes
A5: Back to contents page
A6: Example interpretation: In 2024/2025, 90% of people convicted of family violence offences were male (7,706 people).
B7: Number of people | L7: Percentage of total
B8: 2015/2016 | C8: 2016/2017 | D8: 2017/2018 | E8: 2018/2019 | F8: 2019/2020 | G8: 2020/2021 | H8: 2021/2022 | I8: 2022/2023 | J8: 2023/2024 | K8: 2024/2025 | L8: 2015/2016 | M8: 2016/2017 | N8: 2017/2018 | O8: 2018/2019 | P8: 2019/2020 | Q8: 2020/2021 | R8: 2021/2022 | S8: 2022/2023 | T8: 2023/2024 | U8: 2024/2025
A9: Total | B9: 10390 | C9: 10448 | D9: 10026 | E9: 9555 | F9: 9348 | G9: 9465 | H9: 7480 | I9: 7983 | J9: 8568 | K9: 8610 | L9: 1 | M9: 1 | N9: 1 | O9: 1 | P9: 1 | Q9: 1 | R9: 1 | S9: 1 | T9: 1 | U9: 1
A10: Gender
A11: Female | B11: 1259 | C11: 1238 | D11: 1120 | E11: 1032 | F11: 920 | G11: 973 | H11: 722 | I11: 761 | J11: 886 | K11: 904 | L11: 0.12 | M11: 0.12 | N11: 0.11 | O11: 0.11 | P11: 0.1 | Q11: 0.1 | R11: 0.1 | S11: 0.1 | T11: 0.1 | U11: 0.1
A12: Male | B12: 9129 | C12: 9209 | D12: 8904 | E12: 8522 | F12: 8427 | G12: 8492 | H12: 6758 | I12: 7220 | J12: 7682 | K12: 7706 | L12: 0.88 | M12: 0.88 | N12: 0.89 | O12: 0.89 | P12: 0.9 | Q12: 0.9 | R12: 0.9 | S12: 0.9 | T12: 0.9 | U12: 0.9
A13: Unknown | B13: 2 | C13: 1 | D13: 2 | E13: 1 | F13: 1 | G13: 0 | H13: 0 | I13: 2 | J13: 0 | K13: 0 | L13: <1% | M13: <1% | N13: <1% | O13: <1% | P13: <1% | Q13: 0 | R13: 0 | S13: <1% | T13: 0 | U13: 0
A14: Ethnicity
A15: European | B15: 3849 | C15: 3813 | D15: 3671 | E15: 3426 | F15: 3315 | G15: 3307 | H15: 2685 | I15: 2746 | J15: 2834 | K15: 2843 | L15: 0.37 | M15: 0.36 | N15: 0.37 | O15: 0.36 | P15: 0.35 | Q15: 0.35 | R15: 0.36 | S15: 0.34 | T15: 0.33 | U15: 0.33
A16: Māori | B16: 5708 | C16: 5782 | D16: 5576 | E16: 5292 | F16: 5365 | G16: 5336 | H16: 4297 | I16: 4491 | J16: 4882 | K16: 4899 | L16: 0.55 | M16: 0.55 | N16: 0.56 | O16: 0.55 | P16: 0.57 | Q16: 0.56 | R16: 0.57 | S16: 0.56 | T16: 0.57 | U16: 0.57
A17: Pacific Peoples | B17: 1188 | C17: 1189 | D17: 1085 | E17: 1106 | F17: 985 | G17: 1036 | H17: 762 | I17: 930 | J17: 920 | K17: 918 | L17: 0.11 | M17: 0.11 | N17: 0.11 | O17: 0.12 | P17: 0.11 | Q17: 0.11 | R17: 0.1 | S17: 0.12 | T17: 0.11 | U17: 0.11
A18: Asian | B18: 267 | C18: 298 | D18: 285 | E18: 267 | F18: 231 | G18: 267 | H18: 176 | I18: 201 | J18: 230 | K18: 216 | L18: 0.03 | M18: 0.03 | N18: 0.03 | O18: 0.03 | P18: 0.02 | Q18: 0.03 | R18: 0.02 | S18: 0.03 | T18: 0.03 | U18: 0.03
A19: Other | B19: 211 | C19: 228 | D19: 198 | E19: 197 | F19: 164 | G19: 187 | H19: 139 | I19: 153 | J19: 161 | K19: 136 | L19: 0.02 | M19: 0.02 | N19: 0.02 | O19: 0.02 | P19: 0.02 | Q19: 0.02 | R19: 0.02 | S19: 0.02 | T19: 0.02 | U19: 0.02
A20: Unknown | B20: 31 | C20: 37 | D20: 35 | E20: 37 | F20: 29 | G20: 52 | H20: 53 | I20: 78 | J20: 155 | K20: 207 | L20: <1% | M20: <1% | N20: <1% | O20: <1% | P20: <1% | Q20: 0.01 | R20: 0.01 | S20: 0.01 | T20: 0.02 | U20: 0.02
A21: Age group (years)
A22: 19 years and under | B22: 733 | C22: 661 | D22: 596 | E22: 459 | F22: 334 | G22: 287 | H22: 195 | I22: 207 | J22: 223 | K22: 199 | L22: 0.07 | M22: 0.06 | N22: 0.06 | O22: 0.05 | P22: 0.04 | Q22: 0.03 | R22: 0.03 | S22: 0.03 | T22: 0.03 | U22: 0.02
A23: 20-24 | B23: 2036 | C23: 1885 | D23: 1707 | E23: 1572 | F23: 1412 | G23: 1348 | H23: 967 | I23: 987 | J23: 1006 | K23: 944 | L23: 0.2 | M23: 0.18 | N23: 0.17 | O23: 0.16 | P23: 0.15 | Q23: 0.14 | R23: 0.13 | S23: 0.12 | T23: 0.12 | U23: 0.11
A24: 25-29 | B24: 2024 | C24: 2134 | D24: 2152 | E24: 2024 | F24: 2040 | G24: 1977 | H24: 1448 | I24: 1563 | J24: 1584 | K24: 1547 | L24: 0.19 | M24: 0.2 | N24: 0.21 | O24: 0.21 | P24: 0.22 | Q24: 0.21 | R24: 0.19 | S24: 0.2 | T24: 0.18 | U24: 0.18
A25: 30-34 | B25: 1659 | C25: 1749 | D25: 1725 | E25: 1650 | F25: 1778 | G25: 1916 | H25: 1626 | I25: 1617 | J25: 1825 | K25: 1758 | L25: 0.16 | M25: 0.17 | N25: 0.17 | O25: 0.17 | P25: 0.19 | Q25: 0.2 | R25: 0.22 | S25: 0.2 | T25: 0.21 | U25: 0.2
A26: 35-39 | B26: 1274 | C26: 1308 | D26: 1273 | E26: 1336 | F26: 1277 | G26: 1376 | H26: 1186 | I26: 1317 | J26: 1427 | K26: 1507 | L26: 0.12 | M26: 0.13 | N26: 0.13 | O26: 0.14 | P26: 0.14 | Q26: 0.15 | R26: 0.16 | S26: 0.16 | T26: 0.17 | U26: 0.18
A27: 40-44 | B27: 1078 | C27: 1066 | D27: 994 | E27: 993 | F27: 982 | G27: 1004 | H27: 824 | I27: 904 | J27: 995 | K27: 1060 | L27: 0.1 | M27: 0.1 | N27: 0.1 | O27: 0.1 | P27: 0.11 | Q27: 0.11 | R27: 0.11 | S27: 0.11 | T27: 0.12 | U27: 0.12
A28: 45-49 | B28: 780 | C28: 783 | D28: 761 | E28: 713 | F28: 752 | G28: 743 | H28: 554 | I28: 637 | J28: 653 | K28: 698 | L28: 0.08 | M28: 0.07 | N28: 0.08 | O28: 0.07 | P28: 0.08 | Q28: 0.08 | R28: 0.07 | S28: 0.08 | T28: 0.08 | U28: 0.08
A29: 50-54 | B29: 444 | C29: 456 | D29: 446 | E29: 455 | F29: 388 | G29: 410 | H29: 359 | I29: 388 | J29: 447 | K29: 435 | L29: 0.04 | M29: 0.04 | N29: 0.04 | O29: 0.05 | P29: 0.04 | Q29: 0.04 | R29: 0.05 | S29: 0.05 | T29: 0.05 | U29: 0.05
A30: 55-59 | B30: 201 | C30: 227 | D30: 203 | E30: 203 | F30: 223 | G30: 227 | H30: 184 | I30: 210 | J30: 219 | K30: 258 | L30: 0.02 | M30: 0.02 | N30: 0.02 | O30: 0.02 | P30: 0.02 | Q30: 0.02 | R30: 0.02 | S30: 0.03 | T30: 0.03 | U30: 0.03
A31: 60-64 | B31: 92 | C31: 93 | D31: 100 | E31: 79 | F31: 89 | G31: 95 | H31: 79 | I31: 79 | J31: 94 | K31: 102 | L31: 0.01 | M31: 0.01 | N31: 0.01 | O31: 0.01 | P31: 0.01 | Q31: 0.01 | R31: 0.01 | S31: 0.01 | T31: 0.01 | U31: 0.01
A32: 65 years and over | B32: 65 | C32: 74 | D32: 61 | E32: 60 | F32: 66 | G32: 69 | H32: 43 | I32: 54 | J32: 64 | K32: 82 | L32: 0.01 | M32: 0.01 | N32: 0.01 | O32: 0.01 | P32: 0.01 | Q32: 0.01 | R32: 0.01 | S32: 0.01 | T32: 0.01 | U32: 0.01
A33: Unknown | B33: 4 | C33: 12 | D33: 8 | E33: 11 | F33: 7 | G33: 13 | H33: 15 | I33: 20 | J33: 31 | K33: 20 | L33: <1% | M33: <1% | N33: <1% | O33: <1% | P33: <1% | Q33: <1% | R33: <1% | S33: <1% | T33: <1% | U33: <1%

Sheet 4a.b.BPO offence types
A1: Table 4a: Number and percentage of finalised charges for breach of protection order offences, by offence type, 2015/2016 - 2024/2025
A2: This data counts a person once per financial year. Prior to the introduction of the Family Violence Act on 1 July 2019, there were two offences for breaching a protection order (Contravenes Protection Order (firearm) and Contravenes Protection Order (no firearm)). The new offence types introduced with the Act provide additional information on the type of breach that occurred.
A3: For more information on how to interpret these figures, please read the definitions and data notes
A4: Back to contents page
A5: Example interpretation: In 2024/2025, 41% of finalised charges for breach of protection order offences were for unauthorised contact (2,258 charges).
B6: Number of charges | L6: Percentage of total
A7: Offence type | B7: 2015/2016 | C7: 2016/2017 | D7: 2017/2018 | E7: 2018/2019 | F7: 2019/2020 | G7: 2020/2021 | H7: 2021/2022 | I7: 2022/2023 | J7: 2023/2024 | K7: 2024/2025 | L7: 2015/2016 | M7: 2016/2017 | N7: 2017/2018 | O7: 2018/2019 | P7: 2019/2020 | Q7: 2020/2021 | R7: 2021/2022 | S7: 2022/2023 | T7: 2023/2024 | U7: 2024/2025
A8: Contravenes Protection Order (firearm) | B8: 94 | C8: 111 | D8: 77 | E8: 56 | F8: 34 | G8: 8 | H8: 2 | I8: 0 | J8: 0 | K8: 0 | L8: 0.02 | M8: 0.02 | N8: 0.01 | O8: 0.01 | P8: 0.01 | Q8: <1% | R8: <1% | S8: 0 | T8: 0 | U8: 0
A9: Contravenes Protection Order (no firearm) | B9: 5311 | C9: 5160 | D9: 5249 | E9: 5426 | F9: 2760 | G9: 379 | H9: 87 | I9: 19 | J9: 9 | K9: 3 | L9: 0.98 | M9: 0.98 | N9: 0.99 | O9: 0.99 | P9: 0.49 | Q9: 0.07 | R9: 0.02 | S9: <1% | T9: <1% | U9: <1%
A10: Contravenes Protection Order - family violence | B10: - | C10: - | D10: - | E10: - | F10: 1809 | G10: 3114 | H10: 2731 | I10: 2936 | J10: 3030 | K10: 2885 | L10: - | M10: - | N10: - | O10: - | P10: 0.32 | Q10: 0.57 | R10: 0.6 | S10: 0.58 | T10: 0.57 | U10: 0.52
A11: Contravenes Protection Order - unauthorised contact | B11: - | C11: - | D11: - | E11: - | F11: 956 | G11: 1831 | H11: 1556 | I11: 1918 | J11: 2007 | K11: 2258 | L11: - | M11: - | N11: - | O11: - | P11: 0.17 | Q11: 0.33 | R11: 0.34 | S11: 0.38 | T11: 0.38 | U11: 0.41
A12: Contravenes Protection Order - encourages a person to engage in behaviour | B12: - | C12: - | D12: - | E12: - | F12: 14 | G12: 24 | H12: 23 | I12: 25 | J12: 14 | K12: 13 | L12: - | M12: - | N12: - | O12: - | P12: <1% | Q12: <1% | R12: 0.01 | S12: <1% | T12: <1% | U12: <1%
A13: Contravenes Protection Order - dowry-related violence | B13: - | C13: - | D13: - | E13: - | F13: 0 | G13: 0 | H13: 0 | I13: 0 | J13: 0 | K13: 0 | L13: - | M13: - | N13: - | O13: - | P13: 0 | Q13: 0 | R13: 0 | S13: 0 | T13: 0 | U13: 0
A14: Contravenes Protection Order - breach of special condition | B14: - | C14: - | D14: - | E14: - | F14: 22 | G14: 31 | H14: 20 | I14: 20 | J14: 17 | K14: 24 | L14: - | M14: - | N14: - | O14: - | P14: <1% | Q14: 0.01 | R14: <1% | S14: <1% | T14: <1% | U14: <1%
A15: Fail to comply with conditions of Protection Order - fail/refuse to surrender weapon | B15: - | C15: - | D15: - | E15: - | F15: 24 | G15: 14 | H15: 8 | I15: 3 | J15: 4 | K15: 5 | L15: - | M15: - | N15: - | O15: - | P15: <1% | Q15: <1% | R15: <1% | S15: <1% | T15: <1% | U15: <1%
A16: Fail to comply with conditions of Protection Order - fail/refuse to surrender Firearms Licence | B16: - | C16: - | D16: - | E16: - | F16: 0 | G16: 0 | H16: 0 | I16: 1 | J16: 0 | K16: 1 | L16: - | M16: - | N16: - | O16: - | P16: 0 | Q16: 0 | R16: 0 | S16: <1% | T16: 0 | U16: <1%
A17: Fail to comply with conditions of Protection Order - possess weapon | B17: - | C17: - | D17: - | E17: - | F17: 1 | G17: 69 | H17: 115 | I17: 153 | J17: 193 | K17: 303 | L17: - | M17: - | N17: - | O17: - | P17: <1% | Q17: 0.01 | R17: 0.03 | S17: 0.03 | T17: 0.04 | U17: 0.06
A18: Fail to comply with conditions of Protection Order - held Firearms Licence | B18: - | C18: - | D18: - | E18: - | F18: 0 | G18: 0 | H18: 0 | I18: 1 | J18: 0 | K18: 0 | L18: - | M18: - | N18: - | O18: - | P18: 0 | Q18: 0 | R18: 0 | S18: <1% | T18: 0 | U18: 0
A19: Contravenes Protection Order - Occupation Order | B19: - | C19: - | D19: - | E19: - | F19: 0 | G19: 0 | H19: 4 | I19: 4 | J19: 4 | K19: 3 | L19: - | M19: - | N19: - | O19: - | P19: 0 | Q19: 0 | R19: <1% | S19: <1% | T19: <1% | U19: <1%
A20: Contravenes Protection Order - Tenancy Order | B20: - | C20: - | D20: - | E20: - | F20: 0 | G20: 1 | H20: 0 | I20: 0 | J20: 1 | K20: 1 | L20: - | M20: - | N20: - | O20: - | P20: 0 | Q20: <1% | R20: 0 | S20: 0 | T20: <1% | U20: <1%
A21: Contravenes Protection Order - Ancillary Furniture Order | B21: - | C21: - | D21: - | E21: - | F21: 0 | G21: 0 | H21: 0 | I21: 0 | J21: 1 | K21: 1 | L21: - | M21: - | N21: - | O21: - | P21: 0 | Q21: 0 | R21: 0 | S21: 0 | T21: <1% | U21: <1%
A22: Contravenes Protection Order - Furniture Order | B22: - | C22: - | D22: - | E22: - | F22: 1 | G22: 0 | H22: 1 | I22: 0 | J22: 2 | K22: 1 | L22: - | M22: - | N22: - | O22: - | P22: <1% | Q22: 0 | R22: <1% | S22: 0 | T22: <1% | U22: <1%
A23: Total | B23: 5405 | C23: 5271 | D23: 5326 | E23: 5482 | F23: 5621 | G23: 5471 | H23: 4547 | I23: 5080 | J23: 5282 | K23: 5498 | L23: 1 | M23: 1 | N23: 1 | O23: 1 | P23: 1 | Q23: 1 | R23: 1 | S23: 1 | T23: 1 | U23: 1
A25: Table 4b: Number and percentage of convicted charges for breach of protection order offences, by offence type, 2015/2016 - 2024/2025
A26: Example interpretation: In 2024/2025, 39% of convicted charges for breach of protection order offences were for unauthorised contact (1,470 charges).
B27: Number of convicted charges | L27: Percentage of total
A28: Offence type | B28: 2015/2016 | C28: 2016/2017 | D28: 2017/2018 | E28: 2018/2019 | F28: 2019/2020 | G28: 2020/2021 | H28: 2021/2022 | I28: 2022/2023 | J28: 2023/2024 | K28: 2024/2025 | L28: 2015/2016 | M28: 2016/2017 | N28: 2017/2018 | O28: 2018/2019 | P28: 2019/2020 | Q28: 2020/2021 | R28: 2021/2022 | S28: 2022/2023 | T28: 2023/2024 | U28: 2024/2025
A29: Contravenes Protection Order (firearm) | B29: 68 | C29: 85 | D29: 56 | E29: 36 | F29: 20 | G29: 4 | H29: 1 | I29: 0 | J29: 0 | K29: 0 | L29: 0.02 | M29: 0.02 | N29: 0.01 | O29: 0.01 | P29: <1% | Q29: <1% | R29: <1% | S29: 0 | T29: 0 | U29: 0
A30: Contravenes Protection Order (no firearm) | B30: 3994 | C30: 3924 | D30: 3834 | E30: 3986 | F30: 1931 | G30: 238 | H30: 50 | I30: 10 | J30: 2 | K30: 3 | L30: 0.98 | M30: 0.98 | N30: 0.99 | O30: 0.99 | P30: 0.47 | Q30: 0.06 | R30: 0.02 | S30: <1% | T30: <1% | U30: <1%
A31: Contravenes Protection Order - family violence | B31: - | C31: - | D31: - | E31: - | F31: 1389 | G31: 2330 | H31: 2018 | I31: 2140 | J31: 2229 | K31: 2110 | L31: - | M31: - | N31: - | O31: - | P31: 0.34 | Q31: 0.59 | R31: 0.62 | S31: 0.6 | T31: 0.6 | U31: 0.56
A32: Contravenes Protection Order - unauthorised contact | B32: - | C32: - | D32: - | E32: - | F32: 697 | G32: 1274 | H32: 1105 | I32: 1327 | J32: 1363 | K32: 1470 | L32: - | M32: - | N32: - | O32: - | P32: 0.17 | Q32: 0.33 | R32: 0.34 | S32: 0.37 | T32: 0.36 | U32: 0.39
A33: Contravenes Protection Order - encourages a person to engage in behaviour | B33: - | C33: - | D33: - | E33: - | F33: 10 | G33: 13 | H33: 12 | I33: 15 | J33: 8 | K33: 8 | L33: - | M33: - | N33: - | O33: - | P33: <1% | Q33: <1% | R33: <1% | S33: <1% | T33: <1% | U33: <1%
A34: Contravenes Protection Order - dowry-related violence | B34: - | C34: - | D34: - | E34: - | F34: 0 | G34: 0 | H34: 0 | I34: 0 | J34: 0 | K34: 0 | L34: - | M34: - | N34: - | O34: - | P34: 0 | Q34: 0 | R34: 0 | S34: 0 | T34: 0 | U34: 0
A35: Contravenes Protection Order - breach of special condition | B35: - | C35: - | D35: - | E35: - | F35: 16 | G35: 14 | H35: 12 | I35: 12 | J35: 5 | K35: 17 | L35: - | M35: - | N35: - | O35: - | P35: <1% | Q35: <1% | R35: <1% | S35: <1% | T35: <1% | U35: <1%
A36: Fail to comply with conditions of Protection Order - fail/refuse to surrender weapon | B36: - | C36: - | D36: - | E36: - | F36: 9 | G36: 8 | H36: 6 | I36: 0 | J36: 3 | K36: 1 | L36: - | M36: - | N36: - | O36: - | P36: <1% | Q36: <1% | R36: <1% | S36: 0 | T36: <1% | U36: <1%
A37: Fail to comply with conditions of Protection Order - fail/refuse to surrender Firearms Licence | B37: - | C37: - | D37: - | E37: - | F37: 0 | G37: 0 | H37: 0 | I37: 0 | J37: 0 | K37: 0 | L37: - | M37: - | N37: - | O37: - | P37: 0 | Q37: 0 | R37: 0 | S37: 0 | T37: 0 | U37: 0
A38: Fail to comply with conditions of Protection Order - possess weapon | B38: - | C38: - | D38: - | E38: - | F38: 1 | G38: 34 | H38: 68 | I38: 75 | J38: 121 | K38: 141 | L38: - | M38: - | N38: - | O38: - | P38: <1% | Q38: 0.01 | R38: 0.02 | S38: 0.02 | T38: 0.03 | U38: 0.04
A39: Fail to comply with conditions of Protection Order - held Firearms Licence | B39: - | C39: - | D39: - | E39: - | F39: 0 | G39: 0 | H39: 0 | I39: 0 | J39: 0 | K39: 0 | L39: - | M39: - | N39: - | O39: - | P39: 0 | Q39: 0 | R39: 0 | S39: 0 | T39: 0 | U39: 0
A40: Contravenes Protection Order - Occupation Order | B40: - | C40: - | D40: - | E40: - | F40: 0 | G40: 0 | H40: 2 | I40: 2 | J40: 2 | K40: 2 | L40: - | M40: - | N40: - | O40: - | P40: 0 | Q40: 0 | R40: <1% | S40: <1% | T40: <1% | U40: <1%
A41: Contravenes Protection Order - Tenancy Order | B41: - | C41: - | D41: - | E41: - | F41: 0 | G41: 1 | H41: 0 | I41: 0 | J41: 1 | K41: 0 | L41: - | M41: - | N41: - | O41: - | P41: 0 | Q41: <1% | R41: 0 | S41: 0 | T41: <1% | U41: 0
A42: Contravenes Protection Order - Ancillary Furniture Order | B42: - | C42: - | D42: - | E42: - | F42: 0 | G42: 0 | H42: 0 | I42: 0 | J42: 1 | K42: 0 | L42: - | M42: - | N42: - | O42: - | P42: 0 | Q42: 0 | R42: 0 | S42: 0 | T42: <1% | U42: 0
A43: Contravenes Protection Order - Furniture Order | B43: - | C43: - | D43: - | E43: - | F43: 0 | G43: 0 | H43: 1 | I43: 0 | J43: 1 | K43: 1 | L43: - | M43: - | N43: - | O43: - | P43: 0 | Q43: 0 | R43: <1% | S43: 0 | T43: <1% | U43: <1%
A44: Total | B44: 4062 | C44: 4009 | D44: 3890 | E44: 4022 | F44: 4073 | G44: 3916 | H44: 3275 | I44: 3581 | J44: 3736 | K44: 3753 | L44: 1 | M44: 1 | N44: 1 | O44: 1 | P44: 1 | Q44: 1 | R44: 1 | S44: 1 | T44: 1 | U44: 1

Sheet 4c.BPO people_outcome_court
A1: Table 4c: Number of people with finalised charges for breach of protection order offences, by court and charge outcome, 2015/2016 - 2024/2025
A2: This data counts a person once per financial year for their most serious breach of protection order charge finalised in the year, and only the details of that charge are shown.
A3: For more information on how to interpret these figures, please read the definitions and data notes
A4: Back to contents page
A5: Example interpretation: In 2024/2025, 207 people had their most serious finalised charge for breaching a protection order in the Taitokerau justice service area.
C6: Charge outcome | D6: 2015/2016 | E6: 2016/2017 | F6: 2017/2018 | G6: 2018/2019 | H6: 2019/2020 | I6: 2020/2021 | J6: 2021/2022 | K6: 2022/2023 | L6: 2023/2024 | M6: 2024/2025
A7: New Zealand total | C7: Convicted | D7: 2410 | E7: 2533 | F7: 2462 | G7: 2455 | H7: 2472 | I7: 2504 | J7: 2131 | K7: 2300 | L7: 2394 | M7: 2405
C8: Other proved | D8: 45 | E8: 37 | F8: 44 | G8: 37 | H8: 36 | I8: 71 | J8: 53 | K8: 79 | L8: 70 | M8: 71
C9: Not proved | D9: 455 | E9: 431 | F9: 461 | G9: 464 | H9: 504 | I9: 490 | J9: 469 | K9: 447 | L9: 502 | M9: 510
C10: Other | D10: 1 | E10: 6 | F10: 6 | G10: 5 | H10: 5 | I10: 9 | J10: 6 | K10: 21 | L10: 12 | M10: 14
C11: Total | D11: 2911 | E11: 3007 | F11: 2973 | G11: 2961 | H11: 3017 | I11: 3074 | J11: 2659 | K11: 2847 | L11: 2978 | M11: 3000
A12: Choose which categories to show or hide
A13: Justice service area | B13: Court | C13: Charge outcome | D13: 2015/2016 | E13: 2016/2017 | F13: 2017/2018 | G13: 2018/2019 | H13: 2019/2020 | I13: 2020/2021 | J13: 2021/2022 | K13: 2022/2023 | L13: 2023/2024 | M13: 2024/2025
A14: Taitokerau | B14: Dargaville | C14: Convicted | D14: 7 | E14: 9 | F14: 4 | G14: 7 | H14: 3 | I14: 4 | J14: 4 | K14: 1 | L14: 4 | M14: 1
A15: Taitokerau | B15: =B14 -> Dargaville | C15: Other proved | D15: 0 | E15: 0 | F15: 0 | G15: 0 | H15: 0 | I15: 0 | J15: 0 | K15: 0 | L15: 0 | M15: 0
A16: Taitokerau | B16: =B15 -> Dargaville | C16: Not proved | D16: 0 | E16: 1 | F16: 2 | G16: 1 | H16: 0 | I16: 0 | J16: 1 | K16: 0 | L16: 0 | M16: 0
A17: Taitokerau | B17: =B16 -> Dargaville | C17: Other | D17: 0 | E17: 0 | F17: 0 | G17: 0 | H17: 0 | I17: 0 | J17: 0 | K17: 0 | L17: 0 | M17: 0
A18: Taitokerau | B18: =B17 -> Dargaville | C18: Total | D18: 7 | E18: 10 | F18: 6 | G18: 8 | H18: 3 | I18: 4 | J18: 5 | K18: 1 | L18: 4 | M18: 1
A19: Taitokerau | B19: Kaikohe | C19: Convicted | D19: 38 | E19: 62 | F19: 53 | G19: 32 | H19: 46 | I19: 38 | J19: 33 | K19: 36 | L19: 37 | M19: 41
A20: Taitokerau | B20: =B19 -> Kaikohe | C20: Other proved | D20: 1 | E20: 0 | F20: 1 | G20: 0 | H20: 1 | I20: 3 | J20: 0 | K20: 3 | L20: 1 | M20: 2
A21: Taitokerau | B21: =B20 -> Kaikohe | C21: Not proved | D21: 7 | E21: 3 | F21: 11 | G21: 1 | H21: 5 | I21: 3 | J21: 4 | K21: 4 | L21: 3 | M21: 3
A22: Taitokerau | B22: =B21 -> Kaikohe | C22: Other | D22: 0 | E22: 0 | F22: 1 | G22: 0 | H22: 0 | I22: 0 | J22: 0 | K22: 1 | L22: 0 | M22: 0
A23: Taitokerau | B23: =B22 -> Kaikohe | C23: Total | D23: 46 | E23: 65 | F23: 66 | G23: 33 | H23: 52 | I23: 44 | J23: 37 | K23: 44 | L23: 41 | M23: 46
A24: Taitokerau | B24: Kaitaia | C24: Convicted | D24: 38 | E24: 41 | F24: 29 | G24: 23 | H24: 22 | I24: 39 | J24: 19 | K24: 23 | L24: 35 | M24: 32
A25: Taitokerau | B25: =B24 -> Kaitaia | C25: Other proved | D25: 1 | E25: 0 | F25: 0 | G25: 0 | H25: 0 | I25: 1 | J25: 0 | K25: 1 | L25: 0 | M25: 2
A26: Taitokerau | B26: =B25 -> Kaitaia | C26: Not proved | D26: 2 | E26: 0 | F26: 7 | G26: 10 | H26: 4 | I26: 8 | J26: 7 | K26: 4 | L26: 6 | M26: 7
A27: Taitokerau | B27: =B26 -> Kaitaia | C27: Other | D27: 0 | E27: 0 | F27: 0 | G27: 0 | H27: 0 | I27: 1 | J27: 0 | K27: 0 | L27: 0 | M27: 0
A28: Taitokerau | B28: =B27 -> Kaitaia | C28: Total | D28: 41 | E28: 41 | F28: 36 | G28: 33 | H28: 26 | I28: 49 | J28: 26 | K28: 28 | L28: 41 | M28: 41
A29: Taitokerau | B29: Whangārei | C29: Convicted | D29: 86 | E29: 73 | F29: 75 | G29: 88 | H29: 92 | I29: 85 | J29: 98 | K29: 104 | L29: 123 | M29: 105
A30: Taitokerau | B30: =B29 -> Whangārei | C30: Other proved | D30: 1 | E30: 0 | F30: 2 | G30: 0 | H30: 2 | I30: 2 | J30: 2 | K30: 3 | L30: 4 | M30: 1
A31: Taitokerau | B31: =B30 -> Whangārei | C31: Not proved | D31: 15 | E31: 14 | F31: 6 | G31: 17 | H31: 9 | I31: 16 | J31: 7 | K31: 16 | L31: 7 | M31: 12
A32: Taitokerau | B32: =B31 -> Whangārei | C32: Other | D32: 0 | E32: 0 | F32: 0 | G32: 0 | H32: 0 | I32: 0 | J32: 0 | K32: 1 | L32: 1 | M32: 1
A33: Taitokerau | B33: =B32 -> Whangārei | C33: Total | D33: 102 | E33: 87 | F33: 83 | G33: 105 | H33: 103 | I33: 103 | J33: 107 | K33: 124 | L33: 135 | M33: 119
A34: Taitokerau | B34: Justice service area total | C34: Convicted | D34: 169 | E34: 185 | F34: 161 | G34: 150 | H34: 163 | I34: 166 | J34: 154 | K34: 164 | L34: 199 | M34: 179
A35: Taitokerau | B35: =B34 -> Justice service area total | C35: Other proved | D35: 3 | E35: 0 | F35: 3 | G35: 0 | H35: 3 | I35: 6 | J35: 2 | K35: 7 | L35: 5 | M35: 5
A36: Taitokerau | B36: =B35 -> Justice service area total | C36: Not proved | D36: 24 | E36: 18 | F36: 26 | G36: 29 | H36: 18 | I36: 27 | J36: 19 | K36: 24 | L36: 16 | M36: 22
A37: Taitokerau | B37: =B36 -> Justice service area total | C37: Other | D37: 0 | E37: 0 | F37: 1 | G37: 0 | H37: 0 | I37: 1 | J37: 0 | K37: 2 | L37: 1 | M37: 1
A38: Taitokerau | B38: =B37 -> Justice service area total | C38: Total | D38: 196 | E38: 203 | F38: 191 | G38: 179 | H38: 184 | I38: 200 | J38: 175 | K38: 197 | L38: 221 | M38: 207
A39: Waitematā | B39: North Shore | C39: Convicted | D39: 38 | E39: 43 | F39: 48 | G39: 43 | H39: 37 | I39: 28 | J39: 18 | K39: 21 | L39: 37 | M39: 44
A40: =A39 -> Waitematā | B40: =B39 -> North Shore | C40: Other proved | D40: 0 | E40: 2 | F40: 3 | G40: 0 | H40: 1 | I40: 6 | J40: 1 | K40: 1 | L40: 3 | M40: 3
A41: =A40 -> Waitematā | B41: =B40 -> North Shore | C41: Not proved | D41: 16 | E41: 18 | F41: 7 | G41: 9 | H41: 12 | I41: 8 | J41: 4 | K41: 12 | L41: 5 | M41: 7
A42: =A41 -> Waitematā | B42: =B41 -> North Shore | C42: Other | D42: 0 | E42: 0 | F42: 0 | G42: 0 | H42: 0 | I42: 0 | J42: 0 | K42: 0 | L42: 1 | M42: 0
A43: =A42 -> Waitematā | B43: =B42 -> North Shore | C43: Total | D43: 54 | E43: 63 | F43: 58 | G43: 52 | H43: 50 | I43: 42 | J43: 23 | K43: 34 | L43: 46 | M43: 54
A44: =A43 -> Waitematā | B44: Waitākere | C44: Convicted | D44: 72 | E44: 86 | F44: 70 | G44: 91 | H44: 97 | I44: 70 | J44: 56 | K44: 64 | L44: 68 | M44: 65
A45: =A44 -> Waitematā | B45: =B44 -> Waitākere | C45: Other proved | D45: 4 | E45: 3 | F45: 2 | G45: 2 | H45: 2 | I45: 2 | J45: 1 | K45: 4 | L45: 2 | M45: 2
A46: =A45 -> Waitematā | B46: =B45 -> Waitākere | C46: Not proved | D46: 16 | E46: 17 | F46: 24 | G46: 16 | H46: 22 | I46: 18 | J46: 22 | K46: 20 | L46: 19 | M46: 18
A47: =A46 -> Waitematā | B47: =B46 -> Waitākere | C47: Other | D47: 0 | E47: 1 | F47: 1 | G47: 1 | H47: 0 | I47: 0 | J47: 0 | K47: 3 | L47: 0 | M47: 1
A48: =A47 -> Waitematā | B48: =B47 -> Waitākere | C48: Total | D48: 92 | E48: 107 | F48: 97 | G48: 110 | H48: 121 | I48: 90 | J48: 79 | K48: 91 | L48: 89 | M48: 86
A49: =A48 -> Waitematā | B49: Justice service area total | C49: Convicted | D49: 110 | E49: 129 | F49: 118 | G49: 134 | H49: 134 | I49: 98 | J49: 74 | K49: 85 | L49: 105 | M49: 109
A50: =A49 -> Waitematā | B50: =B49 -> Justice service area total | C50: Other proved | D50: 4 | E50: 5 | F50: 5 | G50: 2 | H50: 3 | I50: 8 | J50: 2 | K50: 5 | L50: 5 | M50: 5
A51: =A50 -> Waitematā | B51: =B50 -> Justice service area total | C51: Not proved | D51: 32 | E51: 35 | F51: 31 | G51: 25 | H51: 34 | I51: 26 | J51: 26 | K51: 32 | L51: 24 | M51: 25
A52: =A51 -> Waitematā | B52: =B51 -> Justice service area total | C52: Other | D52: 0 | E52: 1 | F52: 1 | G52: 1 | H52: 0 | I52: 0 | J52: 0 | K52: 3 | L52: 1 | M52: 1
A53: =A52 -> Waitematā | B53: =B52 -> Justice service area total | C53: Total | D53: 146 | E53: 170 | F53: 155 | G53: 162 | H53: 171 | I53: 132 | J53: 102 | K53: 125 | L53: 135 | M53: 140
A54: Auckland | B54: Auckland | C54: Convicted | D54: 117 | E54: 129 | F54: 113 | G54: 110 | H54: 105 | I54: 108 | J54: 85 | K54: 89 | L54: 117 | M54: 122
A55: =A54 -> Auckland | B55: =B54 -> Auckland | C55: Other proved | D55: 7 | E55: 5 | F55: 8 | G55: 4 | H55: 5 | I55: 10 | J55: 8 | K55: 5 | L55: 10 | M55: 4
A56: =A55 -> Auckland | B56: =B55 -> Auckland | C56: Not proved | D56: 44 | E56: 32 | F56: 29 | G56: 30 | H56: 31 | I56: 35 | J56: 40 | K56: 38 | L56: 55 | M56: 47
A57: =A56 -> Auckland | B57: =B56 -> Auckland | C57: Other | D57: 0 | E57: 1 | F57: 0 | G57: 2 | H57: 0 | I57: 1 | J57: 0 | K57: 3 | L57: 3 | M57: 2
A58: =A57 -> Auckland | B58: =B57 -> Auckland | C58: Total | D58: 168 | E58: 167 | F58: 150 | G58: 146 | H58: 141 | I58: 154 | J58: 133 | K58: 135 | L58: 185 | M58: 175
A59: =A58 -> Auckland | B59: Justice service area total | C59: Convicted | D59: 117 | E59: 129 | F59: 113 | G59: 110 | H59: 105 | I59: 108 | J59: 85 | K59: 89 | L59: 117 | M59: 122
A60: =A59 -> Auckland | B60: =B59 -> Justice service area total | C60: Other proved | D60: 7 | E60: 5 | F60: 8 | G60: 4 | H60: 5 | I60: 10 | J60: 8 | K60: 5 | L60: 10 | M60: 4
A61: =A60 -> Auckland | B61: =B60 -> Justice service area total | C61: Not proved | D61: 44 | E61: 32 | F61: 29 | G61: 30 | H61: 31 | I61: 35 | J61: 40 | K61: 38 | L61: 55 | M61: 47
A62: =A61 -> Auckland | B62: =B61 -> Justice service area total | C62: Other | D62: 0 | E62: 1 | F62: 0 | G62: 2 | H62: 0 | I62: 1 | J62: 0 | K62: 3 | L62: 3 | M62: 2
A63: =A62 -> Auckland | B63: =B62 -> Justice service area total | C63: Total | D63: 168 | E63: 167 | F63: 150 | G63: 146 | H63: 141 | I63: 154 | J63: 133 | K63: 135 | L63: 185 | M63: 175
A64: South Auckland | B64: Manukau | C64: Convicted | D64: 134 | E64: 163 | F64: 172 | G64: 167 | H64: 177 | I64: 207 | J64: 152 | K64: 178 | L64: 182 | M64: 174
A65: South Auckland | B65: =B64 -> Manukau | C65: Other proved | D65: 2 | E65: 2 | F65: 4 | G65: 5 | H65: 9 | I65: 6 | J65: 2 | K65: 7 | L65: 7 | M65: 9
A66: South Auckland | B66: =B65 -> Manukau | C66: Not proved | D66: 38 | E66: 42 | F66: 39 | G66: 33 | H66: 37 | I66: 31 | J66: 49 | K66: 41 | L66: 38 | M66: 25
A67: South Auckland | B67: =B66 -> Manukau | C67: Other | D67: 0 | E67: 1 | F67: 0 | G67: 1 | H67: 2 | I67: 0 | J67: 1 | K67: 2 | L67: 1 | M67: 1
A68: South Auckland | B68: =B67 -> Manukau | C68: Total | D68: 174 | E68: 208 | F68: 215 | G68: 206 | H68: 225 | I68: 244 | J68: 204 | K68: 228 | L68: 228 | M68: 209
A69: South Auckland | B69: Papakura | C69: Convicted | D69: 23 | E69: 22 | F69: 25 | G69: 31 | H69: 27 | I69: 19 | J69: 19 | K69: 26 | L69: 23 | M69: 23
A70: South Auckland | B70: =B69 -> Papakura | C70: Other proved | D70: 0 | E70: 1 | F70: 0 | G70: 0 | H70: 0 | I70: 0 | J70: 0 | K70: 0 | L70: 0 | M70: 0
A71: South Auckland | B71: =B70 -> Papakura | C71: Not proved | D71: 7 | E71: 10 | F71: 7 | G71: 4 | H71: 2 | I71: 4 | J71: 3 | K71: 6 | L71: 7 | M71: 4
A72: South Auckland | B72: =B71 -> Papakura | C72: Other | D72: 0 | E72: 0 | F72: 0 | G72: 0 | H72: 0 | I72: 0 | J72: 0 | K72: 1 | L72: 0 | M72: 0
A73: South Auckland | B73: =B72 -> Papakura | C73: Total | D73: 30 | E73: 33 | F73: 32 | G73: 35 | H73: 29 | I73: 23 | J73: 22 | K73: 33 | L73: 30 | M73: 27
A74: South Auckland | B74: Pukekohe | C74: Convicted | D74: 18 | E74: 29 | F74: 23 | G74: 26 | H74: 19 | I74: 20 | J74: 8 | K74: 23 | L74: 26 | M74: 25
A75: South Auckland | B75: =B74 -> Pukekohe | C75: Other proved | D75: 0 | E75: 0 | F75: 0 | G75: 0 | H75: 0 | I75: 0 | J75: 0 | K75: 1 | L75: 1 | M75: 1
A76: South Auckland | B76: =B75 -> Pukekohe | C76: Not proved | D76: 5 | E76: 1 | F76: 3 | G76: 4 | H76: 5 | I76: 2 | J76: 0 | K76: 1 | L76: 3 | M76: 1
A77: South Auckland | B77: =B76 -> Pukekohe | C77: Other | D77: 0 | E77: 0 | F77: 0 | G77: 0 | H77: 0 | I77: 0 | J77: 0 | K77: 0 | L77: 0 | M77: 0
A78: South Auckland | B78: =B77 -> Pukekohe | C78: Total | D78: 23 | E78: 30 | F78: 26 | G78: 30 | H78: 24 | I78: 22 | J78: 8 | K78: 25 | L78: 30 | M78: 27
A79: South Auckland | B79: Justice service area total | C79: Convicted | D79: 175 | E79: 214 | F79: 220 | G79: 224 | H79: 223 | I79: 246 | J79: 179 | K79: 227 | L79: 231 | M79: 222
A80: South Auckland | B80: =B79 -> Justice service area total | C80: Other proved | D80: 2 | E80: 3 | F80: 4 | G80: 5 | H80: 9 | I80: 6 | J80: 2 | K80: 8 | L80: 8 | M80: 10
A81: South Auckland | B81: =B80 -> Justice service area total | C81: Not proved | D81: 50 | E81: 53 | F81: 49 | G81: 41 | H81: 44 | I81: 37 | J81: 52 | K81: 48 | L81: 48 | M81: 30
A82: South Auckland | B82: =B81 -> Justice service area total | C82: Other | D82: 0 | E82: 1 | F82: 0 | G82: 1 | H82: 2 | I82: 0 | J82: 1 | K82: 3 | L82: 1 | M82: 1
A83: South Auckland | B83: =B82 -> Justice service area total | C83: Total | D83: 227 | E83: 271 | F83: 273 | G83: 271 | H83: 278 | I83: 289 | J83: 234 | K83: 286 | L83: 288 | M83: 263
A84: Waikato | B84: Hamilton | C84: Convicted | D84: 146 | E84: 122 | F84: 169 | G84: 173 | H84: 174 | I84: 169 | J84: 144 | K84: 158 | L84: 164 | M84: 165
A85: =A84 -> Waikato | B85: =B84 -> Hamilton | C85: Other proved | D85: 1 | E85: 2 | F85: 0 | G85: 0 | H85: 4 | I85: 1 | J85: 1 | K85: 4 | L85: 2 | M85: 2
A86: =A85 -> Waikato | B86: =B85 -> Hamilton | C86: Not proved | D86: 16 | E86: 15 | F86: 17 | G86: 19 | H86: 21 | I86: 30 | J86: 22 | K86: 27 | L86: 41 | M86: 25
A87: =A86 -> Waikato | B87: =B86 -> Hamilton | C87: Other | D87: 0 | E87: 0 | F87: 1 | G87: 0 | H87: 0 | I87: 1 | J87: 0 | K87: 0 | L87: 0 | M87: 1
A88: =A87 -> Waikato | B88: =B87 -> Hamilton | C88: Total | D88: 163 | E88: 139 | F88: 187 | G88: 192 | H88: 199 | I88: 201 | J88: 167 | K88: 189 | L88: 207 | M88: 193
A89: =A88 -> Waikato | B89: Huntly | C89: Convicted | D89: 17 | E89: 7 | F89: 9 | G89: 14 | H89: 9 | I89: 13 | J89: 10 | K89: 11 | L89: 8 | M89: 16
A90: =A89 -> Waikato | B90: =B89 -> Huntly | C90: Other proved | D90: 0 | E90: 0 | F90: 0 | G90: 0 | H90: 0 | I90: 0 | J90: 0 | K90: 0 | L90: 0 | M90: 0
A91: =A90 -> Waikato | B91: =B90 -> Huntly | C91: Not proved | D91: 0 | E91: 0 | F91: 2 | G91: 7 | H91: 5 | I91: 5 | J91: 3 | K91: 2 | L91: 1 | M91: 5
A92: =A91 -> Waikato | B92: =B91 -> Huntly | C92: Other | D92: 0 | E92: 0 | F92: 0 | G92: 0 | H92: 0 | I92: 1 | J92: 0 | K92: 0 | L92: 0 | M92: 0
A93: =A92 -> Waikato | B93: =B92 -> Huntly | C93: Total | D93: 17 | E93: 7 | F93: 11 | G93: 21 | H93: 14 | I93: 19 | J93: 13 | K93: 13 | L93: 9 | M93: 21
A94: =A93 -> Waikato | B94: Morrinsville | C94: Convicted | D94: 8 | E94: 11 | F94: 11 | G94: 12 | H94: 10 | I94: 15 | J94: 8 | K94: 13 | L94: 15 | M94: 10
A95: =A94 -> Waikato | B95: =B94 -> Morrinsville | C95: Other proved | D95: 0 | E95: 0 | F95: 0 | G95: 0 | H95: 0 | I95: 0 | J95: 0 | K95: 0 | L95: 0 | M95: 1
A96: =A95 -> Waikato | B96: =B95 -> Morrinsville | C96: Not proved | D96: 3 | E96: 1 | F96: 2 | G96: 2 | H96: 2 | I96: 2 | J96: 3 | K96: 3 | L96: 1 | M96: 1
A97: =A96 -> Waikato | B97: =B96 -> Morrinsville | C97: Other | D97: 0 | E97: 0 | F97: 0 | G97: 0 | H97: 0 | I97: 0 | J97: 0 | K97: 0 | L97: 0 | M97: 0
A98: =A97 -> Waikato | B98: =B97 -> Morrinsville | C98: Total | D98: 11 | E98: 12 | F98: 13 | G98: 14 | H98: 12 | I98: 17 | J98: 11 | K98: 16 | L98: 16 | M98: 12
A99: =A98 -> Waikato | B99: Te Awamutu | C99: Convicted | D99: 11 | E99: 12 | F99: 11 | G99: 8 | H99: 4 | I99: 5 | J99: 7 | K99: 6 | L99: 5 | M99: 13
A100: =A99 -> Waikato | B100: =B99 -> Te Awamutu | C100: Other proved | D100: 0 | E100: 1 | F100: 1 | G100: 0 | H100: 0 | I100: 0 | J100: 0 | K100: 0 | L100: 0 | M100: 0
...

Sheet 4d.BPO people_demographic
A1: Table 4d: Number and percentage of people with finalised charges for breach of protection order offences, by gender, ethnicity and age, 2015/2016 - 2024/2025
A2: This data counts a person once per financial year. All of their charges have the same recorded gender and ethnicity information. Age in this table is the person's age at the offence date of their most serious breach of protection order charge finalised in the year.
A3: 'Multiple ethnicity' information is used in this table. This means for each ethnicity a person is counted once per year (e.g. they may be counted in both European and Māori). As some people have multiple recorded ethnicities this will result in the sum of ethnicities being greater than the total number of people each year.
A4: For more information on how to interpret these figures, please read the definitions and data notes
A5: Back to contents page
A6: Example interpretation: In 2024/2025, 95% of people with finalised charges for breaching a protection order were male (2,848 people).
B7: Number of people | L7: Percentage of total
B8: 2015/2016 | C8: 2016/2017 | D8: 2017/2018 | E8: 2018/2019 | F8: 2019/2020 | G8: 2020/2021 | H8: 2021/2022 | I8: 2022/2023 | J8: 2023/2024 | K8: 2024/2025 | L8: 2015/2016 | M8: 2016/2017 | N8: 2017/2018 | O8: 2018/2019 | P8: 2019/2020 | Q8: 2020/2021 | R8: 2021/2022 | S8: 2022/2023 | T8: 2023/2024 | U8: 2024/2025
A9: Total | B9: 2911 | C9: 3007 | D9: 2973 | E9: 2961 | F9: 3017 | G9: 3074 | H9: 2659 | I9: 2847 | J9: 2978 | K9: 3000 | L9: 1 | M9: 1 | N9: 1 | O9: 1 | P9: 1 | Q9: 1 | R9: 1 | S9: 1 | T9: 1 | U9: 1
A10: Gender
A11: Female | B11: 88 | C11: 96 | D11: 92 | E11: 98 | F11: 103 | G11: 110 | H11: 110 | I11: 119 | J11: 123 | K11: 152 | L11: 0.03 | M11: 0.03 | N11: 0.03 | O11: 0.03 | P11: 0.03 | Q11: 0.04 | R11: 0.04 | S11: 0.04 | T11: 0.04 | U11: 0.05
A12: Male | B12: 2823 | C12: 2910 | D12: 2881 | E12: 2863 | F12: 2914 | G12: 2964 | H12: 2549 | I12: 2728 | J12: 2855 | K12: 2848 | L12: 0.97 | M12: 0.97 | N12: 0.97 | O12: 0.97 | P12: 0.97 | Q12: 0.96 | R12: 0.96 | S12: 0.96 | T12: 0.96 | U12: 0.95
A13: Unknown | B13: 0 | C13: 1 | D13: 0 | E13: 0 | F13: 0 | G13: 0 | H13: 0 | I13: 0 | J13: 0 | K13: 0 | L13: 0 | M13: <1% | N13: 0 | O13: 0 | P13: 0 | Q13: 0 | R13: 0 | S13: 0 | T13: 0 | U13: 0
A14: Ethnicity
A15: European | B15: 1132 | C15: 1189 | D15: 1192 | E15: 1142 | F15: 1147 | G15: 1154 | H15: 1027 | I15: 1110 | J15: 1120 | K15: 1154 | L15: 0.39 | M15: 0.4 | N15: 0.4 | O15: 0.39 | P15: 0.38 | Q15: 0.38 | R15: 0.39 | S15: 0.39 | T15: 0.38 | U15: 0.38
A16: Māori | B16: 1612 | C16: 1665 | D16: 1609 | E16: 1620 | F16: 1690 | G16: 1709 | H16: 1502 | I16: 1561 | J16: 1636 | K16: 1630 | L16: 0.55 | M16: 0.55 | N16: 0.54 | O16: 0.55 | P16: 0.56 | Q16: 0.56 | R16: 0.56 | S16: 0.55 | T16: 0.55 | U16: 0.54
A17: Pacific Peoples | B17: 283 | C17: 302 | D17: 274 | E17: 301 | F17: 288 | G17: 273 | H17: 230 | I17: 257 | J17: 259 | K17: 253 | L17: 0.1 | M17: 0.1 | N17: 0.09 | O17: 0.1 | P17: 0.1 | Q17: 0.09 | R17: 0.09 | S17: 0.09 | T17: 0.09 | U17: 0.08
A18: Asian | B18: 74 | C18: 77 | D18: 85 | E18: 75 | F18: 79 | G18: 98 | H18: 75 | I18: 93 | J18: 95 | K18: 87 | L18: 0.03 | M18: 0.03 | N18: 0.03 | O18: 0.03 | P18: 0.03 | Q18: 0.03 | R18: 0.03 | S18: 0.03 | T18: 0.03 | U18: 0.03
A19: Other | B19: 66 | C19: 64 | D19: 66 | E19: 76 | F19: 75 | G19: 73 | H19: 57 | I19: 57 | J19: 53 | K19: 57 | L19: 0.02 | M19: 0.02 | N19: 0.02 | O19: 0.03 | P19: 0.02 | Q19: 0.02 | R19: 0.02 | S19: 0.02 | T19: 0.02 | U19: 0.02
A20: Unknown | B20: 6 | C20: 4 | D20: 7 | E20: 12 | F20: 8 | G20: 11 | H20: 6 | I20: 16 | J20: 35 | K20: 46 | L20: <1% | M20: <1% | N20: <1% | O20: <1% | P20: <1% | Q20: <1% | R20: <1% | S20: 0.01 | T20: 0.01 | U20: 0.02
A21: Age group (years)
A22: 19 years and under | B22: 46 | C22: 36 | D22: 38 | E22: 30 | F22: 26 | G22: 26 | H22: 25 | I22: 28 | J22: 21 | K22: 17 | L22: 0.02 | M22: 0.01 | N22: 0.01 | O22: 0.01 | P22: 0.01 | Q22: 0.01 | R22: 0.01 | S22: 0.01 | T22: 0.01 | U22: 0.01
A23: 20-24 | B23: 348 | C23: 342 | D23: 327 | E23: 287 | F23: 296 | G23: 261 | H23: 207 | I23: 197 | J23: 183 | K23: 150 | L23: 0.12 | M23: 0.11 | N23: 0.11 | O23: 0.1 | P23: 0.1 | Q23: 0.08 | R23: 0.08 | S23: 0.07 | T23: 0.06 | U23: 0.05
A24: 25-29 | B24: 532 | C24: 589 | D24: 568 | E24: 602 | F24: 542 | G24: 562 | H24: 444 | I24: 466 | J24: 481 | K24: 434 | L24: 0.18 | M24: 0.2 | N24: 0.19 | O24: 0.2 | P24: 0.18 | Q24: 0.18 | R24: 0.17 | S24: 0.16 | T24: 0.16 | U24: 0.14
A25: 30-34 | B25: 538 | C25: 578 | D25: 567 | E25: 570 | F25: 656 | G25: 686 | H25: 629 | I25: 609 | J25: 677 | K25: 673 | L25: 0.18 | M25: 0.19 | N25: 0.19 | O25: 0.19 | P25: 0.22 | Q25: 0.22 | R25: 0.24 | S25: 0.21 | T25: 0.23 | U25: 0.22
A26: 35-39 | B26: 475 | C26: 457 | D26: 482 | E26: 534 | F26: 516 | G26: 557 | H26: 503 | I26: 542 | J26: 580 | K26: 590 | L26: 0.16 | M26: 0.15 | N26: 0.16 | O26: 0.18 | P26: 0.17 | Q26: 0.18 | R26: 0.19 | S26: 0.19 | T26: 0.19 | U26: 0.2
A27: 40-44 | B27: 398 | C27: 384 | D27: 400 | E27: 387 | F27: 416 | G27: 418 | H27: 359 | I27: 411 | J27: 449 | K27: 462 | L27: 0.14 | M27: 0.13 | N27: 0.13 | O27: 0.13 | P27: 0.14 | Q27: 0.14 | R27: 0.14 | S27: 0.14 | T27: 0.15 | U27: 0.15
A28: 45-49 | B28: 299 | C28: 305 | D28: 285 | E28: 266 | F28: 284 | G28: 293 | H28: 256 | I28: 300 | J28: 268 | K28: 316 | L28: 0.1 | M28: 0.1 | N28: 0.1 | O28: 0.09 | P28: 0.09 | Q28: 0.1 | R28: 0.1 | S28: 0.11 | T28: 0.09 | U28: 0.11
A29: 50-54 | B29: 160 | C29: 186 | D29: 169 | E29: 157 | F29: 169 | G29: 142 | H29: 127 | I29: 169 | J29: 175 | K29: 188 | L29: 0.05 | M29: 0.06 | N29: 0.06 | O29: 0.05 | P29: 0.06 | Q29: 0.05 | R29: 0.05 | S29: 0.06 | T29: 0.06 | U29: 0.06
A30: 55-59 | B30: 72 | C30: 76 | D30: 85 | E30: 81 | F30: 76 | G30: 78 | H30: 73 | I30: 87 | J30: 79 | K30: 97 | L30: 0.02 | M30: 0.03 | N30: 0.03 | O30: 0.03 | P30: 0.03 | Q30: 0.03 | R30: 0.03 | S30: 0.03 | T30: 0.03 | U30: 0.03
A31: 60-64 | B31: 26 | C31: 30 | D31: 38 | E31: 29 | F31: 23 | G31: 31 | H31: 19 | I31: 19 | J31: 38 | K31: 40 | L31: 0.01 | M31: 0.01 | N31: 0.01 | O31: 0.01 | P31: 0.01 | Q31: 0.01 | R31: 0.01 | S31: 0.01 | T31: 0.01 | U31: 0.01
A32: 65 years and over | B32: 16 | C32: 24 | D32: 14 | E32: 18 | F32: 13 | G32: 20 | H32: 17 | I32: 18 | J32: 26 | K32: 33 | L32: 0.01 | M32: 0.01 | N32: <1% | O32: 0.01 | P32: <1% | Q32: 0.01 | R32: 0.01 | S32: 0.01 | T32: 0.01 | U32: 0.01
A33: Unknown | B33: 1 | C33: 0 | D33: 0 | E33: 0 | F33: 0 | G33: 0 | H33: 0 | I33: 1 | J33: 1 | K33: 0 | L33: <1% | M33: 0 | N33: 0 | O33: 0 | P33: 0 | Q33: 0 | R33: 0 | S33: <1% | T33: <1% | U33: 0

Sheet 4e.BPO conv ppl_sentence
A1: Table 4e: Number of people convicted of breach of protection order offences, by most serious sentence, 2015/2016 - 2024/2025
A2: This data counts a person once per financial year for their most serious breach of protection order conviction, and only the details of that convicted charge are shown.
A3: For more information on how to interpret these figures, please read the definitions and data notes
A4: Back to contents page
A5: Example interpretation: In 2024/2025, 840 people convicted of breaching a protection order received imprisonment as their most serious sentence.
A6: Most serious sentence | B6: 2015/2016 | C6: 2016/2017 | D6: 2017/2018 | E6: 2018/2019 | F6: 2019/2020 | G6: 2020/2021 | H6: 2021/2022 | I6: 2022/2023 | J6: 2023/2024 | K6: 2024/2025
A7: Imprisonment | B7: 859 | C7: 952 | D7: 898 | E7: 871 | F7: 880 | G7: 719 | H7: 635 | I7: 717 | J7: 821 | K7: 840
A8: Home detention | B8: 147 | C8: 158 | D8: 165 | E8: 160 | F8: 180 | G8: 210 | H8: 183 | I8: 203 | J8: 231 | K8: 238
A9: Community detention | B9: 154 | C9: 145 | D9: 184 | E9: 200 | F9: 218 | G9: 288 | H9: 222 | I9: 238 | J9: 278 | K9: 264
A10: Intensive supervision | B10: 139 | C10: 174 | D10: 201 | E10: 248 | F10: 274 | G10: 339 | H10: 306 | I10: 296 | J10: 300 | K10: 274
A11: Community work | B11: 544 | C11: 495 | D11: 460 | E11: 374 | F11: 333 | G11: 322 | H11: 232 | I11: 266 | J11: 226 | K11: 282
A12: Supervision | B12: 189 | C12: 218 | D12: 207 | E12: 250 | F12: 271 | G12: 301 | H12: 253 | I12: 304 | J12: 280 | K12: 237
A13: Monetary | B13: 80 | C13: 67 | D13: 60 | E13: 54 | F13: 43 | G13: 50 | H13: 52 | I13: 48 | J13: 28 | K13: 28
A14: Deferment | B14: 253 | C14: 280 | D14: 243 | E14: 260 | F14: 223 | G14: 229 | H14: 193 | I14: 170 | J14: 186 | K14: 194
A15: Other | B15: 6 | C15: 4 | D15: 2 | E15: 6 | F15: 1 | G15: 2 | H15: 5 | I15: 4 | J15: 3 | K15: 3
A16: No sentence recorded | B16: 39 | C16: 40 | D16: 42 | E16: 32 | F16: 49 | G16: 44 | H16: 50 | I16: 54 | J16: 41 | K16: 45
A17: Total | B17: 2410 | C17: 2533 | D17: 2462 | E17: 2455 | F17: 2472 | G17: 2504 | H17: 2131 | I17: 2300 | J17: 2394 | K17: 2405

Sheet 4f.BPO conv ppl_demographic
A1: Table 4f: Number and percentage of people convicted of breach of protection order offences, by gender, ethnicity and age, 2015/2016 - 2024/2025
A2: This data counts a person once per financial year. All of their charges have the same recorded gender and ethnicity information. Age in this table is the person's age at the offence date of their most serious breach of protection order conviction in the year.
A3: Multiple ethnicity' information is used in this table. This means for each ethnicity a person is counted once per year (e.g. they may be counted in both European and Māori). As some people have multiple recorded ethnicities this will result in the sum of ethnicities being greater than the total number of people each year.
A4: For more information on how to interpret these figures, please read the definitions and data notes
A5: Back to contents page
A6: Example interpretation: In 2024/2025, 95% of people convicted of breaching a protection order were male (2,295 people).
B7: Number of convicted people | L7: Percentage of total
B8: 2015/2016 | C8: 2016/2017 | D8: 2017/2018 | E8: 2018/2019 | F8: 2019/2020 | G8: 2020/2021 | H8: 2021/2022 | I8: 2022/2023 | J8: 2023/2024 | K8: 2024/2025 | L8: 2015/2016 | M8: 2016/2017 | N8: 2017/2018 | O8: 2018/2019 | P8: 2019/2020 | Q8: 2020/2021 | R8: 2021/2022 | S8: 2022/2023 | T8: 2023/2024 | U8: 2024/2025
A9: Total | B9: 2410 | C9: 2533 | D9: 2462 | E9: 2455 | F9: 2472 | G9: 2504 | H9: 2131 | I9: 2300 | J9: 2394 | K9: 2405 | L9: 1 | M9: 1 | N9: 1 | O9: 1 | P9: 1 | Q9: 1 | R9: 1 | S9: 1 | T9: 1 | U9: 1
A10: Gender
A11: Female | B11: 65 | C11: 70 | D11: 72 | E11: 68 | F11: 75 | G11: 81 | H11: 77 | I11: 85 | J11: 82 | K11: 110 | L11: 0.03 | M11: 0.03 | N11: 0.03 | O11: 0.03 | P11: 0.03 | Q11: 0.03 | R11: 0.04 | S11: 0.04 | T11: 0.03 | U11: 0.05
A12: Male | B12: 2345 | C12: 2463 | D12: 2390 | E12: 2387 | F12: 2397 | G12: 2423 | H12: 2054 | I12: 2215 | J12: 2312 | K12: 2295 | L12: 0.97 | M12: 0.97 | N12: 0.97 | O12: 0.97 | P12: 0.97 | Q12: 0.97 | R12: 0.96 | S12: 0.96 | T12: 0.97 | U12: 0.95
A13: Unknown | B13: 0 | C13: 0 | D13: 0 | E13: 0 | F13: 0 | G13: 0 | H13: 0 | I13: 0 | J13: 0 | K13: 0 | L13: 0 | M13: 0 | N13: 0 | O13: 0 | P13: 0 | Q13: 0 | R13: 0 | S13: 0 | T13: 0 | U13: 0
A14: Ethnicity
A15: European | B15: 892 | C15: 978 | D15: 949 | E15: 927 | F15: 893 | G15: 913 | H15: 804 | I15: 877 | J15: 904 | K15: 887 | L15: 0.37 | M15: 0.39 | N15: 0.39 | O15: 0.38 | P15: 0.36 | Q15: 0.36 | R15: 0.38 | S15: 0.38 | T15: 0.38 | U15: 0.37
A16: Māori | B16: 1389 | C16: 1447 | D16: 1390 | E16: 1369 | F16: 1438 | G16: 1452 | H16: 1254 | I16: 1306 | J16: 1347 | K16: 1379 | L16: 0.58 | M16: 0.57 | N16: 0.56 | O16: 0.56 | P16: 0.58 | Q16: 0.58 | R16: 0.59 | S16: 0.57 | T16: 0.56 | U16: 0.57
A17: Pacific Peoples | B17: 241 | C17: 254 | D17: 220 | E17: 250 | F17: 243 | G17: 225 | H17: 178 | I17: 211 | J17: 196 | K17: 210 | L17: 0.1 | M17: 0.1 | N17: 0.09 | O17: 0.1 | P17: 0.1 | Q17: 0.09 | R17: 0.08 | S17: 0.09 | T17: 0.08 | U17: 0.09
A18: Asian | B18: 51 | C18: 56 | D18: 64 | E18: 58 | F18: 59 | G18: 61 | H18: 52 | I18: 58 | J18: 64 | K18: 57 | L18: 0.02 | M18: 0.02 | N18: 0.03 | O18: 0.02 | P18: 0.02 | Q18: 0.02 | R18: 0.02 | S18: 0.03 | T18: 0.03 | U18: 0.02
A19: Other | B19: 50 | C19: 52 | D19: 53 | E19: 59 | F19: 51 | G19: 54 | H19: 35 | I19: 46 | J19: 38 | K19: 42 | L19: 0.02 | M19: 0.02 | N19: 0.02 | O19: 0.02 | P19: 0.02 | Q19: 0.02 | R19: 0.02 | S19: 0.02 | T19: 0.02 | U19: 0.02
A20: Unknown | B20: 2 | C20: 2 | D20: 4 | E20: 6 | F20: 5 | G20: 7 | H20: 3 | I20: 6 | J20: 23 | K20: 22 | L20: <1% | M20: <1% | N20: <1% | O20: <1% | P20: <1% | Q20: <1% | R20: <1% | S20: <1% | T20: 0.01 | U20: 0.01
A21: Age group (years)
A22: 19 years and under | B22: 40 | C22: 30 | D22: 33 | E22: 23 | F22: 20 | G22: 20 | H22: 16 | I22: 14 | J22: 11 | K22: 12 | L22: 0.02 | M22: 0.01 | N22: 0.01 | O22: 0.01 | P22: 0.01 | Q22: 0.01 | R22: 0.01 | S22: 0.01 | T22: <1% | U22: <1%
A23: 20-24 | B23: 299 | C23: 296 | D23: 276 | E23: 261 | F23: 253 | G23: 218 | H23: 176 | I23: 163 | J23: 149 | K23: 126 | L23: 0.12 | M23: 0.12 | N23: 0.11 | O23: 0.11 | P23: 0.1 | Q23: 0.09 | R23: 0.08 | S23: 0.07 | T23: 0.06 | U23: 0.05
A24: 25-29 | B24: 452 | C24: 508 | D24: 493 | E24: 530 | F24: 472 | G24: 482 | H24: 359 | I24: 390 | J24: 411 | K24: 363 | L24: 0.19 | M24: 0.2 | N24: 0.2 | O24: 0.22 | P24: 0.19 | Q24: 0.19 | R24: 0.17 | S24: 0.17 | T24: 0.17 | U24: 0.15
A25: 30-34 | B25: 468 | C25: 506 | D25: 482 | E25: 478 | F25: 558 | G25: 572 | H25: 526 | I25: 514 | J25: 556 | K25: 553 | L25: 0.19 | M25: 0.2 | N25: 0.2 | O25: 0.19 | P25: 0.23 | Q25: 0.23 | R25: 0.25 | S25: 0.22 | T25: 0.23 | U25: 0.23
A26: 35-39 | B26: 372 | C26: 386 | D26: 395 | E26: 428 | F26: 412 | G26: 454 | H26: 399 | I26: 438 | J26: 467 | K26: 482 | L26: 0.15 | M26: 0.15 | N26: 0.16 | O26: 0.17 | P26: 0.17 | Q26: 0.18 | R26: 0.19 | S26: 0.19 | T26: 0.2 | U26: 0.2
A27: 40-44 | B27: 324 | C27: 315 | D27: 331 | E27: 311 | F27: 339 | G27: 319 | H27: 280 | I27: 331 | J27: 355 | K27: 366 | L27: 0.13 | M27: 0.12 | N27: 0.13 | O27: 0.13 | P27: 0.14 | Q27: 0.13 | R27: 0.13 | S27: 0.14 | T27: 0.15 | U27: 0.15
A28: 45-49 | B28: 244 | C28: 239 | D28: 220 | E28: 209 | F28: 214 | G28: 226 | H28: 195 | I28: 229 | J28: 215 | K28: 250 | L28: 0.1 | M28: 0.09 | N28: 0.09 | O28: 0.09 | P28: 0.09 | Q28: 0.09 | R28: 0.09 | S28: 0.1 | T28: 0.09 | U28: 0.1
A29: 50-54 | B29: 125 | C29: 154 | D29: 136 | E29: 118 | F29: 122 | G29: 108 | H29: 102 | I29: 134 | J29: 132 | K29: 135 | L29: 0.05 | M29: 0.06 | N29: 0.06 | O29: 0.05 | P29: 0.05 | Q29: 0.04 | R29: 0.05 | S29: 0.06 | T29: 0.06 | U29: 0.06
A30: 55-59 | B30: 55 | C30: 58 | D30: 58 | E30: 62 | F30: 57 | G30: 65 | H30: 50 | I30: 62 | J30: 58 | K30: 67 | L30: 0.02 | M30: 0.02 | N30: 0.02 | O30: 0.03 | P30: 0.02 | Q30: 0.03 | R30: 0.02 | S30: 0.03 | T30: 0.02 | U30: 0.03
A31: 60-64 | B31: 18 | C31: 21 | D31: 29 | E31: 22 | F31: 18 | G31: 24 | H31: 17 | I31: 13 | J31: 26 | K31: 28 | L31: 0.01 | M31: 0.01 | N31: 0.01 | O31: 0.01 | P31: 0.01 | Q31: 0.01 | R31: 0.01 | S31: 0.01 | T31: 0.01 | U31: 0.01
A32: 65 years and over | B32: 13 | C32: 20 | D32: 9 | E32: 13 | F32: 7 | G32: 16 | H32: 11 | I32: 12 | J32: 14 | K32: 23 | L32: 0.01 | M32: 0.01 | N32: <1% | O32: 0.01 | P32: <1% | Q32: 0.01 | R32: 0.01 | S32: 0.01 | T32: 0.01 | U32: 0.01
A33: Unknown | B33: 0 | C33: 0 | D33: 0 | E33: 0 | F33: 0 | G33: 0 | H33: 0 | I33: 0 | J33: 0 | K33: 0 | L33: 0 | M33: 0 | N33: 0 | O33: 0 | P33: 0 | Q33: 0 | R33: 0 | S33: 0 | T33: 0 | U33: 0

Sheet 5a.Assault fam pp_outcome_court
A1: Table 5a: Number of people with finalised charges for assault on a family member offences, by court and charge outcome, 2018/2019 - 2024/2025
A2: This data counts a person once per financial year for their most serious assault on a family member charge finalised in the year, and only the details of that charge are shown.
A3: For more information on how to interpret these figures, please read the definitions and data notes
A4: Back to contents page
A5: Example interpretation: In 2024/2025, 244 people had their most serious finalised charge for assault on a family member in the Taitokerau justice service area.
C6: Charge outcome | D6: 2018/2019 | E6: 2019/2020 | F6: 2020/2021 | G6: 2021/2022 | H6: 2022/2023 | I6: 2023/2024 | J6: 2024/2025
A7: New Zealand total | C7: Convicted | D7: 553 | E7: 2858 | F7: 3443 | G7: 2729 | H7: 2815 | I7: 2944 | J7: 2857
C8: Other proved | D8: 67 | E8: 493 | F8: 629 | G8: 461 | H8: 509 | I8: 479 | J8: 472
C9: Not proved | D9: 193 | E9: 1081 | F9: 1236 | G9: 1015 | H9: 1082 | I9: 1130 | J9: 1095
C10: Other | D10: 3 | E10: 13 | F10: 22 | G10: 28 | H10: 36 | I10: 21 | J10: 30
C11: Total | D11: 816 | E11: 4445 | F11: 5330 | G11: 4233 | H11: 4442 | I11: 4574 | J11: 4454
A12: Choose which categories to show or hide
A13: Justice service area | B13: Court | C13: Charge outcome | D13: 2018/2019 | E13: 2019/2020 | F13: 2020/2021 | G13: 2021/2022 | H13: 2022/2023 | I13: 2023/2024 | J13: 2024/2025
A14: Taitokerau | B14: Dargaville | C14: Convicted | D14: 4 | E14: 3 | F14: 5 | G14: 6 | H14: 5 | I14: 3 | J14: 4
A15: Taitokerau | B15: =B14 -> Dargaville | C15: Other proved | D15: 0 | E15: 0 | F15: 1 | G15: 0 | H15: 1 | I15: 0 | J15: 0
A16: Taitokerau | B16: =B15 -> Dargaville | C16: Not proved | D16: 2 | E16: 3 | F16: 4 | G16: 1 | H16: 0 | I16: 2 | J16: 0
A17: Taitokerau | B17: =B16 -> Dargaville | C17: Other | D17: 0 | E17: 0 | F17: 0 | G17: 0 | H17: 0 | I17: 0 | J17: 0
A18: Taitokerau | B18: =B17 -> Dargaville | C18: Total | D18: 6 | E18: 6 | F18: 10 | G18: 7 | H18: 6 | I18: 5 | J18: 4
A19: Taitokerau | B19: Kaikohe | C19: Convicted | D19: 10 | E19: 48 | F19: 60 | G19: 41 | H19: 54 | I19: 50 | J19: 46
A20: Taitokerau | B20: =B19 -> Kaikohe | C20: Other proved | D20: 0 | E20: 4 | F20: 4 | G20: 3 | H20: 3 | I20: 1 | J20: 1
A21: Taitokerau | B21: =B20 -> Kaikohe | C21: Not proved | D21: 0 | E21: 10 | F21: 16 | G21: 15 | H21: 12 | I21: 7 | J21: 6
A22: Taitokerau | B22: =B21 -> Kaikohe | C22: Other | D22: 0 | E22: 0 | F22: 0 | G22: 0 | H22: 1 | I22: 1 | J22: 1
A23: Taitokerau | B23: =B22 -> Kaikohe | C23: Total | D23: 10 | E23: 62 | F23: 80 | G23: 59 | H23: 70 | I23: 59 | J23: 54
A24: Taitokerau | B24: Kaitaia | C24: Convicted | D24: 5 | E24: 50 | F24: 65 | G24: 47 | H24: 37 | I24: 35 | J24: 34
A25: Taitokerau | B25: =B24 -> Kaitaia | C25: Other proved | D25: 0 | E25: 2 | F25: 3 | G25: 2 | H25: 7 | I25: 0 | J25: 3
A26: Taitokerau | B26: =B25 -> Kaitaia | C26: Not proved | D26: 6 | E26: 6 | F26: 11 | G26: 14 | H26: 23 | I26: 14 | J26: 15
A27: Taitokerau | B27: =B26 -> Kaitaia | C27: Other | D27: 0 | E27: 1 | F27: 0 | G27: 1 | H27: 1 | I27: 1 | J27: 1
A28: Taitokerau | B28: =B27 -> Kaitaia | C28: Total | D28: 11 | E28: 59 | F28: 79 | G28: 64 | H28: 68 | I28: 50 | J28: 53
A29: Taitokerau | B29: Whangārei | C29: Convicted | D29: 10 | E29: 92 | F29: 98 | G29: 88 | H29: 94 | I29: 105 | J29: 98
A30: Taitokerau | B30: =B29 -> Whangārei | C30: Other proved | D30: 1 | E30: 8 | F30: 7 | G30: 5 | H30: 5 | I30: 6 | J30: 9
A31: Taitokerau | B31: =B30 -> Whangārei | C31: Not proved | D31: 13 | E31: 16 | F31: 23 | G31: 19 | H31: 29 | I31: 30 | J31: 24
A32: Taitokerau | B32: =B31 -> Whangārei | C32: Other | D32: 1 | E32: 0 | F32: 1 | G32: 0 | H32: 0 | I32: 1 | J32: 2
A33: Taitokerau | B33: =B32 -> Whangārei | C33: Total | D33: 25 | E33: 116 | F33: 129 | G33: 112 | H33: 128 | I33: 142 | J33: 133
A34: Taitokerau | B34: Justice service area total | C34: Convicted | D34: 29 | E34: 193 | F34: 228 | G34: 182 | H34: 190 | I34: 193 | J34: 182
A35: Taitokerau | B35: =B34 -> Justice service area total | C35: Other proved | D35: 1 | E35: 14 | F35: 15 | G35: 10 | H35: 16 | I35: 7 | J35: 13
A36: Taitokerau | B36: =B35 -> Justice service area total | C36: Not proved | D36: 21 | E36: 35 | F36: 54 | G36: 49 | H36: 64 | I36: 53 | J36: 45
A37: Taitokerau | B37: =B36 -> Justice service area total | C37: Other | D37: 1 | E37: 1 | F37: 1 | G37: 1 | H37: 2 | I37: 3 | J37: 4
A38: Taitokerau | B38: =B37 -> Justice service area total | C38: Total | D38: 52 | E38: 243 | F38: 298 | G38: 242 | H38: 272 | I38: 256 | J38: 244
A39: Waitematā | B39: North Shore | C39: Convicted | D39: 12 | E39: 51 | F39: 64 | G39: 37 | H39: 40 | I39: 56 | J39: 52
A40: =A39 -> Waitematā | B40: North Shore | C40: Other proved | D40: 1 | E40: 21 | F40: 19 | G40: 12 | H40: 13 | I40: 23 | J40: 20
A41: =A40 -> Waitematā | B41: North Shore | C41: Not proved | D41: 6 | E41: 30 | F41: 32 | G41: 17 | H41: 14 | I41: 17 | J41: 16
A42: =A41 -> Waitematā | B42: North Shore | C42: Other | D42: 0 | E42: 1 | F42: 0 | G42: 1 | H42: 0 | I42: 0 | J42: 0
A43: =A42 -> Waitematā | B43: North Shore | C43: Total | D43: 19 | E43: 103 | F43: 115 | G43: 67 | H43: 67 | I43: 96 | J43: 88
A44: =A43 -> Waitematā | B44: Waitākere | C44: Convicted | D44: 6 | E44: 83 | F44: 137 | G44: 90 | H44: 102 | I44: 104 | J44: 117
A45: =A44 -> Waitematā | B45: =B44 -> Waitākere | C45: Other proved | D45: 0 | E45: 20 | F45: 37 | G45: 28 | H45: 33 | I45: 31 | J45: 26
A46: =A45 -> Waitematā | B46: =B45 -> Waitākere | C46: Not proved | D46: 6 | E46: 46 | F46: 47 | G46: 34 | H46: 44 | I46: 40 | J46: 49
A47: =A46 -> Waitematā | B47: =B46 -> Waitākere | C47: Other | D47: 0 | E47: 0 | F47: 1 | G47: 0 | H47: 4 | I47: 0 | J47: 3
A48: =A47 -> Waitematā | B48: =B47 -> Waitākere | C48: Total | D48: 12 | E48: 149 | F48: 222 | G48: 152 | H48: 183 | I48: 175 | J48: 195
A49: =A48 -> Waitematā | B49: Justice service area total | C49: Convicted | D49: 18 | E49: 134 | F49: 201 | G49: 127 | H49: 142 | I49: 160 | J49: 169
A50: =A49 -> Waitematā | B50: Justice service area total | C50: Other proved | D50: 1 | E50: 41 | F50: 56 | G50: 40 | H50: 46 | I50: 54 | J50: 46
A51: =A50 -> Waitematā | B51: Justice service area total | C51: Not proved | D51: 12 | E51: 76 | F51: 79 | G51: 51 | H51: 58 | I51: 57 | J51: 65
A52: =A51 -> Waitematā | B52: Justice service area total | C52: Other | D52: 0 | E52: 1 | F52: 1 | G52: 1 | H52: 4 | I52: 0 | J52: 3
A53: =A52 -> Waitematā | B53: Justice service area total | C53: Total | D53: 31 | E53: 252 | F53: 337 | G53: 219 | H53: 250 | I53: 271 | J53: 283
A54: Auckland | B54: Auckland | C54: Convicted | D54: 9 | E54: 108 | F54: 179 | G54: 139 | H54: 186 | I54: 196 | J54: 199
A55: =A54 -> Auckland | B55: Auckland | C55: Other proved | D55: 1 | E55: 45 | F55: 76 | G55: 29 | H55: 57 | I55: 29 | J55: 36
A56: =A55 -> Auckland | B56: Auckland | C56: Not proved | D56: 3 | E56: 87 | F56: 96 | G56: 80 | H56: 100 | I56: 126 | J56: 128
A57: =A56 -> Auckland | B57: Auckland | C57: Other | D57: 0 | E57: 1 | F57: 0 | G57: 4 | H57: 4 | I57: 1 | J57: 3
A58: =A57 -> Auckland | B58: Auckland | C58: Total | D58: 13 | E58: 241 | F58: 351 | G58: 252 | H58: 347 | I58: 352 | J58: 366
A59: =A58 -> Auckland | B59: Justice service area total | C59: Convicted | D59: 9 | E59: 108 | F59: 179 | G59: 139 | H59: 186 | I59: 196 | J59: 199
A60: =A59 -> Auckland | B60: Justice service area total | C60: Other proved | D60: 1 | E60: 45 | F60: 76 | G60: 29 | H60: 57 | I60: 29 | J60: 36
A61: =A60 -> Auckland | B61: Justice service area total | C61: Not proved | D61: 3 | E61: 87 | F61: 96 | G61: 80 | H61: 100 | I61: 126 | J61: 128
A62: =A61 -> Auckland | B62: Justice service area total | C62: Other | D62: 0 | E62: 1 | F62: 0 | G62: 4 | H62: 4 | I62: 1 | J62: 3
A63: =A62 -> Auckland | B63: Justice service area total | C63: Total | D63: 13 | E63: 241 | F63: 351 | G63: 252 | H63: 347 | I63: 352 | J63: 366
A64: South Auckland | B64: Manukau | C64: Convicted | D64: 13 | E64: 198 | F64: 385 | G64: 252 | H64: 289 | I64: 315 | J64: 273
A65: =A64 -> South Auckland | B65: =B64 -> Manukau | C65: Other proved | D65: 6 | E65: 35 | F65: 71 | G65: 49 | H65: 60 | I65: 92 | J65: 78
A66: =A65 -> South Auckland | B66: =B65 -> Manukau | C66: Not proved | D66: 14 | E66: 66 | F66: 110 | G66: 131 | H66: 143 | I66: 111 | J66: 89
A67: =A66 -> South Auckland | B67: =B66 -> Manukau | C67: Other | D67: 0 | E67: 1 | F67: 6 | G67: 0 | H67: 2 | I67: 7 | J67: 1
A68: =A67 -> South Auckland | B68: =B67 -> Manukau | C68: Total | D68: 33 | E68: 300 | F68: 572 | G68: 432 | H68: 494 | I68: 525 | J68: 441
A69: =A68 -> South Auckland | B69: Papakura | C69: Convicted | D69: 11 | E69: 47 | F69: 47 | G69: 36 | H69: 49 | I69: 58 | J69: 72
A70: =A69 -> South Auckland | B70: =B69 -> Papakura | C70: Other proved | D70: 0 | E70: 2 | F70: 2 | G70: 5 | H70: 6 | I70: 4 | J70: 4
A71: =A70 -> South Auckland | B71: =B70 -> Papakura | C71: Not proved | D71: 2 | E71: 10 | F71: 9 | G71: 14 | H71: 18 | I71: 20 | J71: 15
A72: =A71 -> South Auckland | B72: =B71 -> Papakura | C72: Other | D72: 0 | E72: 1 | F72: 0 | G72: 0 | H72: 1 | I72: 0 | J72: 0
A73: =A72 -> South Auckland | B73: =B72 -> Papakura | C73: Total | D73: 13 | E73: 60 | F73: 58 | G73: 55 | H73: 74 | I73: 82 | J73: 91
A74: =A73 -> South Auckland | B74: Pukekohe | C74: Convicted | D74: 8 | E74: 31 | F74: 35 | G74: 20 | H74: 26 | I74: 43 | J74: 29
A75: =A74 -> South Auckland | B75: =B74 -> Pukekohe | C75: Other proved | D75: 0 | E75: 2 | F75: 1 | G75: 0 | H75: 6 | I75: 4 | J75: 5
A76: =A75 -> South Auckland | B76: =B75 -> Pukekohe | C76: Not proved | D76: 2 | E76: 4 | F76: 9 | G76: 10 | H76: 6 | I76: 9 | J76: 8
A77: =A76 -> South Auckland | B77: =B76 -> Pukekohe | C77: Other | D77: 0 | E77: 0 | F77: 0 | G77: 0 | H77: 0 | I77: 0 | J77: 0
A78: =A77 -> South Auckland | B78: =B77 -> Pukekohe | C78: Total | D78: 10 | E78: 37 | F78: 45 | G78: 30 | H78: 38 | I78: 56 | J78: 42
A79: =A78 -> South Auckland | B79: Justice service area total | C79: Convicted | D79: 32 | E79: 276 | F79: 467 | G79: 308 | H79: 364 | I79: 416 | J79: 374
A80: =A79 -> South Auckland | B80: =B79 -> Justice service area total | C80: Other proved | D80: 6 | E80: 39 | F80: 74 | G80: 54 | H80: 72 | I80: 100 | J80: 87
A81: =A80 -> South Auckland | B81: =B80 -> Justice service area total | C81: Not proved | D81: 18 | E81: 80 | F81: 128 | G81: 155 | H81: 167 | I81: 140 | J81: 112
A82: =A81 -> South Auckland | B82: =B81 -> Justice service area total | C82: Other | D82: 0 | E82: 2 | F82: 6 | G82: 0 | H82: 3 | I82: 7 | J82: 1
A83: =A82 -> South Auckland | B83: =B82 -> Justice service area total | C83: Total | D83: 56 | E83: 397 | F83: 675 | G83: 517 | H83: 606 | I83: 663 | J83: 574
A84: Waikato | B84: Hamilton | C84: Convicted | D84: 43 | E84: 214 | F84: 215 | G84: 169 | H84: 164 | I84: 178 | J84: 163
A85: =A84 -> Waikato | B85: =B84 -> Hamilton | C85: Other proved | D85: 4 | E85: 10 | F85: 17 | G85: 18 | H85: 17 | I85: 14 | J85: 16
A86: =A85 -> Waikato | B86: =B85 -> Hamilton | C86: Not proved | D86: 15 | E86: 56 | F86: 79 | G86: 50 | H86: 63 | I86: 56 | J86: 76
A87: =A86 -> Waikato | B87: =B86 -> Hamilton | C87: Other | D87: 0 | E87: 0 | F87: 1 | G87: 5 | H87: 2 | I87: 0 | J87: 2
A88: =A87 -> Waikato | B88: =B87 -> Hamilton | C88: Total | D88: 62 | E88: 280 | F88: 312 | G88: 242 | H88: 246 | I88: 248 | J88: 257
A89: =A88 -> Waikato | B89: Huntly | C89: Convicted | D89: 3 | E89: 22 | F89: 25 | G89: 14 | H89: 18 | I89: 13 | J89: 20
A90: =A89 -> Waikato | B90: =B89 -> Huntly | C90: Other proved | D90: 0 | E90: 0 | F90: 4 | G90: 4 | H90: 1 | I90: 2 | J90: 2
A91: =A90 -> Waikato | B91: =B90 -> Huntly | C91: Not proved | D91: 1 | E91: 11 | F91: 7 | G91: 5 | H91: 9 | I91: 3 | J91: 9
A92: =A91 -> Waikato | B92: =B91 -> Huntly | C92: Other | D92: 0 | E92: 0 | F92: 1 | G92: 0 | H92: 0 | I92: 0 | J92: 0
A93: =A92 -> Waikato | B93: =B92 -> Huntly | C93: Total | D93: 4 | E93: 33 | F93: 37 | G93: 23 | H93: 28 | I93: 18 | J93: 31
A94: =A93 -> Waikato | B94: Morrinsville | C94: Convicted | D94: 5 | E94: 20 | F94: 16 | G94: 11 | H94: 13 | I94: 8 | J94: 9
A95: =A94 -> Waikato | B95: =B94 -> Morrinsville | C95: Other proved | D95: 0 | E95: 0 | F95: 2 | G95: 3 | H95: 0 | I95: 2 | J95: 0
A96: =A95 -> Waikato | B96: =B95 -> Morrinsville | C96: Not proved | D96: 3 | E96: 6 | F96: 3 | G96: 3 | H96: 5 | I96: 2 | J96: 3
A97: =A96 -> Waikato | B97: =B96 -> Morrinsville | C97: Other | D97: 0 | E97: 0 | F97: 0 | G97: 0 | H97: 0 | I97: 0 | J97: 0
A98: =A97 -> Waikato | B98: =B97 -> Morrinsville | C98: Total | D98: 8 | E98: 26 | F98: 21 | G98: 17 | H98: 18 | I98: 12 | J98: 12
A99: =A98 -> Waikato | B99: Te Awamutu | C99: Convicted | D99: 0 | E99: 11 | F99: 16 | G99: 12 | H99: 7 | I99: 6 | J99: 11
A100: =A99 -> Waikato | B100: =B99 -> Te Awamutu | C100: Other proved | D100: 0 | E100: 2 | F100: 1 | G100: 1 | H100: 2 | I100: 2 | J100: 1
...

Sheet 5b.Assault fam pp_demographic
A1: Table 5b: Number and percentage of people with finalised charges of assault on a family member offences, by gender, ethnicity and age, 2018/2019 - 2024/2025
A2: This data counts a person once per financial year. Age is the person's age at the offence date of their most serious assault on a family member finalised charge each year.
A3: 'Multiple ethnicity' information is used in this table. This means for each ethnicity a person is counted once per year (e.g. they may be counted in both European and Māori). As some people have multiple recorded ethnicities this will result in the sum of ethnicities being greater than the total number of people each year.
A4: For more information on how to interpret these figures, please read the definitions and data notes
A5: Back to contents page
A6: Example interpretation: In 2024/2025, 90% of people with finalised charges for assault on a family member were male (4,024 people).
B7: Number of people | I7: Percentage of total
B8: 2018/2019 | C8: 2019/2020 | D8: 2020/2021 | E8: 2021/2022 | F8: 2022/2023 | G8: 2023/2024 | H8: 2024/2025 | I8: 2018/2019 | J8: 2019/2020 | K8: 2020/2021 | L8: 2021/2022 | M8: 2022/2023 | N8: 2023/2024 | O8: 2024/2025
A9: Total | B9: 816 | C9: 4445 | D9: 5330 | E9: 4233 | F9: 4442 | G9: 4574 | H9: 4454 | I9: 1 | J9: 1 | K9: 1 | L9: 1 | M9: 1 | N9: 1 | O9: 1
A10: Gender
A11: Female | B11: 83 | C11: 385 | D11: 532 | E11: 367 | F11: 436 | G11: 443 | H11: 430 | I11: 0.1 | J11: 0.09 | K11: 0.1 | L11: 0.09 | M11: 0.1 | N11: 0.1 | O11: 0.1
A12: Male | B12: 733 | C12: 4060 | D12: 4798 | E12: 3866 | F12: 4005 | G12: 4130 | H12: 4024 | I12: 0.9 | J12: 0.91 | K12: 0.9 | L12: 0.91 | M12: 0.9 | N12: 0.9 | O12: 0.9
A13: Unknown | B13: 0 | C13: 0 | D13: 0 | E13: 0 | F13: 1 | G13: 1 | H13: 0 | I13: 0 | J13: 0 | K13: 0 | L13: 0 | M13: <1% | N13: <1% | O13: 0
A14: Ethnicity
A15: European | B15: 272 | C15: 1474 | D15: 1818 | E15: 1345 | F15: 1402 | G15: 1317 | H15: 1318 | I15: 0.33 | J15: 0.33 | K15: 0.34 | L15: 0.32 | M15: 0.32 | N15: 0.29 | O15: 0.3
A16: Māori | B16: 484 | C16: 2553 | D16: 2927 | E16: 2436 | F16: 2470 | G16: 2571 | H16: 2452 | I16: 0.59 | J16: 0.57 | K16: 0.55 | L16: 0.58 | M16: 0.56 | N16: 0.56 | O16: 0.55
A17: Pacific Peoples | B17: 70 | C17: 467 | D17: 576 | E17: 479 | F17: 506 | G17: 524 | H17: 478 | I17: 0.09 | J17: 0.11 | K17: 0.11 | L17: 0.11 | M17: 0.11 | N17: 0.11 | O17: 0.11
A18: Asian | B18: 26 | C18: 165 | D18: 224 | E18: 159 | F18: 174 | G18: 168 | H18: 180 | I18: 0.03 | J18: 0.04 | K18: 0.04 | L18: 0.04 | M18: 0.04 | N18: 0.04 | O18: 0.04
A19: Other | B19: 12 | C19: 87 | D19: 110 | E19: 96 | F19: 98 | G19: 79 | H19: 72 | I19: 0.01 | J19: 0.02 | K19: 0.02 | L19: 0.02 | M19: 0.02 | N19: 0.02 | O19: 0.02
A20: Unknown | B20: 2 | C20: 32 | D20: 51 | E20: 39 | F20: 114 | G20: 191 | H20: 228 | I20: <1% | J20: 0.01 | K20: 0.01 | L20: 0.01 | M20: 0.03 | N20: 0.04 | O20: 0.05
A21: Age group (years)
A22: 19 years and under | B22: 72 | C22: 275 | D22: 325 | E22: 264 | F22: 263 | G22: 257 | H22: 242 | I22: 0.09 | J22: 0.06 | K22: 0.06 | L22: 0.06 | M22: 0.06 | N22: 0.06 | O22: 0.05
A23: 20-24 | B23: 130 | C23: 733 | D23: 846 | E23: 611 | F23: 691 | G23: 638 | H23: 590 | I23: 0.16 | J23: 0.16 | K23: 0.16 | L23: 0.14 | M23: 0.16 | N23: 0.14 | O23: 0.13
A24: 25-29 | B24: 150 | C24: 930 | D24: 1096 | E24: 795 | F24: 859 | G24: 850 | H24: 797 | I24: 0.18 | J24: 0.21 | K24: 0.21 | L24: 0.19 | M24: 0.19 | N24: 0.19 | O24: 0.18
A25: 30-34 | B25: 148 | C25: 807 | D25: 962 | E25: 842 | F25: 820 | G25: 899 | H25: 832 | I25: 0.18 | J25: 0.18 | K25: 0.18 | L25: 0.2 | M25: 0.18 | N25: 0.2 | O25: 0.19
A26: 35-39 | B26: 97 | C26: 546 | D26: 748 | E26: 621 | F26: 671 | G26: 747 | H26: 703 | I26: 0.12 | J26: 0.12 | K26: 0.14 | L26: 0.15 | M26: 0.15 | N26: 0.16 | O26: 0.16
A27: 40-44 | B27: 93 | C27: 443 | D27: 528 | E27: 437 | F27: 476 | G27: 477 | H27: 502 | I27: 0.11 | J27: 0.1 | K27: 0.1 | L27: 0.1 | M27: 0.11 | N27: 0.1 | O27: 0.11
A28: 45-49 | B28: 58 | C28: 356 | D28: 378 | E28: 310 | F28: 287 | G28: 329 | H28: 341 | I28: 0.07 | J28: 0.08 | K28: 0.07 | L28: 0.07 | M28: 0.06 | N28: 0.07 | O28: 0.08
A29: 50-54 | B29: 42 | C29: 166 | D29: 227 | E29: 174 | F29: 180 | G29: 185 | H29: 196 | I29: 0.05 | J29: 0.04 | K29: 0.04 | L29: 0.04 | M29: 0.04 | N29: 0.04 | O29: 0.04
A30: 55-59 | B30: 14 | C30: 99 | D30: 123 | E30: 112 | F30: 107 | G30: 119 | H30: 145 | I30: 0.02 | J30: 0.02 | K30: 0.02 | L30: 0.03 | M30: 0.02 | N30: 0.03 | O30: 0.03
A31: 60-64 | B31: 9 | C31: 51 | D31: 57 | E31: 43 | F31: 54 | G31: 42 | H31: 60 | I31: 0.01 | J31: 0.01 | K31: 0.01 | L31: 0.01 | M31: 0.01 | N31: 0.01 | O31: 0.01
A32: 65 years and over | B32: 3 | C32: 38 | D32: 39 | E32: 23 | F32: 34 | G32: 30 | H32: 45 | I32: 0 | J32: 0.01 | K32: 0.01 | L32: 0.01 | M32: 0.01 | N32: 0.01 | O32: 0.01
A33: Unknown | B33: 0 | C33: 1 | D33: 1 | E33: 1 | F33: 0 | G33: 1 | H33: 1 | I33: 0 | J33: <1% | K33: <1% | L33: <1% | M33: 0 | N33: <1% | O33: <1%

Sheet 5c.Assault fam conv pp_sent
A1: Table 5c: Number of people convicted of assault on a family member offences, by most serious sentence, 2018/2019 - 2024/2025
A2: This data counts a person once per financial year for for their most serious assault on a family member conviction, and only the details of that convicted charge are shown.
A3: For more information on how to interpret these figures, please read the definitions and data notes
A4: Back to contents page
A5: Example interpretation: In 2024/2025, 874 people convicted of assault on a family member received imprisonment as their most serious sentence.
A6: Most serious sentence | B6: 2018/2019 | C6: 2019/2020 | D6: 2020/2021 | E6: 2021/2022 | F6: 2022/2023 | G6: 2023/2024 | H6: 2024/2025
A7: Imprisonment | B7: 131 | C7: 799 | D7: 742 | E7: 665 | F7: 709 | G7: 808 | H7: 874
A8: Home detention | B8: 24 | C8: 215 | D8: 307 | E8: 249 | F8: 266 | G8: 302 | H8: 297
A9: Community detention | B9: 21 | C9: 247 | D9: 455 | E9: 314 | F9: 340 | G9: 356 | H9: 308
A10: Intensive supervision | B10: 73 | C10: 363 | D10: 483 | E10: 411 | F10: 444 | G10: 438 | H10: 376
A11: Community work | B11: 117 | C11: 450 | D11: 521 | E11: 381 | F11: 332 | G11: 402 | H11: 405
A12: Supervision | B12: 141 | C12: 562 | D12: 647 | E12: 481 | F12: 522 | G12: 450 | H12: 436
A13: Monetary | B13: 14 | C13: 39 | D13: 55 | E13: 41 | F13: 41 | G13: 38 | H13: 36
A14: Deferment | B14: 19 | C14: 111 | D14: 167 | E14: 126 | F14: 98 | G14: 87 | H14: 70
A15: Other | B15: 8 | C15: 33 | D15: 25 | E15: 21 | F15: 23 | G15: 16 | H15: 17
A16: No sentence recorded | B16: 5 | C16: 39 | D16: 41 | E16: 40 | F16: 40 | G16: 47 | H16: 38
A17: Total | B17: 553 | C17: 2858 | D17: 3443 | E17: 2729 | F17: 2815 | G17: 2944 | H17: 2857

Sheet 5d.Assault fam conv_demographic
A1: Table 5d: Number and percentage of people convicted of assault on a family member offences, by gender, ethnicity and age, 2018/2019 - 2024/2025
A2: This data counts a person once per financial year. All of their charges have the same recorded gender and ethnicity information. Age in this table is the person's age at the offence date of their most serious assault on a family member conviction in the year.
A3: 'Multiple ethnicity' information is used in this table. This means for each ethnicity a person is counted once per year (e.g. they may be counted in both European and Māori). As some people have multiple recorded ethnicities this will result in the sum of ethnicities being greater than the total number of people each year.
A4: For more information on how to interpret these figures, please read the definitions and data notes
A5: Back to contents page
A6: Example interpretation: In 2024/2025, 93% of people convicted of assault on a family member were male (2,654 people).
B7: Number of people convicted | I7: Percentage of total
B8: 2018/2019 | C8: 2019/2020 | D8: 2020/2021 | E8: 2021/2022 | F8: 2022/2023 | G8: 2023/2024 | H8: 2024/2025 | I8: 2018/2019 | J8: 2019/2020 | K8: 2020/2021 | L8: 2021/2022 | M8: 2022/2023 | N8: 2023/2024 | O8: 2024/2025
A9: Total | B9: 553 | C9: 2858 | D9: 3443 | E9: 2729 | F9: 2815 | G9: 2944 | H9: 2857 | I9: 1 | J9: 1 | K9: 1 | L9: 1 | M9: 1 | N9: 1 | O9: 1
A10: Gender
A11: Female | B11: 47 | C11: 176 | D11: 274 | E11: 181 | F11: 191 | G11: 212 | H11: 203 | I11: 0.08 | J11: 0.06 | K11: 0.08 | L11: 0.07 | M11: 0.07 | N11: 0.07 | O11: 0.07
A12: Male | B12: 506 | C12: 2682 | D12: 3169 | E12: 2548 | F12: 2623 | G12: 2732 | H12: 2654 | I12: 0.92 | J12: 0.94 | K12: 0.92 | L12: 0.93 | M12: 0.93 | N12: 0.93 | O12: 0.93
A13: Unknown | B13: 0 | C13: 0 | D13: 0 | E13: 0 | F13: 1 | G13: 0 | H13: 0 | I13: 0 | J13: 0 | K13: 0 | L13: 0 | M13: <1% | N13: 0 | O13: 0
A14: Ethnicity
A15: European | B15: 181 | C15: 866 | D15: 1089 | E15: 845 | F15: 867 | G15: 843 | H15: 818 | I15: 0.33 | J15: 0.3 | K15: 0.32 | L15: 0.31 | M15: 0.31 | N15: 0.29 | O15: 0.29
A16: Māori | B16: 347 | C16: 1821 | D16: 2061 | E16: 1677 | F16: 1693 | G16: 1803 | H16: 1728 | I16: 0.63 | J16: 0.64 | K16: 0.6 | L16: 0.61 | M16: 0.6 | N16: 0.61 | O16: 0.6
A17: Pacific Peoples | B17: 40 | C17: 293 | D17: 378 | E17: 305 | F17: 330 | G17: 335 | H17: 323 | I17: 0.07 | J17: 0.1 | K17: 0.11 | L17: 0.11 | M17: 0.12 | N17: 0.11 | O17: 0.11
A18: Asian | B18: 11 | C18: 61 | D18: 98 | E18: 65 | F18: 69 | G18: 63 | H18: 77 | I18: 0.02 | J18: 0.02 | K18: 0.03 | L18: 0.02 | M18: 0.02 | N18: 0.02 | O18: 0.03
A19: Other | B19: 4 | C19: 45 | D19: 63 | E19: 51 | F19: 51 | G19: 44 | H19: 37 | I19: 0.01 | J19: 0.02 | K19: 0.02 | L19: 0.02 | M19: 0.02 | N19: 0.01 | O19: 0.01
A20: Unknown | B20: 0 | C20: 8 | D20: 17 | E20: 15 | F20: 33 | G20: 50 | H20: 70 | I20: 0 | J20: <1% | K20: <1% | L20: 0.01 | M20: 0.01 | N20: 0.02 | O20: 0.02
A21: Age group (years)
A22: 19 years and under | B22: 35 | C22: 115 | D22: 116 | E22: 86 | F22: 96 | G22: 85 | H22: 84 | I22: 0.06 | J22: 0.04 | K22: 0.03 | L22: 0.03 | M22: 0.03 | N22: 0.03 | O22: 0.03
A23: 20-24 | B23: 88 | C23: 472 | D23: 548 | E23: 402 | F23: 431 | G23: 405 | H23: 370 | I23: 0.16 | J23: 0.17 | K23: 0.16 | L23: 0.15 | M23: 0.15 | N23: 0.14 | O23: 0.13
A24: 25-29 | B24: 102 | C24: 646 | D24: 755 | E24: 545 | F24: 583 | G24: 569 | H24: 535 | I24: 0.18 | J24: 0.23 | K24: 0.22 | L24: 0.2 | M24: 0.21 | N24: 0.19 | O24: 0.19
A25: 30-34 | B25: 104 | C25: 563 | D25: 661 | E25: 592 | F25: 554 | G25: 627 | H25: 564 | I25: 0.19 | J25: 0.2 | K25: 0.19 | L25: 0.22 | M25: 0.2 | N25: 0.21 | O25: 0.2
A26: 35-39 | B26: 74 | C26: 369 | D26: 522 | E26: 424 | F26: 448 | G26: 504 | H26: 480 | I26: 0.13 | J26: 0.13 | K26: 0.15 | L26: 0.16 | M26: 0.16 | N26: 0.17 | O26: 0.17
A27: 40-44 | B27: 59 | C27: 270 | D27: 342 | E27: 291 | F27: 302 | G27: 304 | H27: 336 | I27: 0.11 | J27: 0.09 | K27: 0.1 | L27: 0.11 | M27: 0.11 | N27: 0.1 | O27: 0.12
A28: 45-49 | B28: 43 | C28: 238 | D28: 254 | E28: 193 | F28: 186 | G28: 216 | H28: 224 | I28: 0.08 | J28: 0.08 | K28: 0.07 | L28: 0.07 | M28: 0.07 | N28: 0.07 | O28: 0.08
A29: 50-54 | B29: 31 | C29: 92 | D29: 137 | E29: 103 | F29: 108 | G29: 127 | H29: 115 | I29: 0.06 | J29: 0.03 | K29: 0.04 | L29: 0.04 | M29: 0.04 | N29: 0.04 | O29: 0.04
A30: 55-59 | B30: 9 | C30: 49 | D30: 63 | E30: 63 | F30: 65 | G30: 69 | H30: 94 | I30: 0.02 | J30: 0.02 | K30: 0.02 | L30: 0.02 | M30: 0.02 | N30: 0.02 | O30: 0.03
A31: 60-64 | B31: 6 | C31: 27 | D31: 26 | E31: 18 | F31: 27 | G31: 25 | H31: 32 | I31: 0.01 | J31: 0.01 | K31: 0.01 | L31: 0.01 | M31: 0.01 | N31: 0.01 | O31: 0.01
A32: 65 years and over | B32: 2 | C32: 16 | D32: 19 | E32: 12 | F32: 15 | G32: 13 | H32: 22 | I32: 0 | J32: 0.01 | K32: 0.01 | L32: <1% | M32: 0.01 | N32: <1% | O32: 0.01
A33: Unknown | B33: 0 | C33: 1 | D33: 0 | E33: 0 | F33: 0 | G33: 0 | H33: 1 | I33: 0 | J33: <1% | K33: 0 | L33: 0 | M33: 0 | N33: 0 | O33: <1%

Sheet Definitions and data notes
A1: Definitions and data notes
A2: Back to contents page
A4: Family violence | B4: In the Family Violence Act 2018, family violence offences include any offence involving family violence (as defined in section 9 of the Act: physical, sexual or psychological abuse by a person who is or has been in a family relationship) or any offence against the Family Violence Act (such as breaching a protection order or failing to attend a non-violence programme). The Family Violence Act 2018 replaced the Domestic Violence Act 1995 from 1 July 2019 onwards.
A5: Family violence offences | B5: In this workbook, family violence offences are finalised charges flagged as family violence in the Ministry of Justice Case Management System OR involving these specific offence types: - assault on a family member (section 194A Crimes Act 1961) - common assault (domestic) (section 9 Summary Offences Act 1981 or section 196 Crimes Act 1961) - sexual offences against a spouse (section 128(4)/128B or section 129 Crimes Act 1961) - incest (section 130 or section 131 Crimes Act 1961) - coercion to marry (section 207A Crimes Act 1961) - all offences included in the Domestic Violence Act 1995 (such as breach of protection order) - all offences included the in the Family Violence Act 2018 (such as breach of protection order). This family violence offences data is the most comprehensive family violence data published by the Ministry of Justice as it includes all finalised charges flagged as family violence, regardless of the offence type (for example, finalised charges for wilful damage and homicide that are flagged as family violence are included).
A6: Breach of protection order | B6: Includes offences for contravening a protection order under section 112 Family Violence Act 2018 (previously under section 49(1)a Domestic Violence Act 1995). A Protection Order protects a person (and any children who regularly live with them) from a violent person who they are, or have been, in a relationship with. Protection Orders include conditions such as no violence and no contact with the people protected by the Order. If the conditions of the Order are breached (e.g. if the violent person stalks the protected people by hanging around where they live, work or study) the police can arrest the violent person and charge them with 'breach of protection order'. A person convicted of 'breach of protection order' can be imprisoned for up to 3 years (this increased from a maximum of up to 2 years in 2013). From 1 July 2019, new breach of protection order offences were introduced, which specifically include breaches of property orders.
A7: Assault on a family member | B7: Includes offences under section 194A Crimes Act 1961. Family members include people who are a spouse, partner, family member, ordinarily share a household or have a close personal relationship. This offence has the same maximum penalty as 'male assaults female' and is intended to be used instead, where the person charged and the victim have a family relationship (introduced 3 December 2018).
A8: ANZSOC | B8: The Australian and New Zealand Standard Offence Classification is used to categorise offences into 17 divisions, within which subdivisions and groups exist. In New Zealand, ANZSOC v2.0.0 is used for all statistics published from July 2025 onwards. Prior to this, ANZSOC v1.0.0 was used, which categorised offences into 16 divisions. More information can be obtained from Stats NZ: https://aria.stats.govt.nz/aria/#ClassificationView:uri=http://stats.govt.nz/cms/ClassificationVersion/bNfA7dXFz2KGM0iJ
A9: Year | B9: This data is extracted based on the charge outcome year of each finalised charge (e.g. the year the charge was convicted and sentenced, withdrawn, or the person was found not guilty). Calendar years start in January and end in December. Financial years start in July and end in June.
A10: People with finalised charges per year | B10: People are counted once per year for their most serious charge finalised in the year for family violence offences, and only the details of that charge are shown.
A11: People convicted per year | B11: People are counted once per year for their most serious family violence conviction, and only the details of that convicted charge are shown.
A12: Most serious offence | B12: A range of information is used to determine which finalised charge is a person's most serious in a year. This includes information such as the final charge outcome, sentence type, sentence length/amount, remands in custody and bail and maximum offence penalties.
A13: Charge outcome | B13: The final outcome of a prosecution - whether a person is convicted or not: - proved outcomes (where a person is found to be, or pleads, guilty) include convicted and other proved (Youth Court proved (s283 order), discharge without conviction and adult diversion/Youth Court discharge, and proven but not criminally responsible on account of insanity). - not proved outcomes include the person being found not guilty and where the charge is withdrawn or dismissed. - other charge outcomes include being found not guilty by reason of insanity, unfit to stand trial or stay of proceedings ordered.
A14: Sentence | B14: A person may receive more than one type of sentence when convicted of a charge. The most serious sentence is used in these tables. Sentences include (in order of seriousness): - imprisonment (includes life imprisonment, preventive detention and imprisonment) - community sentences (home detention, community detention, intensive supervision, community work, supervision) - monetary (includes reparation, fine and order for restitution of property) - deferment (which includes 'to come up for sentence if called upon') - other (includes orders related to driving (e.g. disqualification from driving, alcohol interlock order, zero alcohol order, attend driving course), orders related to forfeiture and confiscation (e.g. forfeiture, confiscation of motor vehicle, prohibition of interest in motor vehicle, destruction of animal), Child Protection Register, Final Protection Order (Sentencing Act), Firearm Prohibition Order, and 'committed to a facility on conviction') - no sentence recorded (includes where a person has been 'convicted and discharged' and where a person has been ordered to pay court costs).
A15: Gender, ethnicity and age | B15: Gender, ethnicity, and age information originate from Police. All of a person's charges have the same recorded gender and ethnicity information. Age in these tables is the person's age at the offence date of their most serious finalised charge. A small number of records are missing some details and are labelled as Unknown. 'Multiple ethnicity' information is used in these tables. This means for each ethnicity a person is counted once per year (e.g. they may be counted in both European and Māori). As some people have multiple recorded ethnicities this will result in the sum of ethnicities being greater than the total number of people each year. Reasons for people having unknown ethnicity include it not being recorded by Police or it not being transferred to the Ministry of Justice from the prosecuting agency (e.g. Police). This is usually due to the charge being filed by summons (rather than arrest). Some offence types (such as traffic offences) are more likely to be charged by summons. Charges prosecuted by agencies other than Police, Crown Law or Corrections (e.g. Inland Revenue, Ministry of Social Development, and Ministry of Primary Industries) are filed by summons. However, if a person has other charges where ethnicity is recorded all their ethnicity information is applied to all their charges, meaning the more charges a person has over time, the more opportunity there is for their ethnicity to become known.
... A18: Values of - and 0 | B18: Where information is not existing for a measure, a dash (-) is used in the tables. A count of zero is represented by a numerical 0. Where a percentage value is 0% it is shown as 0%, where it is between 0% and 0.49% it is shown as <1%, and where it is between 0.5% and 1% it is shown as 1%.

Sheet Notes-Justice service areas
A1: Courts included in each justice service area
A2: Back to definitions and data notes
A3: Back to contents page
A4: Choose which areas to show or hide
A5: Justice service area | B5: Court location | C5: District Court | D5: High Court
A6: Taitokerau | B6: Dargaville | C6: ü
A7: Taitokerau | B7: Kaikohe | C7: ü
A8: Taitokerau | B8: Kaitaia | C8: ü
A9: Taitokerau | B9: Whangārei | C9: ü | D9: ü
A10: Waitematā | B10: North Shore | C10: ü
A11: =A10 -> Waitematā | B11: Waitākere | C11: ü
A12: Auckland | B12: Auckland | C12: ü | D12: ü
A13: South Auckland | B13: Manukau | C13: ü
A14: South Auckland | B14: Papakura | C14: ü
A15: South Auckland | B15: Pukekohe | C15: ü
A16: Waikato | B16: Hamilton | C16: ü | D16: ü
A17: Waikato | B17: Huntly | C17: ü
A18: Waikato | B18: Morrinsville | C18: ü
A19: Waikato | B19: Te Awamutu | C19: ü
A20: Waikato | B20: Te Kūiti | C20: ü
A21: Waikato | B21: Thames | C21: ü
A22: Bay of Plenty | B22: Ōpōtiki | C22: ü
A23: Bay of Plenty | B23: Tauranga | C23: ü | D23: ü
A24: Bay of Plenty | B24: Waihi | C24: ü
A25: Bay of Plenty | B25: Whakatāne | C25: ü
A26: Waiariki | B26: Rotorua | C26: ü | D26: ü
A27: Waiariki | B27: Taumarunui | C27: ü
A28: Waiariki | B28: Taupō | C28: ü
A29: Waiariki | B29: Tokoroa | C29: ü
A30: East Coast | B30: Gisborne | C30: ü | D30: ü
A31: East Coast | B31: Hastings | C31: ü
A32: East Coast | B32: Napier | C32: ü | D32: ü
A33: East Coast | B33: Ruatōria | C33: ü
A34: East Coast | B34: Waipukurau | C34: ü
A35: East Coast | B35: Wairoa | C35: ü
A36: Taranaki/Whanganui | B36: Hāwera | C36: ü
A37: Taranaki/Whanganui | B37: Marton | C37: ü
A38: Taranaki/Whanganui | B38: New Plymouth | C38: ü | D38: ü
A39: Taranaki/Whanganui | B39: Taihape | C39: ü
A40: Taranaki/Whanganui | B40: Whanganui | C40: ü | D40: ü
A41: Manawatū/Wairarapa | B41: Dannevirke | C41: ü
A42: Manawatū/Wairarapa | B42: Levin | C42: ü
A43: Manawatū/Wairarapa | B43: Masterton | C43: ü | D43: ü
A44: Manawatū/Wairarapa | B44: Palmerston North | C44: ü | D44: ü
A45: Northern Wellington | B45: Hutt Valley | C45: ü
A46: Northern Wellington | B46: Porirua | C46: ü
A47: Wellington | B47: Chatham Islands | C47: ü
A48: Wellington | B48: Wellington | C48: ü | D48: ü
A49: Nelson/Marlborough/West Coast | B49: Blenheim | C49: ü | D49: ü
A50: Nelson/Marlborough/West Coast | B50: Greymouth | C50: ü | D50: ü
A51: Nelson/Marlborough/West Coast | B51: Kaikōura | C51: ü
A52: Nelson/Marlborough/West Coast | B52: Nelson | C52: ü | D52: ü
A53: Nelson/Marlborough/West Coast | B53: Westport | C53: ü
A54: Canterbury | B54: Ashburton | C54: ü
A55: Canterbury | B55: Christchurch | C55: ü | D55: ü
A56: Otago | B56: Dunedin | C56: ü | D56: ü
A57: Otago | B57: Oamaru | C57: ü
A58: Otago | B58: Timaru | C58: ü | D58: ü
A59: Southland | B59: Alexandra | C59: ü
A60: Southland | B60: Gore | C60: ü
A61: Southland | B61: Invercargill | C61: ü | D61: ü
A62: Southland | B62: Queenstown | C62: ü
