Workbook
Name itemlist: [1]List!$A$9:$F$71
Name itemlist: index!$A$3:$B$58

Sheet index
B1: Student Loan Scheme Annual Report 2024/25
A3: code | B3: title
A4: T1 | B4: ='T1'!B2 -> Funding of tertiary education
A5: F2 | B5: ='F2'!B2 -> Median loan balance on leaving study
A6: F2.1 | B6: ='F2.1'!B2 -> Median loan balances for leavers by gender - all borrowers and those who studied at bachelors level
A7: F3 | B7: ='F3'!C3 -> Earnings as a percentage of national median earnings by year after qualification
A8: F4 | B8: ='F4'!B2 -> Percentage of borrowers who have fully repaid having left study in the year shown
A9: F5 | B9: ='F5'!B2 -> Enrolment by domestic students in tertiary education
A10: T2 | B10: ='T2'!B2 -> Participation by domestic students in tertiary education
A11: T2.1 | B11: ='T2.1'!B2 -> Trends in level of study among borrowers in 2024
A12: T2.2 | B12: ='T2.2'!B2 -> Trends in the age profile of borrowers
A13: T3 | B13: ='T3'!B2 -> Demographic characteristics of all active student loan borrowers
A14: T3.1 | B14: ='T3.1'!B2 -> Demographic characteristics of new active student loan borrowers
A15: F6 | B15: ='F6'!B2 -> Number of students eligible to borrow, number borrowing and the uptake rate (full-time and part-time students)
A16: F6.1 | B16: ='F6.1'!B2 -> Number of students eligible to borrow, number borrowing and the uptake rate
A17: F7 | B17: ='F7'!B2 -> Total amounts drawn by loan component
A18: F7.1 | B18: ='F7.1'!B2 -> Average and median amounts borrowed by component
A19: T4 | B19: ='T4'!B2 -> Amount borrowed by loan component and sub-sector
A20: T4.1 | B20: ='T4.1'!B2 -> Average course fees borrowed by sub-sector
A21: T4.2 | B21: ='T4.2'!B2 -> Student loan borrowers by level of qualification and average amount borrowed
A22: T4.3 | B22: ='T4.3'!B2 -> Number of students borrowing for living cost and receiving student allowances
A23: T4.4 | B23: ='T4.4'!B2 -> Student allowances compared with student loan living cost borrowing
A24: T4.5 | B24: ='T4.5'!B2 -> Amount borrowed by loan component and ethnicity
A25: T4.6 | B25: ='T4.6'!B2 -> Amount borrowed by loan component, gender and ethnicity
A26: F8 | B26: ='F8'!B2 -> Borrowing trends since 1992
A27: F8.1 | B27: ='F8.1'!B2 -> Number of total active borrowers and new active borrowers in each academic year
A28: T5 | B28: ='T5'!B2 -> Percentiles of leaving debt and repayment time for leavers in 2023 who completed a qualification by level of study and gender
A29: T6 | B29: ='T6'!B2 -> Median leaving debt and repayment time by ethnicity and level of study for leavers in 2023
A30: T6.1 | B30: ='T6.1'!B2 -> Quartiles of actual and forecast repayment times for borrowers who left study in 2005-2023 by level of study
A31: T7 | B31: ='T7'!B2 -> Leaving Debt and Forecast repayment times for borrowers who left study in 2023
A32: T8 | B32: ='T8'!B2 -> Overview of students loan at 30 June 2025 and the two preceding years
A33: F9 | B33: ='F9'!B2 -> Number of Borrowers and Nominal Balance
A34: F9.1 | B34: ='F9.1'!B2 -> Age range of borrower groups
A35: F9.2 | B35: ='F9.2'!B2 -> Average and Median Loan Balances as at 30 June 2025
A36: F9.3 | B36: ='F9.3'!B2 -> Borrower numbers by activity
A37: F10 | B37: ='F10'!B2 -> Range and Distribution of loan balances at 30 June 2025
A38: F10.1 | B38: ='F10.1'!B3 -> Range and Distribution of loan balances at 30 June 2025
A39: F10.2 | B39: ='F10.2'!B3 -> Range and Distribution of loan balances at 30 June 2025
A40: T9 | B40: ='T9'!B2 -> Loan Repayments
A41: T10 | B41: ='T10'!B2 -> Overdue student loan repayments
...

Sheet T1
A1: index
B2: Funding of tertiary education
B3: Government expenditure | D3: 2022 | E3: 2023 | F3: 2024
B4: Expenditure ($ million) | C4: Student loans - fair value write down on new borrowings | D4: 521 | E4: 552 | F4: 529
C5: Student allowances | D5: 552 | E5: 524 | F5: 562
C6: Tuition subsidies, Fees Free, TAFL, and HAFL | D6: 2638 | E6: 2452 | F6: 2609
C7: Total | D7: 3711 | E7: 3528 | F7: 3699
C8: Total as % of GDP | D8: 0.0101 | E8: 0.0088 | F8: 0.0088
B10: Source: Ministry of Education | Te Tāhuhu o te Mātauranga, Ministry of Social Development | Te Manatū Whakahiato ora, Tertiary Education Commission | Te Amorangi Mātauranga Matua and Inland Revenue | Te Tari Taake.
B11: Refer to Table 1, Part 1, Page 15 of the Student Loan Scheme Annual Report 2024/25
B12: Notes:
B13: 1. This table presents expenditure on a calendar-year basis. Prior to last year's edition of the Student Loan Scheme Annual Report, this was presented on a fiscal-year basis. Government expenditure on tuition subsidies and Fees Free for practical purposes, can only be split into provider-based and workplace-based expenditure on a calendar-year basis. This table presents expenditure on provider-based tertiary education tuition subsidies and Fees Free.
B14: 2. Fees Free represents the amount spent on paying tuition fees for Fees Free eligible students via the first-year Fees Free policy and the Targeted Training and Apprenticeship Fund (TTAF). The amount here only includes funding for students enrolled in provider-based tertiary education. TTAF ended in December 2022.
B15: 3. The following items of expenditure are not covered: industry training, community education, scholarships, Youth Guarantee, Centres of Research Excellence, funds for the administration of the tertiary education system, Performance-based Research Fund (PBRF) and capital expenditure Performance-Based Research Fund (PBRF) and capital expenditure.

Sheet F2
A1: index
B2: Median loan balance on leaving study
B4: Year of last study | C4: Median loan balance | D4: Inflation adjusted Median loan balance
B5: 2023 | C5: 24067 | D5: 13457
B6: 2022 | C6: 23280 | D6: 13541
B7: 2021 | C7: 21513 | D7: 13346
B8: 2020 | C8: 22480 | D8: 14914
B9: 2019 | C9: 22299 | D9: 15017
B10: 2018 | C10: 21610 | D10: 14922
B11: 2017 | C11: 19350 | D11: 13559
B12: 2016 | C12: 18650 | D12: 13212
B13: 2015 | C13: 17780 | D13: 12869
B14: 2014 | C14: 17000 | D14: 12356
B15: 2013 | C15: 15990 | D15: 11651
B16: 2012 | C16: 14670 | D16: 10853
... B28: 2000 | C28: 8360 | D28: 8360
B29: Source: Stats New Zealand IDI | Tatauranga Aotearoa
B30: Refer to Figure 2, Part 1, Page 16 of the Student Loan Scheme Annual Report 2024/25
B31: Notes:
B32: 1. Shown is the median loan balance in dollars following the last year of study, and the same figure deflated to March 2001 dollars.
E91: <<<source

Sheet F2.1
A1: This table is produced online only
A2: index | B2: Median loan balances for leavers by gender - all borrowers and those who studied at bachelors level
C4: All levels | E4: Bachelor level
B5: Year of last study | C5: Male | D5: Female | E5: Male | F5: Female
C6: $ | D6: $ | E6: $ | F6: $
B7: 2023 | C7: 24843 | D7: 23736 | E7: 29302 | F7: 29267
B8: 2022 | C8: 24620 | D8: 22654 | E8: 28533 | F8: 27454
B9: 2021 | C9: 22758 | D9: 20859 | E9: 29329 | F9: 27546
B10: 2020 | C10: 23503 | D10: 21464 | E10: 31100 | F10: 29927
B11: 2019 | C11: 22405 | D11: 20705 | E11: 30713 | F11: 29032
B12: 2018 | C12: 21113 | D12: 20412 | E12: 29876 | F12: 28262
B13: 2017 | C13: 18329 | D13: 18303 | E13: 27538 | F13: 26456
B14: 2016 | C14: 17040 | D14: 17545 | E14: 27384 | F14: 25645
B15: 2015 | C15: 16510 | D15: 16492 | E15: 26314 | F15: 24448
B16: 2014 | C16: 15476 | D16: 15836 | E16: 25921 | F16: 23351
B17: 2013 | C17: 14634 | D17: 14928 | E17: 25012 | F17: 22313
B18: 2012 | C18: 13479 | D18: 13788 | E18: 23626 | F18: 20425
... B27: 2003 | C27: 9761 | D27: 8731 | E27: 16301 | F27: 13652
B28: Source: Stats New Zealand IDI | Tatauranga Aotearoa
B29: This is a supporting table for Figure 2, Part 1, Page 16 of the Student Loan Scheme Annual Report 2024/25

Sheet F3
A1: index
C3: Earnings as a percentage of national median earnings by year after qualification
C4: (%)
B5: Qualification level | C5: Year 1 | D5: Year 2 | E5: Year 3 | F5: Year 4 | G5: Year 5 | H5: Year 6 | I5: Year 7 | J5: Year 8 | K5: Year 9 | L5: Year 10
B6: Doctorates | C6: 1.29 | D6: 1.32 | E6: 1.42 | F6: 1.38 | G6: 1.4 | H6: 1.46 | I6: 1.45 | J6: 1.53 | K6: 1.52 | L6: 1.53
B7: Masters | C7: 1.16 | D7: 1.19 | E7: 1.2 | F7: 1.25 | G7: 1.31 | H7: 1.34 | I7: 1.38 | J7: 1.38 | K7: 1.36 | L7: 1.44
B8: Honours & postgraduate certificates/diplomas | C8: 1.22 | D8: 1.24 | E8: 1.26 | F8: 1.31 | G8: 1.33 | H8: 1.37 | I8: 1.35 | J8: 1.41 | K8: 1.42 | L8: 1.47
B9: Graduate certificates/diplomas | C9: 1.04 | D9: 1.06 | E9: 1.06 | F9: 1.07 | G9: 1.09 | H9: 1.12 | I9: 1.13 | J9: 1.18 | K9: 1.23 | L9: 1.23
B10: Bachelor degrees | C10: 1.12 | D10: 1.14 | E10: 1.16 | F10: 1.17 | G10: 1.22 | H10: 1.23 | I10: 1.26 | J10: 1.25 | K10: 1.27 | L10: 1.27
B11: Level 5-7 certificates/diplomas | C11: 0.95 | D11: 0.99 | E11: 0.99 | F11: 0.98 | G11: 0.99 | H11: 0.99 | I11: 0.99 | J11: 0.99 | K11: 0.98 | L11: 1
B12: Level 4 certificates | C12: 0.96 | D12: 1.09 | E12: 1.08 | F12: 1.1 | G12: 1.08 | H12: 1.07 | I12: 1.06 | J12: 1.04 | K12: 1.01 | L12: 1.01
B13: Level 1-3 certificates | C13: 1.05 | D13: 1.11 | E13: 1.13 | F13: 1.02 | G13: 1.01 | H13: 0.96 | I13: 0.97 | J13: 0.95 | K13: 0.94 | L13: 0.94
B14: Source: Stats New Zealand IDI | Tatauranga Aotearoa, Tertiary Education Commission | Te Amorangi Mātauranga Matua interpretation.
B15: Refer to Figure 3, Part 1, Page 17 of the Student Loan Scheme Annual Report 2024/25
B16: Notes:
B17: 1. Graduate earnings are attributed only to the highest qualification completed .
B18: 2. Sources of data used to identify the highest qualification completed include the Single Data Return, Industry Training Register and New Zealand Qualifications Authority (NZQA) register.
B19: 3. The definition of employed graduates and employed population is based on income from employed taxable sources. A person is considered employed if their yearly income in the 2024 tax year from employed sources exceeded $24,128 (one-half of the minimum wage over 52 weeks, with 40 working hours in a week).
B20: 4. All earnings are measured in the 2024 tax year . Any negative earnings (income losses) were zeroed.
B21: 5. For comparison purposes, the median earnings of the employed New Zealand population were calculated for age groups matching the median age of graduate groups in each year.
B22: 6. All median earnings were rounded to the nearest dollar. Percentages presented here are based on rounded earnings and are shown as whole numbers.

Sheet F4
A1: index
B2: Percentage of borrowers who have fully repaid having left study in the year shown
B4: Exit Year | C4: 2023 | D4: 2022 | E4: 2021 | F4: 2020 | G4: 2019 | H4: 2018 | I4: 2017 | J4: 2016 | K4: 2015 | L4: 2014 | M4: 2013 | N4: 2012 | O4: 2011 | P4: 2010 | Q4: 2009 | R4: 2008 | S4: 2007 | T4: 2006 | U4: 2005 | V4: 2004 | W4: 2003
B5: 2003 | C5: 0.83970841 | D5: 0.8293102 | E5: 0.81883643 | F5: 0.80754439 | G5: 0.79404304 | H5: 0.77800507 | I5: 0.75640291 | J5: 0.73962851 | K5: 0.72064479 | L5: 0.69846985 | M5: 0.67294002 | N5: 0.64258244 | O5: 0.60723345 | P5: 0.57147533 | Q5: 0.53301694 | R5: 0.48523034 | S5: 0.42950659 | T5: 0.36789133 | U5: 0.29334752 | V5: 0.2265772 | W5: 0.11873005
B6: 2007 | C6: 0.79779149 | D6: 0.78206789 | E6: 0.76794506 | F6: 0.75142524 | G6: 0.73296191 | H6: 0.70853848 | I6: 0.67828453 | J6: 0.6495206 | K6: 0.61699922 | L6: 0.57935994 | M6: 0.53472402 | N6: 0.48302669 | O6: 0.41992744 | P6: 0.35060897 | Q6: 0.27934698 | R6: 0.19895051 | S6: 0.097693703
B7: 2011 | C7: 0.74973701 | D7: 0.72702066 | E7: 0.70394978 | F7: 0.67554277 | G7: 0.63960241 | H7: 0.5954486 | I7: 0.54083181 | J7: 0.48260528 | K7: 0.41919958 | L7: 0.35071933 | M7: 0.27533351 | N7: 0.19591943 | O7: 0.1043683
B8: 2015 | C8: 0.65926568 | D8: 0.60945799 | E8: 0.55480039 | F8: 0.48694957 | G8: 0.40750471 | H8: 0.32463305 | I8: 0.23981952 | J8: 0.15717631 | K8: 0.07556114
B9: 2019 | C9: 0.43699213 | D9: 0.35122499 | E9: 0.27411009 | F9: 0.18733246 | G9: 0.091453151
B10: Source: Stats New Zealand IDI | Tatauranga Aotearoa
B11: Refer Figure 4, Part 1, Page 18 of the Student Loan Scheme Annual Report 2024/25
B12: Notes:
B13: 1. The leaving cohorts are those who last studied in 2003, 2007, 2011, 2015 and 2019, had borrowed from the Scheme, and had a student loan balance of more than $20 at 31 March in the following year.
B14: 2. Full repayment is deemed to occur when the student loan balance has fallen to $20 or below.

Sheet F5
A1: index
B2: Enrolment by domestic students in tertiary education
B4: Years | C4: Students | D4: EFTS
B5: 2024 | C5: 350640 | D5: 218766.79
B6: 2023 | C6: 347228 | D6: 213472.79
B7: 2022 | C7: 343835 | D7: 218443.38
B8: 2021 | C8: 358652 | D8: 233509.4
B9: 2020 | C9: 329123 | D9: 212846.91
B10: 2019 | C10: 328138 | D10: 215669.08
B11: 2018 | C11: 336179 | D11: 220563.93
B12: 2017 | C12: 343656 | D12: 223312.06
B13: 2016 | C13: 353582 | D13: 230793.08
B14: 2015 | C14: 358122 | D14: 233487.28
B15: 2014 | C15: 363144 | D15: 239738.5
B16: 2013 | C16: 368814 | D16: 244817.52
... B35: 1994 | C35: 245916 | D35: 139766.5
B36: Source: Ministry of Education | Te Tāhuhu o te Mātauranga
B37: Refer to Figure 5, Part 1, Page 20 of the Student Loan Scheme Annual Report 2024/25
B38: Notes:
B39: 1. Data relates to domestic students enrolled at any time during the year.
B40: 2. Participation excludes industry training, non-government-funded private training establishments (PTEs), formal courses of a week or less, and all non-formal learning.
B41: 3. The difference between student numbers and EFTS numbers relates to the proportion of part-time students enrolled and the study load they enrol for.
B42: 4. These figures have been restated and so might not agree with previous annual reports.

Sheet T2
A1: index
B2: Participation by domestic students in tertiary education
B4: Participation and completion | D4: 2022 | E4: 2023 | F4: 2024
B5: Domestic students | C5: Total (000) | D5: 344 | E5: 347 | F5: 351
B6: participating in tertiary | C6: 20 years old and under | D6: 83 | E6: 86 | F6: 90
B7: education | C7: 21-26 years old | D7: 97 | E7: 95 | F7: 94
C8: 27-50 years old | D8: 134 | E8: 136 | F8: 136
C9: Over 50 years old | D9: 31 | E9: 31 | F9: 30
C10: Female | D10: 210 | E10: 205 | F10: 207
C11: Male | D11: 132 | E11: 140 | F11: 141
C12: Another gender | D12: 2 | E12: 2 | F12: 3
C13: Māori | D13: 71 | E13: 74 | F13: 78
C14: Pacific people | D14: 34 | E14: 34 | F14: 36
C15: European | D15: 215 | E15: 211 | F15: 208
C16: Asian | D16: 63 | E16: 66 | F16: 70
B17: Domestic students | C17: Non-degree | D17: 67 | E17: 68 | F17: 71
B18: completing qualifications (000) | C18: Bachelors | D18: 26 | E18: 27 | F18: 27
C19: Postgraduate | D19: 16 | E19: 15 | F19: 17
C20: Total | D20: 109 | E20: 110 | F20: 115
B21: Source: Ministry of Education | Te Tāhuhu o te Mātauranga
B22: Refer to Table 2, Part 1, Page 21 of the Student Loan Scheme Annual Report 2024/25
B23: Notes:
B24: 1. This data relates to domestic students enrolled at any time during the year.
B25: 2. Participation excludes industry training, non-Government-funded PTEs, formal courses of a week or less, and all non-formal learning.
B26: 3. A small number of students complete qualifications at different levels in the same year, so the sum of the three levels may be higher than the number of students completing their qualifications in a given year.
B27: 4. Students are counted in each ethnic group they identify with, so the sum of the various ethnic groups may not add up to the total.
B28: 5. Data in this table, including totals, has been rounded so the sum of individual counts may not add up to the total.
B29: 6. Figures for historical years may differ from those published in previous Student Loan Annual Reports due to subsequent data updates.

Sheet T2.1
A1: This table is produced online only
A2: index | B2: Trends in level of study among borrowers in 2024
B4: Qualification level | C4: Number of students
B5: Level 1-3 Certificates | C5: 4101
B6: Level 4 Certificates | C6: 6327
B7: Level 5-7 Diplomas | C7: 10179
B8: Level 7 Bachelors | C8: 78933
B9: Level 8 Honours/Postgrad cert/dip | C9: 13242
B10: Level 9 Masters | C10: 7722
B11: Level 10 Doctorates | C11: 1167
B12: Missing | C12: 108
B13: Total | C13: 121779
B16: Qualification | C16: 2006 | D16: 2007 | E16: 2008 | F16: 2009 | G16: 2010 | H16: 2011 | I16: 2012 | J16: 2013 | K16: 2014 | L16: 2015 | M16: 2016 | N16: 2017 | O16: 2018 | P16: 2019 | Q16: 2020 | R16: 2021 | S16: 2022 | T16: 2023 | U16: 2024
B17: Bachelors degrees or higher | C17: 0.561 | D17: 0.566 | E17: 0.601 | F17: 0.595 | G17: 0.606 | H17: 0.619 | I17: 0.644 | J17: 0.662 | K17: 0.68 | L17: 0.692 | M17: 0.71 | N17: 0.726 | O17: 0.751 | P17: 0.768 | Q17: 0.768 | R17: 0.8 | S17: 0.841 | T17: 0.8424056 | U17: 0.83
B18: Level 1–4 certificates | C18: 0.3 | D18: 0.266 | E18: 0.278 | F18: 0.258 | G18: 0.256 | H18: 0.248 | I18: 0.231 | J18: 0.223 | K18: 0.209 | L18: 0.199 | M18: 0.183 | N18: 0.171 | O18: 0.145 | P18: 0.131 | Q18: 0.132 | R18: 0.108 | S18: 0.078 | T18: 0.075423014 | U18: 0.086
B19: Source: Ministry of Social Development | Te Manatū Whakahiato ora and Ministry of Education | Te Tāhuhu o te Mātauranga
B20: This is a supporting table for Table 2, Part 1, Page 21 of the Student Loan Scheme Annual Report 2024/25
B21: Notes:
B22: 1. Students studying for more than one qualification are listed under the highest.
B23: 2. The counts of borrowers have been randomly rounded to base 3.

Sheet T2.2
A1: This table is produced online only
A2: index | B2: Trends in the age profile of borrowers
B4: Age groups | C4: 2000 | D4: 2001 | E4: 2002 | F4: 2003 | G4: 2004 | H4: 2005 | I4: 2006 | J4: 2007 | K4: 2008 | L4: 2009 | M4: 2010 | N4: 2011 | O4: 2012 | P4: 2013 | Q4: 2014 | R4: 2015 | S4: 2016 | T4: 2017 | U4: 2018 | V4: 2019 | W4: 2020 | X4: 2021 | Y4: 2022 | Z4: 2023 | AA4: 2024
B5: Under 18 | C5: 3206 | D5: 4143 | E5: 4473 | F5: 4246 | G5: 4148 | H5: 3942 | I5: 4147 | J5: 4333 | K5: 4033 | L5: 3978 | M5: 3059 | N5: 2602 | O5: 2347 | P5: 2031 | Q5: 1632 | R5: 1440 | S5: 1199 | T5: 1146 | U5: 574 | V5: 429 | W5: 411 | X5: 315 | Y5: 222 | Z5: 216 | AA5: 333
B6: 18 - 20 | C6: 37546 | D6: 41677 | E6: 41938 | F6: 42645 | G6: 42512 | H6: 42483 | I6: 47571 | J6: 51534 | K6: 54502 | L6: 60415 | M6: 63525 | N6: 62655 | O6: 62366 | P6: 61330 | Q6: 59989 | R6: 59121 | S6: 58365 | T6: 56279 | U6: 45876 | V6: 42056 | W6: 40269 | X6: 38046 | Y6: 33891 | Z6: 32244 | AA6: 34035
B7: 21 - 23 | C7: 30981 | D7: 34408 | E7: 35762 | F7: 37259 | G7: 37456 | H7: 37202 | I7: 39804 | J7: 41566 | K7: 43726 | L7: 48787 | M7: 53398 | N7: 53833 | O7: 54184 | P7: 52761 | Q7: 52042 | R7: 51244 | S7: 50204 | T7: 48818 | U7: 47718 | V7: 47210 | W7: 47154 | X7: 47730 | Y7: 43155 | Z7: 39510 | AA7: 38841
B8: 24 - 26 | C8: 13421 | D8: 15422 | E8: 15531 | F8: 16591 | G8: 16780 | H8: 16445 | I8: 17593 | J8: 18185 | K8: 18902 | L8: 21646 | M8: 23199 | N8: 22767 | O8: 22329 | P8: 21747 | Q8: 21459 | R8: 21478 | S8: 20658 | T8: 19615 | U8: 18252 | V8: 17780 | W8: 18378 | X8: 19467 | Y8: 17064 | Z8: 15375 | AA8: 15318
B9: 27 - 29 | C9: 9223 | D9: 10736 | E9: 10453 | F9: 11079 | G9: 10933 | H9: 10446 | I9: 10963 | J9: 11198 | K9: 11617 | L9: 13523 | M9: 15104 | N9: 14099 | O9: 13078 | P9: 12118 | Q9: 11933 | R9: 11903 | S9: 11650 | T9: 11206 | U9: 10857 | V9: 10511 | W9: 10674 | X9: 10743 | Y9: 9228 | Z9: 8142 | AA9: 7923
B10: 30 - 32 | C10: 7247 | D10: 8914 | E10: 9004 | F10: 9313 | G10: 9259 | H10: 8264 | I10: 8412 | J10: 8280 | K10: 8390 | L10: 9549 | M10: 10450 | N10: 10025 | O10: 9447 | P10: 8930 | Q10: 8437 | R10: 8046 | S10: 7790 | T10: 7606 | U10: 7250 | V10: 7476 | W10: 7758 | X10: 7593 | Y10: 6423 | Z10: 5859 | AA10: 5550
B11: 33 - 35 | C11: 6086 | D11: 7310 | E11: 7196 | F11: 7673 | G11: 7753 | H11: 7273 | I11: 7472 | J11: 7149 | K11: 6956 | L11: 7548 | M11: 7981 | N11: 7759 | O11: 7293 | P11: 6807 | Q11: 6500 | R11: 6234 | S11: 5929 | T11: 5764 | U11: 5562 | V11: 5456 | W11: 5829 | X11: 5664 | Y11: 4923 | Z11: 4845 | AA11: 4773
B12: 36 - 38 | C12: 5722 | D12: 6508 | E12: 6200 | F12: 6460 | G12: 6350 | H12: 6058 | I12: 6166 | J12: 6157 | K12: 6050 | L12: 6812 | M12: 7245 | N12: 6723 | O12: 6109 | P12: 5404 | Q12: 5123 | R12: 5066 | S12: 4698 | T12: 4552 | U12: 4295 | V12: 4345 | W12: 4635 | X12: 4464 | Y12: 3822 | Z12: 3732 | AA12: 3780
B13: 39 - 41 | C13: 4430 | D13: 5466 | E13: 5507 | F13: 5736 | G13: 5572 | H13: 5118 | I13: 5269 | J13: 5223 | K13: 5233 | L13: 5909 | M13: 6451 | N13: 6174 | O13: 5589 | P13: 4982 | Q13: 4528 | R13: 4299 | S13: 3949 | T13: 3621 | U13: 3542 | V13: 3468 | W13: 3588 | X13: 3495 | Y13: 3018 | Z13: 3003 | AA13: 3072
B14: 42 - 44 | C14: 3395 | D14: 4213 | E14: 4234 | F14: 4416 | G14: 4758 | H14: 4625 | I14: 4875 | J14: 4765 | K14: 4301 | L14: 4871 | M14: 5208 | N14: 5209 | O14: 4743 | P14: 4401 | Q14: 4070 | R14: 3810 | S14: 3406 | T14: 3088 | U14: 2835 | V14: 2793 | W14: 2877 | X14: 2655 | Y14: 2361 | Z14: 2235 | AA14: 2355
B15: 45 - 47 | C15: 2516 | D15: 3115 | E15: 3163 | F15: 3374 | G15: 3621 | H15: 3575 | I15: 3854 | J15: 4079 | K15: 4147 | L15: 4391 | M15: 4559 | N15: 4267 | O15: 3965 | P15: 3515 | Q15: 3388 | R15: 3257 | S15: 2944 | T15: 2773 | U15: 2609 | V15: 2409 | W15: 2304 | X15: 2157 | Y15: 1710 | Z15: 1812 | AA15: 1860
... B22: Total | C22: 128107 | D22: 148142 | E22: 150526 | F22: 156250 | G22: 157032 | H22: 154411 | I22: 167420 | J22: 173791 | K22: 178533 | L22: 198738 | M22: 212485 | N22: 207330 | O22: 201187 | P22: 192257 | Q22: 186477 | R22: 182537 | S22: 176938 | T22: 170037 | U22: 154608 | V22: 149229 | W22: 148905 | X22: 146994 | Y22: 129711 | Z22: 120918 | AA22: 121782
C25: 2006 | D25: 2007 | E25: 2008 | F25: 2009 | G25: 2010 | H25: 2011 | I25: 2012 | J25: 2013 | K25: 2014 | L25: 2015 | M25: 2016 | N25: 2017 | O25: 2018 | P25: 2019 | Q25: 2020 | R25: 2021 | S25: 2022 | T25: 2023 | U25: 2024
B26: Borrowers aged 26 or younger | C26: 109115 | D26: 115618 | E26: 121163 | F26: 134826 | G26: 143181 | H26: 141857 | I26: 141226 | J26: 137869 | K26: 135122 | L26: 133283 | M26: 130426 | N26: 125858 | O26: 112420 | P26: 107475 | Q26: 106212 | R26: 105558 | S26: 94332 | T26: 87345 | U26: 88527
B27: Percentage of borrowers aged 26 or younger | C27: 0.6517 | D27: 0.6653 | E27: 0.6787 | F27: 0.6784 | G27: 0.6738 | H27: 0.6842 | I27: 0.702 | J27: 0.7171 | K27: 0.7246 | L27: 0.7302 | M27: 0.7371 | N27: 0.7402 | O27: 0.7271 | P27: 0.7202 | Q27: 0.7133 | R27: 0.7181 | S27: 0.7272 | T27: 0.72234903 | U27: 0.72693009
B28: Source: Ministry of Social Development | Te Manatū Whakahiato ora
B29: This is a supporting table for Table 2, Part 1, Page 21 of the Student Loan Scheme Annual Report 2024/25
B30: Notes:
B31: 1. The counts of borrowers from 2020 onwards have been randomly rounded to base 3.

Sheet T3
A1: index
B2: Demographic characteristics of all active student loan borrowers
B4: All active borrowers | D4: 2023 | E4: 2024 | F4: 2023 - 2024 change
F5: No. | G5: %
B6: Total number | D6: 120918 | E6: 121779 | F6: 861 | G6: 0.007120528
B7: Gender | C7: Female | D7: 75855 | E7: 75435 | F7: -420 | G7: -0.0055368796
C8: Male | D8: 43866 | E8: 44844 | F8: 978 | G8: 0.022295172
C9: Another gender | D9: 1197 | E9: 1500 | F9: 303 | G9: 0.25313283
B10: Age | C10: Average age | D10: 26 | E10: 26
C11: Median age | D11: 22 | E11: 22
C12: 20 years and under | D12: 32460 | E12: 34368 | F12: 1908 | G12: 0.058780037
C13: 21-26 years | D13: 54885 | E13: 54159 | F13: -726 | G13: -0.013227658
C14: 27-50 years | D14: 31035 | E14: 30759 | F14: -276 | G14: -0.0088931851
C15: Over 50 years | D15: 2535 | E15: 2499 | F15: -36 | G15: -0.014201183
C16: 20 years and under (%) | D16: 26.845305 | E16: 28.220224
C17: 21-26 years (%) | D17: 45.391391 | E17: 44.470994
C18: 27-50 years (%) | D18: 25.666791 | E18: 25.256805
C19: Over 50 years (%) | D19: 2.0965141 | E19: 2.0519768
B20: Ethnic group | C20: European (%) | D20: 64.221208 | E20: 63.701532
C21: Māori (%) | D21: 16.377214 | E21: 17.147854
C22: Pacific (%) | D22: 9.0185084 | E22: 9.3930137
C23: Asian (%) | D23: 18.106485 | E23: 18.862393
C24: Other (%) | D24: 4.6767231 | E24: 4.8726413
B25: Source: Ministry of Social Development | Te Manatū Whakahiato ora
B26: Refer to Table 3, Part 1, Page 23 of the Student Loan Scheme Annual Report 2024/25
B27: Notes:
B28: 1. All percentages are of all active borrowers.
B29: 2. Active student loan borrowers are those who borrowed from the Scheme in the calendar year.
B30: 3. Borrowers can select more than one ethnic group, so the sum of all ethnic groups may not add up to 100 percent
B31: 4. ‘Other’ includes borrowers who identified themselves with three or more ethnic groups.
B32: 5. The counts of borrowers have been randomly rounded to base 3 and may not appear to add up to the total. The age-group counts are sums of individual age-level counts that are each randomly rounded to base 3. additional uncertainity in these numbers.

Sheet T3.1
A1: This table is produced online only
A2: index | B2: Demographic characteristics of new active student loan borrowers
B4: New active borrowers | D4: 2023 | E4: 2024 | F4: 2023 - 2024 change
F5: No. | G5: %
B6: Total number | D6: 27879 | E6: 31473 | F6: 3594 | G6: 0.12891424
B7: Gender | C7: Female | D7: 16233 | E7: 18288 | F7: 2055 | G7: 0.12659398
C8: Male | D8: 11286 | E8: 12777 | F8: 1491 | G8: 0.13211058
C9: Another gender | D9: 360 | E9: 408 | F9: 48 | G9: 0.13333333
B10: Age | C10: Average age | D10: 22 | E10: 22
C11: Median age | D11: 20 | E11: 20
C12: 20 years and under | D12: 18975 | E12: 21249 | F12: 2274 | G12: 0.1198419
C13: 21-26 years | D13: 5079 | E13: 6180 | F13: 1101 | G13: 0.21677496
C14: 27-50 years | D14: 3369 | E14: 3594 | F14: 225 | G14: 0.066785396
C15: Over 50 years | D15: 453 | E15: 459 | F15: 6 | G15: 0.013245033
C16: 20 years and under (%) | D16: 68.069307 | E16: 67.495712
C17: 21-26 years (%) | D17: 18.219974 | E17: 19.630265
C18: 27-50 years (%) | D18: 12.085665 | E18: 11.416047
C19: Over 50 years (%) | D19: 1.6250538 | E19: 1.457976
B20: Ethnic group | C20: European (%) | D20: 63.80071 | E20: 62.30102
C21: Māori (%) | D21: 14.860648 | E21: 16.261558
C22: Pacific people (%) | D22: 8.6086302 | E22: 9.4652559
C23: Asian (%) | D23: 21.241795 | E23: 20.84644
C24: Other (%) | D24: 4.5840956 | E24: 5.0996092
B25: Source: Ministry of Social Development | Te Manatū Whakahiato ora
B26: This is a supporting table for Table 3, Part 1, Page 23 of the Student Loan Scheme Annual Report 2024/25
B27: Notes:
B28: 1. New active borrowers are those entering the loan scheme for the first time ever.
B29: 2. Borrowers can select more than one ethnic group so the sum of all ethnic groups may not add to 100 percent.
B30: 3. Other includes borrowers who identified themselves with three or more ethnic groups.
B31: 4. All percentages are of total new active borrowers.
B32: 5. The counts of borrowers have been randomly rounded to base 3 and may not appear to add. The age group counts are sums of smaller age range counts which are each randomly rounded to base 3. This means there is additional uncertainity in the age range counts.

Sheet F6
A1: This table is produced online only
A2: index | B2: Number of students eligible to borrow, number borrowing and the uptake rate (full-time and part-time students)
B4: Year | C4: Full-time students eligible to borrow | D4: Full-time student borrowing uptake | E4: Full-time uptake rate | F4: Part-time students eligible to borrow | G4: Part-time student borrowing uptake | H4: Part-time uptake rate
B5: 2024 | C5: 178963 | D5: 104087 | E5: 0.58161184 | F5: 72344 | G5: 17699 | H5: 0.24465056
B6: 2023 | C6: 174077 | D6: 102098 | E6: 0.58651057 | F6: 72769 | G6: 18820 | H6: 0.25862661
B7: 2022 | C7: 181925 | D7: 109285 | E7: 0.60071458 | F7: 77431 | G7: 20423 | H7: 0.26375741
B8: 2021 | C8: 198252 | D8: 125459 | E8: 0.6328259 | F8: 77845 | G8: 21542 | H8: 0.2767294
B9: 2020 | C9: 181580 | D9: 127583 | E9: 0.70262694 | F9: 70252 | G9: 21318 | H9: 0.30345044
B10: 2019 | C10: 185467 | D10: 127921 | E10: 0.68972378 | F10: 64184 | G10: 21308 | H10: 0.33198305
B11: 2018 | C11: 186119 | D11: 133863 | E11: 0.71923339 | F11: 62707 | G11: 20745 | H11: 0.33082431
B12: 2017 | C12: 182438 | D12: 146550 | E12: 0.8032866 | F12: 64211 | G12: 23487 | H12: 0.36577845
B13: 2016 | C13: 188566 | D13: 152561 | E13: 0.8090589 | F13: 65171 | G13: 24377 | H13: 0.37404674
B14: 2015 | C14: 191102 | D14: 158417 | E14: 0.82896568 | F14: 64706 | G14: 24120 | H14: 0.37276296
B15: 2014 | C15: 194704 | D15: 162850 | E15: 0.83639781 | F15: 62969 | G15: 23627 | H15: 0.37521638
B16: 2013 | C16: 198543 | D16: 167666 | E16: 0.84448205 | F16: 61919 | G16: 24591 | H16: 0.39714789
... B29: 2000 | C29: 145308 | D29: 115839 | E29: 0.7971963 | F29: 48043 | G29: 12268 | H29: 0.25535458
B30: Source: Ministry of Social Development | Te Manatū Whakahiato ora and Ministry of Education | Te Tāhuhu o te Mātauranga
B31: Refer to Figure 6, Part 1, Page 24 of the Student Loan Scheme Annual Report 2024/25

Sheet F6.1
A1: This table is produced online only
A2: index | B2: Number of students eligible to borrow, number borrowing and the uptake rate
B4: Year | C4: Students eligible to borrow | D4: Borrowing uptake | E4: Uptake rate
B5: 2024 | C5: 251307 | D5: 121779 | E5: 0.4845826
B6: 2023 | C6: 246846 | D6: 120918 | E6: 0.48985197
B7: 2022 | C7: 259356 | D7: 129708 | E7: 0.50011567
B8: 2021 | C8: 276097 | D8: 146994 | E8: 0.53239984
B9: 2020 | C9: 251832 | D9: 148905 | E9: 0.59128705
B10: 2019 | C10: 249651 | D10: 149229 | E10: 0.59775046
B11: 2018 | C11: 248826 | D11: 154608 | E11: 0.62134986
B12: 2017 | C12: 246649 | D12: 170037 | E12: 0.68938856
B13: 2016 | C13: 253737 | D13: 176938 | E13: 0.69732834
B14: 2015 | C14: 255808 | D14: 182537 | E14: 0.71357033
B15: 2014 | C15: 257673 | D15: 186477 | E15: 0.72369631
B16: 2013 | C16: 260462 | D16: 192257 | E16: 0.73813838
... B29: 2000 | C29: 193351 | D29: 128107 | E29: 0.66256187
B30: Source: Ministry of Social Development | Te Manatū Whakahiato ora and Ministry of Education | Te Tāhuhu o te Mātauranga
B31: This is a supporting table for Figure 6, Part 1, Page 24 of the Student Loan Scheme Annual Report 2024/25
B32: Notes:
B33: 1. Overall uptake rate reflects the mix of full-time and part-time students.
B34: 2. The borrowing uptake figure from 2020 onwards has been randomly rounded to base 3.

Sheet F7
A1: This table is produced online only
A2: index | B2: Total amounts drawn by loan component
B4: Year | C4: Course Fees | D4: Living Costs | E4: Course-related Costs
B5: 2024 | C5: 8.1986718e+08 | D5: 5.8062025e+08 | E5: 64727155
B6: 2023 | C6: 7.9573776e+08 | D6: 5.2405128e+08 | E6: 64597147
B7: 2022 | C7: 802501741 | D7: 504397395 | E7: 72021979
B8: 2021 | C8: 874331603 | D8: 528015445 | E8: 87935086
B9: 2020 | C9: 870618548 | D9: 502229689 | E9: 178776774
B10: 2019 | C10: 866133763 | D10: 503732911 | E10: 93799443
B11: 2018 | C11: 845089395 | D11: 497611692 | E11: 100164688
B12: 2017 | C12: 1039317480 | D12: 409671677 | E12: 108884300
B13: 2016 | C13: 1060187209 | D13: 417357647 | E13: 113909186
B14: 2015 | C14: 1072996999 | D14: 420635872 | E14: 118075657
B15: 2014 | C15: 1052825086 | D15: 417261354 | E15: 120270874
B16: 2013 | C16: 1056461915 | D16: 408732069 | E16: 122112645
... B29: 2000 | C29: 468864957 | D29: 241736567 | E29: 65008000
B30: Source: Ministry of Social Development | Te Manatū Whakahiato ora
B31: Refer to Figure 7, Part 1, Page 25 of the Student Loan Scheme Annual Report 2024/25

Sheet F7.1
A1: This table is produced online only
A2: index | B2: Average and median amounts borrowed by component
C4: 2010 | D4: 2011 | E4: 2012 | F4: 2013 | G4: 2014 | H4: 2015 | I4: 2016 | J4: 2017 | K4: 2018 | L4: 2019 | M4: 2020 | N4: 2021 | O4: 2022 | P4: 2023 | Q4: 2024
C5: Course fees ($)
B6: Average | C6: 5076 | D6: 5441 | E6: 5571 | F6: 5850 | G6: 6074 | H6: 6323 | I6: 6453 | J6: 6558 | K6: 6662 | L6: 6853 | M6: 7013 | N6: 7233 | O6: 7378 | P6: 7638 | Q6: 7944
B7: Median | C7: 5084 | D7: 5422 | E7: 5666 | F7: 5925 | G7: 6189 | H7: 6426 | I7: 6610 | J7: 6758 | K7: 6790 | L7: 6977 | M7: 7186 | N7: 7361 | O7: 7517 | P7: 7751 | Q7: 8027
C8: Living costs ($)
B9: Average | C9: 3832 | D9: 3710 | E9: 3774 | F9: 3944 | G9: 4036 | H9: 4179 | I9: 4259 | J9: 4351 | K9: 5513 | L9: 5796 | M9: 5842 | N9: 6107 | O9: 6633 | P9: 7415 | Q9: 7979
B10: Median | C10: 3851 | D10: 3537 | E10: 3599 | F10: 3800 | G10: 3958 | H10: 4250 | I10: 4460 | J10: 4643 | K10: 5983 | L10: 6460 | M10: 6421 | N10: 7000 | O10: 7600 | P10: 8600 | Q10: 9333
C11: Course-related costs ($)
B12: Average | C12: 992 | D12: 990 | E12: 988 | F12: 988 | G12: 987 | H12: 988 | I12: 985 | J12: 982 | K12: 981 | L12: 981 | M12: 1816 | N12: 984 | O12: 977 | P12: 981 | Q12: 983
B13: Median | C13: 1000 | D13: 1000 | E13: 1000 | F13: 1000 | G13: 1000 | H13: 1000 | I13: 1000 | J13: 1000 | K13: 1000 | L13: 1000 | M13: 2000 | N13: 1000 | O13: 1000 | P13: 1000 | Q13: 1000
B14: Source: Ministry of Social Development | Te Manatū Whakahiato ora
B15: This is a supporting table for Figure 7, Part 1, Page 25 of the Student Loan Scheme Annual Report 2024/25

Sheet T4
A1: index
B2: Amount borrowed by loan component and sub-sector
B4: 2024 | C4: Sub-sector | D4: Number of borrowers | E4: Borrowing amount ($ million) | F4: Average borrowing ($)
B5: Course fees | C5: University | D5: 72351 | E5: 612.20126 | F5: 8461.5453
C6: Te Pūkenga | D6: 20589 | E6: 121.21979 | F6: 5887.5996
C7: Wānanga | D7: 1104 | E7: 5.0302448 | F7: 4556.3812
C8: PTE | D8: 9162 | E8: 81.315287 | F8: 8875.2769
C9: Total | D9: 103206 | E9: 819.8 | F9: 7943.3366
B10: Course-related costs | C10: University | D10: 42642 | E10: 41.659659 | F10: 976.96308
C11: Te Pūkenga | D11: 14916 | E11: 14.689697 | F11: 984.82816
C12: Wānanga | D12: 1539 | E12: 1.538307 | F12: 999.54971
C13: PTE | D13: 6747 | E13: 6.8394917 | F13: 1013.7086
C14: Total | D14: 65844 | E14: 64.7 | F14: 982.6256
B15: Living costs | C15: University | D15: 54209.235 | E15: 460.5832 | F15: 8496.3973
C16: Te Pūkenga | D16: 11733.484 | E16: 77.467248 | F16: 6602.2376
C17: Wānanga | D17: 822.03389 | E17: 5.9472911 | F17: 7234.849
C18: PTE | D18: 6003.2475 | E18: 36.602263 | F18: 6097.0771
C19: Total | D19: 72768 | E19: 580.6 | F19: 7978.7819
B20: Totals | C20: University | D20: 84423.239 | E20: 1114.4496 | F20: 13200.745
C21: Te Pūkenga | D21: 24016.775 | E21: 213.33432 | F21: 8882.7213
C22: Wānanga | D22: 1914.1415 | E22: 12.519047 | F22: 6540.2934
C23: PTE | D23: 11424.844 | E23: 124.69699 | F23: 10914.546
C24: Total | D24: 121779 | E24: 1465 | F24: 12029.989
B25: Source: Ministry of Social Development | Te Manatū Whakahiato ora
B26: Refer to Table 4, Part 1, Page 26 of the Student Loan Scheme Annual Report 2024/25
B27: Notes:
B28: 1. PTE stands for Private Training Establishment.
B29: 2. Borrowing amount does not include establishment fees.
B30: 3. Total is a count of unique individuals.
B40: Date | C40: Calendar_Year | D40: Tot_Bor_Dollar_Uni | E40: Tot_Bor_Dollar_Poly | F40: Tot_Bor_Dollar_Wan
B41: 44592 | C41: 2022 | D41: 69984872 | E41: 17237407 | F41: 152555.93
B42: 44620 | C42: 2022 | D42: 3.4705372e+08 | E42: 59978375 | F42: 974457.59
B43: 44651 | C43: 2022 | D43: 1.3734845e+08 | E43: 22917352 | F43: 2028245.5
B44: 44681 | C44: 2022 | D44: 85736423 | E44: 17041984 | F44: 2343377.1
B45: 44712 | C45: 2022 | D45: 56488207 | E45: 10923388 | F45: 1010031.3
B46: 44742 | C46: 2022 | D46: 60249082 | E46: 11263921 | F46: 1263592.5
B47: 44773 | C47: 2022 | D47: 76801089 | E47: 17019359 | F47: 798902.33
B48: 44804 | C48: 2022 | D48: 56780193 | E48: 13813831 | F48: 909978.07
B49: 44834 | C49: 2022 | D49: 48506073 | E49: 9583179.6 | F49: 726347.94
B50: 44865 | C50: 2022 | D50: 46113189 | E50: 9460148.1 | F50: 679676.73
...

Sheet T4.1
A1: This table is produced online only
A2: index | B2: Average course fees borrowed by sub-sector
C4: 2000 | D4: 2001 | E4: 2002 | F4: 2003 | G4: 2004 | H4: 2005 | I4: 2006 | J4: 2007 | K4: 2008 | L4: 2009 | M4: 2010 | N4: 2011 | O4: 2012 | P4: 2013 | Q4: 2014 | R4: 2015 | S4: 2016 | T4: 2017 | U4: 2018 | V4: 2019 | W4: 2020 | X4: 2021 | Y4: 2022 | Z4: 2023 | AA4: 2024
B5: Universities | C5: 3833 | D5: 3880 | E5: 3873 | F5: 3888 | G5: 4024 | H5: 4159 | I5: 4278 | J5: 4541 | K5: 4775 | L5: 4927 | M5: 5361 | N5: 5750 | O5: 6001 | P5: 6336 | Q5: 6569 | R5: 6847 | S5: 7088 | T5: 7083 | U5: 7233 | V5: 7441 | W5: 7623 | X5: 7688 | Y5: 7735 | Z5: 8094 | AA5: 8461.5453
B6: Institutes of technology and polytechnics | C6: 3193 | D6: 3268 | E6: 3597 | F6: 3955 | G6: 3523 | H6: 3708 | I6: 3713 | J6: 3873 | K6: 4030 | L6: 3901 | M6: 4162 | N6: 4562 | O6: 4344 | P6: 4431 | Q6: 4667 | R6: 4825 | S6: 4915 | T6: 5009 | U6: 5013 | V6: 5186 | W6: 5124 | X6: 5416 | Y6: 5664 | Z6: 5773 | AA6: 5887.5996
B7: Wānaga | C7: 3927 | D7: 4156 | E7: 4703 | F7: 3678 | G7: 3217 | H7: 3287 | I7: 3242 | J7: 3731 | K7: 3712 | L7: 3740 | M7: 4003 | N7: 4061 | O7: 3225 | P7: 3356 | Q7: 3267 | R7: 3475 | S7: 3476 | T7: 3645 | U7: 3932 | V7: 4007 | W7: 4077 | X7: 4271 | Y7: 4642 | Z7: 4400 | AA7: 4556.3812
B8: Private training establishments | C8: 5071 | D8: 5303 | E8: 5160 | F8: 5059 | G8: 5006 | H8: 5284 | I8: 5575 | J8: 5606 | K8: 5642 | L8: 5644 | M8: 5819 | N8: 6203 | O8: 6775 | P8: 7171 | Q8: 7213 | R8: 7513 | S8: 7557 | T8: 7696 | U8: 7565 | V8: 7518 | W8: 7932 | X8: 8338 | Y8: 8458 | Z8: 8552 | AA8: 8875.2769
B9: Source: Ministry of Social Development | Te Manatū Whakahiato ora
B10: This is a supporting table for Table 4, Part 1, Page 26 of the Student Loan Scheme Annual Report 2024/25
B11: Note:
B12: 1. Colleges of education are included with universities.
B13: 2. Borrowers are counted in each sub-sector they studied in during the year.
B14: 3. The counts of borrowers have been randomly rounded to base 3 and may not appear to add.

Sheet T4.2
A1: This table is produced online only
A2: index | B2: Student loan borrowers by level of qualification and average amount borrowed
C4: 2022 | E4: 2023 | G4: 2024
C5: Number of borrowers | D5: Average amount borrowerd ($) | E5: Number of borrowers | F5: Average amount borrowerd ($) | G5: Number of borrowers | H5: Average amount borrowerd ($)
B6: Doctorates | C6: 1254 | D6: 11106 | E6: 1203 | F6: 12193 | G6: 1167 | H6: 12860
B7: Masters, honours, postgraduates certificates and postgraduate diplomas | C7: 22524 | D7: 11765 | E7: 20739 | F7: 12609 | G7: 13242 | H7: 13429
B8: Bachelors degrees, graduate certificates and graduate diplomas | C8: 85317 | D8: 11337 | E8: 79920 | F8: 12152 | G8: 78933 | H8: 12818
B9: Level 5–7 certificates/diplomas | C9: 10461 | D9: 8212 | E9: 9861 | F9: 9194 | G9: 10179 | H9: 9817
B10: Level 1–4 certificates | C10: 10104 | D10: 5368 | E10: 9120 | F10: 5832 | G10: 10428 | H10: 6109
B11: Other | C11: 48 | D11: 4345 | E11: 78 | F11: 4053 | G11: 108 | H11: 4203
B12: Total borrower numbers | C12: 129711 | E12: 120918 | G12: 121779
B13: Average borrowed for all qualifications | D13: 10689 | F13: 11508 | H13: 12090
B14: Median borrowed for all qualifications | D14: 9255 | F14: 9858 | H14: 10337
B15: Source: Ministry of Social Development | Te Manatū Whakahiato ora
B16: This is a supporting table for Table 4, Part 1, Page 26 of the Student Loan Scheme Annual Report 2024/25
B17: Notes:
B18: 1. Borrowers are counted in the highest qualification level they studied in the year.
B19: 2. Amount borrowed includes establishment fees.
B20: 3. The counts of borrowers have been randomly rounded to base 3 and may not appear to add.

Sheet T4.3
A1: This table is produced online only
A2: index | B2: Number of students borrowing for living cost and receiving student allowances
C4: 2003 | D4: 2004 | E4: 2005 | F4: 2006 | G4: 2007 | H4: 2008 | I4: 2009 | J4: 2010 | K4: 2011 | L4: 2012 | M4: 2013 | N4: 2014 | O4: 2015 | P4: 2016 | Q4: 2017 | R4: 2018 | S4: 2019 | T4: 2020 | U4: 2021 | V4: 2022 | W4: 2023 | X4: 2024
B5: Student allowances only | C5: 42174 | D5: 40332 | E5: 38350 | F5: 39487 | G5: 40363 | H5: 42796 | I5: 52334 | J5: 61192 | K5: 60320 | L5: 57145 | M5: 47210 | N5: 44588 | O5: 43521 | P5: 41878 | Q5: 39289 | R5: 40633 | S5: 39710 | T5: 38748 | U5: 40389 | V5: 33690 | W5: 29325 | X5: 30063
B6: Student allowances and living costs | C6: 21862 | D6: 20494 | E6: 18456 | F6: 19944 | G6: 22116 | H6: 22906 | I6: 30299 | J6: 34753 | K6: 38951 | L6: 39763 | M6: 37889 | N6: 35084 | O6: 31530 | P6: 29150 | Q6: 26063 | R6: 24095 | S6: 22785 | T6: 22974 | U6: 22425 | V6: 17739 | W6: 16296 | X6: 17379
B7: Living costs only | C7: 57785 | D7: 57396 | E7: 55580 | F7: 61315 | G7: 65059 | H7: 65944 | I7: 66930 | J7: 66776 | K7: 62020 | L7: 61285 | M7: 65741 | N7: 68310 | O7: 69122 | P7: 68845 | Q7: 68098 | R7: 66172 | S7: 64122 | T7: 62988 | U7: 64041 | V7: 58308 | W7: 54375 | X7: 55389
B8: Source: Ministry of Social Development | Te Manatū Whakahiato ora and Ministry of Education | Te Tāhuhu o te Mātauranga
B9: This is a supporting table for Table 4, Part 1, Page 26 of the Student Loan Scheme Annual Report 2024/25
B10: Notes:
B11: 1. The counts of borrowers have been randomly rounded to base 3 and may not appear to add.

Sheet T4.4
A1: This table is produced online only
A2: index | B2: Student allowances compared with student loan living cost borrowing
B4: 2022 | C4: Number of students | D4: Average allowances ($) | E4: Average living costs loan ($) | F4: Average allowances and living costs loan ($)
B5: Student allowances only | C5: 30063 | D5: 14950 | F5: 14950
B6: Student allowances and living costs loan | C6: 17379 | D6: 12853 | E6: 3501 | F6: 16354
B7: Living costs loan only | C7: 55389 | E7: 9384 | F7: 9384
B8: Source: Ministry of Social Development | Te Manatū Whakahiato ora
B9: This is a supporting table for Table 4, Part 1, Page 26 of the Student Loan Scheme Annual Report 2024/25
B10: Notes:
B11: 1.The counts have been randomly rounded to base 3.

Sheet T4.5
A1: This table is produced online only
A2: index | B2: Amount borrowed by loan component and ethnicity
AB3: 2024
C4: Number of students | D4: Course fees | E4: Course related costs | F4: Living costs | G4: Administration fees | H4: Total amount borrowed | AB4: 147788886
B5: Māori | C5: 20880 | D5: 120935829 | E5: 13825939 | F5: 85181070 | G5: 1228800 | H5: 221171636 | AB5: 84564882
B6: Pacific people | C6: 11439 | D6: 71547146 | E6: 7660655 | F6: 43897342 | G6: 672480 | H6: 123777624 | AB6: 593846016
B7: European | C7: 77574 | D7: 518315994 | E7: 41121685 | F7: 420508446 | G7: 4555320 | H7: 984501445 | AB7: 152149149
B8: Asian | C8: 22974 | D8: 179291544 | E8: 9108567 | F8: 87573661 | G8: 1355040 | H8: 277328813 | AB8: 26648583
B9: Other | C9: 4392 | D9: 31542604 | E9: 2223681 | F9: 15247064 | G9: 259860 | H9: 49273208 | AB9: 70572399
B10: Source: Ministry of Social Development | Te Manatū Whakahiato ora | AB10: 38578187
B11: This is a supporting table for Table 4, Part 1, Page 26 of the Student Loan Scheme Annual Report 2024/25 | AB11: 376020102
B12: Notes: | AB12: 124684769
B13: 1.The counts have been randomly rounded to base 3. | AB13: 22131788
B14: 2. The ethnicity is reported using 'multiple response', meaning that people are counted in each broad ethnic group they identify with. | AB14: 2810351
AB15: 634557
AB16: 14635327
AB17: 1511997
AB18: 492837
AB19: 221171635
AB20: 123777623
AB21: 984501445
AB22: 277328813
AB23: 49273208

Sheet T4.6
A1: This table is produced online only
A2: index | B2: Amount borrowed by loan component, gender and ethnicity
B3: Gender | C3: Ethnicity | D3: 2000 | E3: 2001 | F3: 2002 | G3: 2003 | H3: 2004 | I3: 2005 | J3: 2006 | K3: 2007 | L3: 2008 | M3: 2009 | N3: 2010 | O3: 2011 | P3: 2012 | Q3: 2013 | R3: 2014 | S3: 2015 | T3: 2016 | U3: 2017 | V3: 2018 | W3: 2019 | X3: 2020 | Y3: 2021 | Z3: 2022 | AA3: 2023 | AB3: 2024
B4: Female | C4: Māori | D4: 66328073 | E4: 92068630 | F4: 88363444 | G4: 92421236 | H4: 97803982 | I4: 98941983 | J4: 105369277 | K4: 112713405 | L4: 118921172 | M4: 127539373 | N4: 152195831 | O4: 162951117 | P4: 161039331 | Q4: 165669150 | R4: 171934003 | S4: 171823437 | T4: 162471419 | U4: 158783629 | V4: 146935448 | W4: 146298802 | X4: 157865658 | Y4: 147725687 | Z4: 136547522 | AA4: 135957988 | AB4: 147788886
C5: Pacific people | D5: 28239428 | E5: 33391417 | F5: 36214496 | G5: 37979393 | H5: 40816265 | I5: 42565463 | J5: 47273315 | K5: 52862339 | L5: 57797768 | M5: 68302205 | N5: 77548524 | O5: 81920004 | P5: 86539915 | Q5: 91131825 | R5: 94262740 | S5: 100989177 | T5: 98200186 | U5: 97558160 | V5: 84484960 | W5: 85105384 | X5: 92756308 | Y5: 88335102 | Z5: 78841818 | AA5: 78328524 | AB5: 84564882
C6: European | D6: 223916071 | E6: 270955586 | F6: 282986665 | G6: 291759151 | H6: 309477515 | I6: 311664375 | J6: 343308780 | K6: 388727824 | L6: 420534884 | M6: 476503261 | N6: 544872916 | O6: 574178963 | P6: 585371110 | Q6: 602992855 | R6: 608115324 | S6: 619357793 | T6: 615644160 | U6: 600261735 | V6: 566356815 | W6: 565359682 | X6: 585411191 | Y6: 589905905 | Z6: 569038598 | AA6: 567328006 | AB6: 593846016
C7: Asian | D7: 30796750 | E7: 42148480 | F7: 50967238 | G7: 55005220 | H7: 62996044 | I7: 70273089 | J7: 88974067 | K7: 91946200 | L7: 94870386 | M7: 108309991 | N7: 123361767 | O7: 113895653 | P7: 111035083 | Q7: 114027558 | R7: 115601329 | S7: 119287934 | T7: 120859607 | U7: 123108200 | V7: 116177644 | W7: 121381062 | X7: 129320225 | Y7: 132194350 | Z7: 127823574 | AA7: 137972234 | AB7: 152149149
C8: Other | D8: 12373863 | E8: 16536298 | F8: 19374917 | G8: 19513719 | H8: 15087294 | I8: 13402222 | J8: 13957170 | K8: 14865182 | L8: 16475267 | M8: 18634963 | N8: 23511008 | O8: 24896061 | P8: 25329203 | Q8: 26706782 | R8: 26362875 | S8: 26691606 | T8: 25211145 | U8: 24774884 | V8: 25003721 | W8: 25470598 | X8: 27947590 | Y8: 27565384 | Z8: 25340195 | AA8: 25933832 | AB8: 26648583
B9: Male | C9: Māori | D9: 50340279 | E9: 66472465 | F9: 65410299 | G9: 64629300 | H9: 60274215 | I9: 58085063 | J9: 61120564 | K9: 65593900 | L9: 68896047 | M9: 82068309 | N9: 98994785 | O9: 107082407 | P9: 104243793 | Q9: 105156604 | R9: 102412291 | S9: 99792953 | T9: 93595470 | U9: 88846397 | V9: 76459793 | W9: 74123254 | X9: 76911413 | Y9: 68935953 | Z9: 61616741 | AA9: 64405595 | AB9: 70572399
C10: Pacific people | D10: 19782089 | E10: 25026530 | F10: 28176832 | G10: 28598670 | H10: 26206465 | I10: 26447816 | J10: 28560357 | K10: 31947594 | L10: 35128807 | M10: 41700060 | N10: 48068738 | O10: 51261762 | P10: 52464108 | Q10: 54542807 | R10: 53400187 | S10: 54206571 | T10: 52701984 | U10: 49270544 | V10: 41083228 | W10: 40303695 | X10: 42176490 | Y10: 38429881 | Z10: 32946739 | AA10: 34332812 | AB10: 38578187
C11: European | D11: 197060478 | E11: 240386151 | F11: 248969179 | G11: 252844974 | H11: 237658630 | I11: 233226621 | J11: 258173871 | K11: 289095308 | L11: 319125367 | M11: 365993131 | N11: 426383857 | O11: 453491601 | P11: 445533545 | Q11: 448972052 | R11: 446418603 | S11: 446820263 | T11: 442622822 | U11: 428741560 | V11: 391491272 | W11: 383680840 | X11: 386655476 | Y11: 366763575 | Z11: 339897058 | AA11: 350868302 | AB11: 376020102
C12: Asian | D12: 34441547 | E12: 44440993 | F12: 52008551 | G12: 55654442 | H12: 60444564 | I12: 66089696 | J12: 84196941 | K12: 88453052 | L12: 93713740 | M12: 107021663 | N12: 119311186 | O12: 109680409 | P12: 106712145 | Q12: 109751716 | R12: 109900429 | S12: 113565387 | T12: 113216092 | U12: 115127110 | V12: 107086151 | W12: 110531549 | X12: 115106525 | Y12: 110768793 | Z12: 105537009 | AA12: 113177559 | AB12: 124684769
C13: Other | D13: 15120176 | E13: 19482897 | F13: 22909177 | G13: 22721489 | H13: 16371031 | I13: 15229812 | J13: 15468415 | K13: 16433726 | L13: 18118795 | M13: 20946004 | N13: 26463495 | O13: 25760846 | P13: 24614229 | Q13: 25362077 | R13: 25481270 | S13: 24961611 | T13: 22609814 | U13: 22081299 | V13: 20170827 | W13: 20503561 | X13: 21232206 | Y13: 19110435 | Z13: 17920809 | AA13: 18893150 | AB13: 22131788
B14: Another gender | C14: Māori | D14: 0 | E14: 0 | F14: 0 | G14: 0 | H14: 0 | I14: 0 | J14: 0 | K14: 0 | L14: 0 | M14: 0 | N14: 0 | O14: 0 | P14: 0 | Q14: 0 | R14: 0 | S14: 0 | T14: 0 | U14: 0 | V14: 0 | W14: 58471 | X14: 731652 | Y14: 1016095 | Z14: 1342442 | AA14: 1984081 | AB14: 2810351
C15: Pacific people | D15: 0 | E15: 0 | F15: 0 | G15: 0 | H15: 0 | I15: 0 | J15: 0 | K15: 0 | L15: 0 | M15: 0 | N15: 0 | O15: 0 | P15: 0 | Q15: 0 | R15: 0 | S15: 0 | T15: 0 | U15: 0 | V15: 0 | W15: 0 | X15: 264373 | Y15: 302778 | Z15: 389303 | AA15: 489738 | AB15: 634557
C16: European | D16: 0 | E16: 0 | F16: 0 | G16: 0 | H16: 0 | I16: 0 | J16: 0 | K16: 0 | L16: 0 | M16: 0 | N16: 0 | O16: 0 | P16: 0 | Q16: 0 | R16: 0 | S16: 0 | T16: 0 | U16: 0 | V16: 0 | W16: 95566 | X16: 2535353 | Y16: 5492643 | Z16: 7894298 | AA16: 10922375 | AB16: 14635327
C17: Asian | D17: 0 | E17: 0 | F17: 0 | G17: 0 | H17: 0 | I17: 0 | J17: 0 | K17: 0 | L17: 0 | M17: 0 | N17: 0 | O17: 0 | P17: 0 | Q17: 0 | R17: 0 | S17: 0 | T17: 0 | U17: 0 | V17: 0 | W17: 2970 | X17: 209446 | Y17: 427720 | Z17: 760524 | AA17: 1159917 | AB17: 1511997
C18: Other | D18: 0 | E18: 0 | F18: 0 | G18: 0 | H18: 0 | I18: 0 | J18: 0 | K18: 0 | L18: 0 | M18: 0 | N18: 0 | O18: 0 | P18: 0 | Q18: 0 | R18: 0 | S18: 0 | T18: 0 | U18: 0 | V18: 0 | W18: 15021 | X18: 130275 | Y18: 230631 | Z18: 342697 | AA18: 475118 | AB18: 492837
B19: All | C19: Māori | D19: 116668350 | E19: 158541094 | F19: 153773744 | G19: 157050535 | H19: 158078197 | I19: 157027046 | J19: 166489840 | K19: 178307305 | L19: 187817220 | M19: 209607681 | N19: 251190616 | O19: 270033525 | P19: 265283123 | Q19: 270825755 | R19: 274346294 | S19: 271616391 | T19: 256066886 | U19: 247630026 | V19: 223395242 | W19: 220480528 | X19: 235495641 | Y19: 217674285 | Z19: 199498736 | AA19: 202319394 | AB19: 221171635
C20: Pacific people | D20: 48021516 | E20: 58417946 | F20: 64391327 | G20: 66578064 | H20: 67022730 | I20: 69013278 | J20: 75833671 | K20: 84809932 | L20: 92926576 | M20: 110002264 | N20: 125617261 | O20: 133181765 | P20: 139004023 | Q20: 145674633 | R20: 147662926 | S20: 155195749 | T20: 150902170 | U20: 146828703 | V20: 125568187 | W20: 125409079 | X20: 135197171 | Y20: 127067762 | Z20: 112177859 | AA20: 113151074 | AB20: 123777623
C21: European | D21: 420976548 | E21: 511341737 | F21: 531955845 | G21: 544604124 | H21: 547136145 | I21: 544890995 | J21: 601482652 | K21: 677823134 | L21: 739660250 | M21: 842496392 | N21: 971256772 | O21: 1027670564 | P21: 1030904653 | Q21: 1051964906 | R21: 1054533927 | S21: 1066178055 | T21: 1058266982 | U21: 1029003296 | V21: 957848084 | W21: 949136089 | X21: 974602018 | Y21: 962162123 | Z21: 916829956 | AA21: 929118683 | AB21: 984501445
C22: Asian | D22: 65022343 | E22: 86362842 | F22: 102697272 | G22: 110449822 | H22: 123209835 | I22: 136145488 | J22: 173012969 | K22: 180188636 | L22: 188322459 | M22: 215036963 | N22: 242210907 | O22: 223054437 | P22: 217205895 | Q22: 223202875 | R22: 224744124 | S22: 232022279 | T22: 233233624 | U22: 237378904 | V22: 222457293 | W22: 231053455 | X22: 243815976 | Y22: 242790589 | Z22: 233283849 | AA22: 251549200 | AB22: 277328813
C23: Other | D23: 27494037 | E23: 36019195 | F23: 42284094 | G23: 42235207 | H23: 31458325 | I23: 28632035 | J23: 29425587 | K23: 31298909 | L23: 34594061 | M23: 39580967 | N23: 49974504 | O23: 50656907 | P23: 49943430 | Q23: 52068858 | R23: 51844145 | S23: 51653218 | T23: 47820958 | U23: 46856183 | V23: 45174548 | W23: 45989181 | X23: 49310072 | Y23: 46906450 | Z23: 43603700 | AA23: 45302101 | AB23: 49273208
B24: Source: Ministry of Social Development | Te Manatū Whakahiato ora
B25: This is a supporting table for Table 4, Part 1, Page 26 of the Student Loan Scheme Annual Report 2024/25
B26: Notes:
B27: 1.The ethnicity is reported using 'multiple response', meaning that people are counted in each broad ethnic group they identify with.

Sheet F8
A1: This table is produced online only
A2: index | B2: Borrowing trends since 1992
C4: 1992 | D4: 1993 | E4: 1994 | F4: 1995 | G4: 1996 | H4: 1997 | I4: 1998 | J4: 1999 | K4: 2000 | L4: 2001 | M4: 2002 | N4: 2003 | O4: 2004 | P4: 2005 | Q4: 2006 | R4: 2007 | S4: 2008 | T4: 2009 | U4: 2010 | V4: 2011 | W4: 2012 | X4: 2013 | Y4: 2014 | Z4: 2015 | AA4: 2016 | AB4: 2017 | AC4: 2018 | AD4: 2019 | AE4: 2020 | AF4: 2021 | AG4: 2022 | AH4: 2023 | AI4: 2024
B5: Loan borrowings ($m) | C5: 160.4 | D5: 272.2 | E5: 341.9 | F5: 398.1 | G5: 443.6 | H5: 577.1 | I5: 653.6 | J5: 566.2 | K5: 782.1 | L5: 915.4 | M5: 940.4 | N5: 994.5 | O5: 982.7 | P5: 989.4 | Q5: 1106.7 | R5: 1180.3 | S5: 1241.3 | T5: 1389.3 | U5: 1550.7 | V5: 1582.6 | W5: 1573.7 | X5: 1598.7 | Y5: 1601.2 | Z5: 1622.4 | AA5: 1601.8 | AB5: 1567.8 | AC5: 1451.9 | AD5: 1472.4 | AE5: 1560.4 | AF5: 1498.8 | AG5: 1386.4662 | AH5: 1391 | AI5: 1472.3697
B6: Borrowers | C6: 44202 | D6: 68411 | E6: 79338 | F6: 89817 | G6: 95411 | H6: 105038 | I6: 114387 | J6: 115142 | K6: 128107 | L6: 148142 | M6: 150526 | N6: 156250 | O6: 157032 | P6: 154411 | Q6: 167420 | R6: 173791 | S6: 178533 | T6: 198738 | U6: 212485 | V6: 207330 | W6: 201187 | X6: 192257 | Y6: 186477 | Z6: 182537 | AA6: 176938 | AB6: 170037 | AC6: 154608 | AD6: 149229 | AE6: 148905 | AF6: 146994 | AG6: 129711 | AH6: 120918 | AI6: 121779
B7: Source: Ministry of Social Development | Te Manatū Whakahiato ora and Ministry of Education | Te Tāhuhu o te Mātauranga
B8: Refer to Figure 8, Part 1, Page 28 of the Student Loan Scheme Annual Report 2024/25
B9: Notes:
B10: 1. Borrowing includes establishment fees but does not take into account refunds to the Ministry of Social Development.
B11: 2. The counts of borrowers from 2020 onwards has been randomly rounded to base 3.

Sheet F8.1
A1: This table is produced online only
A2: index | B2: Number of total active borrowers and new active borrowers in each academic year
B4: Year | C4: Total active borrowers | D4: New active borrowers
B5: 2024 | C5: 121779 | D5: 31473
B6: 2023 | C6: 120918 | D6: 27879
B7: 2022 | C7: 129711 | D7: 28128
B8: 2021 | C8: 146994 | D8: 34152
B9: 2020 | C9: 148905 | D9: 35232
B10: 2019 | C10: 149229 | D10: 34212
B11: 2018 | C11: 154608 | D11: 30613
B12: 2017 | C12: 170037 | D12: 42136
B13: 2016 | C13: 176938 | D13: 44566
B14: 2015 | C14: 182537 | D14: 46721
B15: 2014 | C15: 186477 | D15: 49038
B16: 2013 | C16: 192257 | D16: 51732
... B37: 1992 | C37: 44202 | D37: 44259
B38: Source: Ministry of Social Development | Te Manatū Whakahiato ora and Tatauranga Aotearoa | Stats NZ IDI
B39: This is a supporting table for Figure 8, Part 1, Page 28 of the Student Loan Scheme Annual Report 2024/25
B40: Notes:
B41: 1.The apparent discrepancy in the 1992 figures is due to different data sources. The figures for all borrowers were provided by the Ministry of Education,
B42: while the figures for new borrowers were provided by Statistics New Zealand from the integrated dataset on student loans and allowances.
B43: 2.The counts of borrowers from 2020 onwards have been randomly rounded to base 3.

Sheet T5
A1: index
B2: Percentiles of leaving debt and repayment time for leavers in 2023 who completed a qualification by level of study and gender
D4: No. | E4: Leaving balance ($) | L4: Post Study Repayment Time (years)
D5: N | E5: 5th percentile | F5: 10th percentile | G5: 25th percentile | H5: 50th percentile (median) | I5: 75th percentile | J5: 90th percentile | K5: 95th percentile | L5: 5th percentile | M5: 10th percentile | N5: 25th percentile | O5: 50th percentile (median) | P5: 75th percentile | Q5: 90th percentile | R5: 95th percentile
B6: All | C6: Level 1-4 certificates | D6: 5601 | E6: 947 | F6: 1649 | G6: 4927 | H6: 11432 | I6: 23965 | J6: 41781 | K6: 55084 | L6: 0.42 | M6: 0.81 | N6: 2.36 | O6: 5.71 | P6: 13.51 | Q6: n | R6: n
C7: Level 5-7 certificates/diplomas | D7: 3453 | E7: 1758 | F7: 3294 | G7: 8105 | H7: 17659 | I7: 34601 | J7: 60223 | K7: 77678 | L7: 0.44 | M7: 0.91 | N7: 2.54 | O7: 5.7 | P7: 11.22 | Q7: 21.34 | R7: n
C8: Bachelors and graduate certificates / diplomas | D8: 15216 | E8: 7620 | F8: 11920 | G8: 19328 | H8: 33908 | I8: 49995 | J8: 70956 | K8: 91614 | L8: 1.07 | M8: 2.08 | N8: 3.82 | O8: 6.55 | P8: 10.48 | Q8: 16.23 | R8: 22.59
C9: Postgraduate | D9: 5565 | E9: 5566 | F9: 10237 | G9: 23502 | H9: 41666 | I9: 63597 | J9: 81202 | K9: 92907 | L9: 0.57 | M9: 1.21 | N9: 3.25 | O9: 6.15 | P9: 9.94 | Q9: 15.21 | R9: 22.05
B10: Male | C10: Level 1-4 certificates | D10: 1761 | E10: 798 | F10: 1136 | G10: 4000 | H10: 9700 | I10: 20262 | J10: 38109 | K10: 52343 | L10: 0.37 | M10: 0.72 | N10: 1.88 | O10: 4.72 | P10: 11.12 | Q10: n | R10: n
C11: Level 5-7 diplomas | D11: 1203 | E11: 1820 | F11: 3274 | G11: 8279 | H11: 18508 | I11: 38042 | J11: 69883 | K11: 85867 | L11: 0.43 | M11: 0.91 | N11: 2.43 | O11: 5.67 | P11: 10.86 | Q11: 21.22 | R11: n
C12: Bachelors and graduate certificates / diplomas | D12: 5046 | E12: 8039 | F12: 12502 | G12: 19780 | H12: 34677 | I12: 51913 | J12: 75122 | K12: 100286 | L12: 1.11 | M12: 2.13 | N12: 3.71 | O12: 6.31 | P12: 10.16 | Q12: 15.7 | R12: 21.56
C13: Postgraduate | D13: 2040 | E13: 9292 | F13: 15025 | G13: 28298 | H13: 46606 | I13: 66316 | J13: 83317 | K13: 93236 | L13: 0.79 | M13: 1.8 | N13: 3.74 | O13: 6.26 | P13: 9.9 | Q13: 14.89 | R13: 20.82
B14: Female | C14: Level 1-4 certificates | D14: 3804 | E14: 1009 | F14: 1936 | G14: 5433 | H14: 12363 | I14: 25402 | J14: 43024 | K14: 56400 | L14: 0.44 | M14: 0.85 | N14: 2.59 | O14: 6.19 | P14: 14.76 | Q14: n | R14: n
C15: Level 5-7 diplomas | D15: 2211 | E15: 1701 | F15: 3294 | G15: 7931 | H15: 17078 | I15: 33023 | J15: 54175 | K15: 71928 | L15: 0.44 | M15: 0.92 | N15: 2.62 | O15: 5.71 | P15: 11.42 | Q15: 22.13 | R15: n
C16: Bachelors and graduate certificates / diplomas | D16: 10101 | E16: 7358 | F16: 11544 | G16: 19199 | H16: 33527 | I16: 49163 | J16: 69271 | K16: 88879 | L16: 1.04 | M16: 2.05 | N16: 3.86 | O16: 6.65 | P16: 10.68 | Q16: 16.39 | R16: 23.5
C17: Postgraduate | D17: 3483 | E17: 4561 | F17: 8432 | G17: 20677 | H17: 38552 | I17: 61619 | J17: 79222 | K17: 92272 | L17: 0.47 | M17: 0.99 | N17: 2.88 | O17: 6.05 | P17: 9.97 | Q17: 15.32 | R17: 22.79
B18: Source: Tatauranga Aotearoa | Statistics New Zealand IDI and Ministry of Education | Te Tāhuhu o te Mātauranga Student Loans Integrated Model
B19: Refer to Table 5, Part 1, Page 30 of the Student Loan Scheme Annual Report 2024/25
B20: Notes:
B21: 1. Counts have been randomly rounded to base three.
B22: 2. Shown are percentiles of leaving debt. Also shown are percentiles of post-study repayment time; a mixture of real experience and modelling. Note that these percentiles have been independantly determined.
B23: 3. The population for this table is composed of those who studied in 2023, but did not study in 2024, and who completed a qualification at the level shown in 2023. People who graduate but continue to study are excluded from this table.
B24: 4. 'n' indicates that the repayment percentile is not seen to occur in modelling over 40 years
B25: 5. Students who identify as ‘another gender’ are excluded as they account for 1 percent of the data

Sheet T6
A1: index
B2: Median leaving debt and repayment time by ethnicity and level of study for leavers in 2023
C4: Certificates 1-4 | F4: Certificates/diplomas 5-7 | I4: Bachelors | L4: Postgraduate | O4: All Levels
C5: No. | D5: Median repayment time (years) | E5: Median leaving debt ($) | F5: No. | G5: Median repayment time (years) | H5: Median leaving debt ($) | I5: No. | J5: Median repayment time (years) | K5: Median leaving debt ($) | L5: No. | M5: Median repayment time (years) | N5: Median leaving debt ($) | O5: No. | P5: Median repayment time (years) | Q5: Median leaving debt ($)
B6: By Ethnicity
B7: European | C7: 6960 | D7: 5.88 | E7: 12129 | F7: 4185 | G7: 5.81 | H7: 17675 | I7: 16317 | J7: 6.32 | K7: 30722 | L7: 6174 | M7: 6.38 | N7: 42314 | O7: 33639 | P7: 6.21 | Q7: 26243
B8: Māori | C8: 5409 | D8: 8.21 | E8: 11204 | F8: 1632 | G8: 6.19 | H8: 14446 | I8: 3864 | J8: 6.85 | K8: 28087 | L8: 1023 | M8: 6.34 | N8: 36880 | O8: 11928 | P8: 7.14 | Q8: 17869
B9: Pacific people | C9: 1632 | D9: 6.69 | E9: 10514 | F9: 756 | G9: 6.24 | H9: 14891 | I9: 2817 | J9: 6.84 | K9: 26942 | L9: 714 | M9: 6.3 | N9: 38133 | O9: 5922 | P9: 6.65 | Q9: 20883
