Workbook

Sheet Contents
A2: 14
A10: Name suppression
A11: The workbook includes information on finalised charges and people with finalised charges for offences where name suppression (including automatic name suppression) was applied for the person charged. This includes finalised charges with: - both interim and final name suppression - interim suppression only - final suppression only. Charges where name suppression is applied for people other than the person charged, are not included. Information for children and young people with finalised charges in the Youth Court is also not included in any breakdowns, as the Youth Court is closed to the public therefore suppression is implied.
A13: Contents: | B13: ='1a.Charges by suppression type'!A1 -> Table 1a: Total number and percentage of finalised charges, by whether name suppression was granted, 2015/2016 - 2024/2025
B14: ='1b.Charges by outcome'!A1 -> Table 1b: Number and percentage of finalised charges where name suppression was granted, by suppression type and charge outcome, 2015/2016 - 2024/2025
B15: ='1c.Charges by offence'!A1 -> Table 1c: Number and percentage of finalised charges where name suppression was granted, by suppression type and offence type, 2015/2016 - 2024/2025
B17: ='2a.People charged by outcome'!A1 -> Table 2a: Number and percentage of people granted name suppression, by suppression type and charge outcome type, 2015/2016 - 2024/2025
B18: ='2b.People charged by offence'!A1 -> Table 2b: Number and percentage of people granted name suppression, by suppression type and offence type, 2015/2016 - 2024/2025
B19: ='2c.People charged demographics'!A1 -> Table 2c: Number and percentage of people granted name suppression, by suppression type, gender, ethnicity and age group, 2015/2016 - 2024/2025
B21: ='3a.People convicted by sentence'!A1 -> Table 3a: Number and percentage of convicted people where name suppression was granted, by suppression type and most serious sentence, 2015/2016 - 2024/2025
B22: ='3b.People convictd demographics'!A1 -> Table 3b: Number and percentage of convicted people where name suppression was granted, by suppression type, gender, ethnicity and age group, 2015/2016 - 2024/2025
B24: ='Definitions and data notes'!A1 -> Definitions and data notes
A26: If this information does not answer your query you may wish to request specific information via an Official Information Act request. Information on this process is available on the Ministry website: https://www.justice.govt.nz/about/official-information-act-requests/
A28: Published 16 September 2025

Sheet 1a.Charges by suppression type
A1: Table 1a: Total number and percentage of finalised charges, by whether name suppression was granted, 2015/2016 - 2024/2025
A2: For more information on how to interpret these figures, please read the definitions and data notes
A3: Back to contents page
A4: Example interpretation: In 2024/2025, 3% of finalised charges had interim name suppression only (7,806 charges).
B5: Number of charges | L5: Percentage of total
A6: Name suppression type | B6: 2015/2016 | C6: 2016/2017 | D6: 2017/2018 | E6: 2018/2019 | F6: 2019/2020 | G6: 2020/2021 | H6: 2021/2022 | I6: 2022/2023 | J6: 2023/2024 | K6: 2024/2025 | L6: 2015/2016 | M6: 2016/2017 | N6: 2017/2018 | O6: 2018/2019 | P6: 2019/2020 | Q6: 2020/2021 | R6: 2021/2022 | S6: 2022/2023 | T6: 2023/2024 | U6: 2024/2025
A7: Interim and final | B7: 1359 | C7: 1255 | D7: 1375 | E7: 1126 | F7: 1276 | G7: 1322 | H7: 1329 | I7: 1321 | J7: 1470 | K7: 1515 | L7: 0.01 | M7: 0.01 | N7: 0.01 | O7: 0.01 | P7: 0.01 | Q7: 0.01 | R7: 0.01 | S7: 0.01 | T7: 0.01 | U7: 0.01
A8: Interim only | B8: 4927 | C8: 4228 | D8: 4777 | E8: 4060 | F8: 4652 | G8: 4521 | H8: 4799 | I8: 6609 | J8: 7456 | K8: 7806 | L8: 0.02 | M8: 0.02 | N8: 0.02 | O8: 0.02 | P8: 0.02 | Q8: 0.02 | R8: 0.03 | S8: 0.03 | T8: 0.03 | U8: 0.03
A9: Final only | B9: 522 | C9: 433 | D9: 575 | E9: 251 | F9: 538 | G9: 526 | H9: 392 | I9: 335 | J9: 379 | K9: 562 | L9: <1% | M9: <1% | N9: <1% | O9: <1% | P9: <1% | Q9: <1% | R9: <1% | S9: <1% | T9: <1% | U9: <1%
A10: Youth Court | B10: 8562 | C10: 9231 | D10: 8441 | E10: 7160 | F10: 7389 | G10: 7559 | H10: 6848 | I10: 8864 | J10: 11650 | K10: 10534 | L10: 0.04 | M10: 0.04 | N10: 0.04 | O10: 0.03 | P10: 0.04 | Q10: 0.04 | R10: 0.04 | S10: 0.05 | T10: 0.05 | U10: 0.05
A11: No name suppression | B11: 204815 | C11: 210784 | D11: 206589 | E11: 200275 | F11: 190711 | G11: 198136 | H11: 154820 | I11: 175184 | J11: 195578 | K11: 205900 | L11: 0.93 | M11: 0.93 | N11: 0.93 | O11: 0.94 | P11: 0.93 | Q11: 0.93 | R11: 0.92 | S11: 0.91 | T11: 0.9 | U11: 0.91
A12: Total charges | B12: 220185 | C12: 225931 | D12: 221757 | E12: 212872 | F12: 204566 | G12: 212064 | H12: 168188 | I12: 192313 | J12: 216533 | K12: 226317 | L12: 1 | M12: 1 | N12: 1 | O12: 1 | P12: 1 | Q12: 1 | R12: 1 | S12: 1 | T12: 1 | U12: 1

Sheet 1b.Charges by outcome
A1: Table 1b: Number and percentage of finalised charges where name suppression was granted, by suppression type and charge outcome, 2015/2016 - 2024/2025
A2: Total name suppression includes finalised charges where both interim and final suppression, interim suppression only and final suppression only were granted. Charges finalised in the Youth Court are not included as the Youth Court is closed to the public therefore suppression is implied.
A3: For more information on how to interpret these figures, please read the definitions and data notes
A4: Back to contents page
A5: Example interpretation: In 2024/2025, 45% of finalised charges with name suppression were convicted (4,495 charges).
C6: Number of charges | M6: Percentage of suppression type total
A7: Name suppression type | B7: Charge outcome | C7: 2015/2016 | D7: 2016/2017 | E7: 2017/2018 | F7: 2018/2019 | G7: 2019/2020 | H7: 2020/2021 | I7: 2021/2022 | J7: 2022/2023 | K7: 2023/2024 | L7: 2024/2025 | M7: 2015/2016 | N7: 2016/2017 | O7: 2017/2018 | P7: 2018/2019 | Q7: 2019/2020 | R7: 2020/2021 | S7: 2021/2022 | T7: 2022/2023 | U7: 2023/2024 | V7: 2024/2025
A8: Total name suppression | B8: Convicted | C8: 3289 | D8: 3204 | E8: 3420 | F8: 2994 | G8: 3333 | H8: 3096 | I8: 3129 | J8: 3977 | K8: 4321 | L8: 4495 | M8: 0.48 | N8: 0.54 | O8: 0.51 | P8: 0.55 | Q8: 0.52 | R8: 0.49 | S8: 0.48 | T8: 0.48 | U8: 0.46 | V8: 0.45
B9: Other proved | C9: 211 | D9: 200 | E9: 206 | F9: 269 | G9: 219 | H9: 234 | I9: 186 | J9: 274 | K9: 324 | L9: 388 | M9: 0.03 | N9: 0.03 | O9: 0.03 | P9: 0.05 | Q9: 0.03 | R9: 0.04 | S9: 0.03 | T9: 0.03 | U9: 0.03 | V9: 0.04
B10: Not proved | C10: 3174 | D10: 2368 | E10: 2961 | F10: 2089 | G10: 2791 | H10: 2836 | I10: 2969 | J10: 3712 | K10: 4265 | L10: 4737 | M10: 0.47 | N10: 0.4 | O10: 0.44 | P10: 0.38 | Q10: 0.43 | R10: 0.45 | S10: 0.46 | T10: 0.45 | U10: 0.46 | V10: 0.48
B11: Other | C11: 134 | D11: 144 | E11: 140 | F11: 85 | G11: 123 | H11: 203 | I11: 236 | J11: 302 | K11: 395 | L11: 263 | M11: 0.02 | N11: 0.02 | O11: 0.02 | P11: 0.02 | Q11: 0.02 | R11: 0.03 | S11: 0.04 | T11: 0.04 | U11: 0.04 | V11: 0.03
B12: Total | C12: 6808 | D12: 5916 | E12: 6727 | F12: 5437 | G12: 6466 | H12: 6369 | I12: 6520 | J12: 8265 | K12: 9305 | L12: 9883 | M12: 1 | N12: 1 | O12: 1 | P12: 1 | Q12: 1 | R12: 1 | S12: 1 | T12: 1 | U12: 1 | V12: 1
A13: Interim and final | B13: Convicted | C13: 605 | D13: 621 | E13: 727 | F13: 618 | G13: 684 | H13: 569 | I13: 542 | J13: 486 | K13: 585 | L13: 600 | M13: 0.45 | N13: 0.49 | O13: 0.53 | P13: 0.55 | Q13: 0.54 | R13: 0.43 | S13: 0.41 | T13: 0.37 | U13: 0.4 | V13: 0.4
B14: Other proved | C14: 115 | D14: 74 | E14: 38 | F14: 77 | G14: 83 | H14: 80 | I14: 81 | J14: 147 | K14: 126 | L14: 123 | M14: 0.08 | N14: 0.06 | O14: 0.03 | P14: 0.07 | Q14: 0.07 | R14: 0.06 | S14: 0.06 | T14: 0.11 | U14: 0.09 | V14: 0.08
B15: Not proved | C15: 575 | D15: 503 | E15: 536 | F15: 423 | G15: 478 | H15: 602 | I15: 599 | J15: 588 | K15: 678 | L15: 720 | M15: 0.42 | N15: 0.4 | O15: 0.39 | P15: 0.38 | Q15: 0.37 | R15: 0.46 | S15: 0.45 | T15: 0.45 | U15: 0.46 | V15: 0.48
B16: Other | C16: 64 | D16: 57 | E16: 74 | F16: 8 | G16: 31 | H16: 71 | I16: 107 | J16: 100 | K16: 81 | L16: 72 | M16: 0.05 | N16: 0.05 | O16: 0.05 | P16: 0.01 | Q16: 0.02 | R16: 0.05 | S16: 0.08 | T16: 0.08 | U16: 0.06 | V16: 0.05
B17: Total | C17: 1359 | D17: 1255 | E17: 1375 | F17: 1126 | G17: 1276 | H17: 1322 | I17: 1329 | J17: 1321 | K17: 1470 | L17: 1515 | M17: 1 | N17: 1 | O17: 1 | P17: 1 | Q17: 1 | R17: 1 | S17: 1 | T17: 1 | U17: 1 | V17: 1
A18: Interim only | B18: Convicted | C18: 2422 | D18: 2310 | E18: 2343 | F18: 2249 | G18: 2419 | H18: 2187 | I18: 2396 | J18: 3348 | K18: 3524 | L18: 3626 | M18: 0.49 | N18: 0.55 | O18: 0.49 | P18: 0.55 | Q18: 0.52 | R18: 0.48 | S18: 0.5 | T18: 0.51 | U18: 0.47 | V18: 0.46
B19: Other proved | C19: 72 | D19: 95 | E19: 92 | F19: 144 | G19: 99 | H19: 104 | I19: 86 | J19: 100 | K19: 166 | L19: 232 | M19: 0.01 | N19: 0.02 | O19: 0.02 | P19: 0.04 | Q19: 0.02 | R19: 0.02 | S19: 0.02 | T19: 0.02 | U19: 0.02 | V19: 0.03
B20: Not proved | C20: 2363 | D20: 1755 | E20: 2294 | F20: 1598 | G20: 2056 | H20: 2121 | I20: 2205 | J20: 2989 | K20: 3462 | L20: 3773 | M20: 0.48 | N20: 0.42 | O20: 0.48 | P20: 0.39 | Q20: 0.44 | R20: 0.47 | S20: 0.46 | T20: 0.45 | U20: 0.46 | V20: 0.48
B21: Other | C21: 70 | D21: 68 | E21: 48 | F21: 69 | G21: 78 | H21: 109 | I21: 112 | J21: 172 | K21: 304 | L21: 175 | M21: 0.01 | N21: 0.02 | O21: 0.01 | P21: 0.02 | Q21: 0.02 | R21: 0.02 | S21: 0.02 | T21: 0.03 | U21: 0.04 | V21: 0.02
B22: Total | C22: 4927 | D22: 4228 | E22: 4777 | F22: 4060 | G22: 4652 | H22: 4521 | I22: 4799 | J22: 6609 | K22: 7456 | L22: 7806 | M22: 1 | N22: 1 | O22: 1 | P22: 1 | Q22: 1 | R22: 1 | S22: 1 | T22: 1 | U22: 1 | V22: 1
A23: Final only | B23: Convicted | C23: 262 | D23: 273 | E23: 350 | F23: 127 | G23: 230 | H23: 340 | I23: 191 | J23: 143 | K23: 212 | L23: 269 | M23: 0.5 | N23: 0.63 | O23: 0.61 | P23: 0.51 | Q23: 0.43 | R23: 0.65 | S23: 0.49 | T23: 0.43 | U23: 0.56 | V23: 0.48
B24: Other proved | C24: 24 | D24: 31 | E24: 76 | F24: 48 | G24: 37 | H24: 50 | I24: 19 | J24: 27 | K24: 32 | L24: 33 | M24: 0.05 | N24: 0.07 | O24: 0.13 | P24: 0.19 | Q24: 0.07 | R24: 0.1 | S24: 0.05 | T24: 0.08 | U24: 0.08 | V24: 0.06
B25: Not proved | C25: 236 | D25: 110 | E25: 131 | F25: 68 | G25: 257 | H25: 113 | I25: 165 | J25: 135 | K25: 125 | L25: 244 | M25: 0.45 | N25: 0.25 | O25: 0.23 | P25: 0.27 | Q25: 0.48 | R25: 0.21 | S25: 0.42 | T25: 0.4 | U25: 0.33 | V25: 0.43
B26: Other | C26: 0 | D26: 19 | E26: 18 | F26: 8 | G26: 14 | H26: 23 | I26: 17 | J26: 30 | K26: 10 | L26: 16 | M26: 0 | N26: 0.04 | O26: 0.03 | P26: 0.03 | Q26: 0.03 | R26: 0.04 | S26: 0.04 | T26: 0.09 | U26: 0.03 | V26: 0.03
B27: Total | C27: 522 | D27: 433 | E27: 575 | F27: 251 | G27: 538 | H27: 526 | I27: 392 | J27: 335 | K27: 379 | L27: 562 | M27: 1 | N27: 1 | O27: 1 | P27: 1 | Q27: 1 | R27: 1 | S27: 1 | T27: 1 | U27: 1 | V27: 1

Sheet 1c.Charges by offence
A1: Table 1c: Number and percentage of finalised charges where name suppression was granted, by suppression type and offence type, 2015/2016 - 2024/2025
A2: Total name suppression includes finalised charges where both interim and final suppression, interim suppression only and final suppression only were granted. Charges finalised in the Youth Court are not included as the Youth Court is closed to the public therefore suppression is implied.
A3: For more information on how to interpret these figures, please read the definitions and data notes
A4: Back to contents page
A5: Example interpretation: In 2024/2025, 40% of finalised charges where name suppression was granted were for sexual offences (3,986 charges).
A6: Choose which types to show or hide | C6: Number of charges | M6: Percentage of suppression type total
A7: Name suppression type | B7: Offence type (ANZSOC division) | C7: 2015/2016 | D7: 2016/2017 | E7: 2017/2018 | F7: 2018/2019 | G7: 2019/2020 | H7: 2020/2021 | I7: 2021/2022 | J7: 2022/2023 | K7: 2023/2024 | L7: 2024/2025 | M7: 2015/2016 | N7: 2016/2017 | O7: 2017/2018 | P7: 2018/2019 | Q7: 2019/2020 | R7: 2020/2021 | S7: 2021/2022 | T7: 2022/2023 | U7: 2023/2024 | V7: 2024/2025
A8: Total name suppression | B8: 01: Homicide | C8: 85 | D8: 78 | E8: 65 | F8: 62 | G8: 86 | H8: 129 | I8: 129 | J8: 126 | K8: 152 | L8: 165 | M8: 0.01 | N8: 0.01 | O8: 0.01 | P8: 0.01 | Q8: 0.01 | R8: 0.02 | S8: 0.02 | T8: 0.02 | U8: 0.02 | V8: 0.02
A9: =A8 -> Total name suppression | B9: 02: Assault | C9: 936 | D9: 898 | E9: 803 | F9: 488 | G9: 713 | H9: 885 | I9: 857 | J9: 965 | K9: 1044 | L9: 1349 | M9: 0.14 | N9: 0.15 | O9: 0.12 | P9: 0.09 | Q9: 0.11 | R9: 0.14 | S9: 0.13 | T9: 0.12 | U9: 0.11 | V9: 0.14
A10: =A9 -> Total name suppression | B10: 03: Sexual offences | C10: 2638 | D10: 1892 | E10: 2621 | F10: 2140 | G10: 2259 | H10: 2687 | I10: 2710 | J10: 3206 | K10: 3479 | L10: 3986 | M10: 0.39 | N10: 0.32 | O10: 0.39 | P10: 0.39 | Q10: 0.35 | R10: 0.42 | S10: 0.42 | T10: 0.39 | U10: 0.37 | V10: 0.4
A11: =A10 -> Total name suppression | B11: 04: Harm or endanger persons | C11: 226 | D11: 242 | E11: 241 | F11: 240 | G11: 230 | H11: 328 | I11: 318 | J11: 370 | K11: 320 | L11: 354 | M11: 0.03 | N11: 0.04 | O11: 0.04 | P11: 0.04 | Q11: 0.04 | R11: 0.05 | S11: 0.05 | T11: 0.04 | U11: 0.03 | V11: 0.04
A12: =A11 -> Total name suppression | B12: 05: Robbery, blackmail, and extortion | C12: 41 | D12: 46 | E12: 68 | F12: 57 | G12: 49 | H12: 55 | I12: 53 | J12: 83 | K12: 101 | L12: 70 | M12: 0.01 | N12: 0.01 | O12: 0.01 | P12: 0.01 | Q12: 0.01 | R12: 0.01 | S12: 0.01 | T12: 0.01 | U12: 0.01 | V12: 0.01
A13: =A12 -> Total name suppression | B13: 06: Burglary | C13: 60 | D13: 90 | E13: 71 | F13: 64 | G13: 63 | H13: 69 | I13: 83 | J13: 108 | K13: 237 | L13: 101 | M13: 0.01 | N13: 0.02 | O13: 0.01 | P13: 0.01 | Q13: 0.01 | R13: 0.01 | S13: 0.01 | T13: 0.01 | U13: 0.03 | V13: 0.01
A14: =A13 -> Total name suppression | B14: 07: Theft | C14: 91 | D14: 160 | E14: 184 | F14: 137 | G14: 111 | H14: 112 | I14: 128 | J14: 188 | K14: 321 | L14: 257 | M14: 0.01 | N14: 0.03 | O14: 0.03 | P14: 0.03 | Q14: 0.02 | R14: 0.02 | S14: 0.02 | T14: 0.02 | U14: 0.03 | V14: 0.03
A15: =A14 -> Total name suppression | B15: 08: Fraud and related offences | C15: 919 | D15: 1143 | E15: 1046 | F15: 941 | G15: 973 | H15: 571 | I15: 541 | J15: 974 | K15: 703 | L15: 1096 | M15: 0.13 | N15: 0.19 | O15: 0.16 | P15: 0.17 | Q15: 0.15 | R15: 0.09 | S15: 0.08 | T15: 0.12 | U15: 0.08 | V15: 0.11
A16: =A15 -> Total name suppression | B16: 09: Drug offences | C16: 620 | D16: 486 | E16: 585 | F16: 337 | G16: 647 | H16: 536 | I16: 535 | J16: 838 | K16: 1310 | L16: 1033 | M16: 0.09 | N16: 0.08 | O16: 0.09 | P16: 0.06 | Q16: 0.1 | R16: 0.08 | S16: 0.08 | T16: 0.1 | U16: 0.14 | V16: 0.1
A17: =A16 -> Total name suppression | B17: 10: Weapons and explosives offences | C17: 82 | D17: 102 | E17: 77 | F17: 72 | G17: 144 | H17: 176 | I17: 159 | J17: 252 | K17: 303 | L17: 249 | M17: 0.01 | N17: 0.02 | O17: 0.01 | P17: 0.01 | Q17: 0.02 | R17: 0.03 | S17: 0.02 | T17: 0.03 | U17: 0.03 | V17: 0.03
A18: =A17 -> Total name suppression | B18: 11: Property damage | C18: 70 | D18: 95 | E18: 109 | F18: 61 | G18: 114 | H18: 89 | I18: 108 | J18: 145 | K18: 199 | L18: 193 | M18: 0.01 | N18: 0.02 | O18: 0.02 | P18: 0.01 | Q18: 0.02 | R18: 0.01 | S18: 0.02 | T18: 0.02 | U18: 0.02 | V18: 0.02
A19: =A18 -> Total name suppression | B19: 12: Public order, health, and safety offences | C19: 457 | D19: 237 | E19: 195 | F19: 248 | G19: 276 | H19: 237 | I19: 279 | J19: 318 | K19: 329 | L19: 299 | M19: 0.07 | N19: 0.04 | O19: 0.03 | P19: 0.05 | Q19: 0.04 | R19: 0.04 | S19: 0.04 | T19: 0.04 | U19: 0.04 | V19: 0.03
A20: =A19 -> Total name suppression | B20: 13: Traffic and vehicle offences | C20: 88 | D20: 73 | E20: 96 | F20: 76 | G20: 119 | H20: 145 | I20: 144 | J20: 188 | K20: 187 | L20: 160 | M20: 0.01 | N20: 0.01 | O20: 0.01 | P20: 0.01 | Q20: 0.02 | R20: 0.02 | S20: 0.02 | T20: 0.02 | U20: 0.02 | V20: 0.02
A21: =A20 -> Total name suppression | B21: 14: Offences against justice procedures and orders | C21: 199 | D21: 168 | E21: 220 | F21: 227 | G21: 456 | H21: 273 | I21: 268 | J21: 329 | K21: 436 | L21: 384 | M21: 0.03 | N21: 0.03 | O21: 0.03 | P21: 0.04 | Q21: 0.07 | R21: 0.04 | S21: 0.04 | T21: 0.04 | U21: 0.05 | V21: 0.04
A22: =A21 -> Total name suppression | B22: 15: Offences against government | C22: 176 | D22: 153 | E22: 164 | F22: 178 | G22: 17 | H22: 18 | I22: 24 | J22: 54 | K22: 35 | L22: 44 | M22: 0.03 | N22: 0.03 | O22: 0.02 | P22: 0.03 | Q22: <1% | R22: <1% | S22: <1% | T22: 0.01 | U22: <1% | V22: <1%
A23: =A22 -> Total name suppression | B23: 16: Environmental offences | C23: 52 | D23: 15 | E23: 126 | F23: 51 | G23: 95 | H23: 23 | I23: 137 | J23: 54 | K23: 39 | L23: 80 | M23: 0.01 | N23: <1% | O23: 0.02 | P23: 0.01 | Q23: 0.01 | R23: <1% | S23: 0.02 | T23: 0.01 | U23: <1% | V23: 0.01
A24: =A23 -> Total name suppression | B24: 17: Miscellaneous offences | C24: 68 | D24: 38 | E24: 56 | F24: 58 | G24: 114 | H24: 36 | I24: 47 | J24: 67 | K24: 110 | L24: 63 | M24: 0.01 | N24: 0.01 | O24: 0.01 | P24: 0.01 | Q24: 0.02 | R24: 0.01 | S24: 0.01 | T24: 0.01 | U24: 0.01 | V24: 0.01
A25: =A23 -> Total name suppression | B25: Total | C25: 6808 | D25: 5916 | E25: 6727 | F25: 5437 | G25: 6466 | H25: 6369 | I25: 6520 | J25: 8265 | K25: 9305 | L25: 9883 | M25: 1 | N25: 1 | O25: 1 | P25: 1 | Q25: 1 | R25: 1 | S25: 1 | T25: 1 | U25: 1 | V25: 1
A26: Interim and final | B26: 01: Homicide | C26: 9 | D26: 7 | E26: 2 | F26: 2 | G26: 4 | H26: 13 | I26: 12 | J26: 3 | K26: 11 | L26: 26 | M26: 0.01 | N26: 0.01 | O26: <1% | P26: <1% | Q26: <1% | R26: 0.01 | S26: 0.01 | T26: <1% | U26: 0.01 | V26: 0.02
A27: =A26 -> Interim and final | B27: 02: Assault | C27: 247 | D27: 339 | E27: 192 | F27: 150 | G27: 129 | H27: 185 | I27: 238 | J27: 194 | K27: 175 | L27: 191 | M27: 0.18 | N27: 0.27 | O27: 0.14 | P27: 0.13 | Q27: 0.1 | R27: 0.14 | S27: 0.18 | T27: 0.15 | U27: 0.12 | V27: 0.13
A28: =A27 -> Interim and final | B28: 03: Sexual offences | C28: 584 | D28: 410 | E28: 749 | F28: 575 | G28: 692 | H28: 714 | I28: 684 | J28: 718 | K28: 748 | L28: 766 | M28: 0.43 | N28: 0.33 | O28: 0.54 | P28: 0.51 | Q28: 0.54 | R28: 0.54 | S28: 0.51 | T28: 0.54 | U28: 0.51 | V28: 0.51
A29: =A28 -> Interim and final | B29: 04: Harm or endanger persons | C29: 40 | D29: 52 | E29: 45 | F29: 94 | G29: 73 | H29: 71 | I29: 72 | J29: 49 | K29: 42 | L29: 41 | M29: 0.03 | N29: 0.04 | O29: 0.03 | P29: 0.08 | Q29: 0.06 | R29: 0.05 | S29: 0.05 | T29: 0.04 | U29: 0.03 | V29: 0.03
A30: =A29 -> Interim and final | B30: 05: Robbery, blackmail, and extortion | C30: 7 | D30: 0 | E30: 14 | F30: 7 | G30: 6 | H30: 12 | I30: 10 | J30: 6 | K30: 4 | L30: 6 | M30: 0.01 | N30: 0 | O30: 0.01 | P30: 0.01 | Q30: <1% | R30: 0.01 | S30: 0.01 | T30: <1% | U30: <1% | V30: <1%
A31: =A30 -> Interim and final | B31: 06: Burglary | C31: 7 | D31: 1 | E31: 6 | F31: 5 | G31: 12 | H31: 18 | I31: 13 | J31: 7 | K31: 11 | L31: 7 | M31: 0.01 | N31: <1% | O31: <1% | P31: <1% | Q31: 0.01 | R31: 0.01 | S31: 0.01 | T31: 0.01 | U31: 0.01 | V31: <1%
A32: =A31 -> Interim and final | B32: 07: Theft | C32: 11 | D32: 24 | E32: 36 | F32: 21 | G32: 34 | H32: 23 | I32: 15 | J32: 15 | K32: 46 | L32: 68 | M32: 0.01 | N32: 0.02 | O32: 0.03 | P32: 0.02 | Q32: 0.03 | R32: 0.02 | S32: 0.01 | T32: 0.01 | U32: 0.03 | V32: 0.04
A33: =A32 -> Interim and final | B33: 08: Fraud and related offences | C33: 254 | D33: 200 | E33: 155 | F33: 66 | G33: 55 | H33: 85 | I33: 59 | J33: 35 | K33: 130 | L33: 126 | M33: 0.19 | N33: 0.16 | O33: 0.11 | P33: 0.06 | Q33: 0.04 | R33: 0.06 | S33: 0.04 | T33: 0.03 | U33: 0.09 | V33: 0.08
A34: =A33 -> Interim and final | B34: 09: Drug offences | C34: 10 | D34: 25 | E34: 51 | F34: 45 | G34: 41 | H34: 54 | I34: 30 | J34: 68 | K34: 114 | L34: 70 | M34: 0.01 | N34: 0.02 | O34: 0.04 | P34: 0.04 | Q34: 0.03 | R34: 0.04 | S34: 0.02 | T34: 0.05 | U34: 0.08 | V34: 0.05
A35: =A34 -> Interim and final | B35: 10: Weapons and explosives offences | C35: 7 | D35: 16 | E35: 4 | F35: 10 | G35: 18 | H35: 18 | I35: 14 | J35: 25 | K35: 35 | L35: 20 | M35: 0.01 | N35: 0.01 | O35: <1% | P35: 0.01 | Q35: 0.01 | R35: 0.01 | S35: 0.01 | T35: 0.02 | U35: 0.02 | V35: 0.01
A36: =A35 -> Interim and final | B36: 11: Property damage | C36: 10 | D36: 32 | E36: 15 | F36: 14 | G36: 24 | H36: 12 | I36: 26 | J36: 34 | K36: 25 | L36: 61 | M36: 0.01 | N36: 0.03 | O36: 0.01 | P36: 0.01 | Q36: 0.02 | R36: 0.01 | S36: 0.02 | T36: 0.03 | U36: 0.02 | V36: 0.04
A37: =A36 -> Interim and final | B37: 12: Public order, health, and safety offences | C37: 76 | D37: 101 | E37: 46 | F37: 49 | G37: 109 | H37: 41 | I37: 78 | J37: 59 | K37: 24 | L37: 52 | M37: 0.06 | N37: 0.08 | O37: 0.03 | P37: 0.04 | Q37: 0.09 | R37: 0.03 | S37: 0.06 | T37: 0.04 | U37: 0.02 | V37: 0.03
A38: =A37 -> Interim and final | B38: 13: Traffic and vehicle offences | C38: 17 | D38: 9 | E38: 11 | F38: 12 | G38: 23 | H38: 23 | I38: 24 | J38: 31 | K38: 29 | L38: 19 | M38: 0.01 | N38: 0.01 | O38: 0.01 | P38: 0.01 | Q38: 0.02 | R38: 0.02 | S38: 0.02 | T38: 0.02 | U38: 0.02 | V38: 0.01
A39: =A38 -> Interim and final | B39: 14: Offences against justice procedures and orders | C39: 39 | D39: 36 | E39: 35 | F39: 46 | G39: 33 | H39: 40 | I39: 31 | J39: 55 | K39: 39 | L39: 39 | M39: 0.03 | N39: 0.03 | O39: 0.03 | P39: 0.04 | Q39: 0.03 | R39: 0.03 | S39: 0.02 | T39: 0.04 | U39: 0.03 | V39: 0.03
A40: =A39 -> Interim and final | B40: 15: Offences against government | C40: 0 | D40: 0 | E40: 10 | F40: 28 | G40: 1 | H40: 1 | I40: 0 | J40: 0 | K40: 12 | L40: 4 | M40: 0 | N40: 0 | O40: 0.01 | P40: 0.02 | Q40: <1% | R40: <1% | S40: 0 | T40: 0 | U40: 0.01 | V40: <1%
...

Sheet 2a.People charged by outcome
A1: Table 2a: Number and percentage of people granted name suppression, by suppression type and charge outcome type, 2015/2016 - 2024/2025
A2: This data counts a person once per financial year for their most serious finalised charge in the year where name suppression was granted, and only the details of that charge are shown.
A3: Total name suppression includes people granted both interim and final suppression, interim suppression only and final suppression only. Children and young people with charges finalised in the Youth Court are not included as the Youth Court is closed to the public therefore suppression is implied.
A4: For more information on how to interpret these figures, please read the definitions and data notes
A5: Back to contents page
A6: Example interpretation: In 2024/2025, 58% of people with finalised charges with interim name suppression only were convicted of their most serious offence (824 people).
C7: Number of people | M7: Percentage of suppression type total
A8: Name suppression type | B8: Charge outcome | C8: 2015/2016 | D8: 2016/2017 | E8: 2017/2018 | F8: 2018/2019 | G8: 2019/2020 | H8: 2020/2021 | I8: 2021/2022 | J8: 2022/2023 | K8: 2023/2024 | L8: 2024/2025 | M8: 2015/2016 | N8: 2016/2017 | O8: 2017/2018 | P8: 2018/2019 | Q8: 2019/2020 | R8: 2020/2021 | S8: 2021/2022 | T8: 2022/2023 | U8: 2023/2024 | V8: 2024/2025
A9: Total name suppression | B9: Convicted | C9: 720 | D9: 716 | E9: 754 | F9: 664 | G9: 720 | H9: 767 | I9: 767 | J9: 871 | K9: 931 | L9: 1009 | M9: 0.59 | N9: 0.59 | O9: 0.62 | P9: 0.58 | Q9: 0.59 | R9: 0.56 | S9: 0.56 | T9: 0.55 | U9: 0.55 | V9: 0.56
B10: Other proved | C10: 129 | D10: 134 | E10: 115 | F10: 138 | G10: 126 | H10: 139 | I10: 110 | J10: 157 | K10: 159 | L10: 194 | M10: 0.11 | N10: 0.11 | O10: 0.09 | P10: 0.12 | Q10: 0.1 | R10: 0.1 | S10: 0.08 | T10: 0.1 | U10: 0.09 | V10: 0.11
B11: Not proved | C11: 333 | D11: 314 | E11: 306 | F11: 321 | G11: 335 | H11: 416 | I11: 449 | J11: 517 | K11: 553 | L11: 556 | M11: 0.27 | N11: 0.26 | O11: 0.25 | P11: 0.28 | Q11: 0.28 | R11: 0.3 | S11: 0.33 | T11: 0.32 | U11: 0.33 | V11: 0.31
B12: Other | C12: 35 | D12: 48 | E12: 44 | F12: 31 | G12: 37 | H12: 50 | I12: 52 | J12: 48 | K12: 42 | L12: 56 | M12: 0.03 | N12: 0.04 | O12: 0.04 | P12: 0.03 | Q12: 0.03 | R12: 0.04 | S12: 0.04 | T12: 0.03 | U12: 0.02 | V12: 0.03
B13: Total | C13: 1217 | D13: 1212 | E13: 1219 | F13: 1154 | G13: 1218 | H13: 1372 | I13: 1378 | J13: 1593 | K13: 1685 | L13: 1815 | M13: 1 | N13: 1 | O13: 1 | P13: 1 | Q13: 1 | R13: 1 | S13: 1 | T13: 1 | U13: 1 | V13: 1
A14: Interim and final | B14: Convicted | C14: 135 | D14: 128 | E14: 145 | F14: 117 | G14: 137 | H14: 139 | I14: 134 | J14: 126 | K14: 128 | L14: 123 | M14: 0.49 | N14: 0.5 | O14: 0.53 | P14: 0.5 | Q14: 0.53 | R14: 0.47 | S14: 0.46 | T14: 0.39 | U14: 0.44 | V14: 0.43
B15: Other proved | C15: 49 | D15: 41 | E15: 29 | F15: 43 | G15: 40 | H15: 48 | I15: 42 | J15: 74 | K15: 60 | L15: 64 | M15: 0.18 | N15: 0.16 | O15: 0.11 | P15: 0.18 | Q15: 0.15 | R15: 0.16 | S15: 0.14 | T15: 0.23 | U15: 0.21 | V15: 0.22
B16: Not proved | C16: 76 | D16: 70 | E16: 74 | F16: 70 | G16: 69 | H16: 89 | I16: 94 | J16: 110 | K16: 94 | L16: 78 | M16: 0.28 | N16: 0.27 | O16: 0.27 | P16: 0.3 | Q16: 0.27 | R16: 0.3 | S16: 0.32 | T16: 0.34 | U16: 0.33 | V16: 0.27
B17: Other | C17: 16 | D17: 19 | E17: 25 | F17: 3 | G17: 13 | H17: 20 | I17: 21 | J17: 14 | K17: 6 | L17: 23 | M17: 0.06 | N17: 0.07 | O17: 0.09 | P17: 0.01 | Q17: 0.05 | R17: 0.07 | S17: 0.07 | T17: 0.04 | U17: 0.02 | V17: 0.08
B18: Total | C18: 276 | D18: 258 | E18: 273 | F18: 233 | G18: 259 | H18: 296 | I18: 291 | J18: 324 | K18: 288 | L18: 288 | M18: 1 | N18: 1 | O18: 1 | P18: 1 | Q18: 1 | R18: 1 | S18: 1 | T18: 1 | U18: 1 | V18: 1
A19: Interim only | B19: Convicted | C19: 499 | D19: 499 | E19: 525 | F19: 493 | G19: 517 | H19: 550 | I19: 578 | J19: 691 | K19: 748 | L19: 824 | M19: 0.61 | N19: 0.62 | O19: 0.64 | P19: 0.6 | Q19: 0.61 | R19: 0.58 | S19: 0.58 | T19: 0.59 | U19: 0.57 | V19: 0.58
B20: Other proved | C20: 61 | D20: 68 | E20: 61 | F20: 79 | G20: 63 | H20: 66 | I20: 54 | J20: 64 | K20: 82 | L20: 111 | M20: 0.08 | N20: 0.08 | O20: 0.07 | P20: 0.1 | Q20: 0.07 | R20: 0.07 | S20: 0.05 | T20: 0.05 | U20: 0.06 | V20: 0.08
B21: Not proved | C21: 233 | D21: 219 | E21: 217 | F21: 228 | G21: 247 | H21: 305 | I21: 334 | J21: 387 | K21: 440 | L21: 465 | M21: 0.29 | N21: 0.27 | O21: 0.27 | P21: 0.28 | Q21: 0.29 | R21: 0.32 | S21: 0.34 | T21: 0.33 | U21: 0.34 | V21: 0.33
B22: Other | C22: 19 | D22: 23 | E22: 15 | F22: 23 | G22: 19 | H22: 24 | I22: 29 | J22: 29 | K22: 33 | L22: 30 | M22: 0.02 | N22: 0.03 | O22: 0.02 | P22: 0.03 | Q22: 0.02 | R22: 0.03 | S22: 0.03 | T22: 0.02 | U22: 0.03 | V22: 0.02
B23: Total | C23: 812 | D23: 809 | E23: 818 | F23: 823 | G23: 846 | H23: 945 | I23: 995 | J23: 1171 | K23: 1303 | L23: 1430 | M23: 1 | N23: 1 | O23: 1 | P23: 1 | Q23: 1 | R23: 1 | S23: 1 | T23: 1 | U23: 1 | V23: 1
A24: Final only | B24: Convicted | C24: 86 | D24: 89 | E24: 84 | F24: 54 | G24: 66 | H24: 78 | I24: 55 | J24: 54 | K24: 55 | L24: 62 | M24: 0.67 | N24: 0.61 | O24: 0.66 | P24: 0.55 | Q24: 0.58 | R24: 0.6 | S24: 0.6 | T24: 0.55 | U24: 0.59 | V24: 0.64
B25: Other proved | C25: 19 | D25: 25 | E25: 25 | F25: 16 | G25: 23 | H25: 25 | I25: 14 | J25: 19 | K25: 17 | L25: 19 | M25: 0.15 | N25: 0.17 | O25: 0.2 | P25: 0.16 | Q25: 0.2 | R25: 0.19 | S25: 0.15 | T25: 0.19 | U25: 0.18 | V25: 0.2
B26: Not proved | C26: 24 | D26: 25 | E26: 15 | F26: 23 | G26: 19 | H26: 22 | I26: 21 | J26: 20 | K26: 19 | L26: 13 | M26: 0.19 | N26: 0.17 | O26: 0.12 | P26: 0.23 | Q26: 0.17 | R26: 0.17 | S26: 0.23 | T26: 0.2 | U26: 0.2 | V26: 0.13
B27: Other | C27: 0 | D27: 6 | E27: 4 | F27: 5 | G27: 5 | H27: 6 | I27: 2 | J27: 5 | K27: 3 | L27: 3 | M27: 0 | N27: 0.04 | O27: 0.03 | P27: 0.05 | Q27: 0.04 | R27: 0.05 | S27: 0.02 | T27: 0.05 | U27: 0.03 | V27: 0.03
B28: Total | C28: 129 | D28: 145 | E28: 128 | F28: 98 | G28: 113 | H28: 131 | I28: 92 | J28: 98 | K28: 94 | L28: 97 | M28: 1 | N28: 1 | O28: 1 | P28: 1 | Q28: 1 | R28: 1 | S28: 1 | T28: 1 | U28: 1 | V28: 1

Sheet 2b.People charged by offence
A1: Table 2b: Number and percentage of people granted name suppression, by suppression type and offence type, 2015/2016 - 2024/2025
A2: This data counts a person once per financial year for their most serious finalised charge in the year where name suppression was granted, and only the details of that charge are shown.
A3: Total name suppression includes people granted both interim and final suppression, interim suppression only and final suppression only. Children and young people with charges finalised in the Youth Court are not included as the Youth Court is closed to the public therefore suppression is implied.
A4: For more information on how to interpret these figures, please read the definitions and data notes
A5: Back to contents page
A6: Example interpretation: In 2024/2025, for 15% of people granted name suppression, their most serious finalised charge with name suppression was for assault (281 people).
A7: Choose which types to show or hide | C7: Number of people | M7: Percentage of suppression type total
A8: Name suppression type | B8: Offence type (ANZSOC division) | C8: 2015/2016 | D8: 2016/2017 | E8: 2017/2018 | F8: 2018/2019 | G8: 2019/2020 | H8: 2020/2021 | I8: 2021/2022 | J8: 2022/2023 | K8: 2023/2024 | L8: 2024/2025 | M8: 2015/2016 | N8: 2016/2017 | O8: 2017/2018 | P8: 2018/2019 | Q8: 2019/2020 | R8: 2020/2021 | S8: 2021/2022 | T8: 2022/2023 | U8: 2023/2024 | V8: 2024/2025
A9: Total name suppression | B9: 01: Homicide | C9: 60 | D9: 60 | E9: 43 | F9: 52 | G9: 66 | H9: 90 | I9: 94 | J9: 93 | K9: 120 | L9: 111 | M9: 0.05 | N9: 0.05 | O9: 0.04 | P9: 0.05 | Q9: 0.05 | R9: 0.07 | S9: 0.07 | T9: 0.06 | U9: 0.07 | V9: 0.06
A10: =A9 -> Total name suppression | B10: 02: Assault | C10: 261 | D10: 272 | E10: 237 | F10: 196 | G10: 214 | H10: 242 | I10: 233 | J10: 272 | K10: 270 | L10: 281 | M10: 0.21 | N10: 0.22 | O10: 0.19 | P10: 0.17 | Q10: 0.18 | R10: 0.18 | S10: 0.17 | T10: 0.17 | U10: 0.16 | V10: 0.15
A11: =A10 -> Total name suppression | B11: 03: Sexual offences | C11: 417 | D11: 376 | E11: 439 | F11: 385 | G11: 387 | H11: 465 | I11: 509 | J11: 576 | K11: 592 | L11: 666 | M11: 0.34 | N11: 0.31 | O11: 0.36 | P11: 0.33 | Q11: 0.32 | R11: 0.34 | S11: 0.37 | T11: 0.36 | U11: 0.35 | V11: 0.37
A12: =A11 -> Total name suppression | B12: 04: Harm or endanger persons | C12: 63 | D12: 67 | E12: 66 | F12: 69 | G12: 66 | H12: 80 | I12: 74 | J12: 89 | K12: 78 | L12: 94 | M12: 0.05 | N12: 0.06 | O12: 0.05 | P12: 0.06 | Q12: 0.05 | R12: 0.06 | S12: 0.05 | T12: 0.06 | U12: 0.05 | V12: 0.05
A13: =A12 -> Total name suppression | B13: 05: Robbery, blackmail, and extortion | C13: 20 | D13: 19 | E13: 35 | F13: 28 | G13: 24 | H13: 23 | I13: 25 | J13: 35 | K13: 40 | L13: 35 | M13: 0.02 | N13: 0.02 | O13: 0.03 | P13: 0.02 | Q13: 0.02 | R13: 0.02 | S13: 0.02 | T13: 0.02 | U13: 0.02 | V13: 0.02
A14: =A13 -> Total name suppression | B14: 06: Burglary | C14: 19 | D14: 14 | E14: 23 | F14: 20 | G14: 28 | H14: 22 | I14: 24 | J14: 28 | K14: 39 | L14: 27 | M14: 0.02 | N14: 0.01 | O14: 0.02 | P14: 0.02 | Q14: 0.02 | R14: 0.02 | S14: 0.02 | T14: 0.02 | U14: 0.02 | V14: 0.01
A15: =A14 -> Total name suppression | B15: 07: Theft | C15: 29 | D15: 29 | E15: 31 | F15: 29 | G15: 29 | H15: 25 | I15: 21 | J15: 24 | K15: 37 | L15: 36 | M15: 0.02 | N15: 0.02 | O15: 0.03 | P15: 0.03 | Q15: 0.02 | R15: 0.02 | S15: 0.02 | T15: 0.02 | U15: 0.02 | V15: 0.02
A16: =A15 -> Total name suppression | B16: 08: Fraud and related offences | C16: 82 | D16: 107 | E16: 84 | F16: 103 | G16: 89 | H16: 75 | I16: 76 | J16: 80 | K16: 94 | L16: 107 | M16: 0.07 | N16: 0.09 | O16: 0.07 | P16: 0.09 | Q16: 0.07 | R16: 0.05 | S16: 0.06 | T16: 0.05 | U16: 0.06 | V16: 0.06
A17: =A16 -> Total name suppression | B17: 09: Drug offences | C17: 67 | D17: 88 | E17: 80 | F17: 72 | G17: 85 | H17: 96 | I17: 95 | J17: 100 | K17: 117 | L17: 155 | M17: 0.06 | N17: 0.07 | O17: 0.07 | P17: 0.06 | Q17: 0.07 | R17: 0.07 | S17: 0.07 | T17: 0.06 | U17: 0.07 | V17: 0.09
A18: =A17 -> Total name suppression | B18: 10: Weapons and explosives offences | C18: 19 | D18: 22 | E18: 15 | F18: 17 | G18: 29 | H18: 34 | I18: 30 | J18: 37 | K18: 42 | L18: 31 | M18: 0.02 | N18: 0.02 | O18: 0.01 | P18: 0.01 | Q18: 0.02 | R18: 0.02 | S18: 0.02 | T18: 0.02 | U18: 0.02 | V18: 0.02
A19: =A18 -> Total name suppression | B19: 11: Property damage | C19: 29 | D19: 23 | E19: 21 | F19: 25 | G19: 20 | H19: 25 | I19: 25 | J19: 37 | K19: 46 | L19: 29 | M19: 0.02 | N19: 0.02 | O19: 0.02 | P19: 0.02 | Q19: 0.02 | R19: 0.02 | S19: 0.02 | T19: 0.02 | U19: 0.03 | V19: 0.02
A20: =A19 -> Total name suppression | B20: 12: Public order, health, and safety offences | C20: 39 | D20: 34 | E20: 25 | F20: 38 | G20: 36 | H20: 53 | I20: 49 | J20: 63 | K20: 45 | L20: 57 | M20: 0.03 | N20: 0.03 | O20: 0.02 | P20: 0.03 | Q20: 0.03 | R20: 0.04 | S20: 0.04 | T20: 0.04 | U20: 0.03 | V20: 0.03
A21: =A20 -> Total name suppression | B21: 13: Traffic and vehicle offences | C21: 44 | D21: 38 | E21: 29 | F21: 36 | G21: 48 | H21: 58 | I21: 48 | J21: 65 | K21: 57 | L21: 62 | M21: 0.04 | N21: 0.03 | O21: 0.02 | P21: 0.03 | Q21: 0.04 | R21: 0.04 | S21: 0.03 | T21: 0.04 | U21: 0.03 | V21: 0.03
A22: =A21 -> Total name suppression | B22: 14: Offences against justice procedures and orders | C22: 40 | D22: 41 | E22: 53 | F22: 54 | G22: 59 | H22: 59 | I22: 41 | J22: 59 | K22: 68 | L22: 76 | M22: 0.03 | N22: 0.03 | O22: 0.04 | P22: 0.05 | Q22: 0.05 | R22: 0.04 | S22: 0.03 | T22: 0.04 | U22: 0.04 | V22: 0.04
A23: =A22 -> Total name suppression | B23: 15: Offences against government | C23: 8 | D23: 10 | E23: 15 | F23: 12 | G23: 6 | H23: 8 | I23: 10 | J23: 8 | K23: 9 | L23: 8 | M23: 0.01 | N23: 0.01 | O23: 0.01 | P23: 0.01 | Q23: <1% | R23: 0.01 | S23: 0.01 | T23: 0.01 | U23: 0.01 | V23: <1%
A24: =A23 -> Total name suppression | B24: 16: Environmental offences | C24: 11 | D24: 6 | E24: 15 | F24: 10 | G24: 21 | H24: 7 | I24: 16 | J24: 20 | K24: 15 | L24: 25 | M24: 0.01 | N24: <1% | O24: 0.01 | P24: 0.01 | Q24: 0.02 | R24: 0.01 | S24: 0.01 | T24: 0.01 | U24: 0.01 | V24: 0.01
A25: =A24 -> Total name suppression | B25: 17: Miscellaneous offences | C25: 9 | D25: 6 | E25: 8 | F25: 8 | G25: 11 | H25: 10 | I25: 8 | J25: 7 | K25: 16 | L25: 15 | M25: 0.01 | N25: <1% | O25: 0.01 | P25: 0.01 | Q25: 0.01 | R25: 0.01 | S25: 0.01 | T25: <1% | U25: 0.01 | V25: 0.01
A26: =A24 -> Total name suppression | B26: Total | C26: 1217 | D26: 1212 | E26: 1219 | F26: 1154 | G26: 1218 | H26: 1372 | I26: 1378 | J26: 1593 | K26: 1685 | L26: 1815 | M26: 1 | N26: 1 | O26: 1 | P26: 1 | Q26: 1 | R26: 1 | S26: 1 | T26: 1 | U26: 1 | V26: 1
A27: Interim and final | B27: 01: Homicide | C27: 6 | D27: 4 | E27: 2 | F27: 1 | G27: 3 | H27: 10 | I27: 10 | J27: 1 | K27: 7 | L27: 11 | M27: 0.02 | N27: 0.02 | O27: 0.01 | P27: <1% | Q27: 0.01 | R27: 0.03 | S27: 0.03 | T27: <1% | U27: 0.02 | V27: 0.04
A28: =A27 -> Interim and final | B28: 02: Assault | C28: 75 | D28: 69 | E28: 62 | F28: 45 | G28: 46 | H28: 45 | I28: 45 | J28: 55 | K28: 46 | L28: 51 | M28: 0.27 | N28: 0.27 | O28: 0.23 | P28: 0.19 | Q28: 0.18 | R28: 0.15 | S28: 0.15 | T28: 0.17 | U28: 0.16 | V28: 0.18
A29: =A28 -> Interim and final | B29: 03: Sexual offences | C29: 94 | D29: 96 | E29: 124 | F29: 98 | G29: 107 | H29: 127 | I29: 146 | J29: 154 | K29: 129 | L29: 124 | M29: 0.34 | N29: 0.37 | O29: 0.45 | P29: 0.42 | Q29: 0.41 | R29: 0.43 | S29: 0.5 | T29: 0.48 | U29: 0.45 | V29: 0.43
A30: =A29 -> Interim and final | B30: 04: Harm or endanger persons | C30: 14 | D30: 19 | E30: 17 | F30: 16 | G30: 24 | H30: 14 | I30: 17 | J30: 15 | K30: 16 | L30: 16 | M30: 0.05 | N30: 0.07 | O30: 0.06 | P30: 0.07 | Q30: 0.09 | R30: 0.05 | S30: 0.06 | T30: 0.05 | U30: 0.06 | V30: 0.06
A31: =A30 -> Interim and final | B31: 05: Robbery, blackmail, and extortion | C31: 5 | D31: 0 | E31: 4 | F31: 5 | G31: 5 | H31: 7 | I31: 4 | J31: 6 | K31: 3 | L31: 3 | M31: 0.02 | N31: 0 | O31: 0.01 | P31: 0.02 | Q31: 0.02 | R31: 0.02 | S31: 0.01 | T31: 0.02 | U31: 0.01 | V31: 0.01
A32: =A31 -> Interim and final | B32: 06: Burglary | C32: 2 | D32: 1 | E32: 4 | F32: 1 | G32: 4 | H32: 7 | I32: 3 | J32: 3 | K32: 4 | L32: 3 | M32: 0.01 | N32: <1% | O32: 0.01 | P32: <1% | Q32: 0.02 | R32: 0.02 | S32: 0.01 | T32: 0.01 | U32: 0.01 | V32: 0.01
A33: =A32 -> Interim and final | B33: 07: Theft | C33: 6 | D33: 6 | E33: 8 | F33: 3 | G33: 8 | H33: 9 | I33: 2 | J33: 5 | K33: 7 | L33: 8 | M33: 0.02 | N33: 0.02 | O33: 0.03 | P33: 0.01 | Q33: 0.03 | R33: 0.03 | S33: 0.01 | T33: 0.02 | U33: 0.02 | V33: 0.03
A34: =A33 -> Interim and final | B34: 08: Fraud and related offences | C34: 21 | D34: 20 | E34: 13 | F34: 11 | G34: 13 | H34: 12 | I34: 11 | J34: 11 | K34: 16 | L34: 22 | M34: 0.08 | N34: 0.08 | O34: 0.05 | P34: 0.05 | Q34: 0.05 | R34: 0.04 | S34: 0.04 | T34: 0.03 | U34: 0.06 | V34: 0.08
A35: =A34 -> Interim and final | B35: 09: Drug offences | C35: 4 | D35: 6 | E35: 9 | F35: 11 | G35: 8 | H35: 12 | I35: 12 | J35: 10 | K35: 13 | L35: 8 | M35: 0.01 | N35: 0.02 | O35: 0.03 | P35: 0.05 | Q35: 0.03 | R35: 0.04 | S35: 0.04 | T35: 0.03 | U35: 0.05 | V35: 0.03
A36: =A35 -> Interim and final | B36: 10: Weapons and explosives offences | C36: 5 | D36: 8 | E36: 0 | F36: 4 | G36: 5 | H36: 7 | I36: 2 | J36: 8 | K36: 6 | L36: 1 | M36: 0.02 | N36: 0.03 | O36: 0 | P36: 0.02 | Q36: 0.02 | R36: 0.02 | S36: 0.01 | T36: 0.02 | U36: 0.02 | V36: <1%
A37: =A36 -> Interim and final | B37: 11: Property damage | C37: 3 | D37: 5 | E37: 6 | F37: 7 | G37: 3 | H37: 4 | I37: 6 | J37: 8 | K37: 5 | L37: 5 | M37: 0.01 | N37: 0.02 | O37: 0.02 | P37: 0.03 | Q37: 0.01 | R37: 0.01 | S37: 0.02 | T37: 0.02 | U37: 0.02 | V37: 0.02
A38: =A37 -> Interim and final | B38: 12: Public order, health, and safety offences | C38: 9 | D38: 5 | E38: 3 | F38: 8 | G38: 13 | H38: 13 | I38: 12 | J38: 15 | K38: 5 | L38: 8 | M38: 0.03 | N38: 0.02 | O38: 0.01 | P38: 0.03 | Q38: 0.05 | R38: 0.04 | S38: 0.04 | T38: 0.05 | U38: 0.02 | V38: 0.03
A39: =A38 -> Interim and final | B39: 13: Traffic and vehicle offences | C39: 11 | D39: 6 | E39: 3 | F39: 7 | G39: 9 | H39: 12 | I39: 10 | J39: 15 | K39: 13 | L39: 11 | M39: 0.04 | N39: 0.02 | O39: 0.01 | P39: 0.03 | Q39: 0.03 | R39: 0.04 | S39: 0.03 | T39: 0.05 | U39: 0.05 | V39: 0.04
A40: =A39 -> Interim and final | B40: 14: Offences against justice procedures and orders | C40: 12 | D40: 12 | E40: 14 | F40: 13 | G40: 6 | H40: 9 | I40: 4 | J40: 12 | K40: 10 | L40: 10 | M40: 0.04 | N40: 0.05 | O40: 0.05 | P40: 0.06 | Q40: 0.02 | R40: 0.03 | S40: 0.01 | T40: 0.04 | U40: 0.03 | V40: 0.03
...

Sheet 2c.People charged demographics
A1: Table 2c: Number and percentage of people granted name suppression, by suppression type, gender, ethnicity and age group, 2015/2016 - 2024/2025
A2: This data counts a person once per financial year. All of their charges have the same recorded gender and ethnicity information. Age in this table is the person's age at the offence date of their most serious finalised charge where name suppression was granted.
A3: Total name suppression includes people granted both interim and final suppression, interim suppression only and final suppression only. Children and young people with charges finalised in the Youth Court are not included as the Youth Court is closed to the public therefore suppression is implied.
A4: 'Multiple ethnicity' information is used in this table. This means for each ethnicity a person is counted once per year (e.g. they may be counted in both European and Māori). As some people have multiple recorded ethnicities this will result in the sum of ethnicities being greater than the total number of people each year.
A5: For more information on how to interpret these figures, please read the definitions and data notes
A6: Back to contents page
A7: Example interpretation: In 2024/2025, 83% of people with finalised charges who were granted name suppression were male (1,508 people).
A8: Choose which types to show or hide | C8: Number of people | M8: Percentage of suppression type total
A9: Name suppression type | C9: 2015/2016 | D9: 2016/2017 | E9: 2017/2018 | F9: 2018/2019 | G9: 2019/2020 | H9: 2020/2021 | I9: 2021/2022 | J9: 2022/2023 | K9: 2023/2024 | L9: 2024/2025 | M9: 2015/2016 | N9: 2016/2017 | O9: 2017/2018 | P9: 2018/2019 | Q9: 2019/2020 | R9: 2020/2021 | S9: 2021/2022 | T9: 2022/2023 | U9: 2023/2024 | V9: 2024/2025
A10: Total name suppression | B10: Total | C10: 1217 | D10: 1212 | E10: 1219 | F10: 1154 | G10: 1218 | H10: 1372 | I10: 1378 | J10: 1593 | K10: 1685 | L10: 1815 | M10: 1 | N10: 1 | O10: 1 | P10: 1 | Q10: 1 | R10: 1 | S10: 1 | T10: 1 | U10: 1 | V10: 1
A11: Total name suppression | B11: Gender
A12: Total name suppression | B12: Female | C12: 250 | D12: 244 | E12: 253 | F12: 234 | G12: 215 | H12: 245 | I12: 204 | J12: 225 | K12: 255 | L12: 289 | M12: 0.21 | N12: 0.2 | O12: 0.21 | P12: 0.2 | Q12: 0.18 | R12: 0.18 | S12: 0.15 | T12: 0.14 | U12: 0.15 | V12: 0.16
A13: Total name suppression | B13: Male | C13: 961 | D13: 956 | E13: 949 | F13: 907 | G13: 985 | H13: 1115 | I13: 1163 | J13: 1349 | K13: 1409 | L13: 1508 | M13: 0.79 | N13: 0.79 | O13: 0.78 | P13: 0.79 | Q13: 0.81 | R13: 0.81 | S13: 0.84 | T13: 0.85 | U13: 0.84 | V13: 0.83
A14: Total name suppression | B14: Organisation | C14: 4 | D14: 9 | E14: 14 | F14: 13 | G14: 15 | H14: 7 | I14: 9 | J14: 15 | K14: 15 | L14: 15 | M14: <1% | N14: 0.01 | O14: 0.01 | P14: 0.01 | Q14: 0.01 | R14: 0.01 | S14: 0.01 | T14: 0.01 | U14: 0.01 | V14: 0.01
A15: Total name suppression | B15: Unknown | C15: 2 | D15: 3 | E15: 3 | F15: 0 | G15: 3 | H15: 5 | I15: 2 | J15: 4 | K15: 6 | L15: 3 | M15: <1% | N15: <1% | O15: <1% | P15: 0 | Q15: <1% | R15: <1% | S15: <1% | T15: <1% | U15: <1% | V15: <1%
A16: Total name suppression | B16: Ethnicity
A17: Total name suppression | B17: European | C17: 727 | D17: 744 | E17: 693 | F17: 642 | G17: 648 | H17: 749 | I17: 705 | J17: 790 | K17: 724 | L17: 771 | M17: 0.6 | N17: 0.61 | O17: 0.57 | P17: 0.56 | Q17: 0.53 | R17: 0.55 | S17: 0.51 | T17: 0.5 | U17: 0.43 | V17: 0.42
A18: Total name suppression | B18: Māori | C18: 280 | D18: 263 | E18: 294 | F18: 261 | G18: 294 | H18: 373 | I18: 340 | J18: 399 | K18: 470 | L18: 433 | M18: 0.23 | N18: 0.22 | O18: 0.24 | P18: 0.23 | Q18: 0.24 | R18: 0.27 | S18: 0.25 | T18: 0.25 | U18: 0.28 | V18: 0.24
A19: Total name suppression | B19: Pacific Peoples | C19: 70 | D19: 76 | E19: 74 | F19: 67 | G19: 78 | H19: 103 | I19: 139 | J19: 152 | K19: 170 | L19: 162 | M19: 0.06 | N19: 0.06 | O19: 0.06 | P19: 0.06 | Q19: 0.06 | R19: 0.08 | S19: 0.1 | T19: 0.1 | U19: 0.1 | V19: 0.09
A20: Total name suppression | B20: Asian | C20: 70 | D20: 57 | E20: 60 | F20: 59 | G20: 61 | H20: 70 | I20: 74 | J20: 78 | K20: 87 | L20: 118 | M20: 0.06 | N20: 0.05 | O20: 0.05 | P20: 0.05 | Q20: 0.05 | R20: 0.05 | S20: 0.05 | T20: 0.05 | U20: 0.05 | V20: 0.07
A21: Total name suppression | B21: Other | C21: 26 | D21: 24 | E21: 29 | F21: 30 | G21: 41 | H21: 29 | I21: 32 | J21: 33 | K21: 47 | L21: 33 | M21: 0.02 | N21: 0.02 | O21: 0.02 | P21: 0.03 | Q21: 0.03 | R21: 0.02 | S21: 0.02 | T21: 0.02 | U21: 0.03 | V21: 0.02
A22: Total name suppression | B22: Unknown | C22: 103 | D22: 101 | E22: 114 | F22: 127 | G22: 141 | H22: 110 | I22: 140 | J22: 192 | K22: 247 | L22: 344 | M22: 0.08 | N22: 0.08 | O22: 0.09 | P22: 0.11 | Q22: 0.12 | R22: 0.08 | S22: 0.1 | T22: 0.12 | U22: 0.15 | V22: 0.19
A23: Total name suppression | B23: Age group
A24: Total name suppression | B24: 19 years and under | C24: 124 | D24: 116 | E24: 129 | F24: 117 | G24: 101 | H24: 108 | I24: 90 | J24: 129 | K24: 133 | L24: 147 | M24: 0.1 | N24: 0.1 | O24: 0.11 | P24: 0.1 | Q24: 0.08 | R24: 0.08 | S24: 0.07 | T24: 0.08 | U24: 0.08 | V24: 0.08
A25: Total name suppression | B25: 20-24 | C25: 129 | D25: 141 | E25: 132 | F25: 122 | G25: 140 | H25: 177 | I25: 168 | J25: 179 | K25: 245 | L25: 238 | M25: 0.11 | N25: 0.12 | O25: 0.11 | P25: 0.11 | Q25: 0.11 | R25: 0.13 | S25: 0.12 | T25: 0.11 | U25: 0.15 | V25: 0.13
A26: Total name suppression | B26: 25-29 | C26: 152 | D26: 164 | E26: 168 | F26: 169 | G26: 174 | H26: 200 | I26: 212 | J26: 249 | K26: 245 | L26: 255 | M26: 0.12 | N26: 0.14 | O26: 0.14 | P26: 0.15 | Q26: 0.14 | R26: 0.15 | S26: 0.15 | T26: 0.16 | U26: 0.15 | V26: 0.14
A27: Total name suppression | B27: 30-34 | C27: 156 | D27: 148 | E27: 154 | F27: 153 | G27: 176 | H27: 204 | I27: 245 | J27: 235 | K27: 235 | L27: 258 | M27: 0.13 | N27: 0.12 | O27: 0.13 | P27: 0.13 | Q27: 0.14 | R27: 0.15 | S27: 0.18 | T27: 0.15 | U27: 0.14 | V27: 0.14
A28: Total name suppression | B28: 35-39 | C28: 159 | D28: 143 | E28: 132 | F28: 131 | G28: 151 | H28: 167 | I28: 167 | J28: 178 | K28: 219 | L28: 222 | M28: 0.13 | N28: 0.12 | O28: 0.11 | P28: 0.11 | Q28: 0.12 | R28: 0.12 | S28: 0.12 | T28: 0.11 | U28: 0.13 | V28: 0.12
A29: Total name suppression | B29: 40-44 | C29: 135 | D29: 130 | E29: 147 | F29: 123 | G29: 131 | H29: 132 | I29: 129 | J29: 134 | K29: 137 | L29: 179 | M29: 0.11 | N29: 0.11 | O29: 0.12 | P29: 0.11 | Q29: 0.11 | R29: 0.1 | S29: 0.09 | T29: 0.08 | U29: 0.08 | V29: 0.1
A30: Total name suppression | B30: 45-49 | C30: 127 | D30: 116 | E30: 127 | F30: 106 | G30: 96 | H30: 116 | I30: 104 | J30: 127 | K30: 117 | L30: 138 | M30: 0.1 | N30: 0.1 | O30: 0.1 | P30: 0.09 | Q30: 0.08 | R30: 0.08 | S30: 0.08 | T30: 0.08 | U30: 0.07 | V30: 0.08
A31: Total name suppression | B31: 50-54 | C31: 85 | D31: 81 | E31: 74 | F31: 76 | G31: 71 | H31: 94 | I31: 88 | J31: 128 | K31: 105 | L31: 102 | M31: 0.07 | N31: 0.07 | O31: 0.06 | P31: 0.07 | Q31: 0.06 | R31: 0.07 | S31: 0.06 | T31: 0.08 | U31: 0.06 | V31: 0.06
A32: Total name suppression | B32: 55-59 | C32: 57 | D32: 62 | E32: 47 | F32: 55 | G32: 65 | H32: 68 | I32: 52 | J32: 65 | K32: 60 | L32: 77 | M32: 0.05 | N32: 0.05 | O32: 0.04 | P32: 0.05 | Q32: 0.05 | R32: 0.05 | S32: 0.04 | T32: 0.04 | U32: 0.04 | V32: 0.04
A33: Total name suppression | B33: 60-64 | C33: 30 | D33: 40 | E33: 32 | F33: 28 | G33: 33 | H33: 29 | I33: 33 | J33: 53 | K33: 55 | L33: 66 | M33: 0.02 | N33: 0.03 | O33: 0.03 | P33: 0.02 | Q33: 0.03 | R33: 0.02 | S33: 0.02 | T33: 0.03 | U33: 0.03 | V33: 0.04
A34: Total name suppression | B34: 65 years and over | C34: 37 | D34: 33 | E34: 37 | F34: 35 | G34: 38 | H34: 41 | I34: 37 | J34: 54 | K34: 61 | L34: 52 | M34: 0.03 | N34: 0.03 | O34: 0.03 | P34: 0.03 | Q34: 0.03 | R34: 0.03 | S34: 0.03 | T34: 0.03 | U34: 0.04 | V34: 0.03
A35: Total name suppression | B35: Unknown | C35: 26 | D35: 38 | E35: 40 | F35: 39 | G35: 42 | H35: 36 | I35: 53 | J35: 62 | K35: 73 | L35: 81 | M35: 0.02 | N35: 0.03 | O35: 0.03 | P35: 0.03 | Q35: 0.03 | R35: 0.03 | S35: 0.04 | T35: 0.04 | U35: 0.04 | V35: 0.04
A36: Interim and final | B36: Total | C36: 276 | D36: 258 | E36: 273 | F36: 233 | G36: 259 | H36: 296 | I36: 291 | J36: 324 | K36: 288 | L36: 288 | M36: 1 | N36: 1 | O36: 1 | P36: 1 | Q36: 1 | R36: 1 | S36: 1 | T36: 1 | U36: 1 | V36: 1
A37: Interim and final | B37: Gender
A38: Interim and final | B38: Female | C38: 83 | D38: 51 | E38: 61 | F38: 52 | G38: 47 | H38: 64 | I38: 45 | J38: 44 | K38: 53 | L38: 64 | M38: 0.3 | N38: 0.2 | O38: 0.22 | P38: 0.22 | Q38: 0.18 | R38: 0.22 | S38: 0.15 | T38: 0.14 | U38: 0.18 | V38: 0.22
A39: Interim and final | B39: Male | C39: 192 | D39: 207 | E39: 211 | F39: 180 | G39: 211 | H39: 232 | I39: 244 | J39: 279 | K39: 231 | L39: 221 | M39: 0.7 | N39: 0.8 | O39: 0.77 | P39: 0.77 | Q39: 0.81 | R39: 0.78 | S39: 0.84 | T39: 0.86 | U39: 0.8 | V39: 0.77
A40: Interim and final | B40: Organisation | C40: 0 | D40: 0 | E40: 0 | F40: 1 | G40: 1 | H40: 0 | I40: 2 | J40: 1 | K40: 1 | L40: 2 | M40: 0 | N40: 0 | O40: 0 | P40: <1% | Q40: <1% | R40: 0 | S40: 0.01 | T40: <1% | U40: <1% | V40: 0.01
...

Sheet 3a.People convicted by sentence
A1: Table 3a: Number and percentage of convicted people where name suppression was granted, by suppression type and most serious sentence, 2015/2016 - 2024/2025
A2: This data counts a person once per financial year for their most serious conviction where name suppression was granted, and only the details of that convicted charge are shown.
A3: Total name suppression includes convicted people granted both interim and final suppression, interim suppression only and final suppression only.
A4: For more information on how to interpret these figures, please read the definitions and data notes
A5: Back to contents page
A6: Example interpretation: In 2024/2025, 46% of people convicted of an offence and granted any sort of name suppression received an imprisonment sentence (469 people).
A7: Choose which types to show or hide | C7: Number of convicted people | M7: Percentage of suppression type total
A8: Name suppression type | B8: Most serious sentence | C8: 2015/2016 | D8: 2016/2017 | E8: 2017/2018 | F8: 2018/2019 | G8: 2019/2020 | H8: 2020/2021 | I8: 2021/2022 | J8: 2022/2023 | K8: 2023/2024 | L8: 2024/2025 | M8: 2015/2016 | N8: 2016/2017 | O8: 2017/2018 | P8: 2018/2019 | Q8: 2019/2020 | R8: 2020/2021 | S8: 2021/2022 | T8: 2022/2023 | U8: 2023/2024 | V8: 2024/2025
A9: Total name suppression | B9: Imprisonment | C9: 299 | D9: 285 | E9: 333 | F9: 262 | G9: 297 | H9: 294 | I9: 298 | J9: 364 | K9: 421 | L9: 469 | M9: 0.42 | N9: 0.4 | O9: 0.44 | P9: 0.39 | Q9: 0.41 | R9: 0.38 | S9: 0.39 | T9: 0.42 | U9: 0.45 | V9: 0.46
A10: =A9 -> Total name suppression | B10: Home detention | C10: 113 | D10: 129 | E10: 119 | F10: 143 | G10: 127 | H10: 151 | I10: 156 | J10: 184 | K10: 196 | L10: 226 | M10: 0.16 | N10: 0.18 | O10: 0.16 | P10: 0.22 | Q10: 0.18 | R10: 0.2 | S10: 0.2 | T10: 0.21 | U10: 0.21 | V10: 0.22
A11: =A10 -> Total name suppression | B11: Community detention | C11: 62 | D11: 58 | E11: 56 | F11: 52 | G11: 73 | H11: 85 | I11: 95 | J11: 100 | K11: 93 | L11: 90 | M11: 0.09 | N11: 0.08 | O11: 0.07 | P11: 0.08 | Q11: 0.1 | R11: 0.11 | S11: 0.12 | T11: 0.11 | U11: 0.1 | V11: 0.09
A12: =A11 -> Total name suppression | B12: Intensive supervision | C12: 28 | D12: 30 | E12: 45 | F12: 41 | G12: 38 | H12: 51 | I12: 42 | J12: 45 | K12: 46 | L12: 37 | M12: 0.04 | N12: 0.04 | O12: 0.06 | P12: 0.06 | Q12: 0.05 | R12: 0.07 | S12: 0.05 | T12: 0.05 | U12: 0.05 | V12: 0.04
A13: =A12 -> Total name suppression | B13: Community work | C13: 68 | D13: 60 | E13: 57 | F13: 49 | G13: 31 | H13: 45 | I13: 40 | J13: 30 | K13: 48 | L13: 54 | M13: 0.09 | N13: 0.08 | O13: 0.08 | P13: 0.07 | Q13: 0.04 | R13: 0.06 | S13: 0.05 | T13: 0.03 | U13: 0.05 | V13: 0.05
A14: =A13 -> Total name suppression | B14: Supervision | C14: 44 | D14: 51 | E14: 51 | F14: 39 | G14: 49 | H14: 42 | I14: 49 | J14: 53 | K14: 39 | L14: 36 | M14: 0.06 | N14: 0.07 | O14: 0.07 | P14: 0.06 | Q14: 0.07 | R14: 0.05 | S14: 0.06 | T14: 0.06 | U14: 0.04 | V14: 0.04
A15: =A14 -> Total name suppression | B15: Monetary | C15: 44 | D15: 55 | E15: 49 | F15: 49 | G15: 62 | H15: 60 | I15: 48 | J15: 45 | K15: 55 | L15: 61 | M15: 0.06 | N15: 0.08 | O15: 0.06 | P15: 0.07 | Q15: 0.09 | R15: 0.08 | S15: 0.06 | T15: 0.05 | U15: 0.06 | V15: 0.06
A16: =A15 -> Total name suppression | B16: Deferment | C16: 36 | D16: 22 | E16: 18 | F16: 13 | G16: 9 | H16: 18 | I16: 11 | J16: 15 | K16: 11 | L16: 7 | M16: 0.05 | N16: 0.03 | O16: 0.02 | P16: 0.02 | Q16: 0.01 | R16: 0.02 | S16: 0.01 | T16: 0.02 | U16: 0.01 | V16: 0.01
A17: =A16 -> Total name suppression | B17: Other | C17: 11 | D17: 8 | E17: 9 | F17: 4 | G17: 9 | H17: 4 | I17: 12 | J17: 13 | K17: 7 | L17: 11 | M17: 0.02 | N17: 0.01 | O17: 0.01 | P17: 0.01 | Q17: 0.01 | R17: 0.01 | S17: 0.02 | T17: 0.01 | U17: 0.01 | V17: 0.01
A18: =A17 -> Total name suppression | B18: No sentence recorded | C18: 15 | D18: 18 | E18: 17 | F18: 12 | G18: 25 | H18: 17 | I18: 16 | J18: 22 | K18: 15 | L18: 18 | M18: 0.02 | N18: 0.03 | O18: 0.02 | P18: 0.02 | Q18: 0.03 | R18: 0.02 | S18: 0.02 | T18: 0.03 | U18: 0.02 | V18: 0.02
A19: =A18 -> Total name suppression | B19: Total | C19: 720 | D19: 716 | E19: 754 | F19: 664 | G19: 720 | H19: 767 | I19: 767 | J19: 871 | K19: 931 | L19: 1009 | M19: 1 | N19: 1 | O19: 1 | P19: 1 | Q19: 1 | R19: 1 | S19: 1 | T19: 1 | U19: 1 | V19: 1
A20: Interim and final | B20: Imprisonment | C20: 36 | D20: 34 | E20: 46 | F20: 40 | G20: 39 | H20: 39 | I20: 41 | J20: 29 | K20: 41 | L20: 55 | M20: 0.27 | N20: 0.27 | O20: 0.32 | P20: 0.34 | Q20: 0.28 | R20: 0.28 | S20: 0.31 | T20: 0.23 | U20: 0.32 | V20: 0.45
A21: =A20 -> Interim and final | B21: Home detention | C21: 24 | D21: 27 | E21: 27 | F21: 23 | G21: 23 | H21: 39 | I21: 31 | J21: 32 | K21: 25 | L21: 33 | M21: 0.18 | N21: 0.21 | O21: 0.19 | P21: 0.2 | Q21: 0.17 | R21: 0.28 | S21: 0.23 | T21: 0.25 | U21: 0.2 | V21: 0.27
A22: =A21 -> Interim and final | B22: Community detention | C22: 11 | D22: 15 | E22: 14 | F22: 11 | G22: 24 | H22: 15 | I22: 20 | J22: 16 | K22: 19 | L22: 10 | M22: 0.08 | N22: 0.12 | O22: 0.1 | P22: 0.09 | Q22: 0.18 | R22: 0.11 | S22: 0.15 | T22: 0.13 | U22: 0.15 | V22: 0.08
A23: =A22 -> Interim and final | B23: Intensive supervision | C23: 9 | D23: 8 | E23: 16 | F23: 14 | G23: 7 | H23: 17 | I23: 11 | J23: 12 | K23: 12 | L23: 6 | M23: 0.07 | N23: 0.06 | O23: 0.11 | P23: 0.12 | Q23: 0.05 | R23: 0.12 | S23: 0.08 | T23: 0.1 | U23: 0.09 | V23: 0.05
A24: =A23 -> Interim and final | B24: Community work | C24: 11 | D24: 10 | E24: 11 | F24: 8 | G24: 3 | H24: 5 | I24: 4 | J24: 2 | K24: 6 | L24: 2 | M24: 0.08 | N24: 0.08 | O24: 0.08 | P24: 0.07 | Q24: 0.02 | R24: 0.04 | S24: 0.03 | T24: 0.02 | U24: 0.05 | V24: 0.02
A25: =A24 -> Interim and final | B25: Supervision | C25: 14 | D25: 15 | E25: 13 | F25: 8 | G25: 15 | H25: 8 | I25: 8 | J25: 13 | K25: 12 | L25: 4 | M25: 0.1 | N25: 0.12 | O25: 0.09 | P25: 0.07 | Q25: 0.11 | R25: 0.06 | S25: 0.06 | T25: 0.1 | U25: 0.09 | V25: 0.03
A26: =A25 -> Interim and final | B26: Monetary | C26: 8 | D26: 7 | E26: 5 | F26: 7 | G26: 13 | H26: 9 | I26: 11 | J26: 10 | K26: 8 | L26: 7 | M26: 0.06 | N26: 0.05 | O26: 0.03 | P26: 0.06 | Q26: 0.09 | R26: 0.06 | S26: 0.08 | T26: 0.08 | U26: 0.06 | V26: 0.06
A27: =A26 -> Interim and final | B27: Deferment | C27: 12 | D27: 6 | E27: 7 | F27: 2 | G27: 2 | H27: 4 | I27: 2 | J27: 4 | K27: 1 | L27: 2 | M27: 0.09 | N27: 0.05 | O27: 0.05 | P27: 0.02 | Q27: 0.01 | R27: 0.03 | S27: 0.01 | T27: 0.03 | U27: 0.01 | V27: 0.02
A28: =A27 -> Interim and final | B28: Other | C28: 2 | D28: 2 | E28: 2 | F28: 2 | G28: 3 | H28: 0 | I28: 3 | J28: 4 | K28: 1 | L28: 2 | M28: 0.01 | N28: 0.02 | O28: 0.01 | P28: 0.02 | Q28: 0.02 | R28: 0 | S28: 0.02 | T28: 0.03 | U28: 0.01 | V28: 0.02
A29: =A28 -> Interim and final | B29: No sentence recorded | C29: 8 | D29: 4 | E29: 4 | F29: 2 | G29: 8 | H29: 3 | I29: 3 | J29: 4 | K29: 3 | L29: 2 | M29: 0.06 | N29: 0.03 | O29: 0.03 | P29: 0.02 | Q29: 0.06 | R29: 0.02 | S29: 0.02 | T29: 0.03 | U29: 0.02 | V29: 0.02
A30: =A29 -> Interim and final | B30: Total | C30: 135 | D30: 128 | E30: 145 | F30: 117 | G30: 137 | H30: 139 | I30: 134 | J30: 126 | K30: 128 | L30: 123 | M30: 1 | N30: 1 | O30: 1 | P30: 1 | Q30: 1 | R30: 1 | S30: 1 | T30: 1 | U30: 1 | V30: 1
A31: Interim only | B31: Imprisonment | C31: 236 | D31: 224 | E31: 259 | F31: 209 | G31: 246 | H31: 235 | I31: 246 | J31: 327 | K31: 366 | L31: 392 | M31: 0.47 | N31: 0.45 | O31: 0.49 | P31: 0.42 | Q31: 0.48 | R31: 0.43 | S31: 0.43 | T31: 0.47 | U31: 0.49 | V31: 0.48
A32: =A31 -> Interim only | B32: Home detention | C32: 81 | D32: 94 | E32: 85 | F32: 114 | G32: 94 | H32: 103 | I32: 121 | J32: 142 | K32: 163 | L32: 186 | M32: 0.16 | N32: 0.19 | O32: 0.16 | P32: 0.23 | Q32: 0.18 | R32: 0.19 | S32: 0.21 | T32: 0.21 | U32: 0.22 | V32: 0.23
A33: =A32 -> Interim only | B33: Community detention | C33: 50 | D33: 38 | E33: 38 | F33: 39 | G33: 46 | H33: 60 | I33: 66 | J33: 76 | K33: 66 | L33: 70 | M33: 0.1 | N33: 0.08 | O33: 0.07 | P33: 0.08 | Q33: 0.09 | R33: 0.11 | S33: 0.11 | T33: 0.11 | U33: 0.09 | V33: 0.08
A34: =A33 -> Interim only | B34: Intensive supervision | C34: 16 | D34: 18 | E34: 25 | F34: 21 | G34: 24 | H34: 23 | I34: 24 | J34: 28 | K34: 31 | L34: 30 | M34: 0.03 | N34: 0.04 | O34: 0.05 | P34: 0.04 | Q34: 0.05 | R34: 0.04 | S34: 0.04 | T34: 0.04 | U34: 0.04 | V34: 0.04
A35: =A34 -> Interim only | B35: Community work | C35: 44 | D35: 38 | E35: 36 | F35: 36 | G35: 23 | H35: 36 | I35: 31 | J35: 27 | K35: 38 | L35: 50 | M35: 0.09 | N35: 0.08 | O35: 0.07 | P35: 0.07 | Q35: 0.04 | R35: 0.07 | S35: 0.05 | T35: 0.04 | U35: 0.05 | V35: 0.06
A36: =A35 -> Interim only | B36: Supervision | C36: 17 | D36: 25 | E36: 27 | F36: 23 | G36: 26 | H36: 25 | I36: 30 | J36: 32 | K36: 21 | L36: 26 | M36: 0.03 | N36: 0.05 | O36: 0.05 | P36: 0.05 | Q36: 0.05 | R36: 0.05 | S36: 0.05 | T36: 0.05 | U36: 0.03 | V36: 0.03
A37: =A36 -> Interim only | B37: Monetary | C37: 33 | D37: 36 | E37: 34 | F37: 36 | G37: 37 | H37: 42 | I37: 32 | J37: 26 | K37: 40 | L37: 44 | M37: 0.07 | N37: 0.07 | O37: 0.06 | P37: 0.07 | Q37: 0.07 | R37: 0.08 | S37: 0.06 | T37: 0.04 | U37: 0.05 | V37: 0.05
A38: =A37 -> Interim only | B38: Deferment | C38: 12 | D38: 11 | E38: 4 | F38: 8 | G38: 4 | H38: 10 | I38: 7 | J38: 7 | K38: 6 | L38: 3 | M38: 0.02 | N38: 0.02 | O38: 0.01 | P38: 0.02 | Q38: 0.01 | R38: 0.02 | S38: 0.01 | T38: 0.01 | U38: 0.01 | V38: <1%
A39: =A38 -> Interim only | B39: Other | C39: 6 | D39: 5 | E39: 5 | F39: 0 | G39: 6 | H39: 3 | I39: 9 | J39: 8 | K39: 6 | L39: 7 | M39: 0.01 | N39: 0.01 | O39: 0.01 | P39: 0 | Q39: 0.01 | R39: 0.01 | S39: 0.02 | T39: 0.01 | U39: 0.01 | V39: 0.01
A40: =A39 -> Interim only | B40: No sentence recorded | C40: 4 | D40: 10 | E40: 12 | F40: 7 | G40: 11 | H40: 13 | I40: 12 | J40: 18 | K40: 11 | L40: 16 | M40: 0.01 | N40: 0.02 | O40: 0.02 | P40: 0.01 | Q40: 0.02 | R40: 0.02 | S40: 0.02 | T40: 0.03 | U40: 0.01 | V40: 0.02
...

Sheet 3b.People convictd demographics
A1: Table 3b: Number and percentage of convicted people where name suppression was granted, by suppression type, gender, ethnicity and age group, 2015/2016 - 2024/2025
A2: This data counts a person once per financial year. All of their charges have the same recorded gender and ethnicity information. Age in this table is the person's age at the offence date of their most serious conviction where name suppression was granted.
A3: Total name suppression includes convicted people granted both interim and final suppression, interim suppression only and final suppression only.
A4: 'Multiple ethnicity' information is used in this table. This means for each ethnicity a person is counted once per year (e.g. they may be counted in both European and Māori). As some people have multiple recorded ethnicities this will result in the sum of ethnicities being greater than the total number of people each year.
A5: For more information on how to interpret these figures, please read the definitions and data notes
A6: Back to contents page
A7: Example interpretation: In 2024/2025, 85% of people convicted of an offence and granted any sort of name suppression were male (858 people).
A8: Choose which types to show or hide | C8: Number of convicted people | M8: Percentage of suppression type total
A9: Name suppression type | C9: 2015/2016 | D9: 2016/2017 | E9: 2017/2018 | F9: 2018/2019 | G9: 2019/2020 | H9: 2020/2021 | I9: 2021/2022 | J9: 2022/2023 | K9: 2023/2024 | L9: 2024/2025 | M9: 2015/2016 | N9: 2016/2017 | O9: 2017/2018 | P9: 2018/2019 | Q9: 2019/2020 | R9: 2020/2021 | S9: 2021/2022 | T9: 2022/2023 | U9: 2023/2024 | V9: 2024/2025
A10: Total name suppression | B10: Total | C10: 720 | D10: 716 | E10: 754 | F10: 664 | G10: 720 | H10: 767 | I10: 767 | J10: 871 | K10: 931 | L10: 1009 | M10: 1 | N10: 1 | O10: 1 | P10: 1 | Q10: 1 | R10: 1 | S10: 1 | T10: 1 | U10: 1 | V10: 1
A11: Total name suppression | B11: Gender
A12: Total name suppression | B12: Female | C12: 150 | D12: 145 | E12: 156 | F12: 141 | G12: 121 | H12: 134 | I12: 115 | J12: 116 | K12: 139 | L12: 140 | M12: 0.21 | N12: 0.2 | O12: 0.21 | P12: 0.21 | Q12: 0.17 | R12: 0.17 | S12: 0.15 | T12: 0.13 | U12: 0.15 | V12: 0.14
A13: Total name suppression | B13: Male | C13: 568 | D13: 566 | E13: 587 | F13: 511 | G13: 583 | H13: 629 | I13: 646 | J13: 749 | K13: 779 | L13: 858 | M13: 0.79 | N13: 0.79 | O13: 0.78 | P13: 0.77 | Q13: 0.81 | R13: 0.82 | S13: 0.84 | T13: 0.86 | U13: 0.84 | V13: 0.85
A14: Total name suppression | B14: Organisation | C14: 1 | D14: 3 | E14: 9 | F14: 12 | G14: 15 | H14: 3 | I14: 5 | J14: 5 | K14: 11 | L14: 8 | M14: <1% | N14: <1% | O14: 0.01 | P14: 0.02 | Q14: 0.02 | R14: <1% | S14: 0.01 | T14: 0.01 | U14: 0.01 | V14: 0.01
