Workbook

Sheet Contents
A2: 14
A10: Name suppression
A11: The workbook includes information on finalised charges and people with finalised charges for offences where name suppression (including automatic name suppression) was applied for the person charged. This includes finalised charges with: - both interim and final name suppression - interim suppression only - final suppression only. Charges where name suppression is applied for people other than the person charged, are not included. Information for children and young people with finalised charges in the Youth Court is also not included in any breakdowns, as the Youth Court is closed to the public therefore suppression is implied.
A13: Contents: | B13: ='1a.Charges by suppression type'!A1 -> Table 1a: Total number and percentage of finalised charges, by whether name suppression was granted, 2015/2016 - 2024/2025
B14: ='1b.Charges by outcome'!A1 -> Table 1b: Number and percentage of finalised charges where name suppression was granted, by suppression type and charge outcome, 2015/2016 - 2024/2025
B15: ='1c.Charges by offence'!A1 -> Table 1c: Number and percentage of finalised charges where name suppression was granted, by suppression type and offence type, 2015/2016 - 2024/2025
B17: ='2a.People charged by outcome'!A1 -> Table 2a: Number and percentage of people granted name suppression, by suppression type and charge outcome type, 2015/2016 - 2024/2025
B18: ='2b.People charged by offence'!A1 -> Table 2b: Number and percentage of people granted name suppression, by suppression type and offence type, 2015/2016 - 2024/2025
B19: ='2c.People charged demographics'!A1 -> Table 2c: Number and percentage of people granted name suppression, by suppression type, gender, ethnicity and age group, 2015/2016 - 2024/2025
B21: ='3a.People convicted by sentence'!A1 -> Table 3a: Number and percentage of convicted people where name suppression was granted, by suppression type and most serious sentence, 2015/2016 - 2024/2025
B22: ='3b.People convictd demographics'!A1 -> Table 3b: Number and percentage of convicted people where name suppression was granted, by suppression type, gender, ethnicity and age group, 2015/2016 - 2024/2025
B24: ='Definitions and data notes'!A1 -> Definitions and data notes
A26: If this information does not answer your query you may wish to request specific information via an Official Information Act request. Information on this process is available on the Ministry website: https://www.justice.govt.nz/about/official-information-act-requests/
A28: Published 16 September 2025

Sheet 1a.Charges by suppression type
A1: Table 1a: Total number and percentage of finalised charges, by whether name suppression was granted, 2015/2016 - 2024/2025
A2: For more information on how to interpret these figures, please read the definitions and data notes
A3: Back to contents page
A4: Example interpretation: In 2024/2025, 3% of finalised charges had interim name suppression only (7,806 charges).
B5: Number of charges | L5: Percentage of total
A6: Name suppression type | B6: 2015/2016 | C6: 2016/2017 | D6: 2017/2018 | E6: 2018/2019 | F6: 2019/2020 | G6: 2020/2021 | H6: 2021/2022 | I6: 2022/2023 | J6: 2023/2024 | K6: 2024/2025 | L6: 2015/2016 | M6: 2016/2017 | N6: 2017/2018 | O6: 2018/2019 | P6: 2019/2020 | Q6: 2020/2021 | R6: 2021/2022 | S6: 2022/2023 | T6: 2023/2024 | U6: 2024/2025
A7: Interim and final | B7: 1359 | C7: 1255 | D7: 1375 | E7: 1126 | F7: 1276 | G7: 1322 | H7: 1329 | I7: 1321 | J7: 1470 | K7: 1515 | L7: 0.01 | M7: 0.01 | N7: 0.01 | O7: 0.01 | P7: 0.01 | Q7: 0.01 | R7: 0.01 | S7: 0.01 | T7: 0.01 | U7: 0.01
A8: Interim only | B8: 4927 | C8: 4228 | D8: 4777 | E8: 4060 | F8: 4652 | G8: 4521 | H8: 4799 | I8: 6609 | J8: 7456 | K8: 7806 | L8: 0.02 | M8: 0.02 | N8: 0.02 | O8: 0.02 | P8: 0.02 | Q8: 0.02 | R8: 0.03 | S8: 0.03 | T8: 0.03 | U8: 0.03
A9: Final only | B9: 522 | C9: 433 | D9: 575 | E9: 251 | F9: 538 | G9: 526 | H9: 392 | I9: 335 | J9: 379 | K9: 562 | L9: <1% | M9: <1% | N9: <1% | O9: <1% | P9: <1% | Q9: <1% | R9: <1% | S9: <1% | T9: <1% | U9: <1%
A10: Youth Court | B10: 8562 | C10: 9231 | D10: 8441 | E10: 7160 | F10: 7389 | G10: 7559 | H10: 6848 | I10: 8864 | J10: 11650 | K10: 10534 | L10: 0.04 | M10: 0.04 | N10: 0.04 | O10: 0.03 | P10: 0.04 | Q10: 0.04 | R10: 0.04 | S10: 0.05 | T10: 0.05 | U10: 0.05
A11: No name suppression | B11: 204815 | C11: 210784 | D11: 206589 | E11: 200275 | F11: 190711 | G11: 198136 | H11: 154820 | I11: 175184 | J11: 195578 | K11: 205900 | L11: 0.93 | M11: 0.93 | N11: 0.93 | O11: 0.94 | P11: 0.93 | Q11: 0.93 | R11: 0.92 | S11: 0.91 | T11: 0.9 | U11: 0.91
A12: Total charges | B12: 220185 | C12: 225931 | D12: 221757 | E12: 212872 | F12: 204566 | G12: 212064 | H12: 168188 | I12: 192313 | J12: 216533 | K12: 226317 | L12: 1 | M12: 1 | N12: 1 | O12: 1 | P12: 1 | Q12: 1 | R12: 1 | S12: 1 | T12: 1 | U12: 1

Sheet 1b.Charges by outcome
A1: Table 1b: Number and percentage of finalised charges where name suppression was granted, by suppression type and charge outcome, 2015/2016 - 2024/2025
A2: Total name suppression includes finalised charges where both interim and final suppression, interim suppression only and final suppression only were granted. Charges finalised in the Youth Court are not included as the Youth Court is closed to the public therefore suppression is implied.
A3: For more information on how to interpret these figures, please read the definitions and data notes
A4: Back to contents page
A5: Example interpretation: In 2024/2025, 45% of finalised charges with name suppression were convicted (4,495 charges).
C6: Number of charges | M6: Percentage of suppression type total
A7: Name suppression type | B7: Charge outcome | C7: 2015/2016 | D7: 2016/2017 | E7: 2017/2018 | F7: 2018/2019 | G7: 2019/2020 | H7: 2020/2021 | I7: 2021/2022 | J7: 2022/2023 | K7: 2023/2024 | L7: 2024/2025 | M7: 2015/2016 | N7: 2016/2017 | O7: 2017/2018 | P7: 2018/2019 | Q7: 2019/2020 | R7: 2020/2021 | S7: 2021/2022 | T7: 2022/2023 | U7: 2023/2024 | V7: 2024/2025
A8: Total name suppression | B8: Convicted | C8: 3289 | D8: 3204 | E8: 3420 | F8: 2994 | G8: 3333 | H8: 3096 | I8: 3129 | J8: 3977 | K8: 4321 | L8: 4495 | M8: 0.48 | N8: 0.54 | O8: 0.51 | P8: 0.55 | Q8: 0.52 | R8: 0.49 | S8: 0.48 | T8: 0.48 | U8: 0.46 | V8: 0.45
B9: Other proved | C9: 211 | D9: 200 | E9: 206 | F9: 269 | G9: 219 | H9: 234 | I9: 186 | J9: 274 | K9: 324 | L9: 388 | M9: 0.03 | N9: 0.03 | O9: 0.03 | P9: 0.05 | Q9: 0.03 | R9: 0.04 | S9: 0.03 | T9: 0.03 | U9: 0.03 | V9: 0.04
B10: Not proved | C10: 3174 | D10: 2368 | E10: 2961 | F10: 2089 | G10: 2791 | H10: 2836 | I10: 2969 | J10: 3712 | K10: 4265 | L10: 4737 | M10: 0.47 | N10: 0.4 | O10: 0.44 | P10: 0.38 | Q10: 0.43 | R10: 0.45 | S10: 0.46 | T10: 0.45 | U10: 0.46 | V10: 0.48
B11: Other | C11: 134 | D11: 144 | E11: 140 | F11: 85 | G11: 123 | H11: 203 | I11: 236 | J11: 302 | K11: 395 | L11: 263 | M11: 0.02 | N11: 0.02 | O11: 0.02 | P11: 0.02 | Q11: 0.02 | R11: 0.03 | S11: 0.04 | T11: 0.04 | U11: 0.04 | V11: 0.03
B12: Total | C12: 6808 | D12: 5916 | E12: 6727 | F12: 5437 | G12: 6466 | H12: 6369 | I12: 6520 | J12: 8265 | K12: 9305 | L12: 9883 | M12: 1 | N12: 1 | O12: 1 | P12: 1 | Q12: 1 | R12: 1 | S12: 1 | T12: 1 | U12: 1 | V12: 1
A13: Interim and final | B13: Convicted | C13: 605 | D13: 621 | E13: 727 | F13: 618 | G13: 684 | H13: 569 | I13: 542 | J13: 486 | K13: 585 | L13: 600 | M13: 0.45 | N13: 0.49 | O13: 0.53 | P13: 0.55 | Q13: 0.54 | R13: 0.43 | S13: 0.41 | T13: 0.37 | U13: 0.4 | V13: 0.4
B14: Other proved | C14: 115 | D14: 74 | E14: 38 | F14: 77 | G14: 83 | H14: 80 | I14: 81 | J14: 147 | K14: 126 | L14: 123 | M14: 0.08 | N14: 0.06 | O14: 0.03 | P14: 0.07 | Q14: 0.07 | R14: 0.06 | S14: 0.06 | T14: 0.11 | U14: 0.09 | V14: 0.08
B15: Not proved | C15: 575 | D15: 503 | E15: 536 | F15: 423 | G15: 478 | H15: 602 | I15: 599 | J15: 588 | K15: 678 | L15: 720 | M15: 0.42 | N15: 0.4 | O15: 0.39 | P15: 0.38 | Q15: 0.37 | R15: 0.46 | S15: 0.45 | T15: 0.45 | U15: 0.46 | V15: 0.48
B16: Other | C16: 64 | D16: 57 | E16: 74 | F16: 8 | G16: 31 | H16: 71 | I16: 107 | J16: 100 | K16: 81 | L16: 72 | M16: 0.05 | N16: 0.05 | O16: 0.05 | P16: 0.01 | Q16: 0.02 | R16: 0.05 | S16: 0.08 | T16: 0.08 | U16: 0.06 | V16: 0.05
B17: Total | C17: 1359 | D17: 1255 | E17: 1375 | F17: 1126 | G17: 1276 | H17: 1322 | I17: 1329 | J17: 1321 | K17: 1470 | L17: 1515 | M17: 1 | N17: 1 | O17: 1 | P17: 1 | Q17: 1 | R17: 1 | S17: 1 | T17: 1 | U17: 1 | V17: 1
A18: Interim only | B18: Convicted | C18: 2422 | D18: 2310 | E18: 2343 | F18: 2249 | G18: 2419 | H18: 2187 | I18: 2396 | J18: 3348 | K18: 3524 | L18: 3626 | M18: 0.49 | N18: 0.55 | O18: 0.49 | P18: 0.55 | Q18: 0.52 | R18: 0.48 | S18: 0.5 | T18: 0.51 | U18: 0.47 | V18: 0.46
B19: Other proved | C19: 72 | D19: 95 | E19: 92 | F19: 144 | G19: 99 | H19: 104 | I19: 86 | J19: 100 | K19: 166 | L19: 232 | M19: 0.01 | N19: 0.02 | O19: 0.02 | P19: 0.04 | Q19: 0.02 | R19: 0.02 | S19: 0.02 | T19: 0.02 | U19: 0.02 | V19: 0.03
B20: Not proved | C20: 2363 | D20: 1755 | E20: 2294 | F20: 1598 | G20: 2056 | H20: 2121 | I20: 2205 | J20: 2989 | K20: 3462 | L20: 3773 | M20: 0.48 | N20: 0.42 | O20: 0.48 | P20: 0.39 | Q20: 0.44 | R20: 0.47 | S20: 0.46 | T20: 0.45 | U20: 0.46 | V20: 0.48
B21: Other | C21: 70 | D21: 68 | E21: 48 | F21: 69 | G21: 78 | H21: 109 | I21: 112 | J21: 172 | K21: 304 | L21: 175 | M21: 0.01 | N21: 0.02 | O21: 0.01 | P21: 0.02 | Q21: 0.02 | R21: 0.02 | S21: 0.02 | T21: 0.03 | U21: 0.04 | V21: 0.02
B22: Total | C22: 4927 | D22: 4228 | E22: 4777 | F22: 4060 | G22: 4652 | H22: 4521 | I22: 4799 | J22: 6609 | K22: 7456 | L22: 7806 | M22: 1 | N22: 1 | O22: 1 | P22: 1 | Q22: 1 | R22: 1 | S22: 1 | T22: 1 | U22: 1 | V22: 1
A23: Final only | B23: Convicted | C23: 262 | D23: 273 | E23: 350 | F23: 127 | G23: 230 | H23: 340 | I23: 191 | J23: 143 | K23: 212 | L23: 269 | M23: 0.5 | N23: 0.63 | O23: 0.61 | P23: 0.51 | Q23: 0.43 | R23: 0.65 | S23: 0.49 | T23: 0.43 | U23: 0.56 | V23: 0.48
B24: Other proved | C24: 24 | D24: 31 | E24: 76 | F24: 48 | G24: 37 | H24: 50 | I24: 19 | J24: 27 | K24: 32 | L24: 33 | M24: 0.05 | N24: 0.07 | O24: 0.13 | P24: 0.19 | Q24: 0.07 | R24: 0.1 | S24: 0.05 | T24: 0.08 | U24: 0.08 | V24: 0.06
B25: Not proved | C25: 236 | D25: 110 | E25: 131 | F25: 68 | G25: 257 | H25: 113 | I25: 165 | J25: 135 | K25: 125 | L25: 244 | M25: 0.45 | N25: 0.25 | O25: 0.23 | P25: 0.27 | Q25: 0.48 | R25: 0.21 | S25: 0.42 | T25: 0.4 | U25: 0.33 | V25: 0.43
B26: Other | C26: 0 | D26: 19 | E26: 18 | F26: 8 | G26: 14 | H26: 23 | I26: 17 | J26: 30 | K26: 10 | L26: 16 | M26: 0 | N26: 0.04 | O26: 0.03 | P26: 0.03 | Q26: 0.03 | R26: 0.04 | S26: 0.04 | T26: 0.09 | U26: 0.03 | V26: 0.03
B27: Total | C27: 522 | D27: 433 | E27: 575 | F27: 251 | G27: 538 | H27: 526 | I27: 392 | J27: 335 | K27: 379 | L27: 562 | M27: 1 | N27: 1 | O27: 1 | P27: 1 | Q27: 1 | R27: 1 | S27: 1 | T27: 1 | U27: 1 | V27: 1

Sheet 1c.Charges by offence
A1: Table 1c: Number and percentage of finalised charges where name suppression was granted, by suppression type and offence type, 2015/2016 - 2024/2025
A2: Total name suppression includes finalised charges where both interim and final suppression, interim suppression only and final suppression only were granted. Charges finalised in the Youth Court are not included as the Youth Court is closed to the public therefore suppression is implied.
A3: For more information on how to interpret these figures, please read the definitions and data notes
A4: Back to contents page
A5: Example interpretation: In 2024/2025, 40% of finalised charges where name suppression was granted were for sexual offences (3,986 charges).
A6: Choose which types to show or hide | C6: Number of charges | M6: Percentage of suppression type total
A7: Name suppression type | B7: Offence type (ANZSOC division) | C7: 2015/2016 | D7: 2016/2017 | E7: 2017/2018 | F7: 2018/2019 | G7: 2019/2020 | H7: 2020/2021 | I7: 2021/2022 | J7: 2022/2023 | K7: 2023/2024 | L7: 2024/2025 | M7: 2015/2016 | N7: 2016/2017 | O7: 2017/2018 | P7: 2018/2019 | Q7: 2019/2020 | R7: 2020/2021 | S7: 2021/2022 | T7: 2022/2023 | U7: 2023/2024 | V7: 2024/2025
A8: Total name suppression | B8: 01: Homicide | C8: 85 | D8: 78 | E8: 65 | F8: 62 | G8: 86 | H8: 129 | I8: 129 | J8: 126 | K8: 152 | L8: 165 | M8: 0.01 | N8: 0.01 | O8: 0.01 | P8: 0.01 | Q8: 0.01 | R8: 0.02 | S8: 0.02 | T8: 0.02 | U8: 0.02 | V8: 0.02
A9: =A8 -> Total name suppression | B9: 02: Assault | C9: 936 | D9: 898 | E9: 803 | F9: 488 | G9: 713 | H9: 885 | I9: 857 | J9: 965 | K9: 1044 | L9: 1349 | M9: 0.14 | N9: 0.15 | O9: 0.12 | P9: 0.09 | Q9: 0.11 | R9: 0.14 | S9: 0.13 | T9: 0.12 | U9: 0.11 | V9: 0.14
A10: =A9 -> Total name suppression | B10: 03: Sexual offences | C10: 2638 | D10: 1892 | E10: 2621 | F10: 2140 | G10: 2259 | H10: 2687 | I10: 2710 | J10: 3206 | K10: 3479 | L10: 3986 | M10: 0.39 | N10: 0.32 | O10: 0.39 | P10: 0.39 | Q10: 0.35 | R10: 0.42 | S10: 0.42 | T10: 0.39 | U10: 0.37 | V10: 0.4
A11: =A10 -> Total name suppression | B11: 04: Harm or endanger persons | C11: 226 | D11: 242 | E11: 241 | F11: 240 | G11: 230 | H11: 328 | I11: 318 | J11: 370 | K11: 320 | L11: 354 | M11: 0.03 | N11: 0.04 | O11: 0.04 | P11: 0.04 | Q11: 0.04 | R11: 0.05 | S11: 0.05 | T11: 0.04 | U11: 0.03 | V11: 0.04
A12: =A11 -> Total name suppression | B12: 05: Robbery, blackmail, and extortion | C12: 41 | D12: 46 | E12: 68 | F12: 57 | G12: 49 | H12: 55 | I12: 53 | J12: 83 | K12: 101 | L12: 70 | M12: 0.01 | N12: 0.01 | O12: 0.01 | P12: 0.01 | Q12: 0.01 | R12: 0.01 | S12: 0.01 | T12: 0.01 | U12: 0.01 | V12: 0.01
A13: =A12 -> Total name suppression | B13: 06: Burglary | C13: 60 | D13: 90 | E13: 71 | F13: 64 | G13: 63 | H13: 69 | I13: 83 | J13: 108 | K13: 237 | L13: 101 | M13: 0.01 | N13: 0.02 | O13: 0.01 | P13: 0.01 | Q13: 0.01 | R13: 0.01 | S13: 0.01 | T13: 0.01 | U13: 0.03 | V13: 0.01
A14: =A13 -> Total name suppression | B14: 07: Theft | C14: 91 | D14: 160 | E14: 184 | F14: 137 | G14: 111 | H14: 112 | I14: 128 | J14: 188 | K14: 321 | L14: 257 | M14: 0.01 | N14: 0.03 | O14: 0.03 | P14: 0.03 | Q14: 0.02 | R14: 0.02 | S14: 0.02 | T14: 0.02 | U14: 0.03 | V14: 0.03
A15: =A14 -> Total name suppression | B15: 08: Fraud and related offences | C15: 919 | D15: 1143 | E15: 1046 | F15: 941 | G15: 973 | H15: 571 | I15: 541 | J15: 974 | K15: 703 | L15: 1096 | M15: 0.13 | N15: 0.19 | O15: 0.16 | P15: 0.17 | Q15: 0.15 | R15: 0.09 | S15: 0.08 | T15: 0.12 | U15: 0.08 | V15: 0.11
A16: =A15 -> Total name suppression | B16: 09: Drug offences | C16: 620 | D16: 486 | E16: 585 | F16: 337 | G16: 647 | H16: 536 | I16: 535 | J16: 838 | K16: 1310 | L16: 1033 | M16: 0.09 | N16: 0.08 | O16: 0.09 | P16: 0.06 | Q16: 0.1 | R16: 0.08 | S16: 0.08 | T16: 0.1 | U16: 0.14 | V16: 0.1
A17: =A16 -> Total name suppression | B17: 10: Weapons and explosives offences | C17: 82 | D17: 102 | E17: 77 | F17: 72 | G17: 144 | H17: 176 | I17: 159 | J17: 252 | K17: 303 | L17: 249 | M17: 0.01 | N17: 0.02 | O17: 0.01 | P17: 0.01 | Q17: 0.02 | R17: 0.03 | S17: 0.02 | T17: 0.03 | U17: 0.03 | V17: 0.03
A18: =A17 -> Total name suppression | B18: 11: Property damage | C18: 70 | D18: 95 | E18: 109 | F18: 61 | G18: 114 | H18: 89 | I18: 108 | J18: 145 | K18: 199 | L18: 193 | M18: 0.01 | N18: 0.02 | O18: 0.02 | P18: 0.01 | Q18: 0.02 | R18: 0.01 | S18: 0.02 | T18: 0.02 | U18: 0.02 | V18: 0.02
A19: =A18 -> Total name suppression | B19: 12: Public order, health, and safety offences | C19: 457 | D19: 237 | E19: 195 | F19: 248 | G19: 276 | H19: 237 | I19: 279 | J19: 318 | K19: 329 | L19: 299 | M19: 0.07 | N19: 0.04 | O19: 0.03 | P19: 0.05 | Q19: 0.04 | R19: 0.04 | S19: 0.04 | T19: 0.04 | U19: 0.04 | V19: 0.03
A20: =A19 -> Total name suppression | B20: 13: Traffic and vehicle offences | C20: 88 | D20: 73 | E20: 96 | F20: 76 | G20: 119 | H20: 145 | I20: 144 | J20: 188 | K20: 187 | L20: 160 | M20: 0.01 | N20: 0.01 | O20: 0.01 | P20: 0.01 | Q20: 0.02 | R20: 0.02 | S20: 0.02 | T20: 0.02 | U20: 0.02 | V20: 0.02
A21: =A20 -> Total name suppression | B21: 14: Offences against justice procedures and orders | C21: 199 | D21: 168 | E21: 220 | F21: 227 | G21: 456 | H21: 273 | I21: 268 | J21: 329 | K21: 436 | L21: 384 | M21: 0.03 | N21: 0.03 | O21: 0.03 | P21: 0.04 | Q21: 0.07 | R21: 0.04 | S21: 0.04 | T21: 0.04 | U21: 0.05 | V21: 0.04
A22: =A21 -> Total name suppression | B22: 15: Offences against government | C22: 176 | D22: 153 | E22: 164 | F22: 178 | G22: 17 | H22: 18 | I22: 24 | J22: 54 | K22: 35 | L22: 44 | M22: 0.03 | N22: 0.03 | O22: 0.02 | P22: 0.03 | Q22: <1% | R22: <1% | S22: <1% | T22: 0.01 | U22: <1% | V22: <1%
A23: =A22 -> Total name suppression | B23: 16: Environmental offences | C23: 52 | D23: 15 | E23: 126 | F23: 51 | G23: 95 | H23: 23 | I23: 137 | J23: 54 | K23: 39 | L23: 80 | M23: 0.01 | N23: <1% | O23: 0.02 | P23: 0.01 | Q23: 0.01 | R23: <1% | S23: 0.02 | T23: 0.01 | U23: <1% | V23: 0.01
A24: =A23 -> Total name suppression | B24: 17: Miscellaneous offences | C24: 68 | D24: 38 | E24: 56 | F24: 58 | G24: 114 | H24: 36 | I24: 47 | J24: 67 | K24: 110 | L24: 63 | M24: 0.01 | N24: 0.01 | O24: 0.01 | P24: 0.01 | Q24: 0.02 | R24: 0.01 | S24: 0.01 | T24: 0.01 | U24: 0.01 | V24: 0.01
A25: =A23 -> Total name suppression | B25: Total | C25: 6808 | D25: 5916 | E25: 6727 | F25: 5437 | G25: 6466 | H25: 6369 | I25: 6520 | J25: 8265 | K25: 9305 | L25: 9883 | M25: 1 | N25: 1 | O25: 1 | P25: 1 | Q25: 1 | R25: 1 | S25: 1 | T25: 1 | U25: 1 | V25: 1
A26: Interim and final | B26: 01: Homicide | C26: 9 | D26: 7 | E26: 2 | F26: 2 | G26: 4 | H26: 13 | I26: 12 | J26: 3 | K26: 11 | L26: 26 | M26: 0.01 | N26: 0.01 | O26: <1% | P26: <1% | Q26: <1% | R26: 0.01 | S26: 0.01 | T26: <1% | U26: 0.01 | V26: 0.02
A27: =A26 -> Interim and final | B27: 02: Assault | C27: 247 | D27: 339 | E27: 192 | F27: 150 | G27: 129 | H27: 185 | I27: 238 | J27: 194 | K27: 175 | L27: 191 | M27: 0.18 | N27: 0.27 | O27: 0.14 | P27: 0.13 | Q27: 0.1 | R27: 0.14 | S27: 0.18 | T27: 0.15 | U27: 0.12 | V27: 0.13
A28: =A27 -> Interim and final | B28: 03: Sexual offences | C28: 584 | D28: 410 | E28: 749 | F28: 575 | G28: 692 | H28: 714 | I28: 684 | J28: 718 | K28: 748 | L28: 766 | M28: 0.43 | N28: 0.33 | O28: 0.54 | P28: 0.51 | Q28: 0.54 | R28: 0.54 | S28: 0.51 | T28: 0.54 | U28: 0.51 | V28: 0.51
A29: =A28 -> Interim and final | B29: 04: Harm or endanger persons | C29: 40 | D29: 52 | E29: 45 | F29: 94 | G29: 73 | H29: 71 | I29: 72 | J29: 49 | K29: 42 | L29: 41 | M29: 0.03 | N29: 0.04 | O29: 0.03 | P29: 0.08 | Q29: 0.06 | R29: 0.05 | S29: 0.05 | T29: 0.04 | U29: 0.03 | V29: 0.03
A30: =A29 -> Interim and final | B30: 05: Robbery, blackmail, and extortion | C30: 7 | D30: 0 | E30: 14 | F30: 7 | G30: 6 | H30: 12 | I30: 10 | J30: 6 | K30: 4 | L30: 6 | M30: 0.01 | N30: 0 | O30: 0.01 | P30: 0.01 | Q30: <1% | R30: 0.01 | S30: 0.01 | T30: <1% | U30: <1% | V30: <1%
A31: =A30 -> Interim and final | B31: 06: Burglary | C31: 7 | D31: 1 | E31: 6 | F31: 5 | G31: 12 | H31: 18 | I31: 13 | J31: 7 | K31: 11 | L31: 7 | M31: 0.01 | N31: <1% | O31: <1% | P31: <1% | Q31: 0.01 | R31: 0.01 | S31: 0.01 | T31: 0.01 | U31: 0.01 | V31: <1%
A32: =A31 -> Interim and final | B32: 07: Theft | C32: 11 | D32: 24 | E32: 36 | F32: 21 | G32: 34 | H32: 23 | I32: 15 | J32: 15 | K32: 46 | L32: 68 | M32: 0.01 | N32: 0.02 | O32: 0.03 | P32: 0.02 | Q32: 0.03 | R32: 0.02 | S32: 0.01 | T32: 0.01 | U32: 0.03 | V32: 0.04
A33: =A32 -> Interim and final | B33: 08: Fraud and related offences | C33: 254 | D33: 200 | E33: 155 | F33: 66 | G33: 55 | H33: 85 | I33: 59 | J33: 35 | K33: 130 | L33: 126 | M33: 0.19 | N33: 0.16 | O33: 0.11 | P33: 0.06 | Q33: 0.04 | R33: 0.06 | S33: 0.04 | T33: 0.03 | U33: 0.09 | V33: 0.08
A34: =A33 -> Interim and final | B34: 09: Drug offences | C34: 10 | D34: 25 | E34: 51 | F34: 45 | G34: 41 | H34: 54 | I34: 30 | J34: 68 | K34: 114 | L34: 70 | M34: 0.01 | N34: 0.02 | O34: 0.04 | P34: 0.04 | Q34: 0.03 | R34: 0.04 | S34: 0.02 | T34: 0.05 | U34: 0.08 | V34: 0.05
A35: =A34 -> Interim and final | B35: 10: Weapons and explosives offences | C35: 7 | D35: 16 | E35: 4 | F35: 10 | G35: 18 | H35: 18 | I35: 14 | J35: 25 | K35: 35 | L35: 20 | M35: 0.01 | N35: 0.01 | O35: <1% | P35: 0.01 | Q35: 0.01 | R35: 0.01 | S35: 0.01 | T35: 0.02 | U35: 0.02 | V35: 0.01
A36: =A35 -> Interim and final | B36: 11: Property damage | C36: 10 | D36: 32 | E36: 15 | F36: 14 | G36: 24 | H36: 12 | I36: 26 | J36: 34 | K36: 25 | L36: 61 | M36: 0.01 | N36: 0.03 | O36: 0.01 | P36: 0.01 | Q36: 0.02 | R36: 0.01 | S36: 0.02 | T36: 0.03 | U36: 0.02 | V36: 0.04
A37: =A36 -> Interim and final | B37: 12: Public order, health, and safety offences | C37: 76 | D37: 101 | E37: 46 | F37: 49 | G37: 109 | H37: 41 | I37: 78 | J37: 59 | K37: 24 | L37: 52 | M37: 0.06 | N37: 0.08 | O37: 0.03 | P37: 0.04 | Q37: 0.09 | R37: 0.03 | S37: 0.06 | T37: 0.04 | U37: 0.02 | V37: 0.03
A38: =A37 -> Interim and final | B38: 13: Traffic and vehicle offences | C38: 17 | D38: 9 | E38: 11 | F38: 12 | G38: 23 | H38: 23 | I38: 24 | J38: 31 | K38: 29 | L38: 19 | M38: 0.01 | N38: 0.01 | O38: 0.01 | P38: 0.01 | Q38: 0.02 | R38: 0.02 | S38: 0.02 | T38: 0.02 | U38: 0.02 | V38: 0.01
A39: =A38 -> Interim and final | B39: 14: Offences against justice procedures and orders | C39: 39 | D39: 36 | E39: 35 | F39: 46 | G39: 33 | H39: 40 | I39: 31 | J39: 55 | K39: 39 | L39: 39 | M39: 0.03 | N39: 0.03 | O39: 0.03 | P39: 0.04 | Q39: 0.03 | R39: 0.03 | S39: 0.02 | T39: 0.04 | U39: 0.03 | V39: 0.03
A40: =A39 -> Interim and final | B40: 15: Offences against government | C40: 0 | D40: 0 | E40: 10 | F40: 28 | G40: 1 | H40: 1 | I40: 0 | J40: 0 | K40: 12 | L40: 4 | M40: 0 | N40: 0 | O40: 0.01 | P40: 0.02 | Q40: <1% | R40: <1% | S40: 0 | T40: 0 | U40: 0.01 | V40: <1%
A41: =A40 -> Interim and final | B41: 16: Environmental offences | C41: 8 | D41: 2 | E41: 2 | F41: 0 | G41: 15 | H41: 5 | I41: 22 | J41: 16 | K41: 4 | L41: 3 | M41: 0.01 | N41: <1% | O41: <1% | P41: 0 | Q41: 0.01 | R41: <1% | S41: 0.02 | T41: 0.01 | U41: <1% | V41: <1%
A42: =A41 -> Interim and final | B42: 17: Miscellaneous offences | C42: 33 | D42: 1 | E42: 2 | F42: 2 | G42: 7 | H42: 7 | I42: 1 | J42: 6 | K42: 21 | L42: 16 | M42: 0.02 | N42: <1% | O42: <1% | P42: <1% | Q42: 0.01 | R42: 0.01 | S42: <1% | T42: <1% | U42: 0.01 | V42: 0.01
A43: =A41 -> Interim and final | B43: Total | C43: 1359 | D43: 1255 | E43: 1375 | F43: 1126 | G43: 1276 | H43: 1322 | I43: 1329 | J43: 1321 | K43: 1470 | L43: 1515 | M43: 1 | N43: 1 | O43: 1 | P43: 1 | Q43: 1 | R43: 1 | S43: 1 | T43: 1 | U43: 1 | V43: 1
A44: Interim only | B44: 01: Homicide | C44: 75 | D44: 70 | E44: 62 | F44: 59 | G44: 82 | H44: 116 | I44: 117 | J44: 122 | K44: 137 | L44: 138 | M44: 0.02 | N44: 0.02 | O44: 0.01 | P44: 0.01 | Q44: 0.02 | R44: 0.03 | S44: 0.02 | T44: 0.02 | U44: 0.02 | V44: 0.02
A45: =A44 -> Interim only | B45: 02: Assault | C45: 579 | D45: 417 | E45: 498 | F45: 297 | G45: 511 | H45: 581 | I45: 529 | J45: 691 | K45: 781 | L45: 1008 | M45: 0.12 | N45: 0.1 | O45: 0.1 | P45: 0.07 | Q45: 0.11 | R45: 0.13 | S45: 0.11 | T45: 0.1 | U45: 0.1 | V45: 0.13
A46: =A45 -> Interim only | B46: 03: Sexual offences | C46: 1834 | D46: 1343 | E46: 1684 | F46: 1505 | G46: 1280 | H46: 1788 | I46: 1889 | J46: 2429 | K46: 2642 | L46: 3005 | M46: 0.37 | N46: 0.32 | O46: 0.35 | P46: 0.37 | Q46: 0.28 | R46: 0.4 | S46: 0.39 | T46: 0.37 | U46: 0.35 | V46: 0.38
A47: =A46 -> Interim only | B47: 04: Harm or endanger persons | C47: 130 | D47: 164 | E47: 160 | F47: 128 | G47: 134 | H47: 202 | I47: 203 | J47: 299 | K47: 241 | L47: 264 | M47: 0.03 | N47: 0.04 | O47: 0.03 | P47: 0.03 | Q47: 0.03 | R47: 0.04 | S47: 0.04 | T47: 0.05 | U47: 0.03 | V47: 0.03
A48: =A47 -> Interim only | B48: 05: Robbery, blackmail, and extortion | C48: 31 | D48: 43 | E48: 53 | F48: 44 | G48: 43 | H48: 42 | I48: 40 | J48: 72 | K48: 95 | L48: 63 | M48: 0.01 | N48: 0.01 | O48: 0.01 | P48: 0.01 | Q48: 0.01 | R48: 0.01 | S48: 0.01 | T48: 0.01 | U48: 0.01 | V48: 0.01
A49: =A48 -> Interim only | B49: 06: Burglary | C49: 47 | D49: 77 | E49: 62 | F49: 55 | G49: 46 | H49: 43 | I49: 70 | J49: 85 | K49: 220 | L49: 87 | M49: 0.01 | N49: 0.02 | O49: 0.01 | P49: 0.01 | Q49: 0.01 | R49: 0.01 | S49: 0.01 | T49: 0.01 | U49: 0.03 | V49: 0.01
A50: =A49 -> Interim only | B50: 07: Theft | C50: 62 | D50: 129 | E50: 127 | F50: 113 | G50: 64 | H50: 82 | I50: 102 | J50: 156 | K50: 264 | L50: 176 | M50: 0.01 | N50: 0.03 | O50: 0.03 | P50: 0.03 | Q50: 0.01 | R50: 0.02 | S50: 0.02 | T50: 0.02 | U50: 0.04 | V50: 0.02
A51: =A50 -> Interim only | B51: 08: Fraud and related offences | C51: 659 | D51: 914 | E51: 871 | F51: 842 | G51: 863 | H51: 479 | I51: 462 | J51: 925 | K51: 529 | L51: 941 | M51: 0.13 | N51: 0.22 | O51: 0.18 | P51: 0.21 | Q51: 0.19 | R51: 0.11 | S51: 0.1 | T51: 0.14 | U51: 0.07 | V51: 0.12
A52: =A51 -> Interim only | B52: 09: Drug offences | C52: 585 | D52: 450 | E52: 470 | F52: 286 | G52: 597 | H52: 469 | I52: 489 | J52: 766 | K52: 1174 | L52: 944 | M52: 0.12 | N52: 0.11 | O52: 0.1 | P52: 0.07 | Q52: 0.13 | R52: 0.1 | S52: 0.1 | T52: 0.12 | U52: 0.16 | V52: 0.12
A53: =A52 -> Interim only | B53: 10: Weapons and explosives offences | C53: 67 | D53: 79 | E53: 68 | F53: 60 | G53: 123 | H53: 144 | I53: 142 | J53: 217 | K53: 263 | L53: 220 | M53: 0.01 | N53: 0.02 | O53: 0.01 | P53: 0.01 | Q53: 0.03 | R53: 0.03 | S53: 0.03 | T53: 0.03 | U53: 0.04 | V53: 0.03
A54: =A53 -> Interim only | B54: 11: Property damage | C54: 49 | D54: 52 | E54: 55 | F54: 35 | G54: 81 | H54: 61 | I54: 73 | J54: 102 | K54: 164 | L54: 123 | M54: 0.01 | N54: 0.01 | O54: 0.01 | P54: 0.01 | Q54: 0.02 | R54: 0.01 | S54: 0.02 | T54: 0.02 | U54: 0.02 | V54: 0.02
A55: =A54 -> Interim only | B55: 12: Public order, health, and safety offences | C55: 359 | D55: 125 | E55: 123 | F55: 178 | G55: 158 | H55: 181 | I55: 196 | J55: 233 | K55: 293 | L55: 239 | M55: 0.07 | N55: 0.03 | O55: 0.03 | P55: 0.04 | Q55: 0.03 | R55: 0.04 | S55: 0.04 | T55: 0.04 | U55: 0.04 | V55: 0.03
A56: =A55 -> Interim only | B56: 13: Traffic and vehicle offences | C56: 61 | D56: 48 | E56: 66 | F56: 57 | G56: 82 | H56: 98 | I56: 111 | J56: 141 | K56: 142 | L56: 130 | M56: 0.01 | N56: 0.01 | O56: 0.01 | P56: 0.01 | Q56: 0.02 | R56: 0.02 | S56: 0.02 | T56: 0.02 | U56: 0.02 | V56: 0.02
A57: =A56 -> Interim only | B57: 14: Offences against justice procedures and orders | C57: 139 | D57: 116 | E57: 148 | F57: 147 | G57: 393 | H57: 185 | I57: 201 | J57: 242 | K57: 367 | L57: 309 | M57: 0.03 | N57: 0.03 | O57: 0.03 | P57: 0.04 | Q57: 0.08 | R57: 0.04 | S57: 0.04 | T57: 0.04 | U57: 0.05 | V57: 0.04
A58: =A57 -> Interim only | B58: 15: Offences against government | C58: 176 | D58: 153 | E58: 154 | F58: 150 | G58: 16 | H58: 16 | I58: 24 | J58: 54 | K58: 22 | L58: 39 | M58: 0.04 | N58: 0.04 | O58: 0.03 | P58: 0.04 | Q58: <1% | R58: <1% | S58: 0.01 | T58: 0.01 | U58: <1% | V58: <1%
A59: =A58 -> Interim only | B59: 16: Environmental offences | C59: 41 | D59: 11 | E59: 122 | F59: 48 | G59: 72 | H59: 6 | I59: 109 | J59: 31 | K59: 35 | L59: 73 | M59: 0.01 | N59: <1% | O59: 0.03 | P59: 0.01 | Q59: 0.02 | R59: <1% | S59: 0.02 | T59: <1% | U59: <1% | V59: 0.01
A60: =A59 -> Interim only | B60: 17: Miscellaneous offences | C60: 33 | D60: 37 | E60: 54 | F60: 56 | G60: 107 | H60: 28 | I60: 42 | J60: 44 | K60: 87 | L60: 47 | M60: 0.01 | N60: 0.01 | O60: 0.01 | P60: 0.01 | Q60: 0.02 | R60: 0.01 | S60: 0.01 | T60: 0.01 | U60: 0.01 | V60: 0.01
A61: =A59 -> Interim only | B61: Total | C61: 4927 | D61: 4228 | E61: 4777 | F61: 4060 | G61: 4652 | H61: 4521 | I61: 4799 | J61: 6609 | K61: 7456 | L61: 7806 | M61: 1 | N61: 1 | O61: 1 | P61: 1 | Q61: 1 | R61: 1 | S61: 1 | T61: 1 | U61: 1 | V61: 1
A62: Final only | B62: 01: Homicide | C62: 1 | D62: 1 | E62: 1 | F62: 1 | G62: 0 | H62: 0 | I62: 0 | J62: 1 | K62: 4 | L62: 1 | M62: <1% | N62: <1% | O62: <1% | P62: <1% | Q62: 0 | R62: 0 | S62: 0 | T62: <1% | U62: 0.01 | V62: <1%
A63: =A62 -> Final only | B63: 02: Assault | C63: 110 | D63: 142 | E63: 113 | F63: 41 | G63: 73 | H63: 119 | I63: 90 | J63: 80 | K63: 88 | L63: 150 | M63: 0.21 | N63: 0.33 | O63: 0.2 | P63: 0.16 | Q63: 0.14 | R63: 0.23 | S63: 0.23 | T63: 0.24 | U63: 0.23 | V63: 0.27
A64: =A63 -> Final only | B64: 03: Sexual offences | C64: 220 | D64: 139 | E64: 188 | F64: 60 | G64: 287 | H64: 185 | I64: 137 | J64: 59 | K64: 89 | L64: 215 | M64: 0.42 | N64: 0.32 | O64: 0.33 | P64: 0.24 | Q64: 0.53 | R64: 0.35 | S64: 0.35 | T64: 0.18 | U64: 0.23 | V64: 0.38
A65: =A64 -> Final only | B65: 04: Harm or endanger persons | C65: 56 | D65: 26 | E65: 36 | F65: 18 | G65: 23 | H65: 55 | I65: 43 | J65: 22 | K65: 37 | L65: 49 | M65: 0.11 | N65: 0.06 | O65: 0.06 | P65: 0.07 | Q65: 0.04 | R65: 0.1 | S65: 0.11 | T65: 0.07 | U65: 0.1 | V65: 0.09
A66: =A65 -> Final only | B66: 05: Robbery, blackmail, and extortion | C66: 3 | D66: 3 | E66: 1 | F66: 6 | G66: 0 | H66: 1 | I66: 3 | J66: 5 | K66: 2 | L66: 1 | M66: 0.01 | N66: 0.01 | O66: <1% | P66: 0.02 | Q66: 0 | R66: <1% | S66: 0.01 | T66: 0.01 | U66: 0.01 | V66: <1%
A67: =A66 -> Final only | B67: 06: Burglary | C67: 6 | D67: 12 | E67: 3 | F67: 4 | G67: 5 | H67: 8 | I67: 0 | J67: 16 | K67: 6 | L67: 7 | M67: 0.01 | N67: 0.03 | O67: 0.01 | P67: 0.02 | Q67: 0.01 | R67: 0.02 | S67: 0 | T67: 0.05 | U67: 0.02 | V67: 0.01
A68: =A67 -> Final only | B68: 07: Theft | C68: 18 | D68: 7 | E68: 21 | F68: 3 | G68: 13 | H68: 7 | I68: 11 | J68: 17 | K68: 11 | L68: 13 | M68: 0.03 | N68: 0.02 | O68: 0.04 | P68: 0.01 | Q68: 0.02 | R68: 0.01 | S68: 0.03 | T68: 0.05 | U68: 0.03 | V68: 0.02
A69: =A68 -> Final only | B69: 08: Fraud and related offences | C69: 6 | D69: 29 | E69: 20 | F69: 33 | G69: 55 | H69: 7 | I69: 20 | J69: 14 | K69: 44 | L69: 29 | M69: 0.01 | N69: 0.07 | O69: 0.03 | P69: 0.13 | Q69: 0.1 | R69: 0.01 | S69: 0.05 | T69: 0.04 | U69: 0.12 | V69: 0.05
A70: =A69 -> Final only | B70: 09: Drug offences | C70: 25 | D70: 11 | E70: 64 | F70: 6 | G70: 9 | H70: 13 | I70: 16 | J70: 4 | K70: 22 | L70: 19 | M70: 0.05 | N70: 0.03 | O70: 0.11 | P70: 0.02 | Q70: 0.02 | R70: 0.02 | S70: 0.04 | T70: 0.01 | U70: 0.06 | V70: 0.03
A71: =A70 -> Final only | B71: 10: Weapons and explosives offences | C71: 8 | D71: 7 | E71: 5 | F71: 2 | G71: 3 | H71: 14 | I71: 3 | J71: 10 | K71: 5 | L71: 9 | M71: 0.02 | N71: 0.02 | O71: 0.01 | P71: 0.01 | Q71: 0.01 | R71: 0.03 | S71: 0.01 | T71: 0.03 | U71: 0.01 | V71: 0.02
A72: =A71 -> Final only | B72: 11: Property damage | C72: 11 | D72: 11 | E72: 39 | F72: 12 | G72: 9 | H72: 16 | I72: 9 | J72: 9 | K72: 10 | L72: 9 | M72: 0.02 | N72: 0.03 | O72: 0.07 | P72: 0.05 | Q72: 0.02 | R72: 0.03 | S72: 0.02 | T72: 0.03 | U72: 0.03 | V72: 0.02
A73: =A72 -> Final only | B73: 12: Public order, health, and safety offences | C73: 22 | D73: 11 | E73: 26 | F73: 21 | G73: 9 | H73: 15 | I73: 5 | J73: 26 | K73: 12 | L73: 8 | M73: 0.04 | N73: 0.03 | O73: 0.05 | P73: 0.08 | Q73: 0.02 | R73: 0.03 | S73: 0.01 | T73: 0.08 | U73: 0.03 | V73: 0.01
A74: =A73 -> Final only | B74: 13: Traffic and vehicle offences | C74: 10 | D74: 16 | E74: 19 | F74: 7 | G74: 14 | H74: 24 | I74: 9 | J74: 16 | K74: 16 | L74: 11 | M74: 0.02 | N74: 0.04 | O74: 0.03 | P74: 0.03 | Q74: 0.03 | R74: 0.05 | S74: 0.02 | T74: 0.05 | U74: 0.04 | V74: 0.02
A75: =A74 -> Final only | B75: 14: Offences against justice procedures and orders | C75: 21 | D75: 16 | E75: 37 | F75: 34 | G75: 30 | H75: 48 | I75: 36 | J75: 32 | K75: 30 | L75: 36 | M75: 0.04 | N75: 0.04 | O75: 0.06 | P75: 0.14 | Q75: 0.06 | R75: 0.09 | S75: 0.09 | T75: 0.1 | U75: 0.08 | V75: 0.06
A76: =A75 -> Final only | B76: 15: Offences against government | C76: 0 | D76: 0 | E76: 0 | F76: 0 | G76: 0 | H76: 1 | I76: 0 | J76: 0 | K76: 1 | L76: 1 | M76: 0 | N76: 0 | O76: 0 | P76: 0 | Q76: 0 | R76: <1% | S76: 0 | T76: 0 | U76: <1% | V76: <1%
A77: =A76 -> Final only | B77: 16: Environmental offences | C77: 3 | D77: 2 | E77: 2 | F77: 3 | G77: 8 | H77: 12 | I77: 6 | J77: 7 | K77: 0 | L77: 4 | M77: 0.01 | N77: <1% | O77: <1% | P77: 0.01 | Q77: 0.01 | R77: 0.02 | S77: 0.02 | T77: 0.02 | U77: 0 | V77: 0.01
A78: =A77 -> Final only | B78: 17: Miscellaneous offences | C78: 2 | D78: 0 | E78: 0 | F78: 0 | G78: 0 | H78: 1 | I78: 4 | J78: 17 | K78: 2 | L78: 0 | M78: <1% | N78: 0 | O78: 0 | P78: 0 | Q78: 0 | R78: <1% | S78: 0.01 | T78: 0.05 | U78: 0.01 | V78: 0
A79: =A77 -> Final only | B79: Total | C79: 522 | D79: 433 | E79: 575 | F79: 251 | G79: 538 | H79: 526 | I79: 392 | J79: 335 | K79: 379 | L79: 562 | M79: 1 | N79: 1 | O79: 1 | P79: 1 | Q79: 1 | R79: 1 | S79: 1 | T79: 1 | U79: 1 | V79: 1

Sheet 2a.People charged by outcome
A1: Table 2a: Number and percentage of people granted name suppression, by suppression type and charge outcome type, 2015/2016 - 2024/2025
A2: This data counts a person once per financial year for their most serious finalised charge in the year where name suppression was granted, and only the details of that charge are shown.
A3: Total name suppression includes people granted both interim and final suppression, interim suppression only and final suppression only. Children and young people with charges finalised in the Youth Court are not included as the Youth Court is closed to the public therefore suppression is implied.
A4: For more information on how to interpret these figures, please read the definitions and data notes
A5: Back to contents page
A6: Example interpretation: In 2024/2025, 58% of people with finalised charges with interim name suppression only were convicted of their most serious offence (824 people).
C7: Number of people | M7: Percentage of suppression type total
A8: Name suppression type | B8: Charge outcome | C8: 2015/2016 | D8: 2016/2017 | E8: 2017/2018 | F8: 2018/2019 | G8: 2019/2020 | H8: 2020/2021 | I8: 2021/2022 | J8: 2022/2023 | K8: 2023/2024 | L8: 2024/2025 | M8: 2015/2016 | N8: 2016/2017 | O8: 2017/2018 | P8: 2018/2019 | Q8: 2019/2020 | R8: 2020/2021 | S8: 2021/2022 | T8: 2022/2023 | U8: 2023/2024 | V8: 2024/2025
A9: Total name suppression | B9: Convicted | C9: 720 | D9: 716 | E9: 754 | F9: 664 | G9: 720 | H9: 767 | I9: 767 | J9: 871 | K9: 931 | L9: 1009 | M9: 0.59 | N9: 0.59 | O9: 0.62 | P9: 0.58 | Q9: 0.59 | R9: 0.56 | S9: 0.56 | T9: 0.55 | U9: 0.55 | V9: 0.56
B10: Other proved | C10: 129 | D10: 134 | E10: 115 | F10: 138 | G10: 126 | H10: 139 | I10: 110 | J10: 157 | K10: 159 | L10: 194 | M10: 0.11 | N10: 0.11 | O10: 0.09 | P10: 0.12 | Q10: 0.1 | R10: 0.1 | S10: 0.08 | T10: 0.1 | U10: 0.09 | V10: 0.11
B11: Not proved | C11: 333 | D11: 314 | E11: 306 | F11: 321 | G11: 335 | H11: 416 | I11: 449 | J11: 517 | K11: 553 | L11: 556 | M11: 0.27 | N11: 0.26 | O11: 0.25 | P11: 0.28 | Q11: 0.28 | R11: 0.3 | S11: 0.33 | T11: 0.32 | U11: 0.33 | V11: 0.31
B12: Other | C12: 35 | D12: 48 | E12: 44 | F12: 31 | G12: 37 | H12: 50 | I12: 52 | J12: 48 | K12: 42 | L12: 56 | M12: 0.03 | N12: 0.04 | O12: 0.04 | P12: 0.03 | Q12: 0.03 | R12: 0.04 | S12: 0.04 | T12: 0.03 | U12: 0.02 | V12: 0.03
B13: Total | C13: 1217 | D13: 1212 | E13: 1219 | F13: 1154 | G13: 1218 | H13: 1372 | I13: 1378 | J13: 1593 | K13: 1685 | L13: 1815 | M13: 1 | N13: 1 | O13: 1 | P13: 1 | Q13: 1 | R13: 1 | S13: 1 | T13: 1 | U13: 1 | V13: 1
A14: Interim and final | B14: Convicted | C14: 135 | D14: 128 | E14: 145 | F14: 117 | G14: 137 | H14: 139 | I14: 134 | J14: 126 | K14: 128 | L14: 123 | M14: 0.49 | N14: 0.5 | O14: 0.53 | P14: 0.5 | Q14: 0.53 | R14: 0.47 | S14: 0.46 | T14: 0.39 | U14: 0.44 | V14: 0.43
B15: Other proved | C15: 49 | D15: 41 | E15: 29 | F15: 43 | G15: 40 | H15: 48 | I15: 42 | J15: 74 | K15: 60 | L15: 64 | M15: 0.18 | N15: 0.16 | O15: 0.11 | P15: 0.18 | Q15: 0.15 | R15: 0.16 | S15: 0.14 | T15: 0.23 | U15: 0.21 | V15: 0.22
B16: Not proved | C16: 76 | D16: 70 | E16: 74 | F16: 70 | G16: 69 | H16: 89 | I16: 94 | J16: 110 | K16: 94 | L16: 78 | M16: 0.28 | N16: 0.27 | O16: 0.27 | P16: 0.3 | Q16: 0.27 | R16: 0.3 | S16: 0.32 | T16: 0.34 | U16: 0.33 | V16: 0.27
B17: Other | C17: 16 | D17: 19 | E17: 25 | F17: 3 | G17: 13 | H17: 20 | I17: 21 | J17: 14 | K17: 6 | L17: 23 | M17: 0.06 | N17: 0.07 | O17: 0.09 | P17: 0.01 | Q17: 0.05 | R17: 0.07 | S17: 0.07 | T17: 0.04 | U17: 0.02 | V17: 0.08
B18: Total | C18: 276 | D18: 258 | E18: 273 | F18: 233 | G18: 259 | H18: 296 | I18: 291 | J18: 324 | K18: 288 | L18: 288 | M18: 1 | N18: 1 | O18: 1 | P18: 1 | Q18: 1 | R18: 1 | S18: 1 | T18: 1 | U18: 1 | V18: 1
A19: Interim only | B19: Convicted | C19: 499 | D19: 499 | E19: 525 | F19: 493 | G19: 517 | H19: 550 | I19: 578 | J19: 691 | K19: 748 | L19: 824 | M19: 0.61 | N19: 0.62 | O19: 0.64 | P19: 0.6 | Q19: 0.61 | R19: 0.58 | S19: 0.58 | T19: 0.59 | U19: 0.57 | V19: 0.58
B20: Other proved | C20: 61 | D20: 68 | E20: 61 | F20: 79 | G20: 63 | H20: 66 | I20: 54 | J20: 64 | K20: 82 | L20: 111 | M20: 0.08 | N20: 0.08 | O20: 0.07 | P20: 0.1 | Q20: 0.07 | R20: 0.07 | S20: 0.05 | T20: 0.05 | U20: 0.06 | V20: 0.08
B21: Not proved | C21: 233 | D21: 219 | E21: 217 | F21: 228 | G21: 247 | H21: 305 | I21: 334 | J21: 387 | K21: 440 | L21: 465 | M21: 0.29 | N21: 0.27 | O21: 0.27 | P21: 0.28 | Q21: 0.29 | R21: 0.32 | S21: 0.34 | T21: 0.33 | U21: 0.34 | V21: 0.33
B22: Other | C22: 19 | D22: 23 | E22: 15 | F22: 23 | G22: 19 | H22: 24 | I22: 29 | J22: 29 | K22: 33 | L22: 30 | M22: 0.02 | N22: 0.03 | O22: 0.02 | P22: 0.03 | Q22: 0.02 | R22: 0.03 | S22: 0.03 | T22: 0.02 | U22: 0.03 | V22: 0.02
B23: Total | C23: 812 | D23: 809 | E23: 818 | F23: 823 | G23: 846 | H23: 945 | I23: 995 | J23: 1171 | K23: 1303 | L23: 1430 | M23: 1 | N23: 1 | O23: 1 | P23: 1 | Q23: 1 | R23: 1 | S23: 1 | T23: 1 | U23: 1 | V23: 1
A24: Final only | B24: Convicted | C24: 86 | D24: 89 | E24: 84 | F24: 54 | G24: 66 | H24: 78 | I24: 55 | J24: 54 | K24: 55 | L24: 62 | M24: 0.67 | N24: 0.61 | O24: 0.66 | P24: 0.55 | Q24: 0.58 | R24: 0.6 | S24: 0.6 | T24: 0.55 | U24: 0.59 | V24: 0.64
B25: Other proved | C25: 19 | D25: 25 | E25: 25 | F25: 16 | G25: 23 | H25: 25 | I25: 14 | J25: 19 | K25: 17 | L25: 19 | M25: 0.15 | N25: 0.17 | O25: 0.2 | P25: 0.16 | Q25: 0.2 | R25: 0.19 | S25: 0.15 | T25: 0.19 | U25: 0.18 | V25: 0.2
B26: Not proved | C26: 24 | D26: 25 | E26: 15 | F26: 23 | G26: 19 | H26: 22 | I26: 21 | J26: 20 | K26: 19 | L26: 13 | M26: 0.19 | N26: 0.17 | O26: 0.12 | P26: 0.23 | Q26: 0.17 | R26: 0.17 | S26: 0.23 | T26: 0.2 | U26: 0.2 | V26: 0.13
B27: Other | C27: 0 | D27: 6 | E27: 4 | F27: 5 | G27: 5 | H27: 6 | I27: 2 | J27: 5 | K27: 3 | L27: 3 | M27: 0 | N27: 0.04 | O27: 0.03 | P27: 0.05 | Q27: 0.04 | R27: 0.05 | S27: 0.02 | T27: 0.05 | U27: 0.03 | V27: 0.03
B28: Total | C28: 129 | D28: 145 | E28: 128 | F28: 98 | G28: 113 | H28: 131 | I28: 92 | J28: 98 | K28: 94 | L28: 97 | M28: 1 | N28: 1 | O28: 1 | P28: 1 | Q28: 1 | R28: 1 | S28: 1 | T28: 1 | U28: 1 | V28: 1

Sheet 2b.People charged by offence
A1: Table 2b: Number and percentage of people granted name suppression, by suppression type and offence type, 2015/2016 - 2024/2025
A2: This data counts a person once per financial year for their most serious finalised charge in the year where name suppression was granted, and only the details of that charge are shown.
A3: Total name suppression includes people granted both interim and final suppression, interim suppression only and final suppression only. Children and young people with charges finalised in the Youth Court are not included as the Youth Court is closed to the public therefore suppression is implied.
A4: For more information on how to interpret these figures, please read the definitions and data notes
A5: Back to contents page
A6: Example interpretation: In 2024/2025, for 15% of people granted name suppression, their most serious finalised charge with name suppression was for assault (281 people).
A7: Choose which types to show or hide | C7: Number of people | M7: Percentage of suppression type total
A8: Name suppression type | B8: Offence type (ANZSOC division) | C8: 2015/2016 | D8: 2016/2017 | E8: 2017/2018 | F8: 2018/2019 | G8: 2019/2020 | H8: 2020/2021 | I8: 2021/2022 | J8: 2022/2023 | K8: 2023/2024 | L8: 2024/2025 | M8: 2015/2016 | N8: 2016/2017 | O8: 2017/2018 | P8: 2018/2019 | Q8: 2019/2020 | R8: 2020/2021 | S8: 2021/2022 | T8: 2022/2023 | U8: 2023/2024 | V8: 2024/2025
A9: Total name suppression | B9: 01: Homicide | C9: 60 | D9: 60 | E9: 43 | F9: 52 | G9: 66 | H9: 90 | I9: 94 | J9: 93 | K9: 120 | L9: 111 | M9: 0.05 | N9: 0.05 | O9: 0.04 | P9: 0.05 | Q9: 0.05 | R9: 0.07 | S9: 0.07 | T9: 0.06 | U9: 0.07 | V9: 0.06
A10: =A9 -> Total name suppression | B10: 02: Assault | C10: 261 | D10: 272 | E10: 237 | F10: 196 | G10: 214 | H10: 242 | I10: 233 | J10: 272 | K10: 270 | L10: 281 | M10: 0.21 | N10: 0.22 | O10: 0.19 | P10: 0.17 | Q10: 0.18 | R10: 0.18 | S10: 0.17 | T10: 0.17 | U10: 0.16 | V10: 0.15
A11: =A10 -> Total name suppression | B11: 03: Sexual offences | C11: 417 | D11: 376 | E11: 439 | F11: 385 | G11: 387 | H11: 465 | I11: 509 | J11: 576 | K11: 592 | L11: 666 | M11: 0.34 | N11: 0.31 | O11: 0.36 | P11: 0.33 | Q11: 0.32 | R11: 0.34 | S11: 0.37 | T11: 0.36 | U11: 0.35 | V11: 0.37
A12: =A11 -> Total name suppression | B12: 04: Harm or endanger persons | C12: 63 | D12: 67 | E12: 66 | F12: 69 | G12: 66 | H12: 80 | I12: 74 | J12: 89 | K12: 78 | L12: 94 | M12: 0.05 | N12: 0.06 | O12: 0.05 | P12: 0.06 | Q12: 0.05 | R12: 0.06 | S12: 0.05 | T12: 0.06 | U12: 0.05 | V12: 0.05
A13: =A12 -> Total name suppression | B13: 05: Robbery, blackmail, and extortion | C13: 20 | D13: 19 | E13: 35 | F13: 28 | G13: 24 | H13: 23 | I13: 25 | J13: 35 | K13: 40 | L13: 35 | M13: 0.02 | N13: 0.02 | O13: 0.03 | P13: 0.02 | Q13: 0.02 | R13: 0.02 | S13: 0.02 | T13: 0.02 | U13: 0.02 | V13: 0.02
A14: =A13 -> Total name suppression | B14: 06: Burglary | C14: 19 | D14: 14 | E14: 23 | F14: 20 | G14: 28 | H14: 22 | I14: 24 | J14: 28 | K14: 39 | L14: 27 | M14: 0.02 | N14: 0.01 | O14: 0.02 | P14: 0.02 | Q14: 0.02 | R14: 0.02 | S14: 0.02 | T14: 0.02 | U14: 0.02 | V14: 0.01
A15: =A14 -> Total name suppression | B15: 07: Theft | C15: 29 | D15: 29 | E15: 31 | F15: 29 | G15: 29 | H15: 25 | I15: 21 | J15: 24 | K15: 37 | L15: 36 | M15: 0.02 | N15: 0.02 | O15: 0.03 | P15: 0.03 | Q15: 0.02 | R15: 0.02 | S15: 0.02 | T15: 0.02 | U15: 0.02 | V15: 0.02
A16: =A15 -> Total name suppression | B16: 08: Fraud and related offences | C16: 82 | D16: 107 | E16: 84 | F16: 103 | G16: 89 | H16: 75 | I16: 76 | J16: 80 | K16: 94 | L16: 107 | M16: 0.07 | N16: 0.09 | O16: 0.07 | P16: 0.09 | Q16: 0.07 | R16: 0.05 | S16: 0.06 | T16: 0.05 | U16: 0.06 | V16: 0.06
A17: =A16 -> Total name suppression | B17: 09: Drug offences | C17: 67 | D17: 88 | E17: 80 | F17: 72 | G17: 85 | H17: 96 | I17: 95 | J17: 100 | K17: 117 | L17: 155 | M17: 0.06 | N17: 0.07 | O17: 0.07 | P17: 0.06 | Q17: 0.07 | R17: 0.07 | S17: 0.07 | T17: 0.06 | U17: 0.07 | V17: 0.09
A18: =A17 -> Total name suppression | B18: 10: Weapons and explosives offences | C18: 19 | D18: 22 | E18: 15 | F18: 17 | G18: 29 | H18: 34 | I18: 30 | J18: 37 | K18: 42 | L18: 31 | M18: 0.02 | N18: 0.02 | O18: 0.01 | P18: 0.01 | Q18: 0.02 | R18: 0.02 | S18: 0.02 | T18: 0.02 | U18: 0.02 | V18: 0.02
A19: =A18 -> Total name suppression | B19: 11: Property damage | C19: 29 | D19: 23 | E19: 21 | F19: 25 | G19: 20 | H19: 25 | I19: 25 | J19: 37 | K19: 46 | L19: 29 | M19: 0.02 | N19: 0.02 | O19: 0.02 | P19: 0.02 | Q19: 0.02 | R19: 0.02 | S19: 0.02 | T19: 0.02 | U19: 0.03 | V19: 0.02
A20: =A19 -> Total name suppression | B20: 12: Public order, health, and safety offences | C20: 39 | D20: 34 | E20: 25 | F20: 38 | G20: 36 | H20: 53 | I20: 49 | J20: 63 | K20: 45 | L20: 57 | M20: 0.03 | N20: 0.03 | O20: 0.02 | P20: 0.03 | Q20: 0.03 | R20: 0.04 | S20: 0.04 | T20: 0.04 | U20: 0.03 | V20: 0.03
A21: =A20 -> Total name suppression | B21: 13: Traffic and vehicle offences | C21: 44 | D21: 38 | E21: 29 | F21: 36 | G21: 48 | H21: 58 | I21: 48 | J21: 65 | K21: 57 | L21: 62 | M21: 0.04 | N21: 0.03 | O21: 0.02 | P21: 0.03 | Q21: 0.04 | R21: 0.04 | S21: 0.03 | T21: 0.04 | U21: 0.03 | V21: 0.03
A22: =A21 -> Total name suppression | B22: 14: Offences against justice procedures and orders | C22: 40 | D22: 41 | E22: 53 | F22: 54 | G22: 59 | H22: 59 | I22: 41 | J22: 59 | K22: 68 | L22: 76 | M22: 0.03 | N22: 0.03 | O22: 0.04 | P22: 0.05 | Q22: 0.05 | R22: 0.04 | S22: 0.03 | T22: 0.04 | U22: 0.04 | V22: 0.04
A23: =A22 -> Total name suppression | B23: 15: Offences against government | C23: 8 | D23: 10 | E23: 15 | F23: 12 | G23: 6 | H23: 8 | I23: 10 | J23: 8 | K23: 9 | L23: 8 | M23: 0.01 | N23: 0.01 | O23: 0.01 | P23: 0.01 | Q23: <1% | R23: 0.01 | S23: 0.01 | T23: 0.01 | U23: 0.01 | V23: <1%
A24: =A23 -> Total name suppression | B24: 16: Environmental offences | C24: 11 | D24: 6 | E24: 15 | F24: 10 | G24: 21 | H24: 7 | I24: 16 | J24: 20 | K24: 15 | L24: 25 | M24: 0.01 | N24: <1% | O24: 0.01 | P24: 0.01 | Q24: 0.02 | R24: 0.01 | S24: 0.01 | T24: 0.01 | U24: 0.01 | V24: 0.01
A25: =A24 -> Total name suppression | B25: 17: Miscellaneous offences | C25: 9 | D25: 6 | E25: 8 | F25: 8 | G25: 11 | H25: 10 | I25: 8 | J25: 7 | K25: 16 | L25: 15 | M25: 0.01 | N25: <1% | O25: 0.01 | P25: 0.01 | Q25: 0.01 | R25: 0.01 | S25: 0.01 | T25: <1% | U25: 0.01 | V25: 0.01
A26: =A24 -> Total name suppression | B26: Total | C26: 1217 | D26: 1212 | E26: 1219 | F26: 1154 | G26: 1218 | H26: 1372 | I26: 1378 | J26: 1593 | K26: 1685 | L26: 1815 | M26: 1 | N26: 1 | O26: 1 | P26: 1 | Q26: 1 | R26: 1 | S26: 1 | T26: 1 | U26: 1 | V26: 1
A27: Interim and final | B27: 01: Homicide | C27: 6 | D27: 4 | E27: 2 | F27: 1 | G27: 3 | H27: 10 | I27: 10 | J27: 1 | K27: 7 | L27: 11 | M27: 0.02 | N27: 0.02 | O27: 0.01 | P27: <1% | Q27: 0.01 | R27: 0.03 | S27: 0.03 | T27: <1% | U27: 0.02 | V27: 0.04
A28: =A27 -> Interim and final | B28: 02: Assault | C28: 75 | D28: 69 | E28: 62 | F28: 45 | G28: 46 | H28: 45 | I28: 45 | J28: 55 | K28: 46 | L28: 51 | M28: 0.27 | N28: 0.27 | O28: 0.23 | P28: 0.19 | Q28: 0.18 | R28: 0.15 | S28: 0.15 | T28: 0.17 | U28: 0.16 | V28: 0.18
A29: =A28 -> Interim and final | B29: 03: Sexual offences | C29: 94 | D29: 96 | E29: 124 | F29: 98 | G29: 107 | H29: 127 | I29: 146 | J29: 154 | K29: 129 | L29: 124 | M29: 0.34 | N29: 0.37 | O29: 0.45 | P29: 0.42 | Q29: 0.41 | R29: 0.43 | S29: 0.5 | T29: 0.48 | U29: 0.45 | V29: 0.43
A30: =A29 -> Interim and final | B30: 04: Harm or endanger persons | C30: 14 | D30: 19 | E30: 17 | F30: 16 | G30: 24 | H30: 14 | I30: 17 | J30: 15 | K30: 16 | L30: 16 | M30: 0.05 | N30: 0.07 | O30: 0.06 | P30: 0.07 | Q30: 0.09 | R30: 0.05 | S30: 0.06 | T30: 0.05 | U30: 0.06 | V30: 0.06
A31: =A30 -> Interim and final | B31: 05: Robbery, blackmail, and extortion | C31: 5 | D31: 0 | E31: 4 | F31: 5 | G31: 5 | H31: 7 | I31: 4 | J31: 6 | K31: 3 | L31: 3 | M31: 0.02 | N31: 0 | O31: 0.01 | P31: 0.02 | Q31: 0.02 | R31: 0.02 | S31: 0.01 | T31: 0.02 | U31: 0.01 | V31: 0.01
A32: =A31 -> Interim and final | B32: 06: Burglary | C32: 2 | D32: 1 | E32: 4 | F32: 1 | G32: 4 | H32: 7 | I32: 3 | J32: 3 | K32: 4 | L32: 3 | M32: 0.01 | N32: <1% | O32: 0.01 | P32: <1% | Q32: 0.02 | R32: 0.02 | S32: 0.01 | T32: 0.01 | U32: 0.01 | V32: 0.01
A33: =A32 -> Interim and final | B33: 07: Theft | C33: 6 | D33: 6 | E33: 8 | F33: 3 | G33: 8 | H33: 9 | I33: 2 | J33: 5 | K33: 7 | L33: 8 | M33: 0.02 | N33: 0.02 | O33: 0.03 | P33: 0.01 | Q33: 0.03 | R33: 0.03 | S33: 0.01 | T33: 0.02 | U33: 0.02 | V33: 0.03
A34: =A33 -> Interim and final | B34: 08: Fraud and related offences | C34: 21 | D34: 20 | E34: 13 | F34: 11 | G34: 13 | H34: 12 | I34: 11 | J34: 11 | K34: 16 | L34: 22 | M34: 0.08 | N34: 0.08 | O34: 0.05 | P34: 0.05 | Q34: 0.05 | R34: 0.04 | S34: 0.04 | T34: 0.03 | U34: 0.06 | V34: 0.08
A35: =A34 -> Interim and final | B35: 09: Drug offences | C35: 4 | D35: 6 | E35: 9 | F35: 11 | G35: 8 | H35: 12 | I35: 12 | J35: 10 | K35: 13 | L35: 8 | M35: 0.01 | N35: 0.02 | O35: 0.03 | P35: 0.05 | Q35: 0.03 | R35: 0.04 | S35: 0.04 | T35: 0.03 | U35: 0.05 | V35: 0.03
A36: =A35 -> Interim and final | B36: 10: Weapons and explosives offences | C36: 5 | D36: 8 | E36: 0 | F36: 4 | G36: 5 | H36: 7 | I36: 2 | J36: 8 | K36: 6 | L36: 1 | M36: 0.02 | N36: 0.03 | O36: 0 | P36: 0.02 | Q36: 0.02 | R36: 0.02 | S36: 0.01 | T36: 0.02 | U36: 0.02 | V36: <1%
A37: =A36 -> Interim and final | B37: 11: Property damage | C37: 3 | D37: 5 | E37: 6 | F37: 7 | G37: 3 | H37: 4 | I37: 6 | J37: 8 | K37: 5 | L37: 5 | M37: 0.01 | N37: 0.02 | O37: 0.02 | P37: 0.03 | Q37: 0.01 | R37: 0.01 | S37: 0.02 | T37: 0.02 | U37: 0.02 | V37: 0.02
A38: =A37 -> Interim and final | B38: 12: Public order, health, and safety offences | C38: 9 | D38: 5 | E38: 3 | F38: 8 | G38: 13 | H38: 13 | I38: 12 | J38: 15 | K38: 5 | L38: 8 | M38: 0.03 | N38: 0.02 | O38: 0.01 | P38: 0.03 | Q38: 0.05 | R38: 0.04 | S38: 0.04 | T38: 0.05 | U38: 0.02 | V38: 0.03
A39: =A38 -> Interim and final | B39: 13: Traffic and vehicle offences | C39: 11 | D39: 6 | E39: 3 | F39: 7 | G39: 9 | H39: 12 | I39: 10 | J39: 15 | K39: 13 | L39: 11 | M39: 0.04 | N39: 0.02 | O39: 0.01 | P39: 0.03 | Q39: 0.03 | R39: 0.04 | S39: 0.03 | T39: 0.05 | U39: 0.05 | V39: 0.04
A40: =A39 -> Interim and final | B40: 14: Offences against justice procedures and orders | C40: 12 | D40: 12 | E40: 14 | F40: 13 | G40: 6 | H40: 9 | I40: 4 | J40: 12 | K40: 10 | L40: 10 | M40: 0.04 | N40: 0.05 | O40: 0.05 | P40: 0.06 | Q40: 0.02 | R40: 0.03 | S40: 0.01 | T40: 0.04 | U40: 0.03 | V40: 0.03
A41: =A40 -> Interim and final | B41: 15: Offences against government | C41: 0 | D41: 0 | E41: 2 | F41: 2 | G41: 1 | H41: 1 | I41: 0 | J41: 0 | K41: 2 | L41: 2 | M41: 0 | N41: 0 | O41: 0.01 | P41: 0.01 | Q41: <1% | R41: <1% | S41: 0 | T41: 0 | U41: 0.01 | V41: 0.01
A42: =A41 -> Interim and final | B42: 16: Environmental offences | C42: 5 | D42: 1 | E42: 1 | F42: 0 | G42: 2 | H42: 3 | I42: 6 | J42: 6 | K42: 1 | L42: 1 | M42: 0.02 | N42: <1% | O42: <1% | P42: 0 | Q42: 0.01 | R42: 0.01 | S42: 0.02 | T42: 0.02 | U42: <1% | V42: <1%
A43: =A42 -> Interim and final | B43: 17: Miscellaneous offences | C43: 4 | D43: 0 | E43: 1 | F43: 1 | G43: 2 | H43: 4 | I43: 1 | J43: 0 | K43: 5 | L43: 4 | M43: 0.01 | N43: 0 | O43: <1% | P43: <1% | Q43: 0.01 | R43: 0.01 | S43: <1% | T43: 0 | U43: 0.02 | V43: 0.01
A44: =A42 -> Interim and final | B44: Total | C44: 276 | D44: 258 | E44: 273 | F44: 233 | G44: 259 | H44: 296 | I44: 291 | J44: 324 | K44: 288 | L44: 288 | M44: 1 | N44: 1 | O44: 1 | P44: 1 | Q44: 1 | R44: 1 | S44: 1 | T44: 1 | U44: 1 | V44: 1
A45: Interim only | B45: 01: Homicide | C45: 53 | D45: 55 | E45: 40 | F45: 50 | G45: 63 | H45: 80 | I45: 84 | J45: 92 | K45: 111 | L45: 99 | M45: 0.07 | N45: 0.07 | O45: 0.05 | P45: 0.06 | Q45: 0.07 | R45: 0.08 | S45: 0.08 | T45: 0.08 | U45: 0.09 | V45: 0.07
A46: =A45 -> Interim only | B46: 02: Assault | C46: 143 | D46: 146 | E46: 134 | F46: 123 | G46: 138 | H46: 158 | I46: 159 | J46: 190 | K46: 204 | L46: 215 | M46: 0.18 | N46: 0.18 | O46: 0.16 | P46: 0.15 | Q46: 0.16 | R46: 0.17 | S46: 0.16 | T46: 0.16 | U46: 0.16 | V46: 0.15
A47: =A46 -> Interim only | B47: 03: Sexual offences | C47: 293 | D47: 246 | E47: 282 | F47: 263 | G47: 248 | H47: 307 | I47: 338 | J47: 403 | K47: 445 | L47: 508 | M47: 0.36 | N47: 0.3 | O47: 0.34 | P47: 0.32 | Q47: 0.29 | R47: 0.32 | S47: 0.34 | T47: 0.34 | U47: 0.34 | V47: 0.36
A48: =A47 -> Interim only | B48: 04: Harm or endanger persons | C48: 30 | D48: 35 | E48: 41 | F48: 41 | G48: 32 | H48: 51 | I48: 48 | J48: 64 | K48: 47 | L48: 67 | M48: 0.04 | N48: 0.04 | O48: 0.05 | P48: 0.05 | Q48: 0.04 | R48: 0.05 | S48: 0.05 | T48: 0.05 | U48: 0.04 | V48: 0.05
A49: =A48 -> Interim only | B49: 05: Robbery, blackmail, and extortion | C49: 14 | D49: 16 | E49: 30 | F49: 22 | G49: 19 | H49: 15 | I49: 20 | J49: 26 | K49: 35 | L49: 31 | M49: 0.02 | N49: 0.02 | O49: 0.04 | P49: 0.03 | Q49: 0.02 | R49: 0.02 | S49: 0.02 | T49: 0.02 | U49: 0.03 | V49: 0.02
A50: =A49 -> Interim only | B50: 06: Burglary | C50: 15 | D50: 12 | E50: 17 | F50: 15 | G50: 20 | H50: 12 | I50: 21 | J50: 21 | K50: 32 | L50: 22 | M50: 0.02 | N50: 0.01 | O50: 0.02 | P50: 0.02 | Q50: 0.02 | R50: 0.01 | S50: 0.02 | T50: 0.02 | U50: 0.02 | V50: 0.02
A51: =A50 -> Interim only | B51: 07: Theft | C51: 17 | D51: 23 | E51: 19 | F51: 26 | G51: 18 | H51: 13 | I51: 18 | J51: 17 | K51: 29 | L51: 26 | M51: 0.02 | N51: 0.03 | O51: 0.02 | P51: 0.03 | Q51: 0.02 | R51: 0.01 | S51: 0.02 | T51: 0.01 | U51: 0.02 | V51: 0.02
A52: =A51 -> Interim only | B52: 08: Fraud and related offences | C52: 59 | D52: 84 | E52: 66 | F52: 90 | G52: 71 | H52: 60 | I52: 58 | J52: 66 | K52: 71 | L52: 84 | M52: 0.07 | N52: 0.1 | O52: 0.08 | P52: 0.11 | Q52: 0.08 | R52: 0.06 | S52: 0.06 | T52: 0.06 | U52: 0.05 | V52: 0.06
A53: =A52 -> Interim only | B53: 09: Drug offences | C53: 57 | D53: 76 | E53: 65 | F53: 60 | G53: 74 | H53: 82 | I53: 81 | J53: 88 | K53: 100 | L53: 142 | M53: 0.07 | N53: 0.09 | O53: 0.08 | P53: 0.07 | Q53: 0.09 | R53: 0.09 | S53: 0.08 | T53: 0.08 | U53: 0.08 | V53: 0.1
A54: =A53 -> Interim only | B54: 10: Weapons and explosives offences | C54: 12 | D54: 12 | E54: 13 | F54: 13 | G54: 23 | H54: 25 | I54: 28 | J54: 28 | K54: 36 | L54: 26 | M54: 0.01 | N54: 0.01 | O54: 0.02 | P54: 0.02 | Q54: 0.03 | R54: 0.03 | S54: 0.03 | T54: 0.02 | U54: 0.03 | V54: 0.02
A55: =A54 -> Interim only | B55: 11: Property damage | C55: 21 | D55: 17 | E55: 13 | F55: 13 | G55: 14 | H55: 18 | I55: 17 | J55: 26 | K55: 40 | L55: 23 | M55: 0.03 | N55: 0.02 | O55: 0.02 | P55: 0.02 | Q55: 0.02 | R55: 0.02 | S55: 0.02 | T55: 0.02 | U55: 0.03 | V55: 0.02
A56: =A55 -> Interim only | B56: 12: Public order, health, and safety offences | C56: 30 | D56: 22 | E56: 17 | F56: 24 | G56: 18 | H56: 37 | I56: 35 | J56: 44 | K56: 35 | L56: 46 | M56: 0.04 | N56: 0.03 | O56: 0.02 | P56: 0.03 | Q56: 0.02 | R56: 0.04 | S56: 0.04 | T56: 0.04 | U56: 0.03 | V56: 0.03
A57: =A56 -> Interim only | B57: 13: Traffic and vehicle offences | C57: 27 | D57: 23 | E57: 18 | F57: 23 | G57: 34 | H57: 32 | I57: 34 | J57: 40 | K57: 36 | L57: 42 | M57: 0.03 | N57: 0.03 | O57: 0.02 | P57: 0.03 | Q57: 0.04 | R57: 0.03 | S57: 0.03 | T57: 0.03 | U57: 0.03 | V57: 0.03
A58: =A57 -> Interim only | B58: 14: Offences against justice procedures and orders | C58: 25 | D58: 23 | E58: 31 | F58: 36 | G58: 45 | H58: 41 | I58: 30 | J58: 41 | K58: 51 | L58: 60 | M58: 0.03 | N58: 0.03 | O58: 0.04 | P58: 0.04 | Q58: 0.05 | R58: 0.04 | S58: 0.03 | T58: 0.04 | U58: 0.04 | V58: 0.04
A59: =A58 -> Interim only | B59: 15: Offences against government | C59: 8 | D59: 10 | E59: 13 | F59: 10 | G59: 5 | H59: 7 | I59: 10 | J59: 8 | K59: 7 | L59: 5 | M59: 0.01 | N59: 0.01 | O59: 0.02 | P59: 0.01 | Q59: 0.01 | R59: 0.01 | S59: 0.01 | T59: 0.01 | U59: 0.01 | V59: <1%
A60: =A59 -> Interim only | B60: 16: Environmental offences | C60: 5 | D60: 3 | E60: 12 | F60: 7 | G60: 15 | H60: 2 | I60: 8 | J60: 12 | K60: 14 | L60: 23 | M60: 0.01 | N60: <1% | O60: 0.01 | P60: 0.01 | Q60: 0.02 | R60: <1% | S60: 0.01 | T60: 0.01 | U60: 0.01 | V60: 0.02
A61: =A60 -> Interim only | B61: 17: Miscellaneous offences | C61: 3 | D61: 6 | E61: 7 | F61: 7 | G61: 9 | H61: 5 | I61: 6 | J61: 5 | K61: 10 | L61: 11 | M61: <1% | N61: 0.01 | O61: 0.01 | P61: 0.01 | Q61: 0.01 | R61: 0.01 | S61: 0.01 | T61: <1% | U61: 0.01 | V61: 0.01
A62: =A60 -> Interim only | B62: Total | C62: 812 | D62: 809 | E62: 818 | F62: 823 | G62: 846 | H62: 945 | I62: 995 | J62: 1171 | K62: 1303 | L62: 1430 | M62: 1 | N62: 1 | O62: 1 | P62: 1 | Q62: 1 | R62: 1 | S62: 1 | T62: 1 | U62: 1 | V62: 1
A63: Final only | B63: 01: Homicide | C63: 1 | D63: 1 | E63: 1 | F63: 1 | G63: 0 | H63: 0 | I63: 0 | J63: 0 | K63: 2 | L63: 1 | M63: 0.01 | N63: 0.01 | O63: 0.01 | P63: 0.01 | Q63: 0 | R63: 0 | S63: 0 | T63: 0 | U63: 0.02 | V63: 0.01
A64: =A63 -> Final only | B64: 02: Assault | C64: 43 | D64: 57 | E64: 41 | F64: 28 | G64: 30 | H64: 39 | I64: 29 | J64: 27 | K64: 20 | L64: 15 | M64: 0.33 | N64: 0.39 | O64: 0.32 | P64: 0.29 | Q64: 0.27 | R64: 0.3 | S64: 0.32 | T64: 0.28 | U64: 0.21 | V64: 0.15
A65: =A64 -> Final only | B65: 03: Sexual offences | C65: 30 | D65: 34 | E65: 33 | F65: 24 | G65: 32 | H65: 31 | I65: 25 | J65: 19 | K65: 18 | L65: 34 | M65: 0.23 | N65: 0.23 | O65: 0.26 | P65: 0.24 | Q65: 0.28 | R65: 0.24 | S65: 0.27 | T65: 0.19 | U65: 0.19 | V65: 0.35
A66: =A65 -> Final only | B66: 04: Harm or endanger persons | C66: 19 | D66: 13 | E66: 8 | F66: 12 | G66: 10 | H66: 15 | I66: 9 | J66: 10 | K66: 15 | L66: 11 | M66: 0.15 | N66: 0.09 | O66: 0.06 | P66: 0.12 | Q66: 0.09 | R66: 0.11 | S66: 0.1 | T66: 0.1 | U66: 0.16 | V66: 0.11
A67: =A66 -> Final only | B67: 05: Robbery, blackmail, and extortion | C67: 1 | D67: 3 | E67: 1 | F67: 1 | G67: 0 | H67: 1 | I67: 1 | J67: 3 | K67: 2 | L67: 1 | M67: 0.01 | N67: 0.02 | O67: 0.01 | P67: 0.01 | Q67: 0 | R67: 0.01 | S67: 0.01 | T67: 0.03 | U67: 0.02 | V67: 0.01
A68: =A67 -> Final only | B68: 06: Burglary | C68: 2 | D68: 1 | E68: 2 | F68: 4 | G68: 4 | H68: 3 | I68: 0 | J68: 4 | K68: 3 | L68: 2 | M68: 0.02 | N68: 0.01 | O68: 0.02 | P68: 0.04 | Q68: 0.04 | R68: 0.02 | S68: 0 | T68: 0.04 | U68: 0.03 | V68: 0.02
A69: =A68 -> Final only | B69: 07: Theft | C69: 6 | D69: 0 | E69: 4 | F69: 0 | G69: 3 | H69: 3 | I69: 1 | J69: 2 | K69: 1 | L69: 2 | M69: 0.05 | N69: 0 | O69: 0.03 | P69: 0 | Q69: 0.03 | R69: 0.02 | S69: 0.01 | T69: 0.02 | U69: 0.01 | V69: 0.02
A70: =A69 -> Final only | B70: 08: Fraud and related offences | C70: 2 | D70: 3 | E70: 5 | F70: 2 | G70: 5 | H70: 3 | I70: 7 | J70: 3 | K70: 7 | L70: 1 | M70: 0.02 | N70: 0.02 | O70: 0.04 | P70: 0.02 | Q70: 0.04 | R70: 0.02 | S70: 0.08 | T70: 0.03 | U70: 0.07 | V70: 0.01
A71: =A70 -> Final only | B71: 09: Drug offences | C71: 6 | D71: 6 | E71: 6 | F71: 1 | G71: 3 | H71: 2 | I71: 2 | J71: 2 | K71: 4 | L71: 5 | M71: 0.05 | N71: 0.04 | O71: 0.05 | P71: 0.01 | Q71: 0.03 | R71: 0.02 | S71: 0.02 | T71: 0.02 | U71: 0.04 | V71: 0.05
A72: =A71 -> Final only | B72: 10: Weapons and explosives offences | C72: 2 | D72: 2 | E72: 2 | F72: 0 | G72: 1 | H72: 2 | I72: 0 | J72: 1 | K72: 0 | L72: 4 | M72: 0.02 | N72: 0.01 | O72: 0.02 | P72: 0 | Q72: 0.01 | R72: 0.02 | S72: 0 | T72: 0.01 | U72: 0 | V72: 0.04
A73: =A72 -> Final only | B73: 11: Property damage | C73: 5 | D73: 1 | E73: 2 | F73: 5 | G73: 3 | H73: 3 | I73: 2 | J73: 3 | K73: 1 | L73: 1 | M73: 0.04 | N73: 0.01 | O73: 0.02 | P73: 0.05 | Q73: 0.03 | R73: 0.02 | S73: 0.02 | T73: 0.03 | U73: 0.01 | V73: 0.01
A74: =A73 -> Final only | B74: 12: Public order, health, and safety offences | C74: 0 | D74: 7 | E74: 5 | F74: 6 | G74: 5 | H74: 3 | I74: 2 | J74: 4 | K74: 5 | L74: 3 | M74: 0 | N74: 0.05 | O74: 0.04 | P74: 0.06 | Q74: 0.04 | R74: 0.02 | S74: 0.02 | T74: 0.04 | U74: 0.05 | V74: 0.03
A75: =A74 -> Final only | B75: 13: Traffic and vehicle offences | C75: 6 | D75: 9 | E75: 8 | F75: 6 | G75: 5 | H75: 14 | I75: 4 | J75: 10 | K75: 8 | L75: 9 | M75: 0.05 | N75: 0.06 | O75: 0.06 | P75: 0.06 | Q75: 0.04 | R75: 0.11 | S75: 0.04 | T75: 0.1 | U75: 0.09 | V75: 0.09
... A79: =A78 -> Final only | B79: 17: Miscellaneous offences | C79: 2 | D79: 0 | E79: 0 | F79: 0 | G79: 0 | H79: 1 | I79: 1 | J79: 2 | K79: 1 | L79: 0 | M79: 0.02 | N79: 0 | O79: 0 | P79: 0 | Q79: 0 | R79: 0.01 | S79: 0.01 | T79: 0.02 | U79: 0.01 | V79: 0
A80: =A78 -> Final only | B80: Total | C80: 129 | D80: 145 | E80: 128 | F80: 98 | G80: 113 | H80: 131 | I80: 92 | J80: 98 | K80: 94 | L80: 97 | M80: 1 | N80: 1 | O80: 1 | P80: 1 | Q80: 1 | R80: 1 | S80: 1 | T80: 1 | U80: 1 | V80: 1

Sheet 2c.People charged demographics
A1: Table 2c: Number and percentage of people granted name suppression, by suppression type, gender, ethnicity and age group, 2015/2016 - 2024/2025
A2: This data counts a person once per financial year. All of their charges have the same recorded gender and ethnicity information. Age in this table is the person's age at the offence date of their most serious finalised charge where name suppression was granted.
A3: Total name suppression includes people granted both interim and final suppression, interim suppression only and final suppression only. Children and young people with charges finalised in the Youth Court are not included as the Youth Court is closed to the public therefore suppression is implied.
A4: 'Multiple ethnicity' information is used in this table. This means for each ethnicity a person is counted once per year (e.g. they may be counted in both European and Māori). As some people have multiple recorded ethnicities this will result in the sum of ethnicities being greater than the total number of people each year.
A5: For more information on how to interpret these figures, please read the definitions and data notes
A6: Back to contents page
A7: Example interpretation: In 2024/2025, 83% of people with finalised charges who were granted name suppression were male (1,508 people).
A8: Choose which types to show or hide | C8: Number of people | M8: Percentage of suppression type total
A9: Name suppression type | C9: 2015/2016 | D9: 2016/2017 | E9: 2017/2018 | F9: 2018/2019 | G9: 2019/2020 | H9: 2020/2021 | I9: 2021/2022 | J9: 2022/2023 | K9: 2023/2024 | L9: 2024/2025 | M9: 2015/2016 | N9: 2016/2017 | O9: 2017/2018 | P9: 2018/2019 | Q9: 2019/2020 | R9: 2020/2021 | S9: 2021/2022 | T9: 2022/2023 | U9: 2023/2024 | V9: 2024/2025
A10: Total name suppression | B10: Total | C10: 1217 | D10: 1212 | E10: 1219 | F10: 1154 | G10: 1218 | H10: 1372 | I10: 1378 | J10: 1593 | K10: 1685 | L10: 1815 | M10: 1 | N10: 1 | O10: 1 | P10: 1 | Q10: 1 | R10: 1 | S10: 1 | T10: 1 | U10: 1 | V10: 1
A11: Total name suppression | B11: Gender
A12: Total name suppression | B12: Female | C12: 250 | D12: 244 | E12: 253 | F12: 234 | G12: 215 | H12: 245 | I12: 204 | J12: 225 | K12: 255 | L12: 289 | M12: 0.21 | N12: 0.2 | O12: 0.21 | P12: 0.2 | Q12: 0.18 | R12: 0.18 | S12: 0.15 | T12: 0.14 | U12: 0.15 | V12: 0.16
A13: Total name suppression | B13: Male | C13: 961 | D13: 956 | E13: 949 | F13: 907 | G13: 985 | H13: 1115 | I13: 1163 | J13: 1349 | K13: 1409 | L13: 1508 | M13: 0.79 | N13: 0.79 | O13: 0.78 | P13: 0.79 | Q13: 0.81 | R13: 0.81 | S13: 0.84 | T13: 0.85 | U13: 0.84 | V13: 0.83
A14: Total name suppression | B14: Organisation | C14: 4 | D14: 9 | E14: 14 | F14: 13 | G14: 15 | H14: 7 | I14: 9 | J14: 15 | K14: 15 | L14: 15 | M14: <1% | N14: 0.01 | O14: 0.01 | P14: 0.01 | Q14: 0.01 | R14: 0.01 | S14: 0.01 | T14: 0.01 | U14: 0.01 | V14: 0.01
A15: Total name suppression | B15: Unknown | C15: 2 | D15: 3 | E15: 3 | F15: 0 | G15: 3 | H15: 5 | I15: 2 | J15: 4 | K15: 6 | L15: 3 | M15: <1% | N15: <1% | O15: <1% | P15: 0 | Q15: <1% | R15: <1% | S15: <1% | T15: <1% | U15: <1% | V15: <1%
A16: Total name suppression | B16: Ethnicity
A17: Total name suppression | B17: European | C17: 727 | D17: 744 | E17: 693 | F17: 642 | G17: 648 | H17: 749 | I17: 705 | J17: 790 | K17: 724 | L17: 771 | M17: 0.6 | N17: 0.61 | O17: 0.57 | P17: 0.56 | Q17: 0.53 | R17: 0.55 | S17: 0.51 | T17: 0.5 | U17: 0.43 | V17: 0.42
A18: Total name suppression | B18: Māori | C18: 280 | D18: 263 | E18: 294 | F18: 261 | G18: 294 | H18: 373 | I18: 340 | J18: 399 | K18: 470 | L18: 433 | M18: 0.23 | N18: 0.22 | O18: 0.24 | P18: 0.23 | Q18: 0.24 | R18: 0.27 | S18: 0.25 | T18: 0.25 | U18: 0.28 | V18: 0.24
A19: Total name suppression | B19: Pacific Peoples | C19: 70 | D19: 76 | E19: 74 | F19: 67 | G19: 78 | H19: 103 | I19: 139 | J19: 152 | K19: 170 | L19: 162 | M19: 0.06 | N19: 0.06 | O19: 0.06 | P19: 0.06 | Q19: 0.06 | R19: 0.08 | S19: 0.1 | T19: 0.1 | U19: 0.1 | V19: 0.09
A20: Total name suppression | B20: Asian | C20: 70 | D20: 57 | E20: 60 | F20: 59 | G20: 61 | H20: 70 | I20: 74 | J20: 78 | K20: 87 | L20: 118 | M20: 0.06 | N20: 0.05 | O20: 0.05 | P20: 0.05 | Q20: 0.05 | R20: 0.05 | S20: 0.05 | T20: 0.05 | U20: 0.05 | V20: 0.07
A21: Total name suppression | B21: Other | C21: 26 | D21: 24 | E21: 29 | F21: 30 | G21: 41 | H21: 29 | I21: 32 | J21: 33 | K21: 47 | L21: 33 | M21: 0.02 | N21: 0.02 | O21: 0.02 | P21: 0.03 | Q21: 0.03 | R21: 0.02 | S21: 0.02 | T21: 0.02 | U21: 0.03 | V21: 0.02
A22: Total name suppression | B22: Unknown | C22: 103 | D22: 101 | E22: 114 | F22: 127 | G22: 141 | H22: 110 | I22: 140 | J22: 192 | K22: 247 | L22: 344 | M22: 0.08 | N22: 0.08 | O22: 0.09 | P22: 0.11 | Q22: 0.12 | R22: 0.08 | S22: 0.1 | T22: 0.12 | U22: 0.15 | V22: 0.19
A23: Total name suppression | B23: Age group
A24: Total name suppression | B24: 19 years and under | C24: 124 | D24: 116 | E24: 129 | F24: 117 | G24: 101 | H24: 108 | I24: 90 | J24: 129 | K24: 133 | L24: 147 | M24: 0.1 | N24: 0.1 | O24: 0.11 | P24: 0.1 | Q24: 0.08 | R24: 0.08 | S24: 0.07 | T24: 0.08 | U24: 0.08 | V24: 0.08
A25: Total name suppression | B25: 20-24 | C25: 129 | D25: 141 | E25: 132 | F25: 122 | G25: 140 | H25: 177 | I25: 168 | J25: 179 | K25: 245 | L25: 238 | M25: 0.11 | N25: 0.12 | O25: 0.11 | P25: 0.11 | Q25: 0.11 | R25: 0.13 | S25: 0.12 | T25: 0.11 | U25: 0.15 | V25: 0.13
A26: Total name suppression | B26: 25-29 | C26: 152 | D26: 164 | E26: 168 | F26: 169 | G26: 174 | H26: 200 | I26: 212 | J26: 249 | K26: 245 | L26: 255 | M26: 0.12 | N26: 0.14 | O26: 0.14 | P26: 0.15 | Q26: 0.14 | R26: 0.15 | S26: 0.15 | T26: 0.16 | U26: 0.15 | V26: 0.14
A27: Total name suppression | B27: 30-34 | C27: 156 | D27: 148 | E27: 154 | F27: 153 | G27: 176 | H27: 204 | I27: 245 | J27: 235 | K27: 235 | L27: 258 | M27: 0.13 | N27: 0.12 | O27: 0.13 | P27: 0.13 | Q27: 0.14 | R27: 0.15 | S27: 0.18 | T27: 0.15 | U27: 0.14 | V27: 0.14
A28: Total name suppression | B28: 35-39 | C28: 159 | D28: 143 | E28: 132 | F28: 131 | G28: 151 | H28: 167 | I28: 167 | J28: 178 | K28: 219 | L28: 222 | M28: 0.13 | N28: 0.12 | O28: 0.11 | P28: 0.11 | Q28: 0.12 | R28: 0.12 | S28: 0.12 | T28: 0.11 | U28: 0.13 | V28: 0.12
A29: Total name suppression | B29: 40-44 | C29: 135 | D29: 130 | E29: 147 | F29: 123 | G29: 131 | H29: 132 | I29: 129 | J29: 134 | K29: 137 | L29: 179 | M29: 0.11 | N29: 0.11 | O29: 0.12 | P29: 0.11 | Q29: 0.11 | R29: 0.1 | S29: 0.09 | T29: 0.08 | U29: 0.08 | V29: 0.1
A30: Total name suppression | B30: 45-49 | C30: 127 | D30: 116 | E30: 127 | F30: 106 | G30: 96 | H30: 116 | I30: 104 | J30: 127 | K30: 117 | L30: 138 | M30: 0.1 | N30: 0.1 | O30: 0.1 | P30: 0.09 | Q30: 0.08 | R30: 0.08 | S30: 0.08 | T30: 0.08 | U30: 0.07 | V30: 0.08
A31: Total name suppression | B31: 50-54 | C31: 85 | D31: 81 | E31: 74 | F31: 76 | G31: 71 | H31: 94 | I31: 88 | J31: 128 | K31: 105 | L31: 102 | M31: 0.07 | N31: 0.07 | O31: 0.06 | P31: 0.07 | Q31: 0.06 | R31: 0.07 | S31: 0.06 | T31: 0.08 | U31: 0.06 | V31: 0.06
A32: Total name suppression | B32: 55-59 | C32: 57 | D32: 62 | E32: 47 | F32: 55 | G32: 65 | H32: 68 | I32: 52 | J32: 65 | K32: 60 | L32: 77 | M32: 0.05 | N32: 0.05 | O32: 0.04 | P32: 0.05 | Q32: 0.05 | R32: 0.05 | S32: 0.04 | T32: 0.04 | U32: 0.04 | V32: 0.04
A33: Total name suppression | B33: 60-64 | C33: 30 | D33: 40 | E33: 32 | F33: 28 | G33: 33 | H33: 29 | I33: 33 | J33: 53 | K33: 55 | L33: 66 | M33: 0.02 | N33: 0.03 | O33: 0.03 | P33: 0.02 | Q33: 0.03 | R33: 0.02 | S33: 0.02 | T33: 0.03 | U33: 0.03 | V33: 0.04
A34: Total name suppression | B34: 65 years and over | C34: 37 | D34: 33 | E34: 37 | F34: 35 | G34: 38 | H34: 41 | I34: 37 | J34: 54 | K34: 61 | L34: 52 | M34: 0.03 | N34: 0.03 | O34: 0.03 | P34: 0.03 | Q34: 0.03 | R34: 0.03 | S34: 0.03 | T34: 0.03 | U34: 0.04 | V34: 0.03
A35: Total name suppression | B35: Unknown | C35: 26 | D35: 38 | E35: 40 | F35: 39 | G35: 42 | H35: 36 | I35: 53 | J35: 62 | K35: 73 | L35: 81 | M35: 0.02 | N35: 0.03 | O35: 0.03 | P35: 0.03 | Q35: 0.03 | R35: 0.03 | S35: 0.04 | T35: 0.04 | U35: 0.04 | V35: 0.04
A36: Interim and final | B36: Total | C36: 276 | D36: 258 | E36: 273 | F36: 233 | G36: 259 | H36: 296 | I36: 291 | J36: 324 | K36: 288 | L36: 288 | M36: 1 | N36: 1 | O36: 1 | P36: 1 | Q36: 1 | R36: 1 | S36: 1 | T36: 1 | U36: 1 | V36: 1
A37: Interim and final | B37: Gender
A38: Interim and final | B38: Female | C38: 83 | D38: 51 | E38: 61 | F38: 52 | G38: 47 | H38: 64 | I38: 45 | J38: 44 | K38: 53 | L38: 64 | M38: 0.3 | N38: 0.2 | O38: 0.22 | P38: 0.22 | Q38: 0.18 | R38: 0.22 | S38: 0.15 | T38: 0.14 | U38: 0.18 | V38: 0.22
A39: Interim and final | B39: Male | C39: 192 | D39: 207 | E39: 211 | F39: 180 | G39: 211 | H39: 232 | I39: 244 | J39: 279 | K39: 231 | L39: 221 | M39: 0.7 | N39: 0.8 | O39: 0.77 | P39: 0.77 | Q39: 0.81 | R39: 0.78 | S39: 0.84 | T39: 0.86 | U39: 0.8 | V39: 0.77
A40: Interim and final | B40: Organisation | C40: 0 | D40: 0 | E40: 0 | F40: 1 | G40: 1 | H40: 0 | I40: 2 | J40: 1 | K40: 1 | L40: 2 | M40: 0 | N40: 0 | O40: 0 | P40: <1% | Q40: <1% | R40: 0 | S40: 0.01 | T40: <1% | U40: <1% | V40: 0.01
A41: Interim and final | B41: Unknown | C41: 1 | D41: 0 | E41: 1 | F41: 0 | G41: 0 | H41: 0 | I41: 0 | J41: 0 | K41: 3 | L41: 1 | M41: <1% | N41: 0 | O41: <1% | P41: 0 | Q41: 0 | R41: 0 | S41: 0 | T41: 0 | U41: 0.01 | V41: <1%
A42: Interim and final | B42: Ethnicity
A43: Interim and final | B43: European | C43: 180 | D43: 175 | E43: 181 | F43: 152 | G43: 165 | H43: 196 | I43: 177 | J43: 189 | K43: 150 | L43: 137 | M43: 0.65 | N43: 0.68 | O43: 0.66 | P43: 0.65 | Q43: 0.64 | R43: 0.66 | S43: 0.61 | T43: 0.58 | U43: 0.52 | V43: 0.48
A44: Interim and final | B44: Māori | C44: 39 | D44: 47 | E44: 50 | F44: 46 | G44: 46 | H44: 58 | I44: 45 | J44: 48 | K44: 54 | L44: 53 | M44: 0.14 | N44: 0.18 | O44: 0.18 | P44: 0.2 | Q44: 0.18 | R44: 0.2 | S44: 0.15 | T44: 0.15 | U44: 0.19 | V44: 0.18
A45: Interim and final | B45: Pacific Peoples | C45: 17 | D45: 16 | E45: 18 | F45: 10 | G45: 13 | H45: 14 | I45: 20 | J45: 20 | K45: 22 | L45: 15 | M45: 0.06 | N45: 0.06 | O45: 0.07 | P45: 0.04 | Q45: 0.05 | R45: 0.05 | S45: 0.07 | T45: 0.06 | U45: 0.08 | V45: 0.05
A46: Interim and final | B46: Asian | C46: 15 | D46: 10 | E46: 8 | F46: 7 | G46: 15 | H46: 13 | I46: 15 | J46: 14 | K46: 11 | L46: 13 | M46: 0.05 | N46: 0.04 | O46: 0.03 | P46: 0.03 | Q46: 0.06 | R46: 0.04 | S46: 0.05 | T46: 0.04 | U46: 0.04 | V46: 0.05
A47: Interim and final | B47: Other | C47: 7 | D47: 5 | E47: 8 | F47: 8 | G47: 7 | H47: 6 | I47: 6 | J47: 6 | K47: 6 | L47: 3 | M47: 0.03 | N47: 0.02 | O47: 0.03 | P47: 0.03 | Q47: 0.03 | R47: 0.02 | S47: 0.02 | T47: 0.02 | U47: 0.02 | V47: 0.01
A48: Interim and final | B48: Unknown | C48: 27 | D48: 16 | E48: 18 | F48: 17 | G48: 21 | H48: 16 | I48: 33 | J48: 50 | K48: 53 | L48: 74 | M48: 0.1 | N48: 0.06 | O48: 0.07 | P48: 0.07 | Q48: 0.08 | R48: 0.05 | S48: 0.11 | T48: 0.15 | U48: 0.18 | V48: 0.26
A49: Interim and final | B49: Age group
A50: Interim and final | B50: 19 years and under | C50: 26 | D50: 21 | E50: 28 | F50: 16 | G50: 33 | H50: 30 | I50: 27 | J50: 33 | K50: 17 | L50: 22 | M50: 0.09 | N50: 0.08 | O50: 0.1 | P50: 0.07 | Q50: 0.13 | R50: 0.1 | S50: 0.09 | T50: 0.1 | U50: 0.06 | V50: 0.08
A51: Interim and final | B51: 20-24 | C51: 23 | D51: 25 | E51: 23 | F51: 27 | G51: 28 | H51: 37 | I51: 35 | J51: 30 | K51: 39 | L51: 37 | M51: 0.08 | N51: 0.1 | O51: 0.08 | P51: 0.12 | Q51: 0.11 | R51: 0.13 | S51: 0.12 | T51: 0.09 | U51: 0.14 | V51: 0.13
A52: Interim and final | B52: 25-29 | C52: 37 | D52: 19 | E52: 35 | F52: 21 | G52: 25 | H52: 33 | I52: 44 | J52: 43 | K52: 34 | L52: 27 | M52: 0.13 | N52: 0.07 | O52: 0.13 | P52: 0.09 | Q52: 0.1 | R52: 0.11 | S52: 0.15 | T52: 0.13 | U52: 0.12 | V52: 0.09
A53: Interim and final | B53: 30-34 | C53: 28 | D53: 37 | E53: 28 | F53: 36 | G53: 40 | H53: 40 | I53: 46 | J53: 43 | K53: 33 | L53: 36 | M53: 0.1 | N53: 0.14 | O53: 0.1 | P53: 0.15 | Q53: 0.15 | R53: 0.14 | S53: 0.16 | T53: 0.13 | U53: 0.11 | V53: 0.13
A54: Interim and final | B54: 35-39 | C54: 42 | D54: 29 | E54: 34 | F54: 28 | G54: 35 | H54: 42 | I54: 36 | J54: 34 | K54: 48 | L54: 37 | M54: 0.15 | N54: 0.11 | O54: 0.12 | P54: 0.12 | Q54: 0.14 | R54: 0.14 | S54: 0.12 | T54: 0.1 | U54: 0.17 | V54: 0.13
A55: Interim and final | B55: 40-44 | C55: 40 | D55: 30 | E55: 43 | F55: 33 | G55: 30 | H55: 30 | I55: 28 | J55: 30 | K55: 27 | L55: 37 | M55: 0.14 | N55: 0.12 | O55: 0.16 | P55: 0.14 | Q55: 0.12 | R55: 0.1 | S55: 0.1 | T55: 0.09 | U55: 0.09 | V55: 0.13
A56: Interim and final | B56: 45-49 | C56: 32 | D56: 33 | E56: 32 | F56: 23 | G56: 18 | H56: 23 | I56: 19 | J56: 25 | K56: 23 | L56: 27 | M56: 0.12 | N56: 0.13 | O56: 0.12 | P56: 0.1 | Q56: 0.07 | R56: 0.08 | S56: 0.07 | T56: 0.08 | U56: 0.08 | V56: 0.09
A57: Interim and final | B57: 50-54 | C57: 16 | D57: 21 | E57: 17 | F57: 15 | G57: 15 | H57: 16 | I57: 19 | J57: 28 | K57: 17 | L57: 20 | M57: 0.06 | N57: 0.08 | O57: 0.06 | P57: 0.06 | Q57: 0.06 | R57: 0.05 | S57: 0.07 | T57: 0.09 | U57: 0.06 | V57: 0.07
A58: Interim and final | B58: 55-59 | C58: 17 | D58: 16 | E58: 9 | F58: 13 | G58: 13 | H58: 13 | I58: 10 | J58: 9 | K58: 10 | L58: 6 | M58: 0.06 | N58: 0.06 | O58: 0.03 | P58: 0.06 | Q58: 0.05 | R58: 0.04 | S58: 0.03 | T58: 0.03 | U58: 0.03 | V58: 0.02
A59: Interim and final | B59: 60-64 | C59: 3 | D59: 10 | E59: 6 | F59: 6 | G59: 9 | H59: 10 | I59: 5 | J59: 17 | K59: 8 | L59: 8 | M59: 0.01 | N59: 0.04 | O59: 0.02 | P59: 0.03 | Q59: 0.03 | R59: 0.03 | S59: 0.02 | T59: 0.05 | U59: 0.03 | V59: 0.03
A60: Interim and final | B60: 65 years and over | C60: 7 | D60: 12 | E60: 11 | F60: 7 | G60: 9 | H60: 13 | I60: 5 | J60: 16 | K60: 12 | L60: 7 | M60: 0.03 | N60: 0.05 | O60: 0.04 | P60: 0.03 | Q60: 0.03 | R60: 0.04 | S60: 0.02 | T60: 0.05 | U60: 0.04 | V60: 0.02
A61: Interim and final | B61: Unknown | C61: 5 | D61: 5 | E61: 7 | F61: 8 | G61: 4 | H61: 9 | I61: 17 | J61: 16 | K61: 20 | L61: 24 | M61: 0.02 | N61: 0.02 | O61: 0.03 | P61: 0.03 | Q61: 0.02 | R61: 0.03 | S61: 0.06 | T61: 0.05 | U61: 0.07 | V61: 0.08
A62: Interim only | B62: Total | C62: 812 | D62: 809 | E62: 818 | F62: 823 | G62: 846 | H62: 945 | I62: 995 | J62: 1171 | K62: 1303 | L62: 1430 | M62: 1 | N62: 1 | O62: 1 | P62: 1 | Q62: 1 | R62: 1 | S62: 1 | T62: 1 | U62: 1 | V62: 1
A63: Interim only | B63: Gender
A64: Interim only | B64: Female | C64: 134 | D64: 156 | E64: 153 | F64: 155 | G64: 142 | H64: 140 | I64: 128 | J64: 154 | K64: 165 | L64: 205 | M64: 0.17 | N64: 0.19 | O64: 0.19 | P64: 0.19 | Q64: 0.17 | R64: 0.15 | S64: 0.13 | T64: 0.13 | U64: 0.13 | V64: 0.14
A65: Interim only | B65: Male | C65: 673 | D65: 644 | E65: 652 | F65: 659 | G65: 691 | H65: 793 | I65: 858 | J65: 1002 | K65: 1125 | L65: 1213 | M65: 0.83 | N65: 0.8 | O65: 0.8 | P65: 0.8 | Q65: 0.82 | R65: 0.84 | S65: 0.86 | T65: 0.86 | U65: 0.86 | V65: 0.85
A66: Interim only | B66: Organisation | C66: 4 | D66: 7 | E66: 11 | F66: 9 | G66: 10 | H66: 7 | I66: 7 | J66: 11 | K66: 10 | L66: 10 | M66: <1% | N66: 0.01 | O66: 0.01 | P66: 0.01 | Q66: 0.01 | R66: 0.01 | S66: 0.01 | T66: 0.01 | U66: 0.01 | V66: 0.01
A67: Interim only | B67: Unknown | C67: 1 | D67: 2 | E67: 2 | F67: 0 | G67: 3 | H67: 5 | I67: 2 | J67: 4 | K67: 3 | L67: 2 | M67: <1% | N67: <1% | O67: <1% | P67: 0 | Q67: <1% | R67: 0.01 | S67: <1% | T67: <1% | U67: <1% | V67: <1%
A68: Interim only | B68: Ethnicity
A69: Interim only | B69: European | C69: 461 | D69: 475 | E69: 432 | F69: 429 | G69: 416 | H69: 476 | I69: 478 | J69: 549 | K69: 530 | L69: 589 | M69: 0.57 | N69: 0.59 | O69: 0.53 | P69: 0.52 | Q69: 0.49 | R69: 0.5 | S69: 0.48 | T69: 0.47 | U69: 0.41 | V69: 0.41
A70: Interim only | B70: Māori | C70: 211 | D70: 185 | E70: 210 | F70: 193 | G70: 227 | H70: 277 | I70: 272 | J70: 328 | K70: 393 | L70: 360 | M70: 0.26 | N70: 0.23 | O70: 0.26 | P70: 0.23 | Q70: 0.27 | R70: 0.29 | S70: 0.27 | T70: 0.28 | U70: 0.3 | V70: 0.25
A71: Interim only | B71: Pacific Peoples | C71: 42 | D71: 52 | E71: 53 | F71: 54 | G71: 56 | H71: 80 | I71: 113 | J71: 125 | K71: 143 | L71: 141 | M71: 0.05 | N71: 0.06 | O71: 0.06 | P71: 0.07 | Q71: 0.07 | R71: 0.08 | S71: 0.11 | T71: 0.11 | U71: 0.11 | V71: 0.1
A72: Interim only | B72: Asian | C72: 49 | D72: 42 | E72: 48 | F72: 48 | G72: 43 | H72: 51 | I72: 52 | J72: 60 | K72: 70 | L72: 97 | M72: 0.06 | N72: 0.05 | O72: 0.06 | P72: 0.06 | Q72: 0.05 | R72: 0.05 | S72: 0.05 | T72: 0.05 | U72: 0.05 | V72: 0.07
A73: Interim only | B73: Other | C73: 15 | D73: 16 | E73: 20 | F73: 20 | G73: 33 | H73: 22 | I73: 24 | J73: 25 | K73: 38 | L73: 28 | M73: 0.02 | N73: 0.02 | O73: 0.02 | P73: 0.02 | Q73: 0.04 | R73: 0.02 | S73: 0.02 | T73: 0.02 | U73: 0.03 | V73: 0.02
A74: Interim only | B74: Unknown | C74: 72 | D74: 76 | E74: 85 | F74: 101 | G74: 105 | H74: 88 | I74: 97 | J74: 127 | K74: 179 | L74: 253 | M74: 0.09 | N74: 0.09 | O74: 0.1 | P74: 0.12 | Q74: 0.12 | R74: 0.09 | S74: 0.1 | T74: 0.11 | U74: 0.14 | V74: 0.18
A75: Interim only | B75: Age group
A76: Interim only | B76: 19 years and under | C76: 91 | D76: 76 | E76: 89 | F76: 91 | G76: 61 | H76: 66 | I76: 61 | J76: 88 | K76: 110 | L76: 120 | M76: 0.11 | N76: 0.09 | O76: 0.11 | P76: 0.11 | Q76: 0.07 | R76: 0.07 | S76: 0.06 | T76: 0.08 | U76: 0.08 | V76: 0.08
A77: Interim only | B77: 20-24 | C77: 92 | D77: 104 | E77: 97 | F77: 86 | G77: 98 | H77: 125 | I77: 123 | J77: 136 | K77: 196 | L77: 192 | M77: 0.11 | N77: 0.13 | O77: 0.12 | P77: 0.1 | Q77: 0.12 | R77: 0.13 | S77: 0.12 | T77: 0.12 | U77: 0.15 | V77: 0.13
A78: Interim only | B78: 25-29 | C78: 102 | D78: 125 | E78: 113 | F78: 132 | G78: 135 | H78: 143 | I78: 157 | J78: 193 | K78: 197 | L78: 220 | M78: 0.13 | N78: 0.15 | O78: 0.14 | P78: 0.16 | Q78: 0.16 | R78: 0.15 | S78: 0.16 | T78: 0.16 | U78: 0.15 | V78: 0.15
A79: Interim only | B79: 30-34 | C79: 99 | D79: 97 | E79: 107 | F79: 107 | G79: 123 | H79: 146 | I79: 177 | J79: 171 | K79: 190 | L79: 203 | M79: 0.12 | N79: 0.12 | O79: 0.13 | P79: 0.13 | Q79: 0.15 | R79: 0.15 | S79: 0.18 | T79: 0.15 | U79: 0.15 | V79: 0.14
A80: Interim only | B80: 35-39 | C80: 100 | D80: 94 | E80: 84 | F80: 90 | G80: 103 | H80: 110 | I80: 114 | J80: 137 | K80: 165 | L80: 175 | M80: 0.12 | N80: 0.12 | O80: 0.1 | P80: 0.11 | Q80: 0.12 | R80: 0.12 | S80: 0.11 | T80: 0.12 | U80: 0.13 | V80: 0.12
A81: Interim only | B81: 40-44 | C81: 82 | D81: 87 | E81: 87 | F81: 78 | G81: 93 | H81: 91 | I81: 96 | J81: 93 | K81: 96 | L81: 130 | M81: 0.1 | N81: 0.11 | O81: 0.11 | P81: 0.09 | Q81: 0.11 | R81: 0.1 | S81: 0.1 | T81: 0.08 | U81: 0.07 | V81: 0.09
A82: Interim only | B82: 45-49 | C82: 77 | D82: 65 | E82: 81 | F82: 73 | G82: 64 | H82: 81 | I82: 76 | J82: 95 | K82: 86 | L82: 104 | M82: 0.09 | N82: 0.08 | O82: 0.1 | P82: 0.09 | Q82: 0.08 | R82: 0.09 | S82: 0.08 | T82: 0.08 | U82: 0.07 | V82: 0.07
A83: Interim only | B83: 50-54 | C83: 62 | D83: 51 | E83: 52 | F83: 56 | G83: 53 | H83: 69 | I83: 65 | J83: 92 | K83: 83 | L83: 79 | M83: 0.08 | N83: 0.06 | O83: 0.06 | P83: 0.07 | Q83: 0.06 | R83: 0.07 | S83: 0.07 | T83: 0.08 | U83: 0.06 | V83: 0.06
A84: Interim only | B84: 55-59 | C84: 37 | D84: 37 | E84: 30 | F84: 38 | G84: 43 | H84: 46 | I84: 38 | J84: 52 | K84: 47 | L84: 69 | M84: 0.05 | N84: 0.05 | O84: 0.04 | P84: 0.05 | Q84: 0.05 | R84: 0.05 | S84: 0.04 | T84: 0.04 | U84: 0.04 | V84: 0.05
A85: Interim only | B85: 60-64 | C85: 26 | D85: 25 | E85: 22 | F85: 22 | G85: 19 | H85: 16 | I85: 25 | J85: 36 | K85: 45 | L85: 49 | M85: 0.03 | N85: 0.03 | O85: 0.03 | P85: 0.03 | Q85: 0.02 | R85: 0.02 | S85: 0.03 | T85: 0.03 | U85: 0.03 | V85: 0.03
A86: Interim only | B86: 65 years and over | C86: 25 | D86: 18 | E86: 26 | F86: 27 | G86: 26 | H86: 27 | I86: 30 | J86: 37 | K86: 42 | L86: 38 | M86: 0.03 | N86: 0.02 | O86: 0.03 | P86: 0.03 | Q86: 0.03 | R86: 0.03 | S86: 0.03 | T86: 0.03 | U86: 0.03 | V86: 0.03
A87: Interim only | B87: Unknown | C87: 19 | D87: 30 | E87: 30 | F87: 23 | G87: 28 | H87: 25 | I87: 33 | J87: 41 | K87: 46 | L87: 51 | M87: 0.02 | N87: 0.04 | O87: 0.04 | P87: 0.03 | Q87: 0.03 | R87: 0.03 | S87: 0.03 | T87: 0.04 | U87: 0.04 | V87: 0.04
A88: Final only | B88: Total | C88: 129 | D88: 145 | E88: 128 | F88: 98 | G88: 113 | H88: 131 | I88: 92 | J88: 98 | K88: 94 | L88: 97 | M88: 1 | N88: 1 | O88: 1 | P88: 1 | Q88: 1 | R88: 1 | S88: 1 | T88: 1 | U88: 1 | V88: 1
A89: Final only | B89: Gender
A90: Final only | B90: Female | C90: 33 | D90: 37 | E90: 39 | F90: 27 | G90: 26 | H90: 41 | I90: 31 | J90: 27 | K90: 37 | L90: 20 | M90: 0.26 | N90: 0.26 | O90: 0.3 | P90: 0.28 | Q90: 0.23 | R90: 0.31 | S90: 0.34 | T90: 0.28 | U90: 0.39 | V90: 0.21
A91: Final only | B91: Male | C91: 96 | D91: 105 | E91: 86 | F91: 68 | G91: 83 | H91: 90 | I91: 61 | J91: 68 | K91: 53 | L91: 74 | M91: 0.74 | N91: 0.72 | O91: 0.67 | P91: 0.69 | Q91: 0.73 | R91: 0.69 | S91: 0.66 | T91: 0.69 | U91: 0.56 | V91: 0.76
A92: Final only | B92: Organisation | C92: 0 | D92: 2 | E92: 3 | F92: 3 | G92: 4 | H92: 0 | I92: 0 | J92: 3 | K92: 4 | L92: 3 | M92: 0 | N92: 0.01 | O92: 0.02 | P92: 0.03 | Q92: 0.04 | R92: 0 | S92: 0 | T92: 0.03 | U92: 0.04 | V92: 0.03
A93: Final only | B93: Unknown | C93: 0 | D93: 1 | E93: 0 | F93: 0 | G93: 0 | H93: 0 | I93: 0 | J93: 0 | K93: 0 | L93: 0 | M93: 0 | N93: 0.01 | O93: 0 | P93: 0 | Q93: 0 | R93: 0 | S93: 0 | T93: 0 | U93: 0 | V93: 0
A94: Final only | B94: Ethnicity
A95: Final only | B95: European | C95: 86 | D95: 94 | E95: 80 | F95: 61 | G95: 67 | H95: 77 | I95: 50 | J95: 52 | K95: 44 | L95: 45 | M95: 0.67 | N95: 0.65 | O95: 0.63 | P95: 0.62 | Q95: 0.59 | R95: 0.59 | S95: 0.54 | T95: 0.53 | U95: 0.47 | V95: 0.46
A96: Final only | B96: Māori | C96: 30 | D96: 31 | E96: 34 | F96: 22 | G96: 21 | H96: 38 | I96: 23 | J96: 23 | K96: 23 | L96: 20 | M96: 0.23 | N96: 0.21 | O96: 0.27 | P96: 0.22 | Q96: 0.19 | R96: 0.29 | S96: 0.25 | T96: 0.23 | U96: 0.24 | V96: 0.21
A97: Final only | B97: Pacific Peoples | C97: 11 | D97: 8 | E97: 3 | F97: 3 | G97: 9 | H97: 9 | I97: 6 | J97: 7 | K97: 5 | L97: 6 | M97: 0.09 | N97: 0.06 | O97: 0.02 | P97: 0.03 | Q97: 0.08 | R97: 0.07 | S97: 0.07 | T97: 0.07 | U97: 0.05 | V97: 0.06
A98: Final only | B98: Asian | C98: 6 | D98: 5 | E98: 4 | F98: 4 | G98: 3 | H98: 6 | I98: 7 | J98: 4 | K98: 6 | L98: 8 | M98: 0.05 | N98: 0.03 | O98: 0.03 | P98: 0.04 | Q98: 0.03 | R98: 0.05 | S98: 0.08 | T98: 0.04 | U98: 0.06 | V98: 0.08
A99: Final only | B99: Other | C99: 4 | D99: 3 | E99: 1 | F99: 2 | G99: 1 | H99: 1 | I99: 2 | J99: 2 | K99: 3 | L99: 2 | M99: 0.03 | N99: 0.02 | O99: 0.01 | P99: 0.02 | Q99: 0.01 | R99: 0.01 | S99: 0.02 | T99: 0.02 | U99: 0.03 | V99: 0.02
A100: Final only | B100: Unknown | C100: 4 | D100: 9 | E100: 11 | F100: 9 | G100: 15 | H100: 6 | I100: 10 | J100: 15 | K100: 15 | L100: 17 | M100: 0.03 | N100: 0.06 | O100: 0.09 | P100: 0.09 | Q100: 0.13 | R100: 0.05 | S100: 0.11 | T100: 0.15 | U100: 0.16 | V100: 0.18
...

Sheet 3a.People convicted by sentence
A1: Table 3a: Number and percentage of convicted people where name suppression was granted, by suppression type and most serious sentence, 2015/2016 - 2024/2025
A2: This data counts a person once per financial year for their most serious conviction where name suppression was granted, and only the details of that convicted charge are shown.
A3: Total name suppression includes convicted people granted both interim and final suppression, interim suppression only and final suppression only.
A4: For more information on how to interpret these figures, please read the definitions and data notes
A5: Back to contents page
A6: Example interpretation: In 2024/2025, 46% of people convicted of an offence and granted any sort of name suppression received an imprisonment sentence (469 people).
A7: Choose which types to show or hide | C7: Number of convicted people | M7: Percentage of suppression type total
A8: Name suppression type | B8: Most serious sentence | C8: 2015/2016 | D8: 2016/2017 | E8: 2017/2018 | F8: 2018/2019 | G8: 2019/2020 | H8: 2020/2021 | I8: 2021/2022 | J8: 2022/2023 | K8: 2023/2024 | L8: 2024/2025 | M8: 2015/2016 | N8: 2016/2017 | O8: 2017/2018 | P8: 2018/2019 | Q8: 2019/2020 | R8: 2020/2021 | S8: 2021/2022 | T8: 2022/2023 | U8: 2023/2024 | V8: 2024/2025
A9: Total name suppression | B9: Imprisonment | C9: 299 | D9: 285 | E9: 333 | F9: 262 | G9: 297 | H9: 294 | I9: 298 | J9: 364 | K9: 421 | L9: 469 | M9: 0.42 | N9: 0.4 | O9: 0.44 | P9: 0.39 | Q9: 0.41 | R9: 0.38 | S9: 0.39 | T9: 0.42 | U9: 0.45 | V9: 0.46
A10: =A9 -> Total name suppression | B10: Home detention | C10: 113 | D10: 129 | E10: 119 | F10: 143 | G10: 127 | H10: 151 | I10: 156 | J10: 184 | K10: 196 | L10: 226 | M10: 0.16 | N10: 0.18 | O10: 0.16 | P10: 0.22 | Q10: 0.18 | R10: 0.2 | S10: 0.2 | T10: 0.21 | U10: 0.21 | V10: 0.22
A11: =A10 -> Total name suppression | B11: Community detention | C11: 62 | D11: 58 | E11: 56 | F11: 52 | G11: 73 | H11: 85 | I11: 95 | J11: 100 | K11: 93 | L11: 90 | M11: 0.09 | N11: 0.08 | O11: 0.07 | P11: 0.08 | Q11: 0.1 | R11: 0.11 | S11: 0.12 | T11: 0.11 | U11: 0.1 | V11: 0.09
A12: =A11 -> Total name suppression | B12: Intensive supervision | C12: 28 | D12: 30 | E12: 45 | F12: 41 | G12: 38 | H12: 51 | I12: 42 | J12: 45 | K12: 46 | L12: 37 | M12: 0.04 | N12: 0.04 | O12: 0.06 | P12: 0.06 | Q12: 0.05 | R12: 0.07 | S12: 0.05 | T12: 0.05 | U12: 0.05 | V12: 0.04
A13: =A12 -> Total name suppression | B13: Community work | C13: 68 | D13: 60 | E13: 57 | F13: 49 | G13: 31 | H13: 45 | I13: 40 | J13: 30 | K13: 48 | L13: 54 | M13: 0.09 | N13: 0.08 | O13: 0.08 | P13: 0.07 | Q13: 0.04 | R13: 0.06 | S13: 0.05 | T13: 0.03 | U13: 0.05 | V13: 0.05
A14: =A13 -> Total name suppression | B14: Supervision | C14: 44 | D14: 51 | E14: 51 | F14: 39 | G14: 49 | H14: 42 | I14: 49 | J14: 53 | K14: 39 | L14: 36 | M14: 0.06 | N14: 0.07 | O14: 0.07 | P14: 0.06 | Q14: 0.07 | R14: 0.05 | S14: 0.06 | T14: 0.06 | U14: 0.04 | V14: 0.04
A15: =A14 -> Total name suppression | B15: Monetary | C15: 44 | D15: 55 | E15: 49 | F15: 49 | G15: 62 | H15: 60 | I15: 48 | J15: 45 | K15: 55 | L15: 61 | M15: 0.06 | N15: 0.08 | O15: 0.06 | P15: 0.07 | Q15: 0.09 | R15: 0.08 | S15: 0.06 | T15: 0.05 | U15: 0.06 | V15: 0.06
A16: =A15 -> Total name suppression | B16: Deferment | C16: 36 | D16: 22 | E16: 18 | F16: 13 | G16: 9 | H16: 18 | I16: 11 | J16: 15 | K16: 11 | L16: 7 | M16: 0.05 | N16: 0.03 | O16: 0.02 | P16: 0.02 | Q16: 0.01 | R16: 0.02 | S16: 0.01 | T16: 0.02 | U16: 0.01 | V16: 0.01
A17: =A16 -> Total name suppression | B17: Other | C17: 11 | D17: 8 | E17: 9 | F17: 4 | G17: 9 | H17: 4 | I17: 12 | J17: 13 | K17: 7 | L17: 11 | M17: 0.02 | N17: 0.01 | O17: 0.01 | P17: 0.01 | Q17: 0.01 | R17: 0.01 | S17: 0.02 | T17: 0.01 | U17: 0.01 | V17: 0.01
A18: =A17 -> Total name suppression | B18: No sentence recorded | C18: 15 | D18: 18 | E18: 17 | F18: 12 | G18: 25 | H18: 17 | I18: 16 | J18: 22 | K18: 15 | L18: 18 | M18: 0.02 | N18: 0.03 | O18: 0.02 | P18: 0.02 | Q18: 0.03 | R18: 0.02 | S18: 0.02 | T18: 0.03 | U18: 0.02 | V18: 0.02
A19: =A18 -> Total name suppression | B19: Total | C19: 720 | D19: 716 | E19: 754 | F19: 664 | G19: 720 | H19: 767 | I19: 767 | J19: 871 | K19: 931 | L19: 1009 | M19: 1 | N19: 1 | O19: 1 | P19: 1 | Q19: 1 | R19: 1 | S19: 1 | T19: 1 | U19: 1 | V19: 1
A20: Interim and final | B20: Imprisonment | C20: 36 | D20: 34 | E20: 46 | F20: 40 | G20: 39 | H20: 39 | I20: 41 | J20: 29 | K20: 41 | L20: 55 | M20: 0.27 | N20: 0.27 | O20: 0.32 | P20: 0.34 | Q20: 0.28 | R20: 0.28 | S20: 0.31 | T20: 0.23 | U20: 0.32 | V20: 0.45
A21: =A20 -> Interim and final | B21: Home detention | C21: 24 | D21: 27 | E21: 27 | F21: 23 | G21: 23 | H21: 39 | I21: 31 | J21: 32 | K21: 25 | L21: 33 | M21: 0.18 | N21: 0.21 | O21: 0.19 | P21: 0.2 | Q21: 0.17 | R21: 0.28 | S21: 0.23 | T21: 0.25 | U21: 0.2 | V21: 0.27
A22: =A21 -> Interim and final | B22: Community detention | C22: 11 | D22: 15 | E22: 14 | F22: 11 | G22: 24 | H22: 15 | I22: 20 | J22: 16 | K22: 19 | L22: 10 | M22: 0.08 | N22: 0.12 | O22: 0.1 | P22: 0.09 | Q22: 0.18 | R22: 0.11 | S22: 0.15 | T22: 0.13 | U22: 0.15 | V22: 0.08
A23: =A22 -> Interim and final | B23: Intensive supervision | C23: 9 | D23: 8 | E23: 16 | F23: 14 | G23: 7 | H23: 17 | I23: 11 | J23: 12 | K23: 12 | L23: 6 | M23: 0.07 | N23: 0.06 | O23: 0.11 | P23: 0.12 | Q23: 0.05 | R23: 0.12 | S23: 0.08 | T23: 0.1 | U23: 0.09 | V23: 0.05
A24: =A23 -> Interim and final | B24: Community work | C24: 11 | D24: 10 | E24: 11 | F24: 8 | G24: 3 | H24: 5 | I24: 4 | J24: 2 | K24: 6 | L24: 2 | M24: 0.08 | N24: 0.08 | O24: 0.08 | P24: 0.07 | Q24: 0.02 | R24: 0.04 | S24: 0.03 | T24: 0.02 | U24: 0.05 | V24: 0.02
A25: =A24 -> Interim and final | B25: Supervision | C25: 14 | D25: 15 | E25: 13 | F25: 8 | G25: 15 | H25: 8 | I25: 8 | J25: 13 | K25: 12 | L25: 4 | M25: 0.1 | N25: 0.12 | O25: 0.09 | P25: 0.07 | Q25: 0.11 | R25: 0.06 | S25: 0.06 | T25: 0.1 | U25: 0.09 | V25: 0.03
A26: =A25 -> Interim and final | B26: Monetary | C26: 8 | D26: 7 | E26: 5 | F26: 7 | G26: 13 | H26: 9 | I26: 11 | J26: 10 | K26: 8 | L26: 7 | M26: 0.06 | N26: 0.05 | O26: 0.03 | P26: 0.06 | Q26: 0.09 | R26: 0.06 | S26: 0.08 | T26: 0.08 | U26: 0.06 | V26: 0.06
A27: =A26 -> Interim and final | B27: Deferment | C27: 12 | D27: 6 | E27: 7 | F27: 2 | G27: 2 | H27: 4 | I27: 2 | J27: 4 | K27: 1 | L27: 2 | M27: 0.09 | N27: 0.05 | O27: 0.05 | P27: 0.02 | Q27: 0.01 | R27: 0.03 | S27: 0.01 | T27: 0.03 | U27: 0.01 | V27: 0.02
A28: =A27 -> Interim and final | B28: Other | C28: 2 | D28: 2 | E28: 2 | F28: 2 | G28: 3 | H28: 0 | I28: 3 | J28: 4 | K28: 1 | L28: 2 | M28: 0.01 | N28: 0.02 | O28: 0.01 | P28: 0.02 | Q28: 0.02 | R28: 0 | S28: 0.02 | T28: 0.03 | U28: 0.01 | V28: 0.02
A29: =A28 -> Interim and final | B29: No sentence recorded | C29: 8 | D29: 4 | E29: 4 | F29: 2 | G29: 8 | H29: 3 | I29: 3 | J29: 4 | K29: 3 | L29: 2 | M29: 0.06 | N29: 0.03 | O29: 0.03 | P29: 0.02 | Q29: 0.06 | R29: 0.02 | S29: 0.02 | T29: 0.03 | U29: 0.02 | V29: 0.02
A30: =A29 -> Interim and final | B30: Total | C30: 135 | D30: 128 | E30: 145 | F30: 117 | G30: 137 | H30: 139 | I30: 134 | J30: 126 | K30: 128 | L30: 123 | M30: 1 | N30: 1 | O30: 1 | P30: 1 | Q30: 1 | R30: 1 | S30: 1 | T30: 1 | U30: 1 | V30: 1
A31: Interim only | B31: Imprisonment | C31: 236 | D31: 224 | E31: 259 | F31: 209 | G31: 246 | H31: 235 | I31: 246 | J31: 327 | K31: 366 | L31: 392 | M31: 0.47 | N31: 0.45 | O31: 0.49 | P31: 0.42 | Q31: 0.48 | R31: 0.43 | S31: 0.43 | T31: 0.47 | U31: 0.49 | V31: 0.48
A32: =A31 -> Interim only | B32: Home detention | C32: 81 | D32: 94 | E32: 85 | F32: 114 | G32: 94 | H32: 103 | I32: 121 | J32: 142 | K32: 163 | L32: 186 | M32: 0.16 | N32: 0.19 | O32: 0.16 | P32: 0.23 | Q32: 0.18 | R32: 0.19 | S32: 0.21 | T32: 0.21 | U32: 0.22 | V32: 0.23
A33: =A32 -> Interim only | B33: Community detention | C33: 50 | D33: 38 | E33: 38 | F33: 39 | G33: 46 | H33: 60 | I33: 66 | J33: 76 | K33: 66 | L33: 70 | M33: 0.1 | N33: 0.08 | O33: 0.07 | P33: 0.08 | Q33: 0.09 | R33: 0.11 | S33: 0.11 | T33: 0.11 | U33: 0.09 | V33: 0.08
A34: =A33 -> Interim only | B34: Intensive supervision | C34: 16 | D34: 18 | E34: 25 | F34: 21 | G34: 24 | H34: 23 | I34: 24 | J34: 28 | K34: 31 | L34: 30 | M34: 0.03 | N34: 0.04 | O34: 0.05 | P34: 0.04 | Q34: 0.05 | R34: 0.04 | S34: 0.04 | T34: 0.04 | U34: 0.04 | V34: 0.04
A35: =A34 -> Interim only | B35: Community work | C35: 44 | D35: 38 | E35: 36 | F35: 36 | G35: 23 | H35: 36 | I35: 31 | J35: 27 | K35: 38 | L35: 50 | M35: 0.09 | N35: 0.08 | O35: 0.07 | P35: 0.07 | Q35: 0.04 | R35: 0.07 | S35: 0.05 | T35: 0.04 | U35: 0.05 | V35: 0.06
A36: =A35 -> Interim only | B36: Supervision | C36: 17 | D36: 25 | E36: 27 | F36: 23 | G36: 26 | H36: 25 | I36: 30 | J36: 32 | K36: 21 | L36: 26 | M36: 0.03 | N36: 0.05 | O36: 0.05 | P36: 0.05 | Q36: 0.05 | R36: 0.05 | S36: 0.05 | T36: 0.05 | U36: 0.03 | V36: 0.03
A37: =A36 -> Interim only | B37: Monetary | C37: 33 | D37: 36 | E37: 34 | F37: 36 | G37: 37 | H37: 42 | I37: 32 | J37: 26 | K37: 40 | L37: 44 | M37: 0.07 | N37: 0.07 | O37: 0.06 | P37: 0.07 | Q37: 0.07 | R37: 0.08 | S37: 0.06 | T37: 0.04 | U37: 0.05 | V37: 0.05
A38: =A37 -> Interim only | B38: Deferment | C38: 12 | D38: 11 | E38: 4 | F38: 8 | G38: 4 | H38: 10 | I38: 7 | J38: 7 | K38: 6 | L38: 3 | M38: 0.02 | N38: 0.02 | O38: 0.01 | P38: 0.02 | Q38: 0.01 | R38: 0.02 | S38: 0.01 | T38: 0.01 | U38: 0.01 | V38: <1%
A39: =A38 -> Interim only | B39: Other | C39: 6 | D39: 5 | E39: 5 | F39: 0 | G39: 6 | H39: 3 | I39: 9 | J39: 8 | K39: 6 | L39: 7 | M39: 0.01 | N39: 0.01 | O39: 0.01 | P39: 0 | Q39: 0.01 | R39: 0.01 | S39: 0.02 | T39: 0.01 | U39: 0.01 | V39: 0.01
A40: =A39 -> Interim only | B40: No sentence recorded | C40: 4 | D40: 10 | E40: 12 | F40: 7 | G40: 11 | H40: 13 | I40: 12 | J40: 18 | K40: 11 | L40: 16 | M40: 0.01 | N40: 0.02 | O40: 0.02 | P40: 0.01 | Q40: 0.02 | R40: 0.02 | S40: 0.02 | T40: 0.03 | U40: 0.01 | V40: 0.02
A41: =A40 -> Interim only | B41: Total | C41: 499 | D41: 499 | E41: 525 | F41: 493 | G41: 517 | H41: 550 | I41: 578 | J41: 691 | K41: 748 | L41: 824 | M41: 1 | N41: 1 | O41: 1 | P41: 1 | Q41: 1 | R41: 1 | S41: 1 | T41: 1 | U41: 1 | V41: 1
A42: Final only | B42: Imprisonment | C42: 27 | D42: 27 | E42: 28 | F42: 13 | G42: 12 | H42: 20 | I42: 11 | J42: 8 | K42: 14 | L42: 22 | M42: 0.31 | N42: 0.3 | O42: 0.33 | P42: 0.24 | Q42: 0.18 | R42: 0.26 | S42: 0.2 | T42: 0.15 | U42: 0.25 | V42: 0.35
A43: =A42 -> Final only | B43: Home detention | C43: 8 | D43: 8 | E43: 7 | F43: 6 | G43: 10 | H43: 9 | I43: 4 | J43: 10 | K43: 8 | L43: 7 | M43: 0.09 | N43: 0.09 | O43: 0.08 | P43: 0.11 | Q43: 0.15 | R43: 0.12 | S43: 0.07 | T43: 0.19 | U43: 0.15 | V43: 0.11
A44: =A43 -> Final only | B44: Community detention | C44: 1 | D44: 5 | E44: 4 | F44: 2 | G44: 3 | H44: 10 | I44: 9 | J44: 8 | K44: 8 | L44: 10 | M44: 0.01 | N44: 0.06 | O44: 0.05 | P44: 0.04 | Q44: 0.05 | R44: 0.13 | S44: 0.16 | T44: 0.15 | U44: 0.15 | V44: 0.16
A45: =A44 -> Final only | B45: Intensive supervision | C45: 3 | D45: 4 | E45: 4 | F45: 6 | G45: 7 | H45: 11 | I45: 7 | J45: 5 | K45: 3 | L45: 1 | M45: 0.03 | N45: 0.04 | O45: 0.05 | P45: 0.11 | Q45: 0.11 | R45: 0.14 | S45: 0.13 | T45: 0.09 | U45: 0.05 | V45: 0.02
A46: =A45 -> Final only | B46: Community work | C46: 13 | D46: 12 | E46: 10 | F46: 5 | G46: 5 | H46: 4 | I46: 5 | J46: 1 | K46: 4 | L46: 2 | M46: 0.15 | N46: 0.13 | O46: 0.12 | P46: 0.09 | Q46: 0.08 | R46: 0.05 | S46: 0.09 | T46: 0.02 | U46: 0.07 | V46: 0.03
A47: =A46 -> Final only | B47: Supervision | C47: 13 | D47: 11 | E47: 11 | F47: 8 | G47: 8 | H47: 9 | I47: 11 | J47: 8 | K47: 6 | L47: 6 | M47: 0.15 | N47: 0.12 | O47: 0.13 | P47: 0.15 | Q47: 0.12 | R47: 0.12 | S47: 0.2 | T47: 0.15 | U47: 0.11 | V47: 0.1
A48: =A47 -> Final only | B48: Monetary | C48: 3 | D48: 12 | E48: 10 | F48: 6 | G48: 12 | H48: 9 | I48: 5 | J48: 9 | K48: 7 | L48: 10 | M48: 0.03 | N48: 0.13 | O48: 0.12 | P48: 0.11 | Q48: 0.18 | R48: 0.12 | S48: 0.09 | T48: 0.17 | U48: 0.13 | V48: 0.16
A49: =A48 -> Final only | B49: Deferment | C49: 12 | D49: 5 | E49: 7 | F49: 3 | G49: 3 | H49: 4 | I49: 2 | J49: 4 | K49: 4 | L49: 2 | M49: 0.14 | N49: 0.06 | O49: 0.08 | P49: 0.06 | Q49: 0.05 | R49: 0.05 | S49: 0.04 | T49: 0.07 | U49: 0.07 | V49: 0.03
A50: =A49 -> Final only | B50: Other | C50: 3 | D50: 1 | E50: 2 | F50: 2 | G50: 0 | H50: 1 | I50: 0 | J50: 1 | K50: 0 | L50: 2 | M50: 0.03 | N50: 0.01 | O50: 0.02 | P50: 0.04 | Q50: 0 | R50: 0.01 | S50: 0 | T50: 0.02 | U50: 0 | V50: 0.03
A51: =A50 -> Final only | B51: No sentence recorded | C51: 3 | D51: 4 | E51: 1 | F51: 3 | G51: 6 | H51: 1 | I51: 1 | J51: 0 | K51: 1 | L51: 0 | M51: 0.03 | N51: 0.04 | O51: 0.01 | P51: 0.06 | Q51: 0.09 | R51: 0.01 | S51: 0.02 | T51: 0 | U51: 0.02 | V51: 0
A52: =A51 -> Final only | B52: Total | C52: 86 | D52: 89 | E52: 84 | F52: 54 | G52: 66 | H52: 78 | I52: 55 | J52: 54 | K52: 55 | L52: 62 | M52: 1 | N52: 1 | O52: 1 | P52: 1 | Q52: 1 | R52: 1 | S52: 1 | T52: 1 | U52: 1 | V52: 1

Sheet 3b.People convictd demographics
A1: Table 3b: Number and percentage of convicted people where name suppression was granted, by suppression type, gender, ethnicity and age group, 2015/2016 - 2024/2025
A2: This data counts a person once per financial year. All of their charges have the same recorded gender and ethnicity information. Age in this table is the person's age at the offence date of their most serious conviction where name suppression was granted.
A3: Total name suppression includes convicted people granted both interim and final suppression, interim suppression only and final suppression only.
A4: 'Multiple ethnicity' information is used in this table. This means for each ethnicity a person is counted once per year (e.g. they may be counted in both European and Māori). As some people have multiple recorded ethnicities this will result in the sum of ethnicities being greater than the total number of people each year.
A5: For more information on how to interpret these figures, please read the definitions and data notes
A6: Back to contents page
A7: Example interpretation: In 2024/2025, 85% of people convicted of an offence and granted any sort of name suppression were male (858 people).
A8: Choose which types to show or hide | C8: Number of convicted people | M8: Percentage of suppression type total
A9: Name suppression type | C9: 2015/2016 | D9: 2016/2017 | E9: 2017/2018 | F9: 2018/2019 | G9: 2019/2020 | H9: 2020/2021 | I9: 2021/2022 | J9: 2022/2023 | K9: 2023/2024 | L9: 2024/2025 | M9: 2015/2016 | N9: 2016/2017 | O9: 2017/2018 | P9: 2018/2019 | Q9: 2019/2020 | R9: 2020/2021 | S9: 2021/2022 | T9: 2022/2023 | U9: 2023/2024 | V9: 2024/2025
A10: Total name suppression | B10: Total | C10: 720 | D10: 716 | E10: 754 | F10: 664 | G10: 720 | H10: 767 | I10: 767 | J10: 871 | K10: 931 | L10: 1009 | M10: 1 | N10: 1 | O10: 1 | P10: 1 | Q10: 1 | R10: 1 | S10: 1 | T10: 1 | U10: 1 | V10: 1
A11: Total name suppression | B11: Gender
A12: Total name suppression | B12: Female | C12: 150 | D12: 145 | E12: 156 | F12: 141 | G12: 121 | H12: 134 | I12: 115 | J12: 116 | K12: 139 | L12: 140 | M12: 0.21 | N12: 0.2 | O12: 0.21 | P12: 0.21 | Q12: 0.17 | R12: 0.17 | S12: 0.15 | T12: 0.13 | U12: 0.15 | V12: 0.14
A13: Total name suppression | B13: Male | C13: 568 | D13: 566 | E13: 587 | F13: 511 | G13: 583 | H13: 629 | I13: 646 | J13: 749 | K13: 779 | L13: 858 | M13: 0.79 | N13: 0.79 | O13: 0.78 | P13: 0.77 | Q13: 0.81 | R13: 0.82 | S13: 0.84 | T13: 0.86 | U13: 0.84 | V13: 0.85
A14: Total name suppression | B14: Organisation | C14: 1 | D14: 3 | E14: 9 | F14: 12 | G14: 15 | H14: 3 | I14: 5 | J14: 5 | K14: 11 | L14: 8 | M14: <1% | N14: <1% | O14: 0.01 | P14: 0.02 | Q14: 0.02 | R14: <1% | S14: 0.01 | T14: 0.01 | U14: 0.01 | V14: 0.01
A15: Total name suppression | B15: Unknown | C15: 1 | D15: 2 | E15: 2 | F15: 0 | G15: 1 | H15: 1 | I15: 1 | J15: 1 | K15: 2 | L15: 3 | M15: <1% | N15: <1% | O15: <1% | P15: 0 | Q15: <1% | R15: <1% | S15: <1% | T15: <1% | U15: <1% | V15: <1%
A16: Total name suppression | B16: Ethnicity
A17: Total name suppression | B17: European | C17: 417 | D17: 426 | E17: 430 | F17: 371 | G17: 369 | H17: 404 | I17: 406 | J17: 426 | K17: 382 | L17: 424 | M17: 0.58 | N17: 0.59 | O17: 0.57 | P17: 0.56 | Q17: 0.51 | R17: 0.53 | S17: 0.53 | T17: 0.49 | U17: 0.41 | V17: 0.42
A18: Total name suppression | B18: Māori | C18: 184 | D18: 177 | E18: 192 | F18: 155 | G18: 191 | H18: 239 | I18: 208 | J18: 244 | K18: 301 | L18: 260 | M18: 0.26 | N18: 0.25 | O18: 0.25 | P18: 0.23 | Q18: 0.27 | R18: 0.31 | S18: 0.27 | T18: 0.28 | U18: 0.32 | V18: 0.26
A19: Total name suppression | B19: Pacific Peoples | C19: 54 | D19: 52 | E19: 49 | F19: 43 | G19: 48 | H19: 57 | I19: 69 | J19: 90 | K19: 99 | L19: 100 | M19: 0.08 | N19: 0.07 | O19: 0.06 | P19: 0.06 | Q19: 0.07 | R19: 0.07 | S19: 0.09 | T19: 0.1 | U19: 0.11 | V19: 0.1
A20: Total name suppression | B20: Asian | C20: 37 | D20: 32 | E20: 31 | F20: 26 | G20: 28 | H20: 36 | I20: 35 | J20: 40 | K20: 37 | L20: 69 | M20: 0.05 | N20: 0.04 | O20: 0.04 | P20: 0.04 | Q20: 0.04 | R20: 0.05 | S20: 0.05 | T20: 0.05 | U20: 0.04 | V20: 0.07
A21: Total name suppression | B21: Other | C21: 16 | D21: 7 | E21: 18 | F21: 12 | G21: 19 | H21: 21 | I21: 19 | J21: 13 | K21: 25 | L21: 24 | M21: 0.02 | N21: 0.01 | O21: 0.02 | P21: 0.02 | Q21: 0.03 | R21: 0.03 | S21: 0.02 | T21: 0.01 | U21: 0.03 | V21: 0.02
A22: Total name suppression | B22: Unknown | C22: 54 | D22: 60 | E22: 68 | F22: 78 | G22: 90 | H22: 55 | I22: 70 | J22: 85 | K22: 122 | L22: 162 | M22: 0.08 | N22: 0.08 | O22: 0.09 | P22: 0.12 | Q22: 0.13 | R22: 0.07 | S22: 0.09 | T22: 0.1 | U22: 0.13 | V22: 0.16
A23: Total name suppression | B23: Age group
A24: Total name suppression | B24: 19 years and under | C24: 67 | D24: 75 | E24: 88 | F24: 63 | G24: 44 | H24: 57 | I24: 50 | J24: 76 | K24: 69 | L24: 83 | M24: 0.09 | N24: 0.1 | O24: 0.12 | P24: 0.09 | Q24: 0.06 | R24: 0.07 | S24: 0.07 | T24: 0.09 | U24: 0.07 | V24: 0.08
A25: Total name suppression | B25: 20-24 | C25: 85 | D25: 90 | E25: 81 | F25: 71 | G25: 73 | H25: 100 | I25: 93 | J25: 95 | K25: 142 | L25: 129 | M25: 0.12 | N25: 0.13 | O25: 0.11 | P25: 0.11 | Q25: 0.1 | R25: 0.13 | S25: 0.12 | T25: 0.11 | U25: 0.15 | V25: 0.13
A26: Total name suppression | B26: 25-29 | C26: 93 | D26: 106 | E26: 95 | F26: 88 | G26: 106 | H26: 120 | I26: 111 | J26: 144 | K26: 134 | L26: 154 | M26: 0.13 | N26: 0.15 | O26: 0.13 | P26: 0.13 | Q26: 0.15 | R26: 0.16 | S26: 0.14 | T26: 0.17 | U26: 0.14 | V26: 0.15
A27: Total name suppression | B27: 30-34 | C27: 99 | D27: 91 | E27: 101 | F27: 91 | G27: 110 | H27: 126 | I27: 144 | J27: 129 | K27: 131 | L27: 150 | M27: 0.14 | N27: 0.13 | O27: 0.13 | P27: 0.14 | Q27: 0.15 | R27: 0.16 | S27: 0.19 | T27: 0.15 | U27: 0.14 | V27: 0.15
A28: Total name suppression | B28: 35-39 | C28: 96 | D28: 96 | E28: 87 | F28: 86 | G28: 97 | H28: 93 | I28: 94 | J28: 98 | K28: 127 | L28: 122 | M28: 0.13 | N28: 0.13 | O28: 0.12 | P28: 0.13 | Q28: 0.13 | R28: 0.12 | S28: 0.12 | T28: 0.11 | U28: 0.14 | V28: 0.12
A29: Total name suppression | B29: 40-44 | C29: 71 | D29: 67 | E29: 95 | F29: 65 | G29: 85 | H29: 72 | I29: 81 | J29: 77 | K29: 69 | L29: 98 | M29: 0.1 | N29: 0.09 | O29: 0.13 | P29: 0.1 | Q29: 0.12 | R29: 0.09 | S29: 0.11 | T29: 0.09 | U29: 0.07 | V29: 0.1
A30: Total name suppression | B30: 45-49 | C30: 75 | D30: 54 | E30: 79 | F30: 58 | G30: 58 | H30: 59 | I30: 64 | J30: 69 | K30: 65 | L30: 82 | M30: 0.1 | N30: 0.08 | O30: 0.1 | P30: 0.09 | Q30: 0.08 | R30: 0.08 | S30: 0.08 | T30: 0.08 | U30: 0.07 | V30: 0.08
A31: Total name suppression | B31: 50-54 | C31: 50 | D31: 48 | E31: 39 | F31: 49 | G31: 42 | H31: 51 | I31: 50 | J31: 73 | K31: 69 | L31: 52 | M31: 0.07 | N31: 0.07 | O31: 0.05 | P31: 0.07 | Q31: 0.06 | R31: 0.07 | S31: 0.07 | T31: 0.08 | U31: 0.07 | V31: 0.05
A32: Total name suppression | B32: 55-59 | C32: 31 | D32: 38 | E32: 26 | F32: 34 | G32: 39 | H32: 35 | I32: 25 | J32: 37 | K32: 30 | L32: 39 | M32: 0.04 | N32: 0.05 | O32: 0.03 | P32: 0.05 | Q32: 0.05 | R32: 0.05 | S32: 0.03 | T32: 0.04 | U32: 0.03 | V32: 0.04
A33: Total name suppression | B33: 60-64 | C33: 22 | D33: 19 | E33: 20 | F33: 17 | G33: 20 | H33: 18 | I33: 19 | J33: 24 | K33: 30 | L33: 39 | M33: 0.03 | N33: 0.03 | O33: 0.03 | P33: 0.03 | Q33: 0.03 | R33: 0.02 | S33: 0.02 | T33: 0.03 | U33: 0.03 | V33: 0.04
A34: Total name suppression | B34: 65 years and over | C34: 24 | D34: 14 | E34: 21 | F34: 17 | G34: 22 | H34: 25 | I34: 16 | J34: 22 | K34: 25 | L34: 29 | M34: 0.03 | N34: 0.02 | O34: 0.03 | P34: 0.03 | Q34: 0.03 | R34: 0.03 | S34: 0.02 | T34: 0.03 | U34: 0.03 | V34: 0.03
A35: Total name suppression | B35: Unknown | C35: 7 | D35: 18 | E35: 22 | F35: 25 | G35: 24 | H35: 11 | I35: 20 | J35: 27 | K35: 40 | L35: 32 | M35: 0.01 | N35: 0.03 | O35: 0.03 | P35: 0.04 | Q35: 0.03 | R35: 0.01 | S35: 0.03 | T35: 0.03 | U35: 0.04 | V35: 0.03
A36: Interim and final | B36: Total | C36: 135 | D36: 128 | E36: 145 | F36: 117 | G36: 137 | H36: 139 | I36: 134 | J36: 126 | K36: 128 | L36: 123 | M36: 1 | N36: 1 | O36: 1 | P36: 1 | Q36: 1 | R36: 1 | S36: 1 | T36: 1 | U36: 1 | V36: 1
A37: Interim and final | B37: Gender
A38: Interim and final | B38: Female | C38: 45 | D38: 28 | E38: 36 | F38: 27 | G38: 23 | H38: 29 | I38: 25 | J38: 15 | K38: 30 | L38: 24 | M38: 0.33 | N38: 0.22 | O38: 0.25 | P38: 0.23 | Q38: 0.17 | R38: 0.21 | S38: 0.19 | T38: 0.12 | U38: 0.23 | V38: 0.2
A39: Interim and final | B39: Male | C39: 89 | D39: 100 | E39: 108 | F39: 89 | G39: 113 | H39: 110 | I39: 109 | J39: 110 | K39: 98 | L39: 96 | M39: 0.66 | N39: 0.78 | O39: 0.74 | P39: 0.76 | Q39: 0.82 | R39: 0.79 | S39: 0.81 | T39: 0.87 | U39: 0.77 | V39: 0.78
A40: Interim and final | B40: Organisation | C40: 0 | D40: 0 | E40: 0 | F40: 1 | G40: 1 | H40: 0 | I40: 0 | J40: 1 | K40: 0 | L40: 2 | M40: 0 | N40: 0 | O40: 0 | P40: 0.01 | Q40: 0.01 | R40: 0 | S40: 0 | T40: 0.01 | U40: 0 | V40: 0.02
A41: Interim and final | B41: Unknown | C41: 1 | D41: 0 | E41: 1 | F41: 0 | G41: 0 | H41: 0 | I41: 0 | J41: 0 | K41: 0 | L41: 1 | M41: 0.01 | N41: 0 | O41: 0.01 | P41: 0 | Q41: 0 | R41: 0 | S41: 0 | T41: 0 | U41: 0 | V41: 0.01
A42: Interim and final | B42: Ethnicity
A43: Interim and final | B43: European | C43: 81 | D43: 87 | E43: 100 | F43: 82 | G43: 90 | H43: 91 | I43: 84 | J43: 75 | K43: 65 | L43: 60 | M43: 0.6 | N43: 0.68 | O43: 0.69 | P43: 0.7 | Q43: 0.66 | R43: 0.65 | S43: 0.63 | T43: 0.6 | U43: 0.51 | V43: 0.49
A44: Interim and final | B44: Māori | C44: 19 | D44: 26 | E44: 24 | F44: 24 | G44: 23 | H44: 26 | I44: 27 | J44: 22 | K44: 29 | L44: 25 | M44: 0.14 | N44: 0.2 | O44: 0.17 | P44: 0.21 | Q44: 0.17 | R44: 0.19 | S44: 0.2 | T44: 0.17 | U44: 0.23 | V44: 0.2
A45: Interim and final | B45: Pacific Peoples | C45: 15 | D45: 10 | E45: 13 | F45: 3 | G45: 7 | H45: 12 | I45: 6 | J45: 10 | K45: 11 | L45: 8 | M45: 0.11 | N45: 0.08 | O45: 0.09 | P45: 0.03 | Q45: 0.05 | R45: 0.09 | S45: 0.04 | T45: 0.08 | U45: 0.09 | V45: 0.07
A46: Interim and final | B46: Asian | C46: 9 | D46: 1 | E46: 2 | F46: 3 | G46: 6 | H46: 6 | I46: 7 | J46: 7 | K46: 3 | L46: 5 | M46: 0.07 | N46: 0.01 | O46: 0.01 | P46: 0.03 | Q46: 0.04 | R46: 0.04 | S46: 0.05 | T46: 0.06 | U46: 0.02 | V46: 0.04
A47: Interim and final | B47: Other | C47: 5 | D47: 1 | E47: 2 | F47: 2 | G47: 4 | H47: 4 | I47: 3 | J47: 2 | K47: 3 | L47: 2 | M47: 0.04 | N47: 0.01 | O47: 0.01 | P47: 0.02 | Q47: 0.03 | R47: 0.03 | S47: 0.02 | T47: 0.02 | U47: 0.02 | V47: 0.02
A48: Interim and final | B48: Unknown | C48: 11 | D48: 9 | E48: 11 | F48: 8 | G48: 10 | H48: 5 | I48: 12 | J48: 10 | K48: 22 | L48: 25 | M48: 0.08 | N48: 0.07 | O48: 0.08 | P48: 0.07 | Q48: 0.07 | R48: 0.04 | S48: 0.09 | T48: 0.08 | U48: 0.17 | V48: 0.2
A49: Interim and final | B49: Age group
A50: Interim and final | B50: 19 years and under | C50: 15 | D50: 12 | E50: 21 | F50: 5 | G50: 13 | H50: 19 | I50: 11 | J50: 9 | K50: 8 | L50: 9 | M50: 0.11 | N50: 0.09 | O50: 0.14 | P50: 0.04 | Q50: 0.09 | R50: 0.14 | S50: 0.08 | T50: 0.07 | U50: 0.06 | V50: 0.07
A51: Interim and final | B51: 20-24 | C51: 12 | D51: 13 | E51: 15 | F51: 13 | G51: 12 | H51: 16 | I51: 10 | J51: 8 | K51: 15 | L51: 15 | M51: 0.09 | N51: 0.1 | O51: 0.1 | P51: 0.11 | Q51: 0.09 | R51: 0.12 | S51: 0.07 | T51: 0.06 | U51: 0.12 | V51: 0.12
A52: Interim and final | B52: 25-29 | C52: 18 | D52: 11 | E52: 15 | F52: 11 | G52: 14 | H52: 15 | I52: 21 | J52: 22 | K52: 13 | L52: 10 | M52: 0.13 | N52: 0.09 | O52: 0.1 | P52: 0.09 | Q52: 0.1 | R52: 0.11 | S52: 0.16 | T52: 0.17 | U52: 0.1 | V52: 0.08
A53: Interim and final | B53: 30-34 | C53: 15 | D53: 28 | E53: 11 | F53: 22 | G53: 24 | H53: 19 | I53: 25 | J53: 15 | K53: 17 | L53: 14 | M53: 0.11 | N53: 0.22 | O53: 0.08 | P53: 0.19 | Q53: 0.18 | R53: 0.14 | S53: 0.19 | T53: 0.12 | U53: 0.13 | V53: 0.11
A54: Interim and final | B54: 35-39 | C54: 29 | D54: 16 | E54: 20 | F54: 19 | G54: 22 | H54: 22 | I54: 18 | J54: 13 | K54: 26 | L54: 17 | M54: 0.21 | N54: 0.13 | O54: 0.14 | P54: 0.16 | Q54: 0.16 | R54: 0.16 | S54: 0.13 | T54: 0.1 | U54: 0.2 | V54: 0.14
A55: Interim and final | B55: 40-44 | C55: 13 | D55: 13 | E55: 27 | F55: 16 | G55: 15 | H55: 13 | I55: 15 | J55: 12 | K55: 7 | L55: 18 | M55: 0.1 | N55: 0.1 | O55: 0.19 | P55: 0.14 | Q55: 0.11 | R55: 0.09 | S55: 0.11 | T55: 0.1 | U55: 0.05 | V55: 0.15
A56: Interim and final | B56: 45-49 | C56: 15 | D56: 12 | E56: 15 | F56: 7 | G56: 10 | H56: 7 | I56: 12 | J56: 12 | K56: 11 | L56: 12 | M56: 0.11 | N56: 0.09 | O56: 0.1 | P56: 0.06 | Q56: 0.07 | R56: 0.05 | S56: 0.09 | T56: 0.1 | U56: 0.09 | V56: 0.1
A57: Interim and final | B57: 50-54 | C57: 5 | D57: 10 | E57: 8 | F57: 6 | G57: 10 | H57: 7 | I57: 8 | J57: 13 | K57: 8 | L57: 9 | M57: 0.04 | N57: 0.08 | O57: 0.06 | P57: 0.05 | Q57: 0.07 | R57: 0.05 | S57: 0.06 | T57: 0.1 | U57: 0.06 | V57: 0.07
A58: Interim and final | B58: 55-59 | C58: 6 | D58: 8 | E58: 2 | F58: 7 | G58: 7 | H58: 5 | I58: 4 | J58: 5 | K58: 6 | L58: 1 | M58: 0.04 | N58: 0.06 | O58: 0.01 | P58: 0.06 | Q58: 0.05 | R58: 0.04 | S58: 0.03 | T58: 0.04 | U58: 0.05 | V58: 0.01
A59: Interim and final | B59: 60-64 | C59: 2 | D59: 1 | E59: 3 | F59: 3 | G59: 4 | H59: 6 | I59: 4 | J59: 4 | K59: 2 | L59: 5 | M59: 0.01 | N59: 0.01 | O59: 0.02 | P59: 0.03 | Q59: 0.03 | R59: 0.04 | S59: 0.03 | T59: 0.03 | U59: 0.02 | V59: 0.04
A60: Interim and final | B60: 65 years and over | C60: 4 | D60: 2 | E60: 6 | F60: 4 | G60: 5 | H60: 8 | I60: 1 | J60: 6 | K60: 4 | L60: 2 | M60: 0.03 | N60: 0.02 | O60: 0.04 | P60: 0.03 | Q60: 0.04 | R60: 0.06 | S60: 0.01 | T60: 0.05 | U60: 0.03 | V60: 0.02
A61: Interim and final | B61: Unknown | C61: 1 | D61: 2 | E61: 2 | F61: 4 | G61: 1 | H61: 2 | I61: 5 | J61: 7 | K61: 11 | L61: 11 | M61: 0.01 | N61: 0.02 | O61: 0.01 | P61: 0.03 | Q61: 0.01 | R61: 0.01 | S61: 0.04 | T61: 0.06 | U61: 0.09 | V61: 0.09
A62: Interim only | B62: Total | C62: 499 | D62: 499 | E62: 525 | F62: 493 | G62: 517 | H62: 550 | I62: 578 | J62: 691 | K62: 748 | L62: 824 | M62: 1 | N62: 1 | O62: 1 | P62: 1 | Q62: 1 | R62: 1 | S62: 1 | T62: 1 | U62: 1 | V62: 1
A63: Interim only | B63: Gender
A64: Interim only | B64: Female | C64: 84 | D64: 95 | E64: 92 | F64: 98 | G64: 84 | H64: 83 | I64: 76 | J64: 92 | K64: 91 | L64: 107 | M64: 0.17 | N64: 0.19 | O64: 0.18 | P64: 0.2 | Q64: 0.16 | R64: 0.15 | S64: 0.13 | T64: 0.13 | U64: 0.12 | V64: 0.13
A65: Interim only | B65: Male | C65: 414 | D65: 401 | E65: 426 | F65: 387 | G65: 422 | H65: 463 | I65: 496 | J65: 597 | K65: 648 | L65: 711 | M65: 0.83 | N65: 0.8 | O65: 0.81 | P65: 0.78 | Q65: 0.82 | R65: 0.84 | S65: 0.86 | T65: 0.86 | U65: 0.87 | V65: 0.86
A66: Interim only | B66: Organisation | C66: 1 | D66: 1 | E66: 6 | F66: 8 | G66: 10 | H66: 3 | I66: 5 | J66: 1 | K66: 7 | L66: 4 | M66: <1% | N66: <1% | O66: 0.01 | P66: 0.02 | Q66: 0.02 | R66: 0.01 | S66: 0.01 | T66: <1% | U66: 0.01 | V66: <1%
A67: Interim only | B67: Unknown | C67: 0 | D67: 2 | E67: 1 | F67: 0 | G67: 1 | H67: 1 | I67: 1 | J67: 1 | K67: 2 | L67: 2 | M67: 0 | N67: <1% | O67: <1% | P67: 0 | Q67: <1% | R67: <1% | S67: <1% | T67: <1% | U67: <1% | V67: <1%
A68: Interim only | B68: Ethnicity
A69: Interim only | B69: European | C69: 278 | D69: 288 | E69: 280 | F69: 259 | G69: 240 | H69: 266 | I69: 290 | J69: 320 | K69: 294 | L69: 334 | M69: 0.56 | N69: 0.58 | O69: 0.53 | P69: 0.53 | Q69: 0.46 | R69: 0.48 | S69: 0.5 | T69: 0.46 | U69: 0.39 | V69: 0.41
A70: Interim only | B70: Māori | C70: 148 | D70: 126 | E70: 142 | F70: 113 | G70: 155 | H70: 188 | I70: 167 | J70: 208 | K70: 258 | L70: 221 | M70: 0.3 | N70: 0.25 | O70: 0.27 | P70: 0.23 | Q70: 0.3 | R70: 0.34 | S70: 0.29 | T70: 0.3 | U70: 0.34 | V70: 0.27
A71: Interim only | B71: Pacific Peoples | C71: 30 | D71: 36 | E71: 35 | F71: 37 | G71: 37 | H71: 40 | I71: 57 | J71: 77 | K71: 84 | L71: 88 | M71: 0.06 | N71: 0.07 | O71: 0.07 | P71: 0.08 | Q71: 0.07 | R71: 0.07 | S71: 0.1 | T71: 0.11 | U71: 0.11 | V71: 0.11
A72: Interim only | B72: Asian | C72: 24 | D72: 27 | E72: 28 | F72: 21 | G72: 21 | H72: 29 | I72: 27 | J72: 32 | K72: 30 | L72: 59 | M72: 0.05 | N72: 0.05 | O72: 0.05 | P72: 0.04 | Q72: 0.04 | R72: 0.05 | S72: 0.05 | T72: 0.05 | U72: 0.04 | V72: 0.07
A73: Interim only | B73: Other | C73: 7 | D73: 6 | E73: 16 | F73: 10 | G73: 15 | H73: 16 | I73: 14 | J73: 11 | K73: 19 | L73: 22 | M73: 0.01 | N73: 0.01 | O73: 0.03 | P73: 0.02 | Q73: 0.03 | R73: 0.03 | S73: 0.02 | T73: 0.02 | U73: 0.03 | V73: 0.03
A74: Interim only | B74: Unknown | C74: 40 | D74: 44 | E74: 48 | F74: 66 | G74: 70 | H74: 48 | I74: 54 | J74: 69 | K74: 91 | L74: 128 | M74: 0.08 | N74: 0.09 | O74: 0.09 | P74: 0.13 | Q74: 0.14 | R74: 0.09 | S74: 0.09 | T74: 0.1 | U74: 0.12 | V74: 0.16
A75: Interim only | B75: Age group
A76: Interim only | B76: 19 years and under | C76: 47 | D76: 55 | E76: 63 | F76: 57 | G76: 30 | H76: 35 | I76: 38 | J76: 62 | K76: 58 | L76: 72 | M76: 0.09 | N76: 0.11 | O76: 0.12 | P76: 0.12 | Q76: 0.06 | R76: 0.06 | S76: 0.07 | T76: 0.09 | U76: 0.08 | V76: 0.09
A77: Interim only | B77: 20-24 | C77: 64 | D77: 69 | E77: 58 | F77: 51 | G77: 59 | H77: 74 | I77: 76 | J77: 81 | K77: 124 | L77: 108 | M77: 0.13 | N77: 0.14 | O77: 0.11 | P77: 0.1 | Q77: 0.11 | R77: 0.13 | S77: 0.13 | T77: 0.12 | U77: 0.17 | V77: 0.13
A78: Interim only | B78: 25-29 | C78: 67 | D78: 81 | E78: 70 | F78: 68 | G78: 82 | H78: 90 | I78: 83 | J78: 115 | K78: 114 | L78: 137 | M78: 0.13 | N78: 0.16 | O78: 0.13 | P78: 0.14 | Q78: 0.16 | R78: 0.16 | S78: 0.14 | T78: 0.17 | U78: 0.15 | V78: 0.17
A79: Interim only | B79: 30-34 | C79: 65 | D79: 54 | E79: 76 | F79: 63 | G79: 77 | H79: 94 | I79: 108 | J79: 102 | K79: 107 | L79: 124 | M79: 0.13 | N79: 0.11 | O79: 0.14 | P79: 0.13 | Q79: 0.15 | R79: 0.17 | S79: 0.19 | T79: 0.15 | U79: 0.14 | V79: 0.15
A80: Interim only | B80: 35-39 | C80: 58 | D80: 62 | E80: 56 | F80: 58 | G80: 64 | H80: 62 | I80: 65 | J80: 80 | K80: 97 | L80: 99 | M80: 0.12 | N80: 0.12 | O80: 0.11 | P80: 0.12 | Q80: 0.12 | R80: 0.11 | S80: 0.11 | T80: 0.12 | U80: 0.13 | V80: 0.12
A81: Interim only | B81: 40-44 | C81: 49 | D81: 48 | E81: 56 | F81: 43 | G81: 62 | H81: 52 | I81: 64 | J81: 61 | K81: 51 | L81: 73 | M81: 0.1 | N81: 0.1 | O81: 0.11 | P81: 0.09 | Q81: 0.12 | R81: 0.09 | S81: 0.11 | T81: 0.09 | U81: 0.07 | V81: 0.09
A82: Interim only | B82: 45-49 | C82: 44 | D82: 33 | E82: 52 | F82: 45 | G82: 40 | H82: 43 | I82: 46 | J82: 53 | K82: 49 | L82: 64 | M82: 0.09 | N82: 0.07 | O82: 0.1 | P82: 0.09 | Q82: 0.08 | R82: 0.08 | S82: 0.08 | T82: 0.08 | U82: 0.07 | V82: 0.08
A83: Interim only | B83: 50-54 | C83: 41 | D83: 34 | E83: 28 | F83: 40 | G83: 30 | H83: 39 | I83: 39 | J83: 55 | K83: 57 | L83: 42 | M83: 0.08 | N83: 0.07 | O83: 0.05 | P83: 0.08 | Q83: 0.06 | R83: 0.07 | S83: 0.07 | T83: 0.08 | U83: 0.08 | V83: 0.05
A84: Interim only | B84: 55-59 | C84: 23 | D84: 22 | E84: 19 | F84: 25 | G84: 27 | H84: 26 | I84: 18 | J84: 31 | K84: 21 | L84: 37 | M84: 0.05 | N84: 0.04 | O84: 0.04 | P84: 0.05 | Q84: 0.05 | R84: 0.05 | S84: 0.03 | T84: 0.04 | U84: 0.03 | V84: 0.04
A85: Interim only | B85: 60-64 | C85: 19 | D85: 16 | E85: 15 | F85: 14 | G85: 13 | H85: 11 | I85: 13 | J85: 20 | K85: 28 | L85: 27 | M85: 0.04 | N85: 0.03 | O85: 0.03 | P85: 0.03 | Q85: 0.03 | R85: 0.02 | S85: 0.02 | T85: 0.03 | U85: 0.04 | V85: 0.03
A86: Interim only | B86: 65 years and over | C86: 16 | D86: 11 | E86: 15 | F86: 13 | G86: 15 | H86: 16 | I86: 14 | J86: 15 | K86: 18 | L86: 24 | M86: 0.03 | N86: 0.02 | O86: 0.03 | P86: 0.03 | Q86: 0.03 | R86: 0.03 | S86: 0.02 | T86: 0.02 | U86: 0.02 | V86: 0.03
A87: Interim only | B87: Unknown | C87: 6 | D87: 14 | E87: 17 | F87: 16 | G87: 18 | H87: 8 | I87: 14 | J87: 16 | K87: 24 | L87: 17 | M87: 0.01 | N87: 0.03 | O87: 0.03 | P87: 0.03 | Q87: 0.03 | R87: 0.01 | S87: 0.02 | T87: 0.02 | U87: 0.03 | V87: 0.02
A88: Final only | B88: Total | C88: 86 | D88: 89 | E88: 84 | F88: 54 | G88: 66 | H88: 78 | I88: 55 | J88: 54 | K88: 55 | L88: 62 | M88: 1 | N88: 1 | O88: 1 | P88: 1 | Q88: 1 | R88: 1 | S88: 1 | T88: 1 | U88: 1 | V88: 1
A89: Final only | B89: Gender
A90: Final only | B90: Female | C90: 21 | D90: 22 | E90: 28 | F90: 16 | G90: 14 | H90: 22 | I90: 14 | J90: 9 | K90: 18 | L90: 9 | M90: 0.24 | N90: 0.25 | O90: 0.33 | P90: 0.3 | Q90: 0.21 | R90: 0.28 | S90: 0.25 | T90: 0.17 | U90: 0.33 | V90: 0.15
A91: Final only | B91: Male | C91: 65 | D91: 65 | E91: 53 | F91: 35 | G91: 48 | H91: 56 | I91: 41 | J91: 42 | K91: 33 | L91: 51 | M91: 0.76 | N91: 0.73 | O91: 0.63 | P91: 0.65 | Q91: 0.73 | R91: 0.72 | S91: 0.75 | T91: 0.78 | U91: 0.6 | V91: 0.82
A92: Final only | B92: Organisation | C92: 0 | D92: 2 | E92: 3 | F92: 3 | G92: 4 | H92: 0 | I92: 0 | J92: 3 | K92: 4 | L92: 2 | M92: 0 | N92: 0.02 | O92: 0.04 | P92: 0.06 | Q92: 0.06 | R92: 0 | S92: 0 | T92: 0.06 | U92: 0.07 | V92: 0.03
A93: Final only | B93: Unknown | C93: 0 | D93: 0 | E93: 0 | F93: 0 | G93: 0 | H93: 0 | I93: 0 | J93: 0 | K93: 0 | L93: 0 | M93: 0 | N93: 0 | O93: 0 | P93: 0 | Q93: 0 | R93: 0 | S93: 0 | T93: 0 | U93: 0 | V93: 0
A94: Final only | B94: Ethnicity
A95: Final only | B95: European | C95: 58 | D95: 51 | E95: 50 | F95: 30 | G95: 39 | H95: 47 | I95: 32 | J95: 31 | K95: 23 | L95: 30 | M95: 0.67 | N95: 0.57 | O95: 0.6 | P95: 0.56 | Q95: 0.59 | R95: 0.6 | S95: 0.58 | T95: 0.57 | U95: 0.42 | V95: 0.48
A96: Final only | B96: Māori | C96: 17 | D96: 25 | E96: 26 | F96: 18 | G96: 13 | H96: 25 | I96: 14 | J96: 14 | K96: 14 | L96: 14 | M96: 0.2 | N96: 0.28 | O96: 0.31 | P96: 0.33 | Q96: 0.2 | R96: 0.32 | S96: 0.25 | T96: 0.26 | U96: 0.25 | V96: 0.23
A97: Final only | B97: Pacific Peoples | C97: 9 | D97: 6 | E97: 1 | F97: 3 | G97: 4 | H97: 5 | I97: 6 | J97: 3 | K97: 4 | L97: 4 | M97: 0.1 | N97: 0.07 | O97: 0.01 | P97: 0.06 | Q97: 0.06 | R97: 0.06 | S97: 0.11 | T97: 0.06 | U97: 0.07 | V97: 0.06
A98: Final only | B98: Asian | C98: 4 | D98: 4 | E98: 1 | F98: 2 | G98: 1 | H98: 1 | I98: 1 | J98: 1 | K98: 4 | L98: 5 | M98: 0.05 | N98: 0.04 | O98: 0.01 | P98: 0.04 | Q98: 0.02 | R98: 0.01 | S98: 0.02 | T98: 0.02 | U98: 0.07 | V98: 0.08
A99: Final only | B99: Other | C99: 4 | D99: 0 | E99: 0 | F99: 0 | G99: 0 | H99: 1 | I99: 2 | J99: 0 | K99: 3 | L99: 0 | M99: 0.05 | N99: 0 | O99: 0 | P99: 0 | Q99: 0 | R99: 0.01 | S99: 0.04 | T99: 0 | U99: 0.05 | V99: 0
A100: Final only | B100: Unknown | C100: 3 | D100: 7 | E100: 9 | F100: 4 | G100: 10 | H100: 2 | I100: 4 | J100: 6 | K100: 9 | L100: 9 | M100: 0.03 | N100: 0.08 | O100: 0.11 | P100: 0.07 | Q100: 0.15 | R100: 0.03 | S100: 0.07 | T100: 0.11 | U100: 0.16 | V100: 0.15
...

Sheet Definitions and data notes
A1: Definitions and data notes
A2: Back to contents page
A4: Name suppression | B4: The workbook includes information on finalised charges and people with finalised charges for offences where name suppression (including automatic name suppression) was applied for the person charged. This includes charges with: - both interim and final name suppression - interim suppression only - final suppression only. Charges where name suppression is applied for people other than the person charged, are not included. Information for children and young people with finalised charges in the Youth Court is also not included in any breakdowns, as the Youth Court is closed to the public therefore suppression is implied. Name suppression means that a person’s name and any details that may identify them cannot be published (section 200 Criminal Procedure Act 2011). Name suppression is available in the following situations: - for victims and defendants (the person being charged) in specific sexual cases - to protect the victim (rather than the defendant) - for children under 17 who are complainants or witnesses in criminal proceedings - as provided in any statute – for example, section 438 of the Oranga Tamariki Act 1989 restricts publication of any proceedings of the Youth Court except with the permission of the court - for defendants and any other people connected to proceedings (for example, witnesses, victims), at the discretion of the court, subject to certain considerations. The court may make an order for name suppression only if it is satisfied that publishing the defendant’s name would be likely to: - cause extreme hardship to the person being charged or people connected with them (for example, their family) - cast suspicion on another person that may cause them undue hardship (note that the fact that a person is well known does not automatically mean that publication of their name will result in extreme hardship) - cause undue hardship to the victim(s) - create a real risk of prejudicing a fair trial - endanger any person’s safety - lead to the identification of another person who has name suppression - prejudice the maintenance of the law or the security or defence of New Zealand. When a person first appears in court an interim suppression order can be made. This expires at the person's next court appearance and may only be renewed if the court is satisfied that the reason(s) for suppression still apply. At the end of the case a final name suppression order can be made. The court must take into account any views of a victim. In some instances automatic name suppression is applied to protect the victim. This relates to specific sexual offences where the person is accused or convicted of offences under section 130 (Incest) and section 131 (Sexual conduct with dependent family member) of the Crimes Act 1961. Note that the Criminal Procedure Act 2011 changed the threshold for people being able to obtain name suppression. Now, people need to prove that publishing their name would cause them "extreme hardship", rather than "undue hardship". Additionally, a specific provision was included to make it clear that being well known is not an automatic reason to obtain name suppression.
A5: ANZSOC | B5: The Australian and New Zealand Standard Offence Classification is used to categorise offences into 17 divisions, within which subdivisions and groups exist. In New Zealand, ANZSOC v2.0.0 is used for all statistics published from July 2025 onwards. Prior to this, ANZSOC v1.0.0 was used, which categorised offences into 16 divisions. More information can be obtained from Stats NZ: https://aria.stats.govt.nz/aria/#ClassificationView:uri=http://stats.govt.nz/cms/ClassificationVersion/bNfA7dXFz2KGM0iJ
A6: Year | B6: This data is extracted based on the charge outcome year of each finalised charge (e.g. the year the charge was convicted and sentenced, withdrawn, or the person was found not guilty). Calendar years start in January and end in December. Financial years start in July and end in June.
A7: People with finalised charges per year | B7: People are counted once per year for their most serious charge finalised in the year, and only the details of that charge are shown.
A8: People convicted per year | B8: People are counted once per year for their most serious charge convicted in the year, and only the details of that charge are shown.
A9: Most serious offence | B9: A range of information is used to determine which finalised charge is a person's most serious in a year. This includes information such as the final charge outcome, sentence type, sentence length/amount, remands in custody and bail and maximum offence penalties.
A10: Gender, ethnicity and age | B10: Gender, ethnicity, and age information originate from Police. All of a person's charges have the same recorded gender and ethnicity information. Age in these tables is the person's age at the offence date of their most serious finalised charge. A small number of records are missing some details and are labelled as Unknown. 'Multiple ethnicity' information is used in these tables. This means for each ethnicity a person is counted once per year (e.g. they may be counted in both European and Māori). As some people have multiple recorded ethnicities this will result in the sum of ethnicities being greater than the total number of people each year. Reasons for people having unknown ethnicity include it not being recorded by Police or it not being transferred to the Ministry of Justice from the prosecuting agency (e.g. Police). This is usually due to the charge being filed by summons (rather than arrest). Some offence types (such as traffic offences) are more likely to be charged by summons. Charges prosecuted by agencies other than Police, Crown Law or Corrections (e.g. Inland Revenue, Ministry of Social Development, and Ministry of Primary Industries) are filed by summons. However, if a person has other charges where ethnicity is recorded all their ethnicity information is applied to all their charges, meaning the more charges a person has over time, the more opportunity there is for their ethnicity to become known.
A11: Charge outcome | B11: The final outcome of a prosecution - whether a person is convicted or not: - proved outcomes (where a person is found to be, or pleads, guilty) include convicted and other proved (Youth Court proved (s283 order), discharge without conviction and adult diversion/Youth Court discharge, and proven but not criminally responsible on account of insanity). - not proved outcomes include the person being found not guilty and where the charge is withdrawn or dismissed. - other charge outcomes include being found not guilty by reason of insanity, unfit to stand trial or stay of proceedings ordered.
A12: Sentence | B12: A person may receive more than one type of sentence when convicted of a charge. The most serious sentence is used in these tables. Sentences include (in order of seriousness): - imprisonment (includes life imprisonment, preventive detention and imprisonment) - community sentences (home detention, community detention, intensive supervision, community work, supervision) - monetary (includes reparation, fine and order for restitution of property) - deferment (which includes 'to come up for sentence if called upon') - other (includes orders related to driving (e.g. disqualification from driving, alcohol interlock order, zero alcohol order, attend driving course), orders related to forfeiture and confiscation (e.g. forfeiture, confiscation of motor vehicle, prohibition of interest in motor vehicle, destruction of animal), Child Protection Register, Final Protection Order (Sentencing Act), Firearm Prohibition Order, and 'committed to a facility on conviction') - no sentence recorded (includes where a person has been 'convicted and discharged' and where a person has been ordered to pay court costs).
A13: Values of - and 0 | B13: Where information is not existing for a measure, a dash (-) is used in the tables. A count of zero is represented by a numerical 0. Where a percentage value is 0% it is shown as 0%, where it is between 0% and 0.49% it is shown as <1%, and where it is between 0.5% and 1% it is shown as 1%.
