Workbook

Sheet Region
A1: HELPER COLUMN | B1: STRUCTURE | C1: STRUCTURE_ID | D1: STRUCTURE_NAME | E1: ACTION | F1: CEN23_YEAR_001 | G1: Census year | H1: CEN23_GEO_002 | I1: Area | J1: CEN23_REL_002 | K1: Legally registered relationship status | L1: CEN23_REL_003 | M1: Partnership status in current relationship | N1: CEN23_AGE_008 | O1: Age | P1: CEN23_GEN_002 | Q1: Gender | R1: OBS_VALUE | S1: Observation Value | T1: OBS_STATUS | U1: Observation Status | V1: Percentage | W1: Denominator (Total stated)
A2: =G2&"|"&I2&"|"&Q2 -> 2013|Northland Region|Male / TÄne | B2: DATAFLOW | C2: STATSNZ:CEN23_POP_008(1.0) | D2: Legally registered relationship status, partnership status in current relationship, age, and gender for the census usually resident population count aged 15 years and over, (RC, TALB, SA2, Health), 2013, 2018, and 2023 Censuses | E2: I | F2: 2013 | G2: 2013 | H2: 1 | I2: Northland Region | J2: 1 | K2: Married (Not Separated) | L2: 99 | M2: Total - partnership status in current relationship | N2: 99 | O2: Total - age | P2: 1 | Q2: Male / TÄne | R2: 25116 | V2: =IF(T2<>"_U",IFERROR((ROUND(R2/W2*100,2)),"."),".") -> 50.81 | W2: =IF(AND(T2<>"_U",T2<>"c",J2<>9,J2<>99),IFERROR(VLOOKUP(A2,'Region Total'!$A$2:$W$10000,18,0),"."),".") -> 49428
A3: =G3&"|"&I3&"|"&Q3 -> 2013|Northland Region|Female / Wahine | B3: DATAFLOW | C3: STATSNZ:CEN23_POP_008(1.0) | D3: Legally registered relationship status, partnership status in current relationship, age, and gender for the census usually resident population count aged 15 years and over, (RC, TALB, SA2, Health), 2013, 2018, and 2023 Censuses | E3: I | F3: 2013 | G3: 2013 | H3: 1 | I3: Northland Region | J3: 1 | K3: Married (Not Separated) | L3: 99 | M3: Total - partnership status in current relationship | N3: 99 | O3: Total - age | P3: 2 | Q3: Female / Wahine | R3: 25446 | V3: =IF(T3<>"_U",IFERROR((ROUND(R3/W3*100,2)),"."),".") -> 46.5 | W3: =IF(AND(T3<>"_U",T3<>"c",J3<>9,J3<>99),IFERROR(VLOOKUP(A3,'Region Total'!$A$2:$W$10000,18,0),"."),".") -> 54720
A4: =G4&"|"&I4&"|"&Q4 -> 2013|Northland Region|Another gender / He ira kÄ“ anÅ | B4: DATAFLOW | C4: STATSNZ:CEN23_POP_008(1.0) | D4: Legally registered relationship status, partnership status in current relationship, age, and gender for the census usually resident population count aged 15 years and over, (RC, TALB, SA2, Health), 2013, 2018, and 2023 Censuses | E4: I | F4: 2013 | G4: 2013 | H4: 1 | I4: Northland Region | J4: 1 | K4: Married (Not Separated) | L4: 99 | M4: Total - partnership status in current relationship | N4: 99 | O4: Total - age | P4: 3 | Q4: Another gender / He ira kÄ“ anÅ | T4: _U | U4: Not available | V4: =IF(T4<>"_U",IFERROR((ROUND(R4/W4*100,2)),"."),".") -> . | W4: =IF(AND(T4<>"_U",T4<>"c",J4<>9,J4<>99),IFERROR(VLOOKUP(A4,'Region Total'!$A$2:$W$10000,18,0),"."),".") -> .
A5: =G5&"|"&I5&"|"&Q5 -> 2013|Northland Region|Total - gender | B5: DATAFLOW | C5: STATSNZ:CEN23_POP_008(1.0) | D5: Legally registered relationship status, partnership status in current relationship, age, and gender for the census usually resident population count aged 15 years and over, (RC, TALB, SA2, Health), 2013, 2018, and 2023 Censuses | E5: I | F5: 2013 | G5: 2013 | H5: 1 | I5: Northland Region | J5: 1 | K5: Married (Not Separated) | L5: 99 | M5: Total - partnership status in current relationship | N5: 99 | O5: Total - age | P5: 99 | Q5: Total - gender | R5: 50562 | V5: =IF(T5<>"_U",IFERROR((ROUND(R5/W5*100,2)),"."),".") -> 48.55 | W5: =IF(AND(T5<>"_U",T5<>"c",J5<>9,J5<>99),IFERROR(VLOOKUP(A5,'Region Total'!$A$2:$W$10000,18,0),"."),".") -> 104148
A6: =G6&"|"&I6&"|"&Q6 -> 2013|Northland Region|Male / TÄne | B6: DATAFLOW | C6: STATSNZ:CEN23_POP_008(1.0) | D6: Legally registered relationship status, partnership status in current relationship, age, and gender for the census usually resident population count aged 15 years and over, (RC, TALB, SA2, Health), 2013, 2018, and 2023 Censuses | E6: I | F6: 2013 | G6: 2013 | H6: 1 | I6: Northland Region | J6: 3 | K6: Separated | L6: 99 | M6: Total - partnership status in current relationship | N6: 99 | O6: Total - age | P6: 1 | Q6: Male / TÄne | R6: 2001 | V6: =IF(T6<>"_U",IFERROR((ROUND(R6/W6*100,2)),"."),".") -> 4.05 | W6: =IF(AND(T6<>"_U",T6<>"c",J6<>9,J6<>99),IFERROR(VLOOKUP(A6,'Region Total'!$A$2:$W$10000,18,0),"."),".") -> 49428
A7: =G7&"|"&I7&"|"&Q7 -> 2013|Northland Region|Female / Wahine | B7: DATAFLOW | C7: STATSNZ:CEN23_POP_008(1.0) | D7: Legally registered relationship status, partnership status in current relationship, age, and gender for the census usually resident population count aged 15 years and over, (RC, TALB, SA2, Health), 2013, 2018, and 2023 Censuses | E7: I | F7: 2013 | G7: 2013 | H7: 1 | I7: Northland Region | J7: 3 | K7: Separated | L7: 99 | M7: Total - partnership status in current relationship | N7: 99 | O7: Total - age | P7: 2 | Q7: Female / Wahine | R7: 2391 | V7: =IF(T7<>"_U",IFERROR((ROUND(R7/W7*100,2)),"."),".") -> 4.37 | W7: =IF(AND(T7<>"_U",T7<>"c",J7<>9,J7<>99),IFERROR(VLOOKUP(A7,'Region Total'!$A$2:$W$10000,18,0),"."),".") -> 54720
A8: =G8&"|"&I8&"|"&Q8 -> 2013|Northland Region|Another gender / He ira kÄ“ anÅ | B8: DATAFLOW | C8: STATSNZ:CEN23_POP_008(1.0) | D8: Legally registered relationship status, partnership status in current relationship, age, and gender for the census usually resident population count aged 15 years and over, (RC, TALB, SA2, Health), 2013, 2018, and 2023 Censuses | E8: I | F8: 2013 | G8: 2013 | H8: 1 | I8: Northland Region | J8: 3 | K8: Separated | L8: 99 | M8: Total - partnership status in current relationship | N8: 99 | O8: Total - age | P8: 3 | Q8: Another gender / He ira kÄ“ anÅ | T8: _U | U8: Not available | V8: =IF(T8<>"_U",IFERROR((ROUND(R8/W8*100,2)),"."),".") -> . | W8: =IF(AND(T8<>"_U",T8<>"c",J8<>9,J8<>99),IFERROR(VLOOKUP(A8,'Region Total'!$A$2:$W$10000,18,0),"."),".") -> .
A9: =G9&"|"&I9&"|"&Q9 -> 2013|Northland Region|Total - gender | B9: DATAFLOW | C9: STATSNZ:CEN23_POP_008(1.0) | D9: Legally registered relationship status, partnership status in current relationship, age, and gender for the census usually resident population count aged 15 years and over, (RC, TALB, SA2, Health), 2013, 2018, and 2023 Censuses | E9: I | F9: 2013 | G9: 2013 | H9: 1 | I9: Northland Region | J9: 3 | K9: Separated | L9: 99 | M9: Total - partnership status in current relationship | N9: 99 | O9: Total - age | P9: 99 | Q9: Total - gender | R9: 4395 | V9: =IF(T9<>"_U",IFERROR((ROUND(R9/W9*100,2)),"."),".") -> 4.22 | W9: =IF(AND(T9<>"_U",T9<>"c",J9<>9,J9<>99),IFERROR(VLOOKUP(A9,'Region Total'!$A$2:$W$10000,18,0),"."),".") -> 104148
A10: =G10&"|"&I10&"|"&Q10 -> 2013|Northland Region|Male / TÄne | B10: DATAFLOW | C10: STATSNZ:CEN23_POP_008(1.0) | D10: Legally registered relationship status, partnership status in current relationship, age, and gender for the census usually resident population count aged 15 years and over, (RC, TALB, SA2, Health), 2013, 2018, and 2023 Censuses | E10: I | F10: 2013 | G10: 2013 | H10: 1 | I10: Northland Region | J10: 4 | K10: Divorced or dissolved | L10: 99 | M10: Total - partnership status in current relationship | N10: 99 | O10: Total - age | P10: 1 | Q10: Male / TÄne | R10: 4368 | V10: =IF(T10<>"_U",IFERROR((ROUND(R10/W10*100,2)),"."),".") -> 8.84 | W10: =IF(AND(T10<>"_U",T10<>"c",J10<>9,J10<>99),IFERROR(VLOOKUP(A10,'Region Total'!$A$2:$W$10000,18,0),"."),".") -> 49428
A11: =G11&"|"&I11&"|"&Q11 -> 2013|Northland Region|Female / Wahine | B11: DATAFLOW | C11: STATSNZ:CEN23_POP_008(1.0) | D11: Legally registered relationship status, partnership status in current relationship, age, and gender for the census usually resident population count aged 15 years and over, (RC, TALB, SA2, Health), 2013, 2018, and 2023 Censuses | E11: I | F11: 2013 | G11: 2013 | H11: 1 | I11: Northland Region | J11: 4 | K11: Divorced or dissolved | L11: 99 | M11: Total - partnership status in current relationship | N11: 99 | O11: Total - age | P11: 2 | Q11: Female / Wahine | R11: 5331 | V11: =IF(T11<>"_U",IFERROR((ROUND(R11/W11*100,2)),"."),".") -> 9.74 | W11: =IF(AND(T11<>"_U",T11<>"c",J11<>9,J11<>99),IFERROR(VLOOKUP(A11,'Region Total'!$A$2:$W$10000,18,0),"."),".") -> 54720
A12: =G12&"|"&I12&"|"&Q12 -> 2013|Northland Region|Another gender / He ira kÄ“ anÅ | B12: DATAFLOW | C12: STATSNZ:CEN23_POP_008(1.0) | D12: Legally registered relationship status, partnership status in current relationship, age, and gender for the census usually resident population count aged 15 years and over, (RC, TALB, SA2, Health), 2013, 2018, and 2023 Censuses | E12: I | F12: 2013 | G12: 2013 | H12: 1 | I12: Northland Region | J12: 4 | K12: Divorced or dissolved | L12: 99 | M12: Total - partnership status in current relationship | N12: 99 | O12: Total - age | P12: 3 | Q12: Another gender / He ira kÄ“ anÅ | T12: _U | U12: Not available | V12: =IF(T12<>"_U",IFERROR((ROUND(R12/W12*100,2)),"."),".") -> . | W12: =IF(AND(T12<>"_U",T12<>"c",J12<>9,J12<>99),IFERROR(VLOOKUP(A12,'Region Total'!$A$2:$W$10000,18,0),"."),".") -> .
A13: =G13&"|"&I13&"|"&Q13 -> 2013|Northland Region|Total - gender | B13: DATAFLOW | C13: STATSNZ:CEN23_POP_008(1.0) | D13: Legally registered relationship status, partnership status in current relationship, age, and gender for the census usually resident population count aged 15 years and over, (RC, TALB, SA2, Health), 2013, 2018, and 2023 Censuses | E13: I | F13: 2013 | G13: 2013 | H13: 1 | I13: Northland Region | J13: 4 | K13: Divorced or dissolved | L13: 99 | M13: Total - partnership status in current relationship | N13: 99 | O13: Total - age | P13: 99 | Q13: Total - gender | R13: 9702 | V13: =IF(T13<>"_U",IFERROR((ROUND(R13/W13*100,2)),"."),".") -> 9.32 | W13: =IF(AND(T13<>"_U",T13<>"c",J13<>9,J13<>99),IFERROR(VLOOKUP(A13,'Region Total'!$A$2:$W$10000,18,0),"."),".") -> 104148
A14: =G14&"|"&I14&"|"&Q14 -> 2013|Northland Region|Male / TÄne | B14: DATAFLOW | C14: STATSNZ:CEN23_POP_008(1.0) | D14: Legally registered relationship status, partnership status in current relationship, age, and gender for the census usually resident population count aged 15 years and over, (RC, TALB, SA2, Health), 2013, 2018, and 2023 Censuses | E14: I | F14: 2013 | G14: 2013 | H14: 1 | I14: Northland Region | J14: 5 | K14: Widowed or surviving civil union partner | L14: 99 | M14: Total - partnership status in current relationship | N14: 99 | O14: Total - age | P14: 1 | Q14: Male / TÄne | R14: 1770 | V14: =IF(T14<>"_U",IFERROR((ROUND(R14/W14*100,2)),"."),".") -> 3.58 | W14: =IF(AND(T14<>"_U",T14<>"c",J14<>9,J14<>99),IFERROR(VLOOKUP(A14,'Region Total'!$A$2:$W$10000,18,0),"."),".") -> 49428
A15: =G15&"|"&I15&"|"&Q15 -> 2013|Northland Region|Female / Wahine | B15: DATAFLOW | C15: STATSNZ:CEN23_POP_008(1.0) | D15: Legally registered relationship status, partnership status in current relationship, age, and gender for the census usually resident population count aged 15 years and over, (RC, TALB, SA2, Health), 2013, 2018, and 2023 Censuses | E15: I | F15: 2013 | G15: 2013 | H15: 1 | I15: Northland Region | J15: 5 | K15: Widowed or surviving civil union partner | L15: 99 | M15: Total - partnership status in current relationship | N15: 99 | O15: Total - age | P15: 2 | Q15: Female / Wahine | R15: 5778 | V15: =IF(T15<>"_U",IFERROR((ROUND(R15/W15*100,2)),"."),".") -> 10.56 | W15: =IF(AND(T15<>"_U",T15<>"c",J15<>9,J15<>99),IFERROR(VLOOKUP(A15,'Region Total'!$A$2:$W$10000,18,0),"."),".") -> 54720
A16: =G16&"|"&I16&"|"&Q16 -> 2013|Northland Region|Another gender / He ira kÄ“ anÅ | B16: DATAFLOW | C16: STATSNZ:CEN23_POP_008(1.0) | D16: Legally registered relationship status, partnership status in current relationship, age, and gender for the census usually resident population count aged 15 years and over, (RC, TALB, SA2, Health), 2013, 2018, and 2023 Censuses | E16: I | F16: 2013 | G16: 2013 | H16: 1 | I16: Northland Region | J16: 5 | K16: Widowed or surviving civil union partner | L16: 99 | M16: Total - partnership status in current relationship | N16: 99 | O16: Total - age | P16: 3 | Q16: Another gender / He ira kÄ“ anÅ | T16: _U | U16: Not available | V16: =IF(T16<>"_U",IFERROR((ROUND(R16/W16*100,2)),"."),".") -> . | W16: =IF(AND(T16<>"_U",T16<>"c",J16<>9,J16<>99),IFERROR(VLOOKUP(A16,'Region Total'!$A$2:$W$10000,18,0),"."),".") -> .
A17: =G17&"|"&I17&"|"&Q17 -> 2013|Northland Region|Total - gender | B17: DATAFLOW | C17: STATSNZ:CEN23_POP_008(1.0) | D17: Legally registered relationship status, partnership status in current relationship, age, and gender for the census usually resident population count aged 15 years and over, (RC, TALB, SA2, Health), 2013, 2018, and 2023 Censuses | E17: I | F17: 2013 | G17: 2013 | H17: 1 | I17: Northland Region | J17: 5 | K17: Widowed or surviving civil union partner | L17: 99 | M17: Total - partnership status in current relationship | N17: 99 | O17: Total - age | P17: 99 | Q17: Total - gender | R17: 7545 | V17: =IF(T17<>"_U",IFERROR((ROUND(R17/W17*100,2)),"."),".") -> 7.24 | W17: =IF(AND(T17<>"_U",T17<>"c",J17<>9,J17<>99),IFERROR(VLOOKUP(A17,'Region Total'!$A$2:$W$10000,18,0),"."),".") -> 104148
A18: =G18&"|"&I18&"|"&Q18 -> 2013|Northland Region|Male / TÄne | B18: DATAFLOW | C18: STATSNZ:CEN23_POP_008(1.0) | D18: Legally registered relationship status, partnership status in current relationship, age, and gender for the census usually resident population count aged 15 years and over, (RC, TALB, SA2, Health), 2013, 2018, and 2023 Censuses | E18: I | F18: 2013 | G18: 2013 | H18: 1 | I18: Northland Region | J18: 6 | K18: Never married and never in a civil union | L18: 99 | M18: Total - partnership status in current relationship | N18: 99 | O18: Total - age | P18: 1 | Q18: Male / TÄne | R18: 16173 | V18: =IF(T18<>"_U",IFERROR((ROUND(R18/W18*100,2)),"."),".") -> 32.72 | W18: =IF(AND(T18<>"_U",T18<>"c",J18<>9,J18<>99),IFERROR(VLOOKUP(A18,'Region Total'!$A$2:$W$10000,18,0),"."),".") -> 49428
A19: =G19&"|"&I19&"|"&Q19 -> 2013|Northland Region|Female / Wahine | B19: DATAFLOW | C19: STATSNZ:CEN23_POP_008(1.0) | D19: Legally registered relationship status, partnership status in current relationship, age, and gender for the census usually resident population count aged 15 years and over, (RC, TALB, SA2, Health), 2013, 2018, and 2023 Censuses | E19: I | F19: 2013 | G19: 2013 | H19: 1 | I19: Northland Region | J19: 6 | K19: Never married and never in a civil union | L19: 99 | M19: Total - partnership status in current relationship | N19: 99 | O19: Total - age | P19: 2 | Q19: Female / Wahine | R19: 15774 | V19: =IF(T19<>"_U",IFERROR((ROUND(R19/W19*100,2)),"."),".") -> 28.83 | W19: =IF(AND(T19<>"_U",T19<>"c",J19<>9,J19<>99),IFERROR(VLOOKUP(A19,'Region Total'!$A$2:$W$10000,18,0),"."),".") -> 54720
A20: =G20&"|"&I20&"|"&Q20 -> 2013|Northland Region|Another gender / He ira kÄ“ anÅ | B20: DATAFLOW | C20: STATSNZ:CEN23_POP_008(1.0) | D20: Legally registered relationship status, partnership status in current relationship, age, and gender for the census usually resident population count aged 15 years and over, (RC, TALB, SA2, Health), 2013, 2018, and 2023 Censuses | E20: I | F20: 2013 | G20: 2013 | H20: 1 | I20: Northland Region | J20: 6 | K20: Never married and never in a civil union | L20: 99 | M20: Total - partnership status in current relationship | N20: 99 | O20: Total - age | P20: 3 | Q20: Another gender / He ira kÄ“ anÅ | T20: _U | U20: Not available | V20: =IF(T20<>"_U",IFERROR((ROUND(R20/W20*100,2)),"."),".") -> . | W20: =IF(AND(T20<>"_U",T20<>"c",J20<>9,J20<>99),IFERROR(VLOOKUP(A20,'Region Total'!$A$2:$W$10000,18,0),"."),".") -> .
A21: =G21&"|"&I21&"|"&Q21 -> 2013|Northland Region|Total - gender | B21: DATAFLOW | C21: STATSNZ:CEN23_POP_008(1.0) | D21: Legally registered relationship status, partnership status in current relationship, age, and gender for the census usually resident population count aged 15 years and over, (RC, TALB, SA2, Health), 2013, 2018, and 2023 Censuses | E21: I | F21: 2013 | G21: 2013 | H21: 1 | I21: Northland Region | J21: 6 | K21: Never married and never in a civil union | L21: 99 | M21: Total - partnership status in current relationship | N21: 99 | O21: Total - age | P21: 99 | Q21: Total - gender | R21: 31944 | V21: =IF(T21<>"_U",IFERROR((ROUND(R21/W21*100,2)),"."),".") -> 30.67 | W21: =IF(AND(T21<>"_U",T21<>"c",J21<>9,J21<>99),IFERROR(VLOOKUP(A21,'Region Total'!$A$2:$W$10000,18,0),"."),".") -> 104148
A22: =G22&"|"&I22&"|"&Q22 -> 2013|Northland Region|Male / TÄne | B22: DATAFLOW | C22: STATSNZ:CEN23_POP_008(1.0) | D22: Legally registered relationship status, partnership status in current relationship, age, and gender for the census usually resident population count aged 15 years and over, (RC, TALB, SA2, Health), 2013, 2018, and 2023 Censuses | E22: I | F22: 2013 | G22: 2013 | H22: 1 | I22: Northland Region | J22: 9 | K22: Not elsewhere included | L22: 99 | M22: Total - partnership status in current relationship | N22: 99 | O22: Total - age | P22: 1 | Q22: Male / TÄne | R22: 7479 | V22: =IF(T22<>"_U",IFERROR((ROUND(R22/W22*100,2)),"."),".") -> . | W22: =IF(AND(T22<>"_U",T22<>"c",J22<>9,J22<>99),IFERROR(VLOOKUP(A22,'Region Total'!$A$2:$W$10000,18,0),"."),".") -> .
A23: =G23&"|"&I23&"|"&Q23 -> 2013|Northland Region|Female / Wahine | B23: DATAFLOW | C23: STATSNZ:CEN23_POP_008(1.0) | D23: Legally registered relationship status, partnership status in current relationship, age, and gender for the census usually resident population count aged 15 years and over, (RC, TALB, SA2, Health), 2013, 2018, and 2023 Censuses | E23: I | F23: 2013 | G23: 2013 | H23: 1 | I23: Northland Region | J23: 9 | K23: Not elsewhere included | L23: 99 | M23: Total - partnership status in current relationship | N23: 99 | O23: Total - age | P23: 2 | Q23: Female / Wahine | R23: 7314 | V23: =IF(T23<>"_U",IFERROR((ROUND(R23/W23*100,2)),"."),".") -> . | W23: =IF(AND(T23<>"_U",T23<>"c",J23<>9,J23<>99),IFERROR(VLOOKUP(A23,'Region Total'!$A$2:$W$10000,18,0),"."),".") -> .
A24: =G24&"|"&I24&"|"&Q24 -> 2013|Northland Region|Another gender / He ira kÄ“ anÅ | B24: DATAFLOW | C24: STATSNZ:CEN23_POP_008(1.0) | D24: Legally registered relationship status, partnership status in current relationship, age, and gender for the census usually resident population count aged 15 years and over, (RC, TALB, SA2, Health), 2013, 2018, and 2023 Censuses | E24: I | F24: 2013 | G24: 2013 | H24: 1 | I24: Northland Region | J24: 9 | K24: Not elsewhere included | L24: 99 | M24: Total - partnership status in current relationship | N24: 99 | O24: Total - age | P24: 3 | Q24: Another gender / He ira kÄ“ anÅ | T24: _U | U24: Not available | V24: =IF(T24<>"_U",IFERROR((ROUND(R24/W24*100,2)),"."),".") -> . | W24: =IF(AND(T24<>"_U",T24<>"c",J24<>9,J24<>99),IFERROR(VLOOKUP(A24,'Region Total'!$A$2:$W$10000,18,0),"."),".") -> .
A25: =G25&"|"&I25&"|"&Q25 -> 2013|Northland Region|Total - gender | B25: DATAFLOW | C25: STATSNZ:CEN23_POP_008(1.0) | D25: Legally registered relationship status, partnership status in current relationship, age, and gender for the census usually resident population count aged 15 years and over, (RC, TALB, SA2, Health), 2013, 2018, and 2023 Censuses | E25: I | F25: 2013 | G25: 2013 | H25: 1 | I25: Northland Region | J25: 9 | K25: Not elsewhere included | L25: 99 | M25: Total - partnership status in current relationship | N25: 99 | O25: Total - age | P25: 99 | Q25: Total - gender | R25: 14793 | V25: =IF(T25<>"_U",IFERROR((ROUND(R25/W25*100,2)),"."),".") -> . | W25: =IF(AND(T25<>"_U",T25<>"c",J25<>9,J25<>99),IFERROR(VLOOKUP(A25,'Region Total'!$A$2:$W$10000,18,0),"."),".") -> .
A26: =G26&"|"&I26&"|"&Q26 -> 2013|Northland Region|Male / TÄne | B26: DATAFLOW | C26: STATSNZ:CEN23_POP_008(1.0) | D26: Legally registered relationship status, partnership status in current relationship, age, and gender for the census usually resident population count aged 15 years and over, (RC, TALB, SA2, Health), 2013, 2018, and 2023 Censuses | E26: I | F26: 2013 | G26: 2013 | H26: 1 | I26: Northland Region | J26: 77 | K26: Total stated - legally registered relationship status | L26: 99 | M26: Total - partnership status in current relationship | N26: 99 | O26: Total - age | P26: 1 | Q26: Male / TÄne | R26: 49428 | V26: =IF(T26<>"_U",IFERROR((ROUND(R26/W26*100,2)),"."),".") -> 100 | W26: =IF(AND(T26<>"_U",T26<>"c",J26<>9,J26<>99),IFERROR(VLOOKUP(A26,'Region Total'!$A$2:$W$10000,18,0),"."),".") -> 49428
A27: =G27&"|"&I27&"|"&Q27 -> 2013|Northland Region|Female / Wahine | B27: DATAFLOW | C27: STATSNZ:CEN23_POP_008(1.0) | D27: Legally registered relationship status, partnership status in current relationship, age, and gender for the census usually resident population count aged 15 years and over, (RC, TALB, SA2, Health), 2013, 2018, and 2023 Censuses | E27: I | F27: 2013 | G27: 2013 | H27: 1 | I27: Northland Region | J27: 77 | K27: Total stated - legally registered relationship status | L27: 99 | M27: Total - partnership status in current relationship | N27: 99 | O27: Total - age | P27: 2 | Q27: Female / Wahine | R27: 54720 | V27: =IF(T27<>"_U",IFERROR((ROUND(R27/W27*100,2)),"."),".") -> 100 | W27: =IF(AND(T27<>"_U",T27<>"c",J27<>9,J27<>99),IFERROR(VLOOKUP(A27,'Region Total'!$A$2:$W$10000,18,0),"."),".") -> 54720
A28: =G28&"|"&I28&"|"&Q28 -> 2013|Northland Region|Another gender / He ira kÄ“ anÅ | B28: DATAFLOW | C28: STATSNZ:CEN23_POP_008(1.0) | D28: Legally registered relationship status, partnership status in current relationship, age, and gender for the census usually resident population count aged 15 years and over, (RC, TALB, SA2, Health), 2013, 2018, and 2023 Censuses | E28: I | F28: 2013 | G28: 2013 | H28: 1 | I28: Northland Region | J28: 77 | K28: Total stated - legally registered relationship status | L28: 99 | M28: Total - partnership status in current relationship | N28: 99 | O28: Total - age | P28: 3 | Q28: Another gender / He ira kÄ“ anÅ | T28: _U | U28: Not available | V28: =IF(T28<>"_U",IFERROR((ROUND(R28/W28*100,2)),"."),".") -> . | W28: =IF(AND(T28<>"_U",T28<>"c",J28<>9,J28<>99),IFERROR(VLOOKUP(A28,'Region Total'!$A$2:$W$10000,18,0),"."),".") -> .
A29: =G29&"|"&I29&"|"&Q29 -> 2013|Northland Region|Total - gender | B29: DATAFLOW | C29: STATSNZ:CEN23_POP_008(1.0) | D29: Legally registered relationship status, partnership status in current relationship, age, and gender for the census usually resident population count aged 15 years and over, (RC, TALB, SA2, Health), 2013, 2018, and 2023 Censuses | E29: I | F29: 2013 | G29: 2013 | H29: 1 | I29: Northland Region | J29: 77 | K29: Total stated - legally registered relationship status | L29: 99 | M29: Total - partnership status in current relationship | N29: 99 | O29: Total - age | P29: 99 | Q29: Total - gender | R29: 104148 | V29: =IF(T29<>"_U",IFERROR((ROUND(R29/W29*100,2)),"."),".") -> 100 | W29: =IF(AND(T29<>"_U",T29<>"c",J29<>9,J29<>99),IFERROR(VLOOKUP(A29,'Region Total'!$A$2:$W$10000,18,0),"."),".") -> 104148
A30: =G30&"|"&I30&"|"&Q30 -> 2013|Northland Region|Male / TÄne | B30: DATAFLOW | C30: STATSNZ:CEN23_POP_008(1.0) | D30: Legally registered relationship status, partnership status in current relationship, age, and gender for the census usually resident population count aged 15 years and over, (RC, TALB, SA2, Health), 2013, 2018, and 2023 Censuses | E30: I | F30: 2013 | G30: 2013 | H30: 1 | I30: Northland Region | J30: 99 | K30: Total - legally registered relationship status | L30: 99 | M30: Total - partnership status in current relationship | N30: 99 | O30: Total - age | P30: 1 | Q30: Male / TÄne | R30: 56907 | V30: =IF(T30<>"_U",IFERROR((ROUND(R30/W30*100,2)),"."),".") -> . | W30: =IF(AND(T30<>"_U",T30<>"c",J30<>9,J30<>99),IFERROR(VLOOKUP(A30,'Region Total'!$A$2:$W$10000,18,0),"."),".") -> .
A31: =G31&"|"&I31&"|"&Q31 -> 2013|Northland Region|Female / Wahine | B31: DATAFLOW | C31: STATSNZ:CEN23_POP_008(1.0) | D31: Legally registered relationship status, partnership status in current relationship, age, and gender for the census usually resident population count aged 15 years and over, (RC, TALB, SA2, Health), 2013, 2018, and 2023 Censuses | E31: I | F31: 2013 | G31: 2013 | H31: 1 | I31: Northland Region | J31: 99 | K31: Total - legally registered relationship status | L31: 99 | M31: Total - partnership status in current relationship | N31: 99 | O31: Total - age | P31: 2 | Q31: Female / Wahine | R31: 62034 | V31: =IF(T31<>"_U",IFERROR((ROUND(R31/W31*100,2)),"."),".") -> . | W31: =IF(AND(T31<>"_U",T31<>"c",J31<>9,J31<>99),IFERROR(VLOOKUP(A31,'Region Total'!$A$2:$W$10000,18,0),"."),".") -> .
A32: =G32&"|"&I32&"|"&Q32 -> 2013|Northland Region|Another gender / He ira kÄ“ anÅ | B32: DATAFLOW | C32: STATSNZ:CEN23_POP_008(1.0) | D32: Legally registered relationship status, partnership status in current relationship, age, and gender for the census usually resident population count aged 15 years and over, (RC, TALB, SA2, Health), 2013, 2018, and 2023 Censuses | E32: I | F32: 2013 | G32: 2013 | H32: 1 | I32: Northland Region | J32: 99 | K32: Total - legally registered relationship status | L32: 99 | M32: Total - partnership status in current relationship | N32: 99 | O32: Total - age | P32: 3 | Q32: Another gender / He ira kÄ“ anÅ | T32: _U | U32: Not available | V32: =IF(T32<>"_U",IFERROR((ROUND(R32/W32*100,2)),"."),".") -> . | W32: =IF(AND(T32<>"_U",T32<>"c",J32<>9,J32<>99),IFERROR(VLOOKUP(A32,'Region Total'!$A$2:$W$10000,18,0),"."),".") -> .
A33: =G33&"|"&I33&"|"&Q33 -> 2013|Northland Region|Total - gender | B33: DATAFLOW | C33: STATSNZ:CEN23_POP_008(1.0) | D33: Legally registered relationship status, partnership status in current relationship, age, and gender for the census usually resident population count aged 15 years and over, (RC, TALB, SA2, Health), 2013, 2018, and 2023 Censuses | E33: I | F33: 2013 | G33: 2013 | H33: 1 | I33: Northland Region | J33: 99 | K33: Total - legally registered relationship status | L33: 99 | M33: Total - partnership status in current relationship | N33: 99 | O33: Total - age | P33: 99 | Q33: Total - gender | R33: 118941 | V33: =IF(T33<>"_U",IFERROR((ROUND(R33/W33*100,2)),"."),".") -> . | W33: =IF(AND(T33<>"_U",T33<>"c",J33<>9,J33<>99),IFERROR(VLOOKUP(A33,'Region Total'!$A$2:$W$10000,18,0),"."),".") -> .
A34: =G34&"|"&I34&"|"&Q34 -> 2013|Auckland Region|Male / TÄne | B34: DATAFLOW | C34: STATSNZ:CEN23_POP_008(1.0) | D34: Legally registered relationship status, partnership status in current relationship, age, and gender for the census usually resident population count aged 15 years and over, (RC, TALB, SA2, Health), 2013, 2018, and 2023 Censuses | E34: I | F34: 2013 | G34: 2013 | H34: 2 | I34: Auckland Region | J34: 1 | K34: Married (Not Separated) | L34: 99 | M34: Total - partnership status in current relationship | N34: 99 | O34: Total - age | P34: 1 | Q34: Male / TÄne | R34: 242433 | V34: =IF(T34<>"_U",IFERROR((ROUND(R34/W34*100,2)),"."),".") -> 50.83 | W34: =IF(AND(T34<>"_U",T34<>"c",J34<>9,J34<>99),IFERROR(VLOOKUP(A34,'Region Total'!$A$2:$W$10000,18,0),"."),".") -> 476985
A35: =G35&"|"&I35&"|"&Q35 -> 2013|Auckland Region|Female / Wahine | B35: DATAFLOW | C35: STATSNZ:CEN23_POP_008(1.0) | D35: Legally registered relationship status, partnership status in current relationship, age, and gender for the census usually resident population count aged 15 years and over, (RC, TALB, SA2, Health), 2013, 2018, and 2023 Censuses | E35: I | F35: 2013 | G35: 2013 | H35: 2 | I35: Auckland Region | J35: 1 | K35: Married (Not Separated) | L35: 99 | M35: Total - partnership status in current relationship | N35: 99 | O35: Total - age | P35: 2 | Q35: Female / Wahine | R35: 246807 | V35: =IF(T35<>"_U",IFERROR((ROUND(R35/W35*100,2)),"."),".") -> 46.97 | W35: =IF(AND(T35<>"_U",T35<>"c",J35<>9,J35<>99),IFERROR(VLOOKUP(A35,'Region Total'!$A$2:$W$10000,18,0),"."),".") -> 525411
A36: =G36&"|"&I36&"|"&Q36 -> 2013|Auckland Region|Another gender / He ira kÄ“ anÅ | B36: DATAFLOW | C36: STATSNZ:CEN23_POP_008(1.0) | D36: Legally registered relationship status, partnership status in current relationship, age, and gender for the census usually resident population count aged 15 years and over, (RC, TALB, SA2, Health), 2013, 2018, and 2023 Censuses | E36: I | F36: 2013 | G36: 2013 | H36: 2 | I36: Auckland Region | J36: 1 | K36: Married (Not Separated) | L36: 99 | M36: Total - partnership status in current relationship | N36: 99 | O36: Total - age | P36: 3 | Q36: Another gender / He ira kÄ“ anÅ | T36: _U | U36: Not available | V36: =IF(T36<>"_U",IFERROR((ROUND(R36/W36*100,2)),"."),".") -> . | W36: =IF(AND(T36<>"_U",T36<>"c",J36<>9,J36<>99),IFERROR(VLOOKUP(A36,'Region Total'!$A$2:$W$10000,18,0),"."),".") -> .
A37: =G37&"|"&I37&"|"&Q37 -> 2013|Auckland Region|Total - gender | B37: DATAFLOW | C37: STATSNZ:CEN23_POP_008(1.0) | D37: Legally registered relationship status, partnership status in current relationship, age, and gender for the census usually resident population count aged 15 years and over, (RC, TALB, SA2, Health), 2013, 2018, and 2023 Censuses | E37: I | F37: 2013 | G37: 2013 | H37: 2 | I37: Auckland Region | J37: 1 | K37: Married (Not Separated) | L37: 99 | M37: Total - partnership status in current relationship | N37: 99 | O37: Total - age | P37: 99 | Q37: Total - gender | R37: 489237 | V37: =IF(T37<>"_U",IFERROR((ROUND(R37/W37*100,2)),"."),".") -> 48.81 | W37: =IF(AND(T37<>"_U",T37<>"c",J37<>9,J37<>99),IFERROR(VLOOKUP(A37,'Region Total'!$A$2:$W$10000,18,0),"."),".") -> 1002396
A38: =G38&"|"&I38&"|"&Q38 -> 2013|Auckland Region|Male / TÄne | B38: DATAFLOW | C38: STATSNZ:CEN23_POP_008(1.0) | D38: Legally registered relationship status, partnership status in current relationship, age, and gender for the census usually resident population count aged 15 years and over, (RC, TALB, SA2, Health), 2013, 2018, and 2023 Censuses | E38: I | F38: 2013 | G38: 2013 | H38: 2 | I38: Auckland Region | J38: 3 | K38: Separated | L38: 99 | M38: Total - partnership status in current relationship | N38: 99 | O38: Total - age | P38: 1 | Q38: Male / TÄne | R38: 13278 | V38: =IF(T38<>"_U",IFERROR((ROUND(R38/W38*100,2)),"."),".") -> 2.78 | W38: =IF(AND(T38<>"_U",T38<>"c",J38<>9,J38<>99),IFERROR(VLOOKUP(A38,'Region Total'!$A$2:$W$10000,18,0),"."),".") -> 476985
A39: =G39&"|"&I39&"|"&Q39 -> 2013|Auckland Region|Female / Wahine | B39: DATAFLOW | C39: STATSNZ:CEN23_POP_008(1.0) | D39: Legally registered relationship status, partnership status in current relationship, age, and gender for the census usually resident population count aged 15 years and over, (RC, TALB, SA2, Health), 2013, 2018, and 2023 Censuses | E39: I | F39: 2013 | G39: 2013 | H39: 2 | I39: Auckland Region | J39: 3 | K39: Separated | L39: 99 | M39: Total - partnership status in current relationship | N39: 99 | O39: Total - age | P39: 2 | Q39: Female / Wahine | R39: 18714 | V39: =IF(T39<>"_U",IFERROR((ROUND(R39/W39*100,2)),"."),".") -> 3.56 | W39: =IF(AND(T39<>"_U",T39<>"c",J39<>9,J39<>99),IFERROR(VLOOKUP(A39,'Region Total'!$A$2:$W$10000,18,0),"."),".") -> 525411
A40: =G40&"|"&I40&"|"&Q40 -> 2013|Auckland Region|Another gender / He ira kÄ“ anÅ | B40: DATAFLOW | C40: STATSNZ:CEN23_POP_008(1.0) | D40: Legally registered relationship status, partnership status in current relationship, age, and gender for the census usually resident population count aged 15 years and over, (RC, TALB, SA2, Health), 2013, 2018, and 2023 Censuses | E40: I | F40: 2013 | G40: 2013 | H40: 2 | I40: Auckland Region | J40: 3 | K40: Separated | L40: 99 | M40: Total - partnership status in current relationship | N40: 99 | O40: Total - age | P40: 3 | Q40: Another gender / He ira kÄ“ anÅ | T40: _U | U40: Not available | V40: =IF(T40<>"_U",IFERROR((ROUND(R40/W40*100,2)),"."),".") -> . | W40: =IF(AND(T40<>"_U",T40<>"c",J40<>9,J40<>99),IFERROR(VLOOKUP(A40,'Region Total'!$A$2:$W$10000,18,0),"."),".") -> .
...

Sheet Region Total
A1: HELPER COLUMN | B1: STRUCTURE | C1: STRUCTURE_ID | D1: STRUCTURE_NAME | E1: ACTION | F1: CEN23_YEAR_001 | G1: Census year | H1: CEN23_GEO_002 | I1: Area | J1: CEN23_REL_002 | K1: Legally registered relationship status | L1: CEN23_REL_003 | M1: Partnership status in current relationship | N1: CEN23_AGE_008 | O1: Age | P1: CEN23_GEN_002 | Q1: Gender | R1: OBS_VALUE | S1: Observation Value | T1: OBS_STATUS | U1: Observation Status
A2: 2013|Northland Region|Male / TÄne | B2: DATAFLOW | C2: STATSNZ:CEN23_POP_008(1.0) | D2: Legally registered relationship status, partnership status in current relationship, age, and gender for the census usually resident population count aged 15 years and over, (RC, TALB, SA2, Health), 2013, 2018, and 2023 Censuses | E2: I | F2: 2013 | G2: 2013 | H2: 1 | I2: Northland Region | J2: 77 | K2: Total stated - legally registered relationship status | L2: 99 | M2: Total - partnership status in current relationship | N2: 99 | O2: Total - age | P2: 1 | Q2: Male / TÄne | R2: 49428
A3: 2013|Northland Region|Female / Wahine | B3: DATAFLOW | C3: STATSNZ:CEN23_POP_008(1.0) | D3: Legally registered relationship status, partnership status in current relationship, age, and gender for the census usually resident population count aged 15 years and over, (RC, TALB, SA2, Health), 2013, 2018, and 2023 Censuses | E3: I | F3: 2013 | G3: 2013 | H3: 1 | I3: Northland Region | J3: 77 | K3: Total stated - legally registered relationship status | L3: 99 | M3: Total - partnership status in current relationship | N3: 99 | O3: Total - age | P3: 2 | Q3: Female / Wahine | R3: 54720
A4: 2013|Northland Region|Another gender / He ira kÄ“ anÅ | B4: DATAFLOW | C4: STATSNZ:CEN23_POP_008(1.0) | D4: Legally registered relationship status, partnership status in current relationship, age, and gender for the census usually resident population count aged 15 years and over, (RC, TALB, SA2, Health), 2013, 2018, and 2023 Censuses | E4: I | F4: 2013 | G4: 2013 | H4: 1 | I4: Northland Region | J4: 77 | K4: Total stated - legally registered relationship status | L4: 99 | M4: Total - partnership status in current relationship | N4: 99 | O4: Total - age | P4: 3 | Q4: Another gender / He ira kÄ“ anÅ | T4: _U | U4: Not available
A5: 2013|Northland Region|Total - gender | B5: DATAFLOW | C5: STATSNZ:CEN23_POP_008(1.0) | D5: Legally registered relationship status, partnership status in current relationship, age, and gender for the census usually resident population count aged 15 years and over, (RC, TALB, SA2, Health), 2013, 2018, and 2023 Censuses | E5: I | F5: 2013 | G5: 2013 | H5: 1 | I5: Northland Region | J5: 77 | K5: Total stated - legally registered relationship status | L5: 99 | M5: Total - partnership status in current relationship | N5: 99 | O5: Total - age | P5: 99 | Q5: Total - gender | R5: 104148
A6: 2013|Auckland Region|Male / TÄne | B6: DATAFLOW | C6: STATSNZ:CEN23_POP_008(1.0) | D6: Legally registered relationship status, partnership status in current relationship, age, and gender for the census usually resident population count aged 15 years and over, (RC, TALB, SA2, Health), 2013, 2018, and 2023 Censuses | E6: I | F6: 2013 | G6: 2013 | H6: 2 | I6: Auckland Region | J6: 77 | K6: Total stated - legally registered relationship status | L6: 99 | M6: Total - partnership status in current relationship | N6: 99 | O6: Total - age | P6: 1 | Q6: Male / TÄne | R6: 476985
A7: 2013|Auckland Region|Female / Wahine | B7: DATAFLOW | C7: STATSNZ:CEN23_POP_008(1.0) | D7: Legally registered relationship status, partnership status in current relationship, age, and gender for the census usually resident population count aged 15 years and over, (RC, TALB, SA2, Health), 2013, 2018, and 2023 Censuses | E7: I | F7: 2013 | G7: 2013 | H7: 2 | I7: Auckland Region | J7: 77 | K7: Total stated - legally registered relationship status | L7: 99 | M7: Total - partnership status in current relationship | N7: 99 | O7: Total - age | P7: 2 | Q7: Female / Wahine | R7: 525411
A8: 2013|Auckland Region|Another gender / He ira kÄ“ anÅ | B8: DATAFLOW | C8: STATSNZ:CEN23_POP_008(1.0) | D8: Legally registered relationship status, partnership status in current relationship, age, and gender for the census usually resident population count aged 15 years and over, (RC, TALB, SA2, Health), 2013, 2018, and 2023 Censuses | E8: I | F8: 2013 | G8: 2013 | H8: 2 | I8: Auckland Region | J8: 77 | K8: Total stated - legally registered relationship status | L8: 99 | M8: Total - partnership status in current relationship | N8: 99 | O8: Total - age | P8: 3 | Q8: Another gender / He ira kÄ“ anÅ | T8: _U | U8: Not available
A9: 2013|Auckland Region|Total - gender | B9: DATAFLOW | C9: STATSNZ:CEN23_POP_008(1.0) | D9: Legally registered relationship status, partnership status in current relationship, age, and gender for the census usually resident population count aged 15 years and over, (RC, TALB, SA2, Health), 2013, 2018, and 2023 Censuses | E9: I | F9: 2013 | G9: 2013 | H9: 2 | I9: Auckland Region | J9: 77 | K9: Total stated - legally registered relationship status | L9: 99 | M9: Total - partnership status in current relationship | N9: 99 | O9: Total - age | P9: 99 | Q9: Total - gender | R9: 1002396
A10: 2013|Waikato Region|Male / TÄne | B10: DATAFLOW | C10: STATSNZ:CEN23_POP_008(1.0) | D10: Legally registered relationship status, partnership status in current relationship, age, and gender for the census usually resident population count aged 15 years and over, (RC, TALB, SA2, Health), 2013, 2018, and 2023 Censuses | E10: I | F10: 2013 | G10: 2013 | H10: 3 | I10: Waikato Region | J10: 77 | K10: Total stated - legally registered relationship status | L10: 99 | M10: Total - partnership status in current relationship | N10: 99 | O10: Total - age | P10: 1 | Q10: Male / TÄne | R10: 136566
A11: 2013|Waikato Region|Female / Wahine | B11: DATAFLOW | C11: STATSNZ:CEN23_POP_008(1.0) | D11: Legally registered relationship status, partnership status in current relationship, age, and gender for the census usually resident population count aged 15 years and over, (RC, TALB, SA2, Health), 2013, 2018, and 2023 Censuses | E11: I | F11: 2013 | G11: 2013 | H11: 3 | I11: Waikato Region | J11: 77 | K11: Total stated - legally registered relationship status | L11: 99 | M11: Total - partnership status in current relationship | N11: 99 | O11: Total - age | P11: 2 | Q11: Female / Wahine | R11: 149298
A12: 2013|Waikato Region|Another gender / He ira kÄ“ anÅ | B12: DATAFLOW | C12: STATSNZ:CEN23_POP_008(1.0) | D12: Legally registered relationship status, partnership status in current relationship, age, and gender for the census usually resident population count aged 15 years and over, (RC, TALB, SA2, Health), 2013, 2018, and 2023 Censuses | E12: I | F12: 2013 | G12: 2013 | H12: 3 | I12: Waikato Region | J12: 77 | K12: Total stated - legally registered relationship status | L12: 99 | M12: Total - partnership status in current relationship | N12: 99 | O12: Total - age | P12: 3 | Q12: Another gender / He ira kÄ“ anÅ | T12: _U | U12: Not available
A13: 2013|Waikato Region|Total - gender | B13: DATAFLOW | C13: STATSNZ:CEN23_POP_008(1.0) | D13: Legally registered relationship status, partnership status in current relationship, age, and gender for the census usually resident population count aged 15 years and over, (RC, TALB, SA2, Health), 2013, 2018, and 2023 Censuses | E13: I | F13: 2013 | G13: 2013 | H13: 3 | I13: Waikato Region | J13: 77 | K13: Total stated - legally registered relationship status | L13: 99 | M13: Total - partnership status in current relationship | N13: 99 | O13: Total - age | P13: 99 | Q13: Total - gender | R13: 285864
A14: 2013|Bay of Plenty Region|Male / TÄne | B14: DATAFLOW | C14: STATSNZ:CEN23_POP_008(1.0) | D14: Legally registered relationship status, partnership status in current relationship, age, and gender for the census usually resident population count aged 15 years and over, (RC, TALB, SA2, Health), 2013, 2018, and 2023 Censuses | E14: I | F14: 2013 | G14: 2013 | H14: 4 | I14: Bay of Plenty Region | J14: 77 | K14: Total stated - legally registered relationship status | L14: 99 | M14: Total - partnership status in current relationship | N14: 99 | O14: Total - age | P14: 1 | Q14: Male / TÄne | R14: 87912
A15: 2013|Bay of Plenty Region|Female / Wahine | B15: DATAFLOW | C15: STATSNZ:CEN23_POP_008(1.0) | D15: Legally registered relationship status, partnership status in current relationship, age, and gender for the census usually resident population count aged 15 years and over, (RC, TALB, SA2, Health), 2013, 2018, and 2023 Censuses | E15: I | F15: 2013 | G15: 2013 | H15: 4 | I15: Bay of Plenty Region | J15: 77 | K15: Total stated - legally registered relationship status | L15: 99 | M15: Total - partnership status in current relationship | N15: 99 | O15: Total - age | P15: 2 | Q15: Female / Wahine | R15: 99861
A16: 2013|Bay of Plenty Region|Another gender / He ira kÄ“ anÅ | B16: DATAFLOW | C16: STATSNZ:CEN23_POP_008(1.0) | D16: Legally registered relationship status, partnership status in current relationship, age, and gender for the census usually resident population count aged 15 years and over, (RC, TALB, SA2, Health), 2013, 2018, and 2023 Censuses | E16: I | F16: 2013 | G16: 2013 | H16: 4 | I16: Bay of Plenty Region | J16: 77 | K16: Total stated - legally registered relationship status | L16: 99 | M16: Total - partnership status in current relationship | N16: 99 | O16: Total - age | P16: 3 | Q16: Another gender / He ira kÄ“ anÅ | T16: _U | U16: Not available
A17: 2013|Bay of Plenty Region|Total - gender | B17: DATAFLOW | C17: STATSNZ:CEN23_POP_008(1.0) | D17: Legally registered relationship status, partnership status in current relationship, age, and gender for the census usually resident population count aged 15 years and over, (RC, TALB, SA2, Health), 2013, 2018, and 2023 Censuses | E17: I | F17: 2013 | G17: 2013 | H17: 4 | I17: Bay of Plenty Region | J17: 77 | K17: Total stated - legally registered relationship status | L17: 99 | M17: Total - partnership status in current relationship | N17: 99 | O17: Total - age | P17: 99 | Q17: Total - gender | R17: 187776
A18: 2013|Gisborne Region|Male / TÄne | B18: DATAFLOW | C18: STATSNZ:CEN23_POP_008(1.0) | D18: Legally registered relationship status, partnership status in current relationship, age, and gender for the census usually resident population count aged 15 years and over, (RC, TALB, SA2, Health), 2013, 2018, and 2023 Censuses | E18: I | F18: 2013 | G18: 2013 | H18: 5 | I18: Gisborne Region | J18: 77 | K18: Total stated - legally registered relationship status | L18: 99 | M18: Total - partnership status in current relationship | N18: 99 | O18: Total - age | P18: 1 | Q18: Male / TÄne | R18: 13437
A19: 2013|Gisborne Region|Female / Wahine | B19: DATAFLOW | C19: STATSNZ:CEN23_POP_008(1.0) | D19: Legally registered relationship status, partnership status in current relationship, age, and gender for the census usually resident population count aged 15 years and over, (RC, TALB, SA2, Health), 2013, 2018, and 2023 Censuses | E19: I | F19: 2013 | G19: 2013 | H19: 5 | I19: Gisborne Region | J19: 77 | K19: Total stated - legally registered relationship status | L19: 99 | M19: Total - partnership status in current relationship | N19: 99 | O19: Total - age | P19: 2 | Q19: Female / Wahine | R19: 15297
A20: 2013|Gisborne Region|Another gender / He ira kÄ“ anÅ | B20: DATAFLOW | C20: STATSNZ:CEN23_POP_008(1.0) | D20: Legally registered relationship status, partnership status in current relationship, age, and gender for the census usually resident population count aged 15 years and over, (RC, TALB, SA2, Health), 2013, 2018, and 2023 Censuses | E20: I | F20: 2013 | G20: 2013 | H20: 5 | I20: Gisborne Region | J20: 77 | K20: Total stated - legally registered relationship status | L20: 99 | M20: Total - partnership status in current relationship | N20: 99 | O20: Total - age | P20: 3 | Q20: Another gender / He ira kÄ“ anÅ | T20: _U | U20: Not available
A21: 2013|Gisborne Region|Total - gender | B21: DATAFLOW | C21: STATSNZ:CEN23_POP_008(1.0) | D21: Legally registered relationship status, partnership status in current relationship, age, and gender for the census usually resident population count aged 15 years and over, (RC, TALB, SA2, Health), 2013, 2018, and 2023 Censuses | E21: I | F21: 2013 | G21: 2013 | H21: 5 | I21: Gisborne Region | J21: 77 | K21: Total stated - legally registered relationship status | L21: 99 | M21: Total - partnership status in current relationship | N21: 99 | O21: Total - age | P21: 99 | Q21: Total - gender | R21: 28734
A22: 2013|Hawke's Bay Region|Male / TÄne | B22: DATAFLOW | C22: STATSNZ:CEN23_POP_008(1.0) | D22: Legally registered relationship status, partnership status in current relationship, age, and gender for the census usually resident population count aged 15 years and over, (RC, TALB, SA2, Health), 2013, 2018, and 2023 Censuses | E22: I | F22: 2013 | G22: 2013 | H22: 6 | I22: Hawke's Bay Region | J22: 77 | K22: Total stated - legally registered relationship status | L22: 99 | M22: Total - partnership status in current relationship | N22: 99 | O22: Total - age | P22: 1 | Q22: Male / TÄne | R22: 49860
A23: 2013|Hawke's Bay Region|Female / Wahine | B23: DATAFLOW | C23: STATSNZ:CEN23_POP_008(1.0) | D23: Legally registered relationship status, partnership status in current relationship, age, and gender for the census usually resident population count aged 15 years and over, (RC, TALB, SA2, Health), 2013, 2018, and 2023 Censuses | E23: I | F23: 2013 | G23: 2013 | H23: 6 | I23: Hawke's Bay Region | J23: 77 | K23: Total stated - legally registered relationship status | L23: 99 | M23: Total - partnership status in current relationship | N23: 99 | O23: Total - age | P23: 2 | Q23: Female / Wahine | R23: 56319
A24: 2013|Hawke's Bay Region|Another gender / He ira kÄ“ anÅ | B24: DATAFLOW | C24: STATSNZ:CEN23_POP_008(1.0) | D24: Legally registered relationship status, partnership status in current relationship, age, and gender for the census usually resident population count aged 15 years and over, (RC, TALB, SA2, Health), 2013, 2018, and 2023 Censuses | E24: I | F24: 2013 | G24: 2013 | H24: 6 | I24: Hawke's Bay Region | J24: 77 | K24: Total stated - legally registered relationship status | L24: 99 | M24: Total - partnership status in current relationship | N24: 99 | O24: Total - age | P24: 3 | Q24: Another gender / He ira kÄ“ anÅ | T24: _U | U24: Not available
A25: 2013|Hawke's Bay Region|Total - gender | B25: DATAFLOW | C25: STATSNZ:CEN23_POP_008(1.0) | D25: Legally registered relationship status, partnership status in current relationship, age, and gender for the census usually resident population count aged 15 years and over, (RC, TALB, SA2, Health), 2013, 2018, and 2023 Censuses | E25: I | F25: 2013 | G25: 2013 | H25: 6 | I25: Hawke's Bay Region | J25: 77 | K25: Total stated - legally registered relationship status | L25: 99 | M25: Total - partnership status in current relationship | N25: 99 | O25: Total - age | P25: 99 | Q25: Total - gender | R25: 106179
A26: 2013|Taranaki Region|Male / TÄne | B26: DATAFLOW | C26: STATSNZ:CEN23_POP_008(1.0) | D26: Legally registered relationship status, partnership status in current relationship, age, and gender for the census usually resident population count aged 15 years and over, (RC, TALB, SA2, Health), 2013, 2018, and 2023 Censuses | E26: I | F26: 2013 | G26: 2013 | H26: 7 | I26: Taranaki Region | J26: 77 | K26: Total stated - legally registered relationship status | L26: 99 | M26: Total - partnership status in current relationship | N26: 99 | O26: Total - age | P26: 1 | Q26: Male / TÄne | R26: 37662
A27: 2013|Taranaki Region|Female / Wahine | B27: DATAFLOW | C27: STATSNZ:CEN23_POP_008(1.0) | D27: Legally registered relationship status, partnership status in current relationship, age, and gender for the census usually resident population count aged 15 years and over, (RC, TALB, SA2, Health), 2013, 2018, and 2023 Censuses | E27: I | F27: 2013 | G27: 2013 | H27: 7 | I27: Taranaki Region | J27: 77 | K27: Total stated - legally registered relationship status | L27: 99 | M27: Total - partnership status in current relationship | N27: 99 | O27: Total - age | P27: 2 | Q27: Female / Wahine | R27: 40833
A28: 2013|Taranaki Region|Another gender / He ira kÄ“ anÅ | B28: DATAFLOW | C28: STATSNZ:CEN23_POP_008(1.0) | D28: Legally registered relationship status, partnership status in current relationship, age, and gender for the census usually resident population count aged 15 years and over, (RC, TALB, SA2, Health), 2013, 2018, and 2023 Censuses | E28: I | F28: 2013 | G28: 2013 | H28: 7 | I28: Taranaki Region | J28: 77 | K28: Total stated - legally registered relationship status | L28: 99 | M28: Total - partnership status in current relationship | N28: 99 | O28: Total - age | P28: 3 | Q28: Another gender / He ira kÄ“ anÅ | T28: _U | U28: Not available
A29: 2013|Taranaki Region|Total - gender | B29: DATAFLOW | C29: STATSNZ:CEN23_POP_008(1.0) | D29: Legally registered relationship status, partnership status in current relationship, age, and gender for the census usually resident population count aged 15 years and over, (RC, TALB, SA2, Health), 2013, 2018, and 2023 Censuses | E29: I | F29: 2013 | G29: 2013 | H29: 7 | I29: Taranaki Region | J29: 77 | K29: Total stated - legally registered relationship status | L29: 99 | M29: Total - partnership status in current relationship | N29: 99 | O29: Total - age | P29: 99 | Q29: Total - gender | R29: 78498
A30: 2013|ManawatÅ«-Whanganui Region|Male / TÄne | B30: DATAFLOW | C30: STATSNZ:CEN23_POP_008(1.0) | D30: Legally registered relationship status, partnership status in current relationship, age, and gender for the census usually resident population count aged 15 years and over, (RC, TALB, SA2, Health), 2013, 2018, and 2023 Censuses | E30: I | F30: 2013 | G30: 2013 | H30: 8 | I30: ManawatÅ«-Whanganui Region | J30: 77 | K30: Total stated - legally registered relationship status | L30: 99 | M30: Total - partnership status in current relationship | N30: 99 | O30: Total - age | P30: 1 | Q30: Male / TÄne | R30: 76131
A31: 2013|ManawatÅ«-Whanganui Region|Female / Wahine | B31: DATAFLOW | C31: STATSNZ:CEN23_POP_008(1.0) | D31: Legally registered relationship status, partnership status in current relationship, age, and gender for the census usually resident population count aged 15 years and over, (RC, TALB, SA2, Health), 2013, 2018, and 2023 Censuses | E31: I | F31: 2013 | G31: 2013 | H31: 8 | I31: ManawatÅ«-Whanganui Region | J31: 77 | K31: Total stated - legally registered relationship status | L31: 99 | M31: Total - partnership status in current relationship | N31: 99 | O31: Total - age | P31: 2 | Q31: Female / Wahine | R31: 84570
A32: 2013|ManawatÅ«-Whanganui Region|Another gender / He ira kÄ“ anÅ | B32: DATAFLOW | C32: STATSNZ:CEN23_POP_008(1.0) | D32: Legally registered relationship status, partnership status in current relationship, age, and gender for the census usually resident population count aged 15 years and over, (RC, TALB, SA2, Health), 2013, 2018, and 2023 Censuses | E32: I | F32: 2013 | G32: 2013 | H32: 8 | I32: ManawatÅ«-Whanganui Region | J32: 77 | K32: Total stated - legally registered relationship status | L32: 99 | M32: Total - partnership status in current relationship | N32: 99 | O32: Total - age | P32: 3 | Q32: Another gender / He ira kÄ“ anÅ | T32: _U | U32: Not available
A33: 2013|ManawatÅ«-Whanganui Region|Total - gender | B33: DATAFLOW | C33: STATSNZ:CEN23_POP_008(1.0) | D33: Legally registered relationship status, partnership status in current relationship, age, and gender for the census usually resident population count aged 15 years and over, (RC, TALB, SA2, Health), 2013, 2018, and 2023 Censuses | E33: I | F33: 2013 | G33: 2013 | H33: 8 | I33: ManawatÅ«-Whanganui Region | J33: 77 | K33: Total stated - legally registered relationship status | L33: 99 | M33: Total - partnership status in current relationship | N33: 99 | O33: Total - age | P33: 99 | Q33: Total - gender | R33: 160704
A34: 2013|Wellington Region|Male / TÄne | B34: DATAFLOW | C34: STATSNZ:CEN23_POP_008(1.0) | D34: Legally registered relationship status, partnership status in current relationship, age, and gender for the census usually resident population count aged 15 years and over, (RC, TALB, SA2, Health), 2013, 2018, and 2023 Censuses | E34: I | F34: 2013 | G34: 2013 | H34: 9 | I34: Wellington Region | J34: 77 | K34: Total stated - legally registered relationship status | L34: 99 | M34: Total - partnership status in current relationship | N34: 99 | O34: Total - age | P34: 1 | Q34: Male / TÄne | R34: 164982
A35: 2013|Wellington Region|Female / Wahine | B35: DATAFLOW | C35: STATSNZ:CEN23_POP_008(1.0) | D35: Legally registered relationship status, partnership status in current relationship, age, and gender for the census usually resident population count aged 15 years and over, (RC, TALB, SA2, Health), 2013, 2018, and 2023 Censuses | E35: I | F35: 2013 | G35: 2013 | H35: 9 | I35: Wellington Region | J35: 77 | K35: Total stated - legally registered relationship status | L35: 99 | M35: Total - partnership status in current relationship | N35: 99 | O35: Total - age | P35: 2 | Q35: Female / Wahine | R35: 183051
A36: 2013|Wellington Region|Another gender / He ira kÄ“ anÅ | B36: DATAFLOW | C36: STATSNZ:CEN23_POP_008(1.0) | D36: Legally registered relationship status, partnership status in current relationship, age, and gender for the census usually resident population count aged 15 years and over, (RC, TALB, SA2, Health), 2013, 2018, and 2023 Censuses | E36: I | F36: 2013 | G36: 2013 | H36: 9 | I36: Wellington Region | J36: 77 | K36: Total stated - legally registered relationship status | L36: 99 | M36: Total - partnership status in current relationship | N36: 99 | O36: Total - age | P36: 3 | Q36: Another gender / He ira kÄ“ anÅ | T36: _U | U36: Not available
A37: 2013|Wellington Region|Total - gender | B37: DATAFLOW | C37: STATSNZ:CEN23_POP_008(1.0) | D37: Legally registered relationship status, partnership status in current relationship, age, and gender for the census usually resident population count aged 15 years and over, (RC, TALB, SA2, Health), 2013, 2018, and 2023 Censuses | E37: I | F37: 2013 | G37: 2013 | H37: 9 | I37: Wellington Region | J37: 77 | K37: Total stated - legally registered relationship status | L37: 99 | M37: Total - partnership status in current relationship | N37: 99 | O37: Total - age | P37: 99 | Q37: Total - gender | R37: 348033
A38: 2013|West Coast Region|Male / TÄne | B38: DATAFLOW | C38: STATSNZ:CEN23_POP_008(1.0) | D38: Legally registered relationship status, partnership status in current relationship, age, and gender for the census usually resident population count aged 15 years and over, (RC, TALB, SA2, Health), 2013, 2018, and 2023 Censuses | E38: I | F38: 2013 | G38: 2013 | H38: 12 | I38: West Coast Region | J38: 77 | K38: Total stated - legally registered relationship status | L38: 99 | M38: Total - partnership status in current relationship | N38: 99 | O38: Total - age | P38: 1 | Q38: Male / TÄne | R38: 11712
A39: 2013|West Coast Region|Female / Wahine | B39: DATAFLOW | C39: STATSNZ:CEN23_POP_008(1.0) | D39: Legally registered relationship status, partnership status in current relationship, age, and gender for the census usually resident population count aged 15 years and over, (RC, TALB, SA2, Health), 2013, 2018, and 2023 Censuses | E39: I | F39: 2013 | G39: 2013 | H39: 12 | I39: West Coast Region | J39: 77 | K39: Total stated - legally registered relationship status | L39: 99 | M39: Total - partnership status in current relationship | N39: 99 | O39: Total - age | P39: 2 | Q39: Female / Wahine | R39: 11700
A40: 2013|West Coast Region|Another gender / He ira kÄ“ anÅ | B40: DATAFLOW | C40: STATSNZ:CEN23_POP_008(1.0) | D40: Legally registered relationship status, partnership status in current relationship, age, and gender for the census usually resident population count aged 15 years and over, (RC, TALB, SA2, Health), 2013, 2018, and 2023 Censuses | E40: I | F40: 2013 | G40: 2013 | H40: 12 | I40: West Coast Region | J40: 77 | K40: Total stated - legally registered relationship status | L40: 99 | M40: Total - partnership status in current relationship | N40: 99 | O40: Total - age | P40: 3 | Q40: Another gender / He ira kÄ“ anÅ | T40: _U | U40: Not available
...

Sheet TA
A1: HELPER COLUMN | B1: STRUCTURE | C1: STRUCTURE_ID | D1: STRUCTURE_NAME | E1: ACTION | F1: CEN23_YEAR_001 | G1: Census year | H1: CEN23_GEO_002 | I1: Area | J1: CEN23_REL_002 | K1: Legally registered relationship status | L1: CEN23_REL_003 | M1: Partnership status in current relationship | N1: CEN23_AGE_008 | O1: Age | P1: CEN23_GEN_002 | Q1: Gender | R1: OBS_VALUE | S1: Observation Value | T1: OBS_STATUS | U1: Observation Status | V1: Percentage | W1: Denominator (Total stated)
A2: =G2&"|"&I2&"|"&Q2 -> 2013|Far North District|Male / TÄne | B2: DATAFLOW | C2: STATSNZ:CEN23_POP_008(1.0) | D2: Legally registered relationship status, partnership status in current relationship, age, and gender for the census usually resident population count aged 15 years and over, (RC, TALB, SA2, Health), 2013, 2018, and 2023 Censuses | E2: I | F2: 2013 | G2: 2013 | H2: 1 | I2: Far North District | J2: 1 | K2: Married (Not Separated) | L2: 99 | M2: Total - partnership status in current relationship | N2: 99 | O2: Total - age | P2: 1 | Q2: Male / TÄne | R2: 8475 | V2: =IF(T2<>"_U",IFERROR((ROUND(R2/W2*100,2)),"."),".") -> 48.57 | W2: =IF(AND(T2<>"_U",T2<>"c",J2<>9,J2<>99),IFERROR(VLOOKUP(A2,'TA Total'!$A$2:$W$10000,18,0),"."),".") -> 17448
A3: =G3&"|"&I3&"|"&Q3 -> 2013|Far North District|Female / Wahine | B3: DATAFLOW | C3: STATSNZ:CEN23_POP_008(1.0) | D3: Legally registered relationship status, partnership status in current relationship, age, and gender for the census usually resident population count aged 15 years and over, (RC, TALB, SA2, Health), 2013, 2018, and 2023 Censuses | E3: I | F3: 2013 | G3: 2013 | H3: 1 | I3: Far North District | J3: 1 | K3: Married (Not Separated) | L3: 99 | M3: Total - partnership status in current relationship | N3: 99 | O3: Total - age | P3: 2 | Q3: Female / Wahine | R3: 8571 | V3: =IF(T3<>"_U",IFERROR((ROUND(R3/W3*100,2)),"."),".") -> 44.87 | W3: =IF(AND(T3<>"_U",T3<>"c",J3<>9,J3<>99),IFERROR(VLOOKUP(A3,'TA Total'!$A$2:$W$10000,18,0),"."),".") -> 19101
A4: =G4&"|"&I4&"|"&Q4 -> 2013|Far North District|Another gender / He ira kÄ“ anÅ | B4: DATAFLOW | C4: STATSNZ:CEN23_POP_008(1.0) | D4: Legally registered relationship status, partnership status in current relationship, age, and gender for the census usually resident population count aged 15 years and over, (RC, TALB, SA2, Health), 2013, 2018, and 2023 Censuses | E4: I | F4: 2013 | G4: 2013 | H4: 1 | I4: Far North District | J4: 1 | K4: Married (Not Separated) | L4: 99 | M4: Total - partnership status in current relationship | N4: 99 | O4: Total - age | P4: 3 | Q4: Another gender / He ira kÄ“ anÅ | T4: _U | U4: Not available | V4: =IF(T4<>"_U",IFERROR((ROUND(R4/W4*100,2)),"."),".") -> . | W4: =IF(AND(T4<>"_U",T4<>"c",J4<>9,J4<>99),IFERROR(VLOOKUP(A4,'TA Total'!$A$2:$W$10000,18,0),"."),".") -> .
A5: =G5&"|"&I5&"|"&Q5 -> 2013|Far North District|Total - gender | B5: DATAFLOW | C5: STATSNZ:CEN23_POP_008(1.0) | D5: Legally registered relationship status, partnership status in current relationship, age, and gender for the census usually resident population count aged 15 years and over, (RC, TALB, SA2, Health), 2013, 2018, and 2023 Censuses | E5: I | F5: 2013 | G5: 2013 | H5: 1 | I5: Far North District | J5: 1 | K5: Married (Not Separated) | L5: 99 | M5: Total - partnership status in current relationship | N5: 99 | O5: Total - age | P5: 99 | Q5: Total - gender | R5: 17046 | V5: =IF(T5<>"_U",IFERROR((ROUND(R5/W5*100,2)),"."),".") -> 46.64 | W5: =IF(AND(T5<>"_U",T5<>"c",J5<>9,J5<>99),IFERROR(VLOOKUP(A5,'TA Total'!$A$2:$W$10000,18,0),"."),".") -> 36549
