Workbook

Sheet Region
A1: HELPER COLUMN | B1: STRUCTURE | C1: STRUCTURE_ID | D1: STRUCTURE_NAME | E1: ACTION | F1: CEN23_YEAR_001 | G1: Census year | H1: CEN23_GEO_002 | I1: Area | J1: CEN23_REL_002 | K1: Legally registered relationship status | L1: CEN23_REL_003 | M1: Partnership status in current relationship | N1: CEN23_AGE_008 | O1: Age | P1: CEN23_GEN_002 | Q1: Gender | R1: OBS_VALUE | S1: Observation Value | T1: OBS_STATUS | U1: Observation Status | V1: Percentage | W1: Denominator (Total stated)
A2: =G2&"|"&I2&"|"&Q2 -> 2013|Northland Region|Male / TÄne | B2: DATAFLOW | C2: STATSNZ:CEN23_POP_008(1.0) | D2: Legally registered relationship status, partnership status in current relationship, age, and gender for the census usually resident population count aged 15 years and over, (RC, TALB, SA2, Health), 2013, 2018, and 2023 Censuses | E2: I | F2: 2013 | G2: 2013 | H2: 1 | I2: Northland Region | J2: 1 | K2: Married (Not Separated) | L2: 99 | M2: Total - partnership status in current relationship | N2: 99 | O2: Total - age | P2: 1 | Q2: Male / TÄne | R2: 25116 | V2: =IF(T2<>"_U",IFERROR((ROUND(R2/W2*100,2)),"."),".") -> 50.81 | W2: =IF(AND(T2<>"_U",T2<>"c",J2<>9,J2<>99),IFERROR(VLOOKUP(A2,'Region Total'!$A$2:$W$10000,18,0),"."),".") -> 49428
A3: =G3&"|"&I3&"|"&Q3 -> 2013|Northland Region|Female / Wahine | B3: DATAFLOW | C3: STATSNZ:CEN23_POP_008(1.0) | D3: Legally registered relationship status, partnership status in current relationship, age, and gender for the census usually resident population count aged 15 years and over, (RC, TALB, SA2, Health), 2013, 2018, and 2023 Censuses | E3: I | F3: 2013 | G3: 2013 | H3: 1 | I3: Northland Region | J3: 1 | K3: Married (Not Separated) | L3: 99 | M3: Total - partnership status in current relationship | N3: 99 | O3: Total - age | P3: 2 | Q3: Female / Wahine | R3: 25446 | V3: =IF(T3<>"_U",IFERROR((ROUND(R3/W3*100,2)),"."),".") -> 46.5 | W3: =IF(AND(T3<>"_U",T3<>"c",J3<>9,J3<>99),IFERROR(VLOOKUP(A3,'Region Total'!$A$2:$W$10000,18,0),"."),".") -> 54720
A4: =G4&"|"&I4&"|"&Q4 -> 2013|Northland Region|Another gender / He ira kÄ“ anÅ | B4: DATAFLOW | C4: STATSNZ:CEN23_POP_008(1.0) | D4: Legally registered relationship status, partnership status in current relationship, age, and gender for the census usually resident population count aged 15 years and over, (RC, TALB, SA2, Health), 2013, 2018, and 2023 Censuses | E4: I | F4: 2013 | G4: 2013 | H4: 1 | I4: Northland Region | J4: 1 | K4: Married (Not Separated) | L4: 99 | M4: Total - partnership status in current relationship | N4: 99 | O4: Total - age | P4: 3 | Q4: Another gender / He ira kÄ“ anÅ | T4: _U | U4: Not available | V4: =IF(T4<>"_U",IFERROR((ROUND(R4/W4*100,2)),"."),".") -> . | W4: =IF(AND(T4<>"_U",T4<>"c",J4<>9,J4<>99),IFERROR(VLOOKUP(A4,'Region Total'!$A$2:$W$10000,18,0),"."),".") -> .
A5: =G5&"|"&I5&"|"&Q5 -> 2013|Northland Region|Total - gender | B5: DATAFLOW | C5: STATSNZ:CEN23_POP_008(1.0) | D5: Legally registered relationship status, partnership status in current relationship, age, and gender for the census usually resident population count aged 15 years and over, (RC, TALB, SA2, Health), 2013, 2018, and 2023 Censuses | E5: I | F5: 2013 | G5: 2013 | H5: 1 | I5: Northland Region | J5: 1 | K5: Married (Not Separated) | L5: 99 | M5: Total - partnership status in current relationship | N5: 99 | O5: Total - age | P5: 99 | Q5: Total - gender | R5: 50562 | V5: =IF(T5<>"_U",IFERROR((ROUND(R5/W5*100,2)),"."),".") -> 48.55 | W5: =IF(AND(T5<>"_U",T5<>"c",J5<>9,J5<>99),IFERROR(VLOOKUP(A5,'Region Total'!$A$2:$W$10000,18,0),"."),".") -> 104148
A6: =G6&"|"&I6&"|"&Q6 -> 2013|Northland Region|Male / TÄne | B6: DATAFLOW | C6: STATSNZ:CEN23_POP_008(1.0) | D6: Legally registered relationship status, partnership status in current relationship, age, and gender for the census usually resident population count aged 15 years and over, (RC, TALB, SA2, Health), 2013, 2018, and 2023 Censuses | E6: I | F6: 2013 | G6: 2013 | H6: 1 | I6: Northland Region | J6: 3 | K6: Separated | L6: 99 | M6: Total - partnership status in current relationship | N6: 99 | O6: Total - age | P6: 1 | Q6: Male / TÄne | R6: 2001 | V6: =IF(T6<>"_U",IFERROR((ROUND(R6/W6*100,2)),"."),".") -> 4.05 | W6: =IF(AND(T6<>"_U",T6<>"c",J6<>9,J6<>99),IFERROR(VLOOKUP(A6,'Region Total'!$A$2:$W$10000,18,0),"."),".") -> 49428
A7: =G7&"|"&I7&"|"&Q7 -> 2013|Northland Region|Female / Wahine | B7: DATAFLOW | C7: STATSNZ:CEN23_POP_008(1.0) | D7: Legally registered relationship status, partnership status in current relationship, age, and gender for the census usually resident population count aged 15 years and over, (RC, TALB, SA2, Health), 2013, 2018, and 2023 Censuses | E7: I | F7: 2013 | G7: 2013 | H7: 1 | I7: Northland Region | J7: 3 | K7: Separated | L7: 99 | M7: Total - partnership status in current relationship | N7: 99 | O7: Total - age | P7: 2 | Q7: Female / Wahine | R7: 2391 | V7: =IF(T7<>"_U",IFERROR((ROUND(R7/W7*100,2)),"."),".") -> 4.37 | W7: =IF(AND(T7<>"_U",T7<>"c",J7<>9,J7<>99),IFERROR(VLOOKUP(A7,'Region Total'!$A$2:$W$10000,18,0),"."),".") -> 54720
A8: =G8&"|"&I8&"|"&Q8 -> 2013|Northland Region|Another gender / He ira kÄ“ anÅ | B8: DATAFLOW | C8: STATSNZ:CEN23_POP_008(1.0) | D8: Legally registered relationship status, partnership status in current relationship, age, and gender for the census usually resident population count aged 15 years and over, (RC, TALB, SA2, Health), 2013, 2018, and 2023 Censuses | E8: I | F8: 2013 | G8: 2013 | H8: 1 | I8: Northland Region | J8: 3 | K8: Separated | L8: 99 | M8: Total - partnership status in current relationship | N8: 99 | O8: Total - age | P8: 3 | Q8: Another gender / He ira kÄ“ anÅ | T8: _U | U8: Not available | V8: =IF(T8<>"_U",IFERROR((ROUND(R8/W8*100,2)),"."),".") -> . | W8: =IF(AND(T8<>"_U",T8<>"c",J8<>9,J8<>99),IFERROR(VLOOKUP(A8,'Region Total'!$A$2:$W$10000,18,0),"."),".") -> .
A9: =G9&"|"&I9&"|"&Q9 -> 2013|Northland Region|Total - gender | B9: DATAFLOW | C9: STATSNZ:CEN23_POP_008(1.0) | D9: Legally registered relationship status, partnership status in current relationship, age, and gender for the census usually resident population count aged 15 years and over, (RC, TALB, SA2, Health), 2013, 2018, and 2023 Censuses | E9: I | F9: 2013 | G9: 2013 | H9: 1 | I9: Northland Region | J9: 3 | K9: Separated | L9: 99 | M9: Total - partnership status in current relationship | N9: 99 | O9: Total - age | P9: 99 | Q9: Total - gender | R9: 4395 | V9: =IF(T9<>"_U",IFERROR((ROUND(R9/W9*100,2)),"."),".") -> 4.22 | W9: =IF(AND(T9<>"_U",T9<>"c",J9<>9,J9<>99),IFERROR(VLOOKUP(A9,'Region Total'!$A$2:$W$10000,18,0),"."),".") -> 104148
A10: =G10&"|"&I10&"|"&Q10 -> 2013|Northland Region|Male / TÄne | B10: DATAFLOW | C10: STATSNZ:CEN23_POP_008(1.0) | D10: Legally registered relationship status, partnership status in current relationship, age, and gender for the census usually resident population count aged 15 years and over, (RC, TALB, SA2, Health), 2013, 2018, and 2023 Censuses | E10: I | F10: 2013 | G10: 2013 | H10: 1 | I10: Northland Region | J10: 4 | K10: Divorced or dissolved | L10: 99 | M10: Total - partnership status in current relationship | N10: 99 | O10: Total - age | P10: 1 | Q10: Male / TÄne | R10: 4368 | V10: =IF(T10<>"_U",IFERROR((ROUND(R10/W10*100,2)),"."),".") -> 8.84 | W10: =IF(AND(T10<>"_U",T10<>"c",J10<>9,J10<>99),IFERROR(VLOOKUP(A10,'Region Total'!$A$2:$W$10000,18,0),"."),".") -> 49428
A11: =G11&"|"&I11&"|"&Q11 -> 2013|Northland Region|Female / Wahine | B11: DATAFLOW | C11: STATSNZ:CEN23_POP_008(1.0) | D11: Legally registered relationship status, partnership status in current relationship, age, and gender for the census usually resident population count aged 15 years and over, (RC, TALB, SA2, Health), 2013, 2018, and 2023 Censuses | E11: I | F11: 2013 | G11: 2013 | H11: 1 | I11: Northland Region | J11: 4 | K11: Divorced or dissolved | L11: 99 | M11: Total - partnership status in current relationship | N11: 99 | O11: Total - age | P11: 2 | Q11: Female / Wahine | R11: 5331 | V11: =IF(T11<>"_U",IFERROR((ROUND(R11/W11*100,2)),"."),".") -> 9.74 | W11: =IF(AND(T11<>"_U",T11<>"c",J11<>9,J11<>99),IFERROR(VLOOKUP(A11,'Region Total'!$A$2:$W$10000,18,0),"."),".") -> 54720
A12: =G12&"|"&I12&"|"&Q12 -> 2013|Northland Region|Another gender / He ira kÄ“ anÅ | B12: DATAFLOW | C12: STATSNZ:CEN23_POP_008(1.0) | D12: Legally registered relationship status, partnership status in current relationship, age, and gender for the census usually resident population count aged 15 years and over, (RC, TALB, SA2, Health), 2013, 2018, and 2023 Censuses | E12: I | F12: 2013 | G12: 2013 | H12: 1 | I12: Northland Region | J12: 4 | K12: Divorced or dissolved | L12: 99 | M12: Total - partnership status in current relationship | N12: 99 | O12: Total - age | P12: 3 | Q12: Another gender / He ira kÄ“ anÅ | T12: _U | U12: Not available | V12: =IF(T12<>"_U",IFERROR((ROUND(R12/W12*100,2)),"."),".") -> . | W12: =IF(AND(T12<>"_U",T12<>"c",J12<>9,J12<>99),IFERROR(VLOOKUP(A12,'Region Total'!$A$2:$W$10000,18,0),"."),".") -> .
A13: =G13&"|"&I13&"|"&Q13 -> 2013|Northland Region|Total - gender | B13: DATAFLOW | C13: STATSNZ:CEN23_POP_008(1.0) | D13: Legally registered relationship status, partnership status in current relationship, age, and gender for the census usually resident population count aged 15 years and over, (RC, TALB, SA2, Health), 2013, 2018, and 2023 Censuses | E13: I | F13: 2013 | G13: 2013 | H13: 1 | I13: Northland Region | J13: 4 | K13: Divorced or dissolved | L13: 99 | M13: Total - partnership status in current relationship | N13: 99 | O13: Total - age | P13: 99 | Q13: Total - gender | R13: 9702 | V13: =IF(T13<>"_U",IFERROR((ROUND(R13/W13*100,2)),"."),".") -> 9.32 | W13: =IF(AND(T13<>"_U",T13<>"c",J13<>9,J13<>99),IFERROR(VLOOKUP(A13,'Region Total'!$A$2:$W$10000,18,0),"."),".") -> 104148
A14: =G14&"|"&I14&"|"&Q14 -> 2013|Northland Region|Male / TÄne | B14: DATAFLOW | C14: STATSNZ:CEN23_POP_008(1.0) | D14: Legally registered relationship status, partnership status in current relationship, age, and gender for the census usually resident population count aged 15 years and over, (RC, TALB, SA2, Health), 2013, 2018, and 2023 Censuses | E14: I | F14: 2013 | G14: 2013 | H14: 1 | I14: Northland Region | J14: 5 | K14: Widowed or surviving civil union partner | L14: 99 | M14: Total - partnership status in current relationship | N14: 99 | O14: Total - age | P14: 1 | Q14: Male / TÄne | R14: 1770 | V14: =IF(T14<>"_U",IFERROR((ROUND(R14/W14*100,2)),"."),".") -> 3.58 | W14: =IF(AND(T14<>"_U",T14<>"c",J14<>9,J14<>99),IFERROR(VLOOKUP(A14,'Region Total'!$A$2:$W$10000,18,0),"."),".") -> 49428
A15: =G15&"|"&I15&"|"&Q15 -> 2013|Northland Region|Female / Wahine | B15: DATAFLOW | C15: STATSNZ:CEN23_POP_008(1.0) | D15: Legally registered relationship status, partnership status in current relationship, age, and gender for the census usually resident population count aged 15 years and over, (RC, TALB, SA2, Health), 2013, 2018, and 2023 Censuses | E15: I | F15: 2013 | G15: 2013 | H15: 1 | I15: Northland Region | J15: 5 | K15: Widowed or surviving civil union partner | L15: 99 | M15: Total - partnership status in current relationship | N15: 99 | O15: Total - age | P15: 2 | Q15: Female / Wahine | R15: 5778 | V15: =IF(T15<>"_U",IFERROR((ROUND(R15/W15*100,2)),"."),".") -> 10.56 | W15: =IF(AND(T15<>"_U",T15<>"c",J15<>9,J15<>99),IFERROR(VLOOKUP(A15,'Region Total'!$A$2:$W$10000,18,0),"."),".") -> 54720
A16: =G16&"|"&I16&"|"&Q16 -> 2013|Northland Region|Another gender / He ira kÄ“ anÅ | B16: DATAFLOW | C16: STATSNZ:CEN23_POP_008(1.0) | D16: Legally registered relationship status, partnership status in current relationship, age, and gender for the census usually resident population count aged 15 years and over, (RC, TALB, SA2, Health), 2013, 2018, and 2023 Censuses | E16: I | F16: 2013 | G16: 2013 | H16: 1 | I16: Northland Region | J16: 5 | K16: Widowed or surviving civil union partner | L16: 99 | M16: Total - partnership status in current relationship | N16: 99 | O16: Total - age | P16: 3 | Q16: Another gender / He ira kÄ“ anÅ | T16: _U | U16: Not available | V16: =IF(T16<>"_U",IFERROR((ROUND(R16/W16*100,2)),"."),".") -> . | W16: =IF(AND(T16<>"_U",T16<>"c",J16<>9,J16<>99),IFERROR(VLOOKUP(A16,'Region Total'!$A$2:$W$10000,18,0),"."),".") -> .
A17: =G17&"|"&I17&"|"&Q17 -> 2013|Northland Region|Total - gender | B17: DATAFLOW | C17: STATSNZ:CEN23_POP_008(1.0) | D17: Legally registered relationship status, partnership status in current relationship, age, and gender for the census usually resident population count aged 15 years and over, (RC, TALB, SA2, Health), 2013, 2018, and 2023 Censuses | E17: I | F17: 2013 | G17: 2013 | H17: 1 | I17: Northland Region | J17: 5 | K17: Widowed or surviving civil union partner | L17: 99 | M17: Total - partnership status in current relationship | N17: 99 | O17: Total - age | P17: 99 | Q17: Total - gender | R17: 7545 | V17: =IF(T17<>"_U",IFERROR((ROUND(R17/W17*100,2)),"."),".") -> 7.24 | W17: =IF(AND(T17<>"_U",T17<>"c",J17<>9,J17<>99),IFERROR(VLOOKUP(A17,'Region Total'!$A$2:$W$10000,18,0),"."),".") -> 104148
A18: =G18&"|"&I18&"|"&Q18 -> 2013|Northland Region|Male / TÄne | B18: DATAFLOW | C18: STATSNZ:CEN23_POP_008(1.0) | D18: Legally registered relationship status, partnership status in current relationship, age, and gender for the census usually resident population count aged 15 years and over, (RC, TALB, SA2, Health), 2013, 2018, and 2023 Censuses | E18: I | F18: 2013 | G18: 2013 | H18: 1 | I18: Northland Region | J18: 6 | K18: Never married and never in a civil union | L18: 99 | M18: Total - partnership status in current relationship | N18: 99 | O18: Total - age | P18: 1 | Q18: Male / TÄne | R18: 16173 | V18: =IF(T18<>"_U",IFERROR((ROUND(R18/W18*100,2)),"."),".") -> 32.72 | W18: =IF(AND(T18<>"_U",T18<>"c",J18<>9,J18<>99),IFERROR(VLOOKUP(A18,'Region Total'!$A$2:$W$10000,18,0),"."),".") -> 49428
A19: =G19&"|"&I19&"|"&Q19 -> 2013|Northland Region|Female / Wahine | B19: DATAFLOW | C19: STATSNZ:CEN23_POP_008(1.0) | D19: Legally registered relationship status, partnership status in current relationship, age, and gender for the census usually resident population count aged 15 years and over, (RC, TALB, SA2, Health), 2013, 2018, and 2023 Censuses | E19: I | F19: 2013 | G19: 2013 | H19: 1 | I19: Northland Region | J19: 6 | K19: Never married and never in a civil union | L19: 99 | M19: Total - partnership status in current relationship | N19: 99 | O19: Total - age | P19: 2 | Q19: Female / Wahine | R19: 15774 | V19: =IF(T19<>"_U",IFERROR((ROUND(R19/W19*100,2)),"."),".") -> 28.83 | W19: =IF(AND(T19<>"_U",T19<>"c",J19<>9,J19<>99),IFERROR(VLOOKUP(A19,'Region Total'!$A$2:$W$10000,18,0),"."),".") -> 54720
A20: =G20&"|"&I20&"|"&Q20 -> 2013|Northland Region|Another gender / He ira kÄ“ anÅ | B20: DATAFLOW | C20: STATSNZ:CEN23_POP_008(1.0) | D20: Legally registered relationship status, partnership status in current relationship, age, and gender for the census usually resident population count aged 15 years and over, (RC, TALB, SA2, Health), 2013, 2018, and 2023 Censuses | E20: I | F20: 2013 | G20: 2013 | H20: 1 | I20: Northland Region | J20: 6 | K20: Never married and never in a civil union | L20: 99 | M20: Total - partnership status in current relationship | N20: 99 | O20: Total - age | P20: 3 | Q20: Another gender / He ira kÄ“ anÅ | T20: _U | U20: Not available | V20: =IF(T20<>"_U",IFERROR((ROUND(R20/W20*100,2)),"."),".") -> . | W20: =IF(AND(T20<>"_U",T20<>"c",J20<>9,J20<>99),IFERROR(VLOOKUP(A20,'Region Total'!$A$2:$W$10000,18,0),"."),".") -> .
A21: =G21&"|"&I21&"|"&Q21 -> 2013|Northland Region|Total - gender | B21: DATAFLOW | C21: STATSNZ:CEN23_POP_008(1.0) | D21: Legally registered relationship status, partnership status in current relationship, age, and gender for the census usually resident population count aged 15 years and over, (RC, TALB, SA2, Health), 2013, 2018, and 2023 Censuses | E21: I | F21: 2013 | G21: 2013 | H21: 1 | I21: Northland Region | J21: 6 | K21: Never married and never in a civil union | L21: 99 | M21: Total - partnership status in current relationship | N21: 99 | O21: Total - age | P21: 99 | Q21: Total - gender | R21: 31944 | V21: =IF(T21<>"_U",IFERROR((ROUND(R21/W21*100,2)),"."),".") -> 30.67 | W21: =IF(AND(T21<>"_U",T21<>"c",J21<>9,J21<>99),IFERROR(VLOOKUP(A21,'Region Total'!$A$2:$W$10000,18,0),"."),".") -> 104148
A22: =G22&"|"&I22&"|"&Q22 -> 2013|Northland Region|Male / TÄne | B22: DATAFLOW | C22: STATSNZ:CEN23_POP_008(1.0) | D22: Legally registered relationship status, partnership status in current relationship, age, and gender for the census usually resident population count aged 15 years and over, (RC, TALB, SA2, Health), 2013, 2018, and 2023 Censuses | E22: I | F22: 2013 | G22: 2013 | H22: 1 | I22: Northland Region | J22: 9 | K22: Not elsewhere included | L22: 99 | M22: Total - partnership status in current relationship | N22: 99 | O22: Total - age | P22: 1 | Q22: Male / TÄne | R22: 7479 | V22: =IF(T22<>"_U",IFERROR((ROUND(R22/W22*100,2)),"."),".") -> . | W22: =IF(AND(T22<>"_U",T22<>"c",J22<>9,J22<>99),IFERROR(VLOOKUP(A22,'Region Total'!$A$2:$W$10000,18,0),"."),".") -> .
A23: =G23&"|"&I23&"|"&Q23 -> 2013|Northland Region|Female / Wahine | B23: DATAFLOW | C23: STATSNZ:CEN23_POP_008(1.0) | D23: Legally registered relationship status, partnership status in current relationship, age, and gender for the census usually resident population count aged 15 years and over, (RC, TALB, SA2, Health), 2013, 2018, and 2023 Censuses | E23: I | F23: 2013 | G23: 2013 | H23: 1 | I23: Northland Region | J23: 9 | K23: Not elsewhere included | L23: 99 | M23: Total - partnership status in current relationship | N23: 99 | O23: Total - age | P23: 2 | Q23: Female / Wahine | R23: 7314 | V23: =IF(T23<>"_U",IFERROR((ROUND(R23/W23*100,2)),"."),".") -> . | W23: =IF(AND(T23<>"_U",T23<>"c",J23<>9,J23<>99),IFERROR(VLOOKUP(A23,'Region Total'!$A$2:$W$10000,18,0),"."),".") -> .
A24: =G24&"|"&I24&"|"&Q24 -> 2013|Northland Region|Another gender / He ira kÄ“ anÅ | B24: DATAFLOW | C24: STATSNZ:CEN23_POP_008(1.0) | D24: Legally registered relationship status, partnership status in current relationship, age, and gender for the census usually resident population count aged 15 years and over, (RC, TALB, SA2, Health), 2013, 2018, and 2023 Censuses | E24: I | F24: 2013 | G24: 2013 | H24: 1 | I24: Northland Region | J24: 9 | K24: Not elsewhere included | L24: 99 | M24: Total - partnership status in current relationship | N24: 99 | O24: Total - age | P24: 3 | Q24: Another gender / He ira kÄ“ anÅ | T24: _U | U24: Not available | V24: =IF(T24<>"_U",IFERROR((ROUND(R24/W24*100,2)),"."),".") -> . | W24: =IF(AND(T24<>"_U",T24<>"c",J24<>9,J24<>99),IFERROR(VLOOKUP(A24,'Region Total'!$A$2:$W$10000,18,0),"."),".") -> .
A25: =G25&"|"&I25&"|"&Q25 -> 2013|Northland Region|Total - gender | B25: DATAFLOW | C25: STATSNZ:CEN23_POP_008(1.0) | D25: Legally registered relationship status, partnership status in current relationship, age, and gender for the census usually resident population count aged 15 years and over, (RC, TALB, SA2, Health), 2013, 2018, and 2023 Censuses | E25: I | F25: 2013 | G25: 2013 | H25: 1 | I25: Northland Region | J25: 9 | K25: Not elsewhere included | L25: 99 | M25: Total - partnership status in current relationship | N25: 99 | O25: Total - age | P25: 99 | Q25: Total - gender | R25: 14793 | V25: =IF(T25<>"_U",IFERROR((ROUND(R25/W25*100,2)),"."),".") -> . | W25: =IF(AND(T25<>"_U",T25<>"c",J25<>9,J25<>99),IFERROR(VLOOKUP(A25,'Region Total'!$A$2:$W$10000,18,0),"."),".") -> .
A26: =G26&"|"&I26&"|"&Q26 -> 2013|Northland Region|Male / TÄne | B26: DATAFLOW | C26: STATSNZ:CEN23_POP_008(1.0) | D26: Legally registered relationship status, partnership status in current relationship, age, and gender for the census usually resident population count aged 15 years and over, (RC, TALB, SA2, Health), 2013, 2018, and 2023 Censuses | E26: I | F26: 2013 | G26: 2013 | H26: 1 | I26: Northland Region | J26: 77 | K26: Total stated - legally registered relationship status | L26: 99 | M26: Total - partnership status in current relationship | N26: 99 | O26: Total - age | P26: 1 | Q26: Male / TÄne | R26: 49428 | V26: =IF(T26<>"_U",IFERROR((ROUND(R26/W26*100,2)),"."),".") -> 100 | W26: =IF(AND(T26<>"_U",T26<>"c",J26<>9,J26<>99),IFERROR(VLOOKUP(A26,'Region Total'!$A$2:$W$10000,18,0),"."),".") -> 49428
A27: =G27&"|"&I27&"|"&Q27 -> 2013|Northland Region|Female / Wahine | B27: DATAFLOW | C27: STATSNZ:CEN23_POP_008(1.0) | D27: Legally registered relationship status, partnership status in current relationship, age, and gender for the census usually resident population count aged 15 years and over, (RC, TALB, SA2, Health), 2013, 2018, and 2023 Censuses | E27: I | F27: 2013 | G27: 2013 | H27: 1 | I27: Northland Region | J27: 77 | K27: Total stated - legally registered relationship status | L27: 99 | M27: Total - partnership status in current relationship | N27: 99 | O27: Total - age | P27: 2 | Q27: Female / Wahine | R27: 54720 | V27: =IF(T27<>"_U",IFERROR((ROUND(R27/W27*100,2)),"."),".") -> 100 | W27: =IF(AND(T27<>"_U",T27<>"c",J27<>9,J27<>99),IFERROR(VLOOKUP(A27,'Region Total'!$A$2:$W$10000,18,0),"."),".") -> 54720
A28: =G28&"|"&I28&"|"&Q28 -> 2013|Northland Region|Another gender / He ira kÄ“ anÅ | B28: DATAFLOW | C28: STATSNZ:CEN23_POP_008(1.0) | D28: Legally registered relationship status, partnership status in current relationship, age, and gender for the census usually resident population count aged 15 years and over, (RC, TALB, SA2, Health), 2013, 2018, and 2023 Censuses | E28: I | F28: 2013 | G28: 2013 | H28: 1 | I28: Northland Region | J28: 77 | K28: Total stated - legally registered relationship status | L28: 99 | M28: Total - partnership status in current relationship | N28: 99 | O28: Total - age | P28: 3 | Q28: Another gender / He ira kÄ“ anÅ | T28: _U | U28: Not available | V28: =IF(T28<>"_U",IFERROR((ROUND(R28/W28*100,2)),"."),".") -> . | W28: =IF(AND(T28<>"_U",T28<>"c",J28<>9,J28<>99),IFERROR(VLOOKUP(A28,'Region Total'!$A$2:$W$10000,18,0),"."),".") -> .
A29: =G29&"|"&I29&"|"&Q29 -> 2013|Northland Region|Total - gender | B29: DATAFLOW | C29: STATSNZ:CEN23_POP_008(1.0) | D29: Legally registered relationship status, partnership status in current relationship, age, and gender for the census usually resident population count aged 15 years and over, (RC, TALB, SA2, Health), 2013, 2018, and 2023 Censuses | E29: I | F29: 2013 | G29: 2013 | H29: 1 | I29: Northland Region | J29: 77 | K29: Total stated - legally registered relationship status | L29: 99 | M29: Total - partnership status in current relationship | N29: 99 | O29: Total - age | P29: 99 | Q29: Total - gender | R29: 104148 | V29: =IF(T29<>"_U",IFERROR((ROUND(R29/W29*100,2)),"."),".") -> 100 | W29: =IF(AND(T29<>"_U",T29<>"c",J29<>9,J29<>99),IFERROR(VLOOKUP(A29,'Region Total'!$A$2:$W$10000,18,0),"."),".") -> 104148
A30: =G30&"|"&I30&"|"&Q30 -> 2013|Northland Region|Male / TÄne | B30: DATAFLOW | C30: STATSNZ:CEN23_POP_008(1.0) | D30: Legally registered relationship status, partnership status in current relationship, age, and gender for the census usually resident population count aged 15 years and over, (RC, TALB, SA2, Health), 2013, 2018, and 2023 Censuses | E30: I | F30: 2013 | G30: 2013 | H30: 1 | I30: Northland Region | J30: 99 | K30: Total - legally registered relationship status | L30: 99 | M30: Total - partnership status in current relationship | N30: 99 | O30: Total - age | P30: 1 | Q30: Male / TÄne | R30: 56907 | V30: =IF(T30<>"_U",IFERROR((ROUND(R30/W30*100,2)),"."),".") -> . | W30: =IF(AND(T30<>"_U",T30<>"c",J30<>9,J30<>99),IFERROR(VLOOKUP(A30,'Region Total'!$A$2:$W$10000,18,0),"."),".") -> .
A31: =G31&"|"&I31&"|"&Q31 -> 2013|Northland Region|Female / Wahine | B31: DATAFLOW | C31: STATSNZ:CEN23_POP_008(1.0) | D31: Legally registered relationship status, partnership status in current relationship, age, and gender for the census usually resident population count aged 15 years and over, (RC, TALB, SA2, Health), 2013, 2018, and 2023 Censuses | E31: I | F31: 2013 | G31: 2013 | H31: 1 | I31: Northland Region | J31: 99 | K31: Total - legally registered relationship status | L31: 99 | M31: Total - partnership status in current relationship | N31: 99 | O31: Total - age | P31: 2 | Q31: Female / Wahine | R31: 62034 | V31: =IF(T31<>"_U",IFERROR((ROUND(R31/W31*100,2)),"."),".") -> . | W31: =IF(AND(T31<>"_U",T31<>"c",J31<>9,J31<>99),IFERROR(VLOOKUP(A31,'Region Total'!$A$2:$W$10000,18,0),"."),".") -> .
A32: =G32&"|"&I32&"|"&Q32 -> 2013|Northland Region|Another gender / He ira kÄ“ anÅ | B32: DATAFLOW | C32: STATSNZ:CEN23_POP_008(1.0) | D32: Legally registered relationship status, partnership status in current relationship, age, and gender for the census usually resident population count aged 15 years and over, (RC, TALB, SA2, Health), 2013, 2018, and 2023 Censuses | E32: I | F32: 2013 | G32: 2013 | H32: 1 | I32: Northland Region | J32: 99 | K32: Total - legally registered relationship status | L32: 99 | M32: Total - partnership status in current relationship | N32: 99 | O32: Total - age | P32: 3 | Q32: Another gender / He ira kÄ“ anÅ | T32: _U | U32: Not available | V32: =IF(T32<>"_U",IFERROR((ROUND(R32/W32*100,2)),"."),".") -> . | W32: =IF(AND(T32<>"_U",T32<>"c",J32<>9,J32<>99),IFERROR(VLOOKUP(A32,'Region Total'!$A$2:$W$10000,18,0),"."),".") -> .
A33: =G33&"|"&I33&"|"&Q33 -> 2013|Northland Region|Total - gender | B33: DATAFLOW | C33: STATSNZ:CEN23_POP_008(1.0) | D33: Legally registered relationship status, partnership status in current relationship, age, and gender for the census usually resident population count aged 15 years and over, (RC, TALB, SA2, Health), 2013, 2018, and 2023 Censuses | E33: I | F33: 2013 | G33: 2013 | H33: 1 | I33: Northland Region | J33: 99 | K33: Total - legally registered relationship status | L33: 99 | M33: Total - partnership status in current relationship | N33: 99 | O33: Total - age | P33: 99 | Q33: Total - gender | R33: 118941 | V33: =IF(T33<>"_U",IFERROR((ROUND(R33/W33*100,2)),"."),".") -> . | W33: =IF(AND(T33<>"_U",T33<>"c",J33<>9,J33<>99),IFERROR(VLOOKUP(A33,'Region Total'!$A$2:$W$10000,18,0),"."),".") -> .
A34: =G34&"|"&I34&"|"&Q34 -> 2013|Auckland Region|Male / TÄne | B34: DATAFLOW | C34: STATSNZ:CEN23_POP_008(1.0) | D34: Legally registered relationship status, partnership status in current relationship, age, and gender for the census usually resident population count aged 15 years and over, (RC, TALB, SA2, Health), 2013, 2018, and 2023 Censuses | E34: I | F34: 2013 | G34: 2013 | H34: 2 | I34: Auckland Region | J34: 1 | K34: Married (Not Separated) | L34: 99 | M34: Total - partnership status in current relationship | N34: 99 | O34: Total - age | P34: 1 | Q34: Male / TÄne | R34: 242433 | V34: =IF(T34<>"_U",IFERROR((ROUND(R34/W34*100,2)),"."),".") -> 50.83 | W34: =IF(AND(T34<>"_U",T34<>"c",J34<>9,J34<>99),IFERROR(VLOOKUP(A34,'Region Total'!$A$2:$W$10000,18,0),"."),".") -> 476985
A35: =G35&"|"&I35&"|"&Q35 -> 2013|Auckland Region|Female / Wahine | B35: DATAFLOW | C35: STATSNZ:CEN23_POP_008(1.0) | D35: Legally registered relationship status, partnership status in current relationship, age, and gender for the census usually resident population count aged 15 years and over, (RC, TALB, SA2, Health), 2013, 2018, and 2023 Censuses | E35: I | F35: 2013 | G35: 2013 | H35: 2 | I35: Auckland Region | J35: 1 | K35: Married (Not Separated) | L35: 99 | M35: Total - partnership status in current relationship | N35: 99 | O35: Total - age | P35: 2 | Q35: Female / Wahine | R35: 246807 | V35: =IF(T35<>"_U",IFERROR((ROUND(R35/W35*100,2)),"."),".") -> 46.97 | W35: =IF(AND(T35<>"_U",T35<>"c",J35<>9,J35<>99),IFERROR(VLOOKUP(A35,'Region Total'!$A$2:$W$10000,18,0),"."),".") -> 525411
A36: =G36&"|"&I36&"|"&Q36 -> 2013|Auckland Region|Another gender / He ira kÄ“ anÅ | B36: DATAFLOW | C36: STATSNZ:CEN23_POP_008(1.0) | D36: Legally registered relationship status, partnership status in current relationship, age, and gender for the census usually resident population count aged 15 years and over, (RC, TALB, SA2, Health), 2013, 2018, and 2023 Censuses | E36: I | F36: 2013 | G36: 2013 | H36: 2 | I36: Auckland Region | J36: 1 | K36: Married (Not Separated) | L36: 99 | M36: Total - partnership status in current relationship | N36: 99 | O36: Total - age | P36: 3 | Q36: Another gender / He ira kÄ“ anÅ | T36: _U | U36: Not available | V36: =IF(T36<>"_U",IFERROR((ROUND(R36/W36*100,2)),"."),".") -> . | W36: =IF(AND(T36<>"_U",T36<>"c",J36<>9,J36<>99),IFERROR(VLOOKUP(A36,'Region Total'!$A$2:$W$10000,18,0),"."),".") -> .
A37: =G37&"|"&I37&"|"&Q37 -> 2013|Auckland Region|Total - gender | B37: DATAFLOW | C37: STATSNZ:CEN23_POP_008(1.0) | D37: Legally registered relationship status, partnership status in current relationship, age, and gender for the census usually resident population count aged 15 years and over, (RC, TALB, SA2, Health), 2013, 2018, and 2023 Censuses | E37: I | F37: 2013 | G37: 2013 | H37: 2 | I37: Auckland Region | J37: 1 | K37: Married (Not Separated) | L37: 99 | M37: Total - partnership status in current relationship | N37: 99 | O37: Total - age | P37: 99 | Q37: Total - gender | R37: 489237 | V37: =IF(T37<>"_U",IFERROR((ROUND(R37/W37*100,2)),"."),".") -> 48.81 | W37: =IF(AND(T37<>"_U",T37<>"c",J37<>9,J37<>99),IFERROR(VLOOKUP(A37,'Region Total'!$A$2:$W$10000,18,0),"."),".") -> 1002396
A38: =G38&"|"&I38&"|"&Q38 -> 2013|Auckland Region|Male / TÄne | B38: DATAFLOW | C38: STATSNZ:CEN23_POP_008(1.0) | D38: Legally registered relationship status, partnership status in current relationship, age, and gender for the census usually resident population count aged 15 years and over, (RC, TALB, SA2, Health), 2013, 2018, and 2023 Censuses | E38: I | F38: 2013 | G38: 2013 | H38: 2 | I38: Auckland Region | J38: 3 | K38: Separated | L38: 99 | M38: Total - partnership status in current relationship | N38: 99 | O38: Total - age | P38: 1 | Q38: Male / TÄne | R38: 13278 | V38: =IF(T38<>"_U",IFERROR((ROUND(R38/W38*100,2)),"."),".") -> 2.78 | W38: =IF(AND(T38<>"_U",T38<>"c",J38<>9,J38<>99),IFERROR(VLOOKUP(A38,'Region Total'!$A$2:$W$10000,18,0),"."),".") -> 476985
A39: =G39&"|"&I39&"|"&Q39 -> 2013|Auckland Region|Female / Wahine | B39: DATAFLOW | C39: STATSNZ:CEN23_POP_008(1.0) | D39: Legally registered relationship status, partnership status in current relationship, age, and gender for the census usually resident population count aged 15 years and over, (RC, TALB, SA2, Health), 2013, 2018, and 2023 Censuses | E39: I | F39: 2013 | G39: 2013 | H39: 2 | I39: Auckland Region | J39: 3 | K39: Separated | L39: 99 | M39: Total - partnership status in current relationship | N39: 99 | O39: Total - age | P39: 2 | Q39: Female / Wahine | R39: 18714 | V39: =IF(T39<>"_U",IFERROR((ROUND(R39/W39*100,2)),"."),".") -> 3.56 | W39: =IF(AND(T39<>"_U",T39<>"c",J39<>9,J39<>99),IFERROR(VLOOKUP(A39,'Region Total'!$A$2:$W$10000,18,0),"."),".") -> 525411
A40: =G40&"|"&I40&"|"&Q40 -> 2013|Auckland Region|Another gender / He ira kÄ“ anÅ | B40: DATAFLOW | C40: STATSNZ:CEN23_POP_008(1.0) | D40: Legally registered relationship status, partnership status in current relationship, age, and gender for the census usually resident population count aged 15 years and over, (RC, TALB, SA2, Health), 2013, 2018, and 2023 Censuses | E40: I | F40: 2013 | G40: 2013 | H40: 2 | I40: Auckland Region | J40: 3 | K40: Separated | L40: 99 | M40: Total - partnership status in current relationship | N40: 99 | O40: Total - age | P40: 3 | Q40: Another gender / He ira kÄ“ anÅ | T40: _U | U40: Not available | V40: =IF(T40<>"_U",IFERROR((ROUND(R40/W40*100,2)),"."),".") -> . | W40: =IF(AND(T40<>"_U",T40<>"c",J40<>9,J40<>99),IFERROR(VLOOKUP(A40,'Region Total'!$A$2:$W$10000,18,0),"."),".") -> .
A41: =G41&"|"&I41&"|"&Q41 -> 2013|Auckland Region|Total - gender | B41: DATAFLOW | C41: STATSNZ:CEN23_POP_008(1.0) | D41: Legally registered relationship status, partnership status in current relationship, age, and gender for the census usually resident population count aged 15 years and over, (RC, TALB, SA2, Health), 2013, 2018, and 2023 Censuses | E41: I | F41: 2013 | G41: 2013 | H41: 2 | I41: Auckland Region | J41: 3 | K41: Separated | L41: 99 | M41: Total - partnership status in current relationship | N41: 99 | O41: Total - age | P41: 99 | Q41: Total - gender | R41: 31989 | V41: =IF(T41<>"_U",IFERROR((ROUND(R41/W41*100,2)),"."),".") -> 3.19 | W41: =IF(AND(T41<>"_U",T41<>"c",J41<>9,J41<>99),IFERROR(VLOOKUP(A41,'Region Total'!$A$2:$W$10000,18,0),"."),".") -> 1002396
A42: =G42&"|"&I42&"|"&Q42 -> 2013|Auckland Region|Male / TÄne | B42: DATAFLOW | C42: STATSNZ:CEN23_POP_008(1.0) | D42: Legally registered relationship status, partnership status in current relationship, age, and gender for the census usually resident population count aged 15 years and over, (RC, TALB, SA2, Health), 2013, 2018, and 2023 Censuses | E42: I | F42: 2013 | G42: 2013 | H42: 2 | I42: Auckland Region | J42: 4 | K42: Divorced or dissolved | L42: 99 | M42: Total - partnership status in current relationship | N42: 99 | O42: Total - age | P42: 1 | Q42: Male / TÄne | R42: 28350 | V42: =IF(T42<>"_U",IFERROR((ROUND(R42/W42*100,2)),"."),".") -> 5.94 | W42: =IF(AND(T42<>"_U",T42<>"c",J42<>9,J42<>99),IFERROR(VLOOKUP(A42,'Region Total'!$A$2:$W$10000,18,0),"."),".") -> 476985
A43: =G43&"|"&I43&"|"&Q43 -> 2013|Auckland Region|Female / Wahine | B43: DATAFLOW | C43: STATSNZ:CEN23_POP_008(1.0) | D43: Legally registered relationship status, partnership status in current relationship, age, and gender for the census usually resident population count aged 15 years and over, (RC, TALB, SA2, Health), 2013, 2018, and 2023 Censuses | E43: I | F43: 2013 | G43: 2013 | H43: 2 | I43: Auckland Region | J43: 4 | K43: Divorced or dissolved | L43: 99 | M43: Total - partnership status in current relationship | N43: 99 | O43: Total - age | P43: 2 | Q43: Female / Wahine | R43: 43404 | V43: =IF(T43<>"_U",IFERROR((ROUND(R43/W43*100,2)),"."),".") -> 8.26 | W43: =IF(AND(T43<>"_U",T43<>"c",J43<>9,J43<>99),IFERROR(VLOOKUP(A43,'Region Total'!$A$2:$W$10000,18,0),"."),".") -> 525411
A44: =G44&"|"&I44&"|"&Q44 -> 2013|Auckland Region|Another gender / He ira kÄ“ anÅ | B44: DATAFLOW | C44: STATSNZ:CEN23_POP_008(1.0) | D44: Legally registered relationship status, partnership status in current relationship, age, and gender for the census usually resident population count aged 15 years and over, (RC, TALB, SA2, Health), 2013, 2018, and 2023 Censuses | E44: I | F44: 2013 | G44: 2013 | H44: 2 | I44: Auckland Region | J44: 4 | K44: Divorced or dissolved | L44: 99 | M44: Total - partnership status in current relationship | N44: 99 | O44: Total - age | P44: 3 | Q44: Another gender / He ira kÄ“ anÅ | T44: _U | U44: Not available | V44: =IF(T44<>"_U",IFERROR((ROUND(R44/W44*100,2)),"."),".") -> . | W44: =IF(AND(T44<>"_U",T44<>"c",J44<>9,J44<>99),IFERROR(VLOOKUP(A44,'Region Total'!$A$2:$W$10000,18,0),"."),".") -> .
A45: =G45&"|"&I45&"|"&Q45 -> 2013|Auckland Region|Total - gender | B45: DATAFLOW | C45: STATSNZ:CEN23_POP_008(1.0) | D45: Legally registered relationship status, partnership status in current relationship, age, and gender for the census usually resident population count aged 15 years and over, (RC, TALB, SA2, Health), 2013, 2018, and 2023 Censuses | E45: I | F45: 2013 | G45: 2013 | H45: 2 | I45: Auckland Region | J45: 4 | K45: Divorced or dissolved | L45: 99 | M45: Total - partnership status in current relationship | N45: 99 | O45: Total - age | P45: 99 | Q45: Total - gender | R45: 71751 | V45: =IF(T45<>"_U",IFERROR((ROUND(R45/W45*100,2)),"."),".") -> 7.16 | W45: =IF(AND(T45<>"_U",T45<>"c",J45<>9,J45<>99),IFERROR(VLOOKUP(A45,'Region Total'!$A$2:$W$10000,18,0),"."),".") -> 1002396
A46: =G46&"|"&I46&"|"&Q46 -> 2013|Auckland Region|Male / TÄne | B46: DATAFLOW | C46: STATSNZ:CEN23_POP_008(1.0) | D46: Legally registered relationship status, partnership status in current relationship, age, and gender for the census usually resident population count aged 15 years and over, (RC, TALB, SA2, Health), 2013, 2018, and 2023 Censuses | E46: I | F46: 2013 | G46: 2013 | H46: 2 | I46: Auckland Region | J46: 5 | K46: Widowed or surviving civil union partner | L46: 99 | M46: Total - partnership status in current relationship | N46: 99 | O46: Total - age | P46: 1 | Q46: Male / TÄne | R46: 9234 | V46: =IF(T46<>"_U",IFERROR((ROUND(R46/W46*100,2)),"."),".") -> 1.94 | W46: =IF(AND(T46<>"_U",T46<>"c",J46<>9,J46<>99),IFERROR(VLOOKUP(A46,'Region Total'!$A$2:$W$10000,18,0),"."),".") -> 476985
A47: =G47&"|"&I47&"|"&Q47 -> 2013|Auckland Region|Female / Wahine | B47: DATAFLOW | C47: STATSNZ:CEN23_POP_008(1.0) | D47: Legally registered relationship status, partnership status in current relationship, age, and gender for the census usually resident population count aged 15 years and over, (RC, TALB, SA2, Health), 2013, 2018, and 2023 Censuses | E47: I | F47: 2013 | G47: 2013 | H47: 2 | I47: Auckland Region | J47: 5 | K47: Widowed or surviving civil union partner | L47: 99 | M47: Total - partnership status in current relationship | N47: 99 | O47: Total - age | P47: 2 | Q47: Female / Wahine | R47: 36468 | V47: =IF(T47<>"_U",IFERROR((ROUND(R47/W47*100,2)),"."),".") -> 6.94 | W47: =IF(AND(T47<>"_U",T47<>"c",J47<>9,J47<>99),IFERROR(VLOOKUP(A47,'Region Total'!$A$2:$W$10000,18,0),"."),".") -> 525411
A48: =G48&"|"&I48&"|"&Q48 -> 2013|Auckland Region|Another gender / He ira kÄ“ anÅ | B48: DATAFLOW | C48: STATSNZ:CEN23_POP_008(1.0) | D48: Legally registered relationship status, partnership status in current relationship, age, and gender for the census usually resident population count aged 15 years and over, (RC, TALB, SA2, Health), 2013, 2018, and 2023 Censuses | E48: I | F48: 2013 | G48: 2013 | H48: 2 | I48: Auckland Region | J48: 5 | K48: Widowed or surviving civil union partner | L48: 99 | M48: Total - partnership status in current relationship | N48: 99 | O48: Total - age | P48: 3 | Q48: Another gender / He ira kÄ“ anÅ | T48: _U | U48: Not available | V48: =IF(T48<>"_U",IFERROR((ROUND(R48/W48*100,2)),"."),".") -> . | W48: =IF(AND(T48<>"_U",T48<>"c",J48<>9,J48<>99),IFERROR(VLOOKUP(A48,'Region Total'!$A$2:$W$10000,18,0),"."),".") -> .
A49: =G49&"|"&I49&"|"&Q49 -> 2013|Auckland Region|Total - gender | B49: DATAFLOW | C49: STATSNZ:CEN23_POP_008(1.0) | D49: Legally registered relationship status, partnership status in current relationship, age, and gender for the census usually resident population count aged 15 years and over, (RC, TALB, SA2, Health), 2013, 2018, and 2023 Censuses | E49: I | F49: 2013 | G49: 2013 | H49: 2 | I49: Auckland Region | J49: 5 | K49: Widowed or surviving civil union partner | L49: 99 | M49: Total - partnership status in current relationship | N49: 99 | O49: Total - age | P49: 99 | Q49: Total - gender | R49: 45702 | V49: =IF(T49<>"_U",IFERROR((ROUND(R49/W49*100,2)),"."),".") -> 4.56 | W49: =IF(AND(T49<>"_U",T49<>"c",J49<>9,J49<>99),IFERROR(VLOOKUP(A49,'Region Total'!$A$2:$W$10000,18,0),"."),".") -> 1002396
A50: =G50&"|"&I50&"|"&Q50 -> 2013|Auckland Region|Male / TÄne | B50: DATAFLOW | C50: STATSNZ:CEN23_POP_008(1.0) | D50: Legally registered relationship status, partnership status in current relationship, age, and gender for the census usually resident population count aged 15 years and over, (RC, TALB, SA2, Health), 2013, 2018, and 2023 Censuses | E50: I | F50: 2013 | G50: 2013 | H50: 2 | I50: Auckland Region | J50: 6 | K50: Never married and never in a civil union | L50: 99 | M50: Total - partnership status in current relationship | N50: 99 | O50: Total - age | P50: 1 | Q50: Male / TÄne | R50: 183693 | V50: =IF(T50<>"_U",IFERROR((ROUND(R50/W50*100,2)),"."),".") -> 38.51 | W50: =IF(AND(T50<>"_U",T50<>"c",J50<>9,J50<>99),IFERROR(VLOOKUP(A50,'Region Total'!$A$2:$W$10000,18,0),"."),".") -> 476985
A51: =G51&"|"&I51&"|"&Q51 -> 2013|Auckland Region|Female / Wahine | B51: DATAFLOW | C51: STATSNZ:CEN23_POP_008(1.0) | D51: Legally registered relationship status, partnership status in current relationship, age, and gender for the census usually resident population count aged 15 years and over, (RC, TALB, SA2, Health), 2013, 2018, and 2023 Censuses | E51: I | F51: 2013 | G51: 2013 | H51: 2 | I51: Auckland Region | J51: 6 | K51: Never married and never in a civil union | L51: 99 | M51: Total - partnership status in current relationship | N51: 99 | O51: Total - age | P51: 2 | Q51: Female / Wahine | R51: 180018 | V51: =IF(T51<>"_U",IFERROR((ROUND(R51/W51*100,2)),"."),".") -> 34.26 | W51: =IF(AND(T51<>"_U",T51<>"c",J51<>9,J51<>99),IFERROR(VLOOKUP(A51,'Region Total'!$A$2:$W$10000,18,0),"."),".") -> 525411
A52: =G52&"|"&I52&"|"&Q52 -> 2013|Auckland Region|Another gender / He ira kÄ“ anÅ | B52: DATAFLOW | C52: STATSNZ:CEN23_POP_008(1.0) | D52: Legally registered relationship status, partnership status in current relationship, age, and gender for the census usually resident population count aged 15 years and over, (RC, TALB, SA2, Health), 2013, 2018, and 2023 Censuses | E52: I | F52: 2013 | G52: 2013 | H52: 2 | I52: Auckland Region | J52: 6 | K52: Never married and never in a civil union | L52: 99 | M52: Total - partnership status in current relationship | N52: 99 | O52: Total - age | P52: 3 | Q52: Another gender / He ira kÄ“ anÅ | T52: _U | U52: Not available | V52: =IF(T52<>"_U",IFERROR((ROUND(R52/W52*100,2)),"."),".") -> . | W52: =IF(AND(T52<>"_U",T52<>"c",J52<>9,J52<>99),IFERROR(VLOOKUP(A52,'Region Total'!$A$2:$W$10000,18,0),"."),".") -> .
A53: =G53&"|"&I53&"|"&Q53 -> 2013|Auckland Region|Total - gender | B53: DATAFLOW | C53: STATSNZ:CEN23_POP_008(1.0) | D53: Legally registered relationship status, partnership status in current relationship, age, and gender for the census usually resident population count aged 15 years and over, (RC, TALB, SA2, Health), 2013, 2018, and 2023 Censuses | E53: I | F53: 2013 | G53: 2013 | H53: 2 | I53: Auckland Region | J53: 6 | K53: Never married and never in a civil union | L53: 99 | M53: Total - partnership status in current relationship | N53: 99 | O53: Total - age | P53: 99 | Q53: Total - gender | R53: 363714 | V53: =IF(T53<>"_U",IFERROR((ROUND(R53/W53*100,2)),"."),".") -> 36.28 | W53: =IF(AND(T53<>"_U",T53<>"c",J53<>9,J53<>99),IFERROR(VLOOKUP(A53,'Region Total'!$A$2:$W$10000,18,0),"."),".") -> 1002396
A54: =G54&"|"&I54&"|"&Q54 -> 2013|Auckland Region|Male / TÄne | B54: DATAFLOW | C54: STATSNZ:CEN23_POP_008(1.0) | D54: Legally registered relationship status, partnership status in current relationship, age, and gender for the census usually resident population count aged 15 years and over, (RC, TALB, SA2, Health), 2013, 2018, and 2023 Censuses | E54: I | F54: 2013 | G54: 2013 | H54: 2 | I54: Auckland Region | J54: 9 | K54: Not elsewhere included | L54: 99 | M54: Total - partnership status in current relationship | N54: 99 | O54: Total - age | P54: 1 | Q54: Male / TÄne | R54: 58668 | V54: =IF(T54<>"_U",IFERROR((ROUND(R54/W54*100,2)),"."),".") -> . | W54: =IF(AND(T54<>"_U",T54<>"c",J54<>9,J54<>99),IFERROR(VLOOKUP(A54,'Region Total'!$A$2:$W$10000,18,0),"."),".") -> .
A55: =G55&"|"&I55&"|"&Q55 -> 2013|Auckland Region|Female / Wahine | B55: DATAFLOW | C55: STATSNZ:CEN23_POP_008(1.0) | D55: Legally registered relationship status, partnership status in current relationship, age, and gender for the census usually resident population count aged 15 years and over, (RC, TALB, SA2, Health), 2013, 2018, and 2023 Censuses | E55: I | F55: 2013 | G55: 2013 | H55: 2 | I55: Auckland Region | J55: 9 | K55: Not elsewhere included | L55: 99 | M55: Total - partnership status in current relationship | N55: 99 | O55: Total - age | P55: 2 | Q55: Female / Wahine | R55: 58131 | V55: =IF(T55<>"_U",IFERROR((ROUND(R55/W55*100,2)),"."),".") -> . | W55: =IF(AND(T55<>"_U",T55<>"c",J55<>9,J55<>99),IFERROR(VLOOKUP(A55,'Region Total'!$A$2:$W$10000,18,0),"."),".") -> .
A56: =G56&"|"&I56&"|"&Q56 -> 2013|Auckland Region|Another gender / He ira kÄ“ anÅ | B56: DATAFLOW | C56: STATSNZ:CEN23_POP_008(1.0) | D56: Legally registered relationship status, partnership status in current relationship, age, and gender for the census usually resident population count aged 15 years and over, (RC, TALB, SA2, Health), 2013, 2018, and 2023 Censuses | E56: I | F56: 2013 | G56: 2013 | H56: 2 | I56: Auckland Region | J56: 9 | K56: Not elsewhere included | L56: 99 | M56: Total - partnership status in current relationship | N56: 99 | O56: Total - age | P56: 3 | Q56: Another gender / He ira kÄ“ anÅ | T56: _U | U56: Not available | V56: =IF(T56<>"_U",IFERROR((ROUND(R56/W56*100,2)),"."),".") -> . | W56: =IF(AND(T56<>"_U",T56<>"c",J56<>9,J56<>99),IFERROR(VLOOKUP(A56,'Region Total'!$A$2:$W$10000,18,0),"."),".") -> .
A57: =G57&"|"&I57&"|"&Q57 -> 2013|Auckland Region|Total - gender | B57: DATAFLOW | C57: STATSNZ:CEN23_POP_008(1.0) | D57: Legally registered relationship status, partnership status in current relationship, age, and gender for the census usually resident population count aged 15 years and over, (RC, TALB, SA2, Health), 2013, 2018, and 2023 Censuses | E57: I | F57: 2013 | G57: 2013 | H57: 2 | I57: Auckland Region | J57: 9 | K57: Not elsewhere included | L57: 99 | M57: Total - partnership status in current relationship | N57: 99 | O57: Total - age | P57: 99 | Q57: Total - gender | R57: 116802 | V57: =IF(T57<>"_U",IFERROR((ROUND(R57/W57*100,2)),"."),".") -> . | W57: =IF(AND(T57<>"_U",T57<>"c",J57<>9,J57<>99),IFERROR(VLOOKUP(A57,'Region Total'!$A$2:$W$10000,18,0),"."),".") -> .
A58: =G58&"|"&I58&"|"&Q58 -> 2013|Auckland Region|Male / TÄne | B58: DATAFLOW | C58: STATSNZ:CEN23_POP_008(1.0) | D58: Legally registered relationship status, partnership status in current relationship, age, and gender for the census usually resident population count aged 15 years and over, (RC, TALB, SA2, Health), 2013, 2018, and 2023 Censuses | E58: I | F58: 2013 | G58: 2013 | H58: 2 | I58: Auckland Region | J58: 77 | K58: Total stated - legally registered relationship status | L58: 99 | M58: Total - partnership status in current relationship | N58: 99 | O58: Total - age | P58: 1 | Q58: Male / TÄne | R58: 476985 | V58: =IF(T58<>"_U",IFERROR((ROUND(R58/W58*100,2)),"."),".") -> 100 | W58: =IF(AND(T58<>"_U",T58<>"c",J58<>9,J58<>99),IFERROR(VLOOKUP(A58,'Region Total'!$A$2:$W$10000,18,0),"."),".") -> 476985
A59: =G59&"|"&I59&"|"&Q59 -> 2013|Auckland Region|Female / Wahine | B59: DATAFLOW | C59: STATSNZ:CEN23_POP_008(1.0) | D59: Legally registered relationship status, partnership status in current relationship, age, and gender for the census usually resident population count aged 15 years and over, (RC, TALB, SA2, Health), 2013, 2018, and 2023 Censuses | E59: I | F59: 2013 | G59: 2013 | H59: 2 | I59: Auckland Region | J59: 77 | K59: Total stated - legally registered relationship status | L59: 99 | M59: Total - partnership status in current relationship | N59: 99 | O59: Total - age | P59: 2 | Q59: Female / Wahine | R59: 525411 | V59: =IF(T59<>"_U",IFERROR((ROUND(R59/W59*100,2)),"."),".") -> 100 | W59: =IF(AND(T59<>"_U",T59<>"c",J59<>9,J59<>99),IFERROR(VLOOKUP(A59,'Region Total'!$A$2:$W$10000,18,0),"."),".") -> 525411
A60: =G60&"|"&I60&"|"&Q60 -> 2013|Auckland Region|Another gender / He ira kÄ“ anÅ | B60: DATAFLOW | C60: STATSNZ:CEN23_POP_008(1.0) | D60: Legally registered relationship status, partnership status in current relationship, age, and gender for the census usually resident population count aged 15 years and over, (RC, TALB, SA2, Health), 2013, 2018, and 2023 Censuses | E60: I | F60: 2013 | G60: 2013 | H60: 2 | I60: Auckland Region | J60: 77 | K60: Total stated - legally registered relationship status | L60: 99 | M60: Total - partnership status in current relationship | N60: 99 | O60: Total - age | P60: 3 | Q60: Another gender / He ira kÄ“ anÅ | T60: _U | U60: Not available | V60: =IF(T60<>"_U",IFERROR((ROUND(R60/W60*100,2)),"."),".") -> . | W60: =IF(AND(T60<>"_U",T60<>"c",J60<>9,J60<>99),IFERROR(VLOOKUP(A60,'Region Total'!$A$2:$W$10000,18,0),"."),".") -> .
A61: =G61&"|"&I61&"|"&Q61 -> 2013|Auckland Region|Total - gender | B61: DATAFLOW | C61: STATSNZ:CEN23_POP_008(1.0) | D61: Legally registered relationship status, partnership status in current relationship, age, and gender for the census usually resident population count aged 15 years and over, (RC, TALB, SA2, Health), 2013, 2018, and 2023 Censuses | E61: I | F61: 2013 | G61: 2013 | H61: 2 | I61: Auckland Region | J61: 77 | K61: Total stated - legally registered relationship status | L61: 99 | M61: Total - partnership status in current relationship | N61: 99 | O61: Total - age | P61: 99 | Q61: Total - gender | R61: 1002396 | V61: =IF(T61<>"_U",IFERROR((ROUND(R61/W61*100,2)),"."),".") -> 100 | W61: =IF(AND(T61<>"_U",T61<>"c",J61<>9,J61<>99),IFERROR(VLOOKUP(A61,'Region Total'!$A$2:$W$10000,18,0),"."),".") -> 1002396
A62: =G62&"|"&I62&"|"&Q62 -> 2013|Auckland Region|Male / TÄne | B62: DATAFLOW | C62: STATSNZ:CEN23_POP_008(1.0) | D62: Legally registered relationship status, partnership status in current relationship, age, and gender for the census usually resident population count aged 15 years and over, (RC, TALB, SA2, Health), 2013, 2018, and 2023 Censuses | E62: I | F62: 2013 | G62: 2013 | H62: 2 | I62: Auckland Region | J62: 99 | K62: Total - legally registered relationship status | L62: 99 | M62: Total - partnership status in current relationship | N62: 99 | O62: Total - age | P62: 1 | Q62: Male / TÄne | R62: 535656 | V62: =IF(T62<>"_U",IFERROR((ROUND(R62/W62*100,2)),"."),".") -> . | W62: =IF(AND(T62<>"_U",T62<>"c",J62<>9,J62<>99),IFERROR(VLOOKUP(A62,'Region Total'!$A$2:$W$10000,18,0),"."),".") -> .
A63: =G63&"|"&I63&"|"&Q63 -> 2013|Auckland Region|Female / Wahine | B63: DATAFLOW | C63: STATSNZ:CEN23_POP_008(1.0) | D63: Legally registered relationship status, partnership status in current relationship, age, and gender for the census usually resident population count aged 15 years and over, (RC, TALB, SA2, Health), 2013, 2018, and 2023 Censuses | E63: I | F63: 2013 | G63: 2013 | H63: 2 | I63: Auckland Region | J63: 99 | K63: Total - legally registered relationship status | L63: 99 | M63: Total - partnership status in current relationship | N63: 99 | O63: Total - age | P63: 2 | Q63: Female / Wahine | R63: 583542 | V63: =IF(T63<>"_U",IFERROR((ROUND(R63/W63*100,2)),"."),".") -> . | W63: =IF(AND(T63<>"_U",T63<>"c",J63<>9,J63<>99),IFERROR(VLOOKUP(A63,'Region Total'!$A$2:$W$10000,18,0),"."),".") -> .
A64: =G64&"|"&I64&"|"&Q64 -> 2013|Auckland Region|Another gender / He ira kÄ“ anÅ | B64: DATAFLOW | C64: STATSNZ:CEN23_POP_008(1.0) | D64: Legally registered relationship status, partnership status in current relationship, age, and gender for the census usually resident population count aged 15 years and over, (RC, TALB, SA2, Health), 2013, 2018, and 2023 Censuses | E64: I | F64: 2013 | G64: 2013 | H64: 2 | I64: Auckland Region | J64: 99 | K64: Total - legally registered relationship status | L64: 99 | M64: Total - partnership status in current relationship | N64: 99 | O64: Total - age | P64: 3 | Q64: Another gender / He ira kÄ“ anÅ | T64: _U | U64: Not available | V64: =IF(T64<>"_U",IFERROR((ROUND(R64/W64*100,2)),"."),".") -> . | W64: =IF(AND(T64<>"_U",T64<>"c",J64<>9,J64<>99),IFERROR(VLOOKUP(A64,'Region Total'!$A$2:$W$10000,18,0),"."),".") -> .
A65: =G65&"|"&I65&"|"&Q65 -> 2013|Auckland Region|Total - gender | B65: DATAFLOW | C65: STATSNZ:CEN23_POP_008(1.0) | D65: Legally registered relationship status, partnership status in current relationship, age, and gender for the census usually resident population count aged 15 years and over, (RC, TALB, SA2, Health), 2013, 2018, and 2023 Censuses | E65: I | F65: 2013 | G65: 2013 | H65: 2 | I65: Auckland Region | J65: 99 | K65: Total - legally registered relationship status | L65: 99 | M65: Total - partnership status in current relationship | N65: 99 | O65: Total - age | P65: 99 | Q65: Total - gender | R65: 1119195 | V65: =IF(T65<>"_U",IFERROR((ROUND(R65/W65*100,2)),"."),".") -> . | W65: =IF(AND(T65<>"_U",T65<>"c",J65<>9,J65<>99),IFERROR(VLOOKUP(A65,'Region Total'!$A$2:$W$10000,18,0),"."),".") -> .
A66: =G66&"|"&I66&"|"&Q66 -> 2013|Waikato Region|Male / TÄne | B66: DATAFLOW | C66: STATSNZ:CEN23_POP_008(1.0) | D66: Legally registered relationship status, partnership status in current relationship, age, and gender for the census usually resident population count aged 15 years and over, (RC, TALB, SA2, Health), 2013, 2018, and 2023 Censuses | E66: I | F66: 2013 | G66: 2013 | H66: 3 | I66: Waikato Region | J66: 1 | K66: Married (Not Separated) | L66: 99 | M66: Total - partnership status in current relationship | N66: 99 | O66: Total - age | P66: 1 | Q66: Male / TÄne | R66: 68556 | V66: =IF(T66<>"_U",IFERROR((ROUND(R66/W66*100,2)),"."),".") -> 50.2 | W66: =IF(AND(T66<>"_U",T66<>"c",J66<>9,J66<>99),IFERROR(VLOOKUP(A66,'Region Total'!$A$2:$W$10000,18,0),"."),".") -> 136566
A67: =G67&"|"&I67&"|"&Q67 -> 2013|Waikato Region|Female / Wahine | B67: DATAFLOW | C67: STATSNZ:CEN23_POP_008(1.0) | D67: Legally registered relationship status, partnership status in current relationship, age, and gender for the census usually resident population count aged 15 years and over, (RC, TALB, SA2, Health), 2013, 2018, and 2023 Censuses | E67: I | F67: 2013 | G67: 2013 | H67: 3 | I67: Waikato Region | J67: 1 | K67: Married (Not Separated) | L67: 99 | M67: Total - partnership status in current relationship | N67: 99 | O67: Total - age | P67: 2 | Q67: Female / Wahine | R67: 69084 | V67: =IF(T67<>"_U",IFERROR((ROUND(R67/W67*100,2)),"."),".") -> 46.27 | W67: =IF(AND(T67<>"_U",T67<>"c",J67<>9,J67<>99),IFERROR(VLOOKUP(A67,'Region Total'!$A$2:$W$10000,18,0),"."),".") -> 149298
A68: =G68&"|"&I68&"|"&Q68 -> 2013|Waikato Region|Another gender / He ira kÄ“ anÅ | B68: DATAFLOW | C68: STATSNZ:CEN23_POP_008(1.0) | D68: Legally registered relationship status, partnership status in current relationship, age, and gender for the census usually resident population count aged 15 years and over, (RC, TALB, SA2, Health), 2013, 2018, and 2023 Censuses | E68: I | F68: 2013 | G68: 2013 | H68: 3 | I68: Waikato Region | J68: 1 | K68: Married (Not Separated) | L68: 99 | M68: Total - partnership status in current relationship | N68: 99 | O68: Total - age | P68: 3 | Q68: Another gender / He ira kÄ“ anÅ | T68: _U | U68: Not available | V68: =IF(T68<>"_U",IFERROR((ROUND(R68/W68*100,2)),"."),".") -> . | W68: =IF(AND(T68<>"_U",T68<>"c",J68<>9,J68<>99),IFERROR(VLOOKUP(A68,'Region Total'!$A$2:$W$10000,18,0),"."),".") -> .
A69: =G69&"|"&I69&"|"&Q69 -> 2013|Waikato Region|Total - gender | B69: DATAFLOW | C69: STATSNZ:CEN23_POP_008(1.0) | D69: Legally registered relationship status, partnership status in current relationship, age, and gender for the census usually resident population count aged 15 years and over, (RC, TALB, SA2, Health), 2013, 2018, and 2023 Censuses | E69: I | F69: 2013 | G69: 2013 | H69: 3 | I69: Waikato Region | J69: 1 | K69: Married (Not Separated) | L69: 99 | M69: Total - partnership status in current relationship | N69: 99 | O69: Total - age | P69: 99 | Q69: Total - gender | R69: 137643 | V69: =IF(T69<>"_U",IFERROR((ROUND(R69/W69*100,2)),"."),".") -> 48.15 | W69: =IF(AND(T69<>"_U",T69<>"c",J69<>9,J69<>99),IFERROR(VLOOKUP(A69,'Region Total'!$A$2:$W$10000,18,0),"."),".") -> 285864
A70: =G70&"|"&I70&"|"&Q70 -> 2013|Waikato Region|Male / TÄne | B70: DATAFLOW | C70: STATSNZ:CEN23_POP_008(1.0) | D70: Legally registered relationship status, partnership status in current relationship, age, and gender for the census usually resident population count aged 15 years and over, (RC, TALB, SA2, Health), 2013, 2018, and 2023 Censuses | E70: I | F70: 2013 | G70: 2013 | H70: 3 | I70: Waikato Region | J70: 3 | K70: Separated | L70: 99 | M70: Total - partnership status in current relationship | N70: 99 | O70: Total - age | P70: 1 | Q70: Male / TÄne | R70: 4713 | V70: =IF(T70<>"_U",IFERROR((ROUND(R70/W70*100,2)),"."),".") -> 3.45 | W70: =IF(AND(T70<>"_U",T70<>"c",J70<>9,J70<>99),IFERROR(VLOOKUP(A70,'Region Total'!$A$2:$W$10000,18,0),"."),".") -> 136566
A71: =G71&"|"&I71&"|"&Q71 -> 2013|Waikato Region|Female / Wahine | B71: DATAFLOW | C71: STATSNZ:CEN23_POP_008(1.0) | D71: Legally registered relationship status, partnership status in current relationship, age, and gender for the census usually resident population count aged 15 years and over, (RC, TALB, SA2, Health), 2013, 2018, and 2023 Censuses | E71: I | F71: 2013 | G71: 2013 | H71: 3 | I71: Waikato Region | J71: 3 | K71: Separated | L71: 99 | M71: Total - partnership status in current relationship | N71: 99 | O71: Total - age | P71: 2 | Q71: Female / Wahine | R71: 5961 | V71: =IF(T71<>"_U",IFERROR((ROUND(R71/W71*100,2)),"."),".") -> 3.99 | W71: =IF(AND(T71<>"_U",T71<>"c",J71<>9,J71<>99),IFERROR(VLOOKUP(A71,'Region Total'!$A$2:$W$10000,18,0),"."),".") -> 149298
A72: =G72&"|"&I72&"|"&Q72 -> 2013|Waikato Region|Another gender / He ira kÄ“ anÅ | B72: DATAFLOW | C72: STATSNZ:CEN23_POP_008(1.0) | D72: Legally registered relationship status, partnership status in current relationship, age, and gender for the census usually resident population count aged 15 years and over, (RC, TALB, SA2, Health), 2013, 2018, and 2023 Censuses | E72: I | F72: 2013 | G72: 2013 | H72: 3 | I72: Waikato Region | J72: 3 | K72: Separated | L72: 99 | M72: Total - partnership status in current relationship | N72: 99 | O72: Total - age | P72: 3 | Q72: Another gender / He ira kÄ“ anÅ | T72: _U | U72: Not available | V72: =IF(T72<>"_U",IFERROR((ROUND(R72/W72*100,2)),"."),".") -> . | W72: =IF(AND(T72<>"_U",T72<>"c",J72<>9,J72<>99),IFERROR(VLOOKUP(A72,'Region Total'!$A$2:$W$10000,18,0),"."),".") -> .
A73: =G73&"|"&I73&"|"&Q73 -> 2013|Waikato Region|Total - gender | B73: DATAFLOW | C73: STATSNZ:CEN23_POP_008(1.0) | D73: Legally registered relationship status, partnership status in current relationship, age, and gender for the census usually resident population count aged 15 years and over, (RC, TALB, SA2, Health), 2013, 2018, and 2023 Censuses | E73: I | F73: 2013 | G73: 2013 | H73: 3 | I73: Waikato Region | J73: 3 | K73: Separated | L73: 99 | M73: Total - partnership status in current relationship | N73: 99 | O73: Total - age | P73: 99 | Q73: Total - gender | R73: 10677 | V73: =IF(T73<>"_U",IFERROR((ROUND(R73/W73*100,2)),"."),".") -> 3.73 | W73: =IF(AND(T73<>"_U",T73<>"c",J73<>9,J73<>99),IFERROR(VLOOKUP(A73,'Region Total'!$A$2:$W$10000,18,0),"."),".") -> 285864
A74: =G74&"|"&I74&"|"&Q74 -> 2013|Waikato Region|Male / TÄne | B74: DATAFLOW | C74: STATSNZ:CEN23_POP_008(1.0) | D74: Legally registered relationship status, partnership status in current relationship, age, and gender for the census usually resident population count aged 15 years and over, (RC, TALB, SA2, Health), 2013, 2018, and 2023 Censuses | E74: I | F74: 2013 | G74: 2013 | H74: 3 | I74: Waikato Region | J74: 4 | K74: Divorced or dissolved | L74: 99 | M74: Total - partnership status in current relationship | N74: 99 | O74: Total - age | P74: 1 | Q74: Male / TÄne | R74: 9834 | V74: =IF(T74<>"_U",IFERROR((ROUND(R74/W74*100,2)),"."),".") -> 7.2 | W74: =IF(AND(T74<>"_U",T74<>"c",J74<>9,J74<>99),IFERROR(VLOOKUP(A74,'Region Total'!$A$2:$W$10000,18,0),"."),".") -> 136566
A75: =G75&"|"&I75&"|"&Q75 -> 2013|Waikato Region|Female / Wahine | B75: DATAFLOW | C75: STATSNZ:CEN23_POP_008(1.0) | D75: Legally registered relationship status, partnership status in current relationship, age, and gender for the census usually resident population count aged 15 years and over, (RC, TALB, SA2, Health), 2013, 2018, and 2023 Censuses | E75: I | F75: 2013 | G75: 2013 | H75: 3 | I75: Waikato Region | J75: 4 | K75: Divorced or dissolved | L75: 99 | M75: Total - partnership status in current relationship | N75: 99 | O75: Total - age | P75: 2 | Q75: Female / Wahine | R75: 13338 | V75: =IF(T75<>"_U",IFERROR((ROUND(R75/W75*100,2)),"."),".") -> 8.93 | W75: =IF(AND(T75<>"_U",T75<>"c",J75<>9,J75<>99),IFERROR(VLOOKUP(A75,'Region Total'!$A$2:$W$10000,18,0),"."),".") -> 149298
A76: =G76&"|"&I76&"|"&Q76 -> 2013|Waikato Region|Another gender / He ira kÄ“ anÅ | B76: DATAFLOW | C76: STATSNZ:CEN23_POP_008(1.0) | D76: Legally registered relationship status, partnership status in current relationship, age, and gender for the census usually resident population count aged 15 years and over, (RC, TALB, SA2, Health), 2013, 2018, and 2023 Censuses | E76: I | F76: 2013 | G76: 2013 | H76: 3 | I76: Waikato Region | J76: 4 | K76: Divorced or dissolved | L76: 99 | M76: Total - partnership status in current relationship | N76: 99 | O76: Total - age | P76: 3 | Q76: Another gender / He ira kÄ“ anÅ | T76: _U | U76: Not available | V76: =IF(T76<>"_U",IFERROR((ROUND(R76/W76*100,2)),"."),".") -> . | W76: =IF(AND(T76<>"_U",T76<>"c",J76<>9,J76<>99),IFERROR(VLOOKUP(A76,'Region Total'!$A$2:$W$10000,18,0),"."),".") -> .
A77: =G77&"|"&I77&"|"&Q77 -> 2013|Waikato Region|Total - gender | B77: DATAFLOW | C77: STATSNZ:CEN23_POP_008(1.0) | D77: Legally registered relationship status, partnership status in current relationship, age, and gender for the census usually resident population count aged 15 years and over, (RC, TALB, SA2, Health), 2013, 2018, and 2023 Censuses | E77: I | F77: 2013 | G77: 2013 | H77: 3 | I77: Waikato Region | J77: 4 | K77: Divorced or dissolved | L77: 99 | M77: Total - partnership status in current relationship | N77: 99 | O77: Total - age | P77: 99 | Q77: Total - gender | R77: 23175 | V77: =IF(T77<>"_U",IFERROR((ROUND(R77/W77*100,2)),"."),".") -> 8.11 | W77: =IF(AND(T77<>"_U",T77<>"c",J77<>9,J77<>99),IFERROR(VLOOKUP(A77,'Region Total'!$A$2:$W$10000,18,0),"."),".") -> 285864
A78: =G78&"|"&I78&"|"&Q78 -> 2013|Waikato Region|Male / TÄne | B78: DATAFLOW | C78: STATSNZ:CEN23_POP_008(1.0) | D78: Legally registered relationship status, partnership status in current relationship, age, and gender for the census usually resident population count aged 15 years and over, (RC, TALB, SA2, Health), 2013, 2018, and 2023 Censuses | E78: I | F78: 2013 | G78: 2013 | H78: 3 | I78: Waikato Region | J78: 5 | K78: Widowed or surviving civil union partner | L78: 99 | M78: Total - partnership status in current relationship | N78: 99 | O78: Total - age | P78: 1 | Q78: Male / TÄne | R78: 3759 | V78: =IF(T78<>"_U",IFERROR((ROUND(R78/W78*100,2)),"."),".") -> 2.75 | W78: =IF(AND(T78<>"_U",T78<>"c",J78<>9,J78<>99),IFERROR(VLOOKUP(A78,'Region Total'!$A$2:$W$10000,18,0),"."),".") -> 136566
A79: =G79&"|"&I79&"|"&Q79 -> 2013|Waikato Region|Female / Wahine | B79: DATAFLOW | C79: STATSNZ:CEN23_POP_008(1.0) | D79: Legally registered relationship status, partnership status in current relationship, age, and gender for the census usually resident population count aged 15 years and over, (RC, TALB, SA2, Health), 2013, 2018, and 2023 Censuses | E79: I | F79: 2013 | G79: 2013 | H79: 3 | I79: Waikato Region | J79: 5 | K79: Widowed or surviving civil union partner | L79: 99 | M79: Total - partnership status in current relationship | N79: 99 | O79: Total - age | P79: 2 | Q79: Female / Wahine | R79: 13098 | V79: =IF(T79<>"_U",IFERROR((ROUND(R79/W79*100,2)),"."),".") -> 8.77 | W79: =IF(AND(T79<>"_U",T79<>"c",J79<>9,J79<>99),IFERROR(VLOOKUP(A79,'Region Total'!$A$2:$W$10000,18,0),"."),".") -> 149298
A80: =G80&"|"&I80&"|"&Q80 -> 2013|Waikato Region|Another gender / He ira kÄ“ anÅ | B80: DATAFLOW | C80: STATSNZ:CEN23_POP_008(1.0) | D80: Legally registered relationship status, partnership status in current relationship, age, and gender for the census usually resident population count aged 15 years and over, (RC, TALB, SA2, Health), 2013, 2018, and 2023 Censuses | E80: I | F80: 2013 | G80: 2013 | H80: 3 | I80: Waikato Region | J80: 5 | K80: Widowed or surviving civil union partner | L80: 99 | M80: Total - partnership status in current relationship | N80: 99 | O80: Total - age | P80: 3 | Q80: Another gender / He ira kÄ“ anÅ | T80: _U | U80: Not available | V80: =IF(T80<>"_U",IFERROR((ROUND(R80/W80*100,2)),"."),".") -> . | W80: =IF(AND(T80<>"_U",T80<>"c",J80<>9,J80<>99),IFERROR(VLOOKUP(A80,'Region Total'!$A$2:$W$10000,18,0),"."),".") -> .
A81: =G81&"|"&I81&"|"&Q81 -> 2013|Waikato Region|Total - gender | B81: DATAFLOW | C81: STATSNZ:CEN23_POP_008(1.0) | D81: Legally registered relationship status, partnership status in current relationship, age, and gender for the census usually resident population count aged 15 years and over, (RC, TALB, SA2, Health), 2013, 2018, and 2023 Censuses | E81: I | F81: 2013 | G81: 2013 | H81: 3 | I81: Waikato Region | J81: 5 | K81: Widowed or surviving civil union partner | L81: 99 | M81: Total - partnership status in current relationship | N81: 99 | O81: Total - age | P81: 99 | Q81: Total - gender | R81: 16857 | V81: =IF(T81<>"_U",IFERROR((ROUND(R81/W81*100,2)),"."),".") -> 5.9 | W81: =IF(AND(T81<>"_U",T81<>"c",J81<>9,J81<>99),IFERROR(VLOOKUP(A81,'Region Total'!$A$2:$W$10000,18,0),"."),".") -> 285864
A82: =G82&"|"&I82&"|"&Q82 -> 2013|Waikato Region|Male / TÄne | B82: DATAFLOW | C82: STATSNZ:CEN23_POP_008(1.0) | D82: Legally registered relationship status, partnership status in current relationship, age, and gender for the census usually resident population count aged 15 years and over, (RC, TALB, SA2, Health), 2013, 2018, and 2023 Censuses | E82: I | F82: 2013 | G82: 2013 | H82: 3 | I82: Waikato Region | J82: 6 | K82: Never married and never in a civil union | L82: 99 | M82: Total - partnership status in current relationship | N82: 99 | O82: Total - age | P82: 1 | Q82: Male / TÄne | R82: 49707 | V82: =IF(T82<>"_U",IFERROR((ROUND(R82/W82*100,2)),"."),".") -> 36.4 | W82: =IF(AND(T82<>"_U",T82<>"c",J82<>9,J82<>99),IFERROR(VLOOKUP(A82,'Region Total'!$A$2:$W$10000,18,0),"."),".") -> 136566
A83: =G83&"|"&I83&"|"&Q83 -> 2013|Waikato Region|Female / Wahine | B83: DATAFLOW | C83: STATSNZ:CEN23_POP_008(1.0) | D83: Legally registered relationship status, partnership status in current relationship, age, and gender for the census usually resident population count aged 15 years and over, (RC, TALB, SA2, Health), 2013, 2018, and 2023 Censuses | E83: I | F83: 2013 | G83: 2013 | H83: 3 | I83: Waikato Region | J83: 6 | K83: Never married and never in a civil union | L83: 99 | M83: Total - partnership status in current relationship | N83: 99 | O83: Total - age | P83: 2 | Q83: Female / Wahine | R83: 47808 | V83: =IF(T83<>"_U",IFERROR((ROUND(R83/W83*100,2)),"."),".") -> 32.02 | W83: =IF(AND(T83<>"_U",T83<>"c",J83<>9,J83<>99),IFERROR(VLOOKUP(A83,'Region Total'!$A$2:$W$10000,18,0),"."),".") -> 149298
A84: =G84&"|"&I84&"|"&Q84 -> 2013|Waikato Region|Another gender / He ira kÄ“ anÅ | B84: DATAFLOW | C84: STATSNZ:CEN23_POP_008(1.0) | D84: Legally registered relationship status, partnership status in current relationship, age, and gender for the census usually resident population count aged 15 years and over, (RC, TALB, SA2, Health), 2013, 2018, and 2023 Censuses | E84: I | F84: 2013 | G84: 2013 | H84: 3 | I84: Waikato Region | J84: 6 | K84: Never married and never in a civil union | L84: 99 | M84: Total - partnership status in current relationship | N84: 99 | O84: Total - age | P84: 3 | Q84: Another gender / He ira kÄ“ anÅ | T84: _U | U84: Not available | V84: =IF(T84<>"_U",IFERROR((ROUND(R84/W84*100,2)),"."),".") -> . | W84: =IF(AND(T84<>"_U",T84<>"c",J84<>9,J84<>99),IFERROR(VLOOKUP(A84,'Region Total'!$A$2:$W$10000,18,0),"."),".") -> .
A85: =G85&"|"&I85&"|"&Q85 -> 2013|Waikato Region|Total - gender | B85: DATAFLOW | C85: STATSNZ:CEN23_POP_008(1.0) | D85: Legally registered relationship status, partnership status in current relationship, age, and gender for the census usually resident population count aged 15 years and over, (RC, TALB, SA2, Health), 2013, 2018, and 2023 Censuses | E85: I | F85: 2013 | G85: 2013 | H85: 3 | I85: Waikato Region | J85: 6 | K85: Never married and never in a civil union | L85: 99 | M85: Total - partnership status in current relationship | N85: 99 | O85: Total - age | P85: 99 | Q85: Total - gender | R85: 97515 | V85: =IF(T85<>"_U",IFERROR((ROUND(R85/W85*100,2)),"."),".") -> 34.11 | W85: =IF(AND(T85<>"_U",T85<>"c",J85<>9,J85<>99),IFERROR(VLOOKUP(A85,'Region Total'!$A$2:$W$10000,18,0),"."),".") -> 285864
A86: =G86&"|"&I86&"|"&Q86 -> 2013|Waikato Region|Male / TÄne | B86: DATAFLOW | C86: STATSNZ:CEN23_POP_008(1.0) | D86: Legally registered relationship status, partnership status in current relationship, age, and gender for the census usually resident population count aged 15 years and over, (RC, TALB, SA2, Health), 2013, 2018, and 2023 Censuses | E86: I | F86: 2013 | G86: 2013 | H86: 3 | I86: Waikato Region | J86: 9 | K86: Not elsewhere included | L86: 99 | M86: Total - partnership status in current relationship | N86: 99 | O86: Total - age | P86: 1 | Q86: Male / TÄne | R86: 15822 | V86: =IF(T86<>"_U",IFERROR((ROUND(R86/W86*100,2)),"."),".") -> . | W86: =IF(AND(T86<>"_U",T86<>"c",J86<>9,J86<>99),IFERROR(VLOOKUP(A86,'Region Total'!$A$2:$W$10000,18,0),"."),".") -> .
A87: =G87&"|"&I87&"|"&Q87 -> 2013|Waikato Region|Female / Wahine | B87: DATAFLOW | C87: STATSNZ:CEN23_POP_008(1.0) | D87: Legally registered relationship status, partnership status in current relationship, age, and gender for the census usually resident population count aged 15 years and over, (RC, TALB, SA2, Health), 2013, 2018, and 2023 Censuses | E87: I | F87: 2013 | G87: 2013 | H87: 3 | I87: Waikato Region | J87: 9 | K87: Not elsewhere included | L87: 99 | M87: Total - partnership status in current relationship | N87: 99 | O87: Total - age | P87: 2 | Q87: Female / Wahine | R87: 14472 | V87: =IF(T87<>"_U",IFERROR((ROUND(R87/W87*100,2)),"."),".") -> . | W87: =IF(AND(T87<>"_U",T87<>"c",J87<>9,J87<>99),IFERROR(VLOOKUP(A87,'Region Total'!$A$2:$W$10000,18,0),"."),".") -> .
A88: =G88&"|"&I88&"|"&Q88 -> 2013|Waikato Region|Another gender / He ira kÄ“ anÅ | B88: DATAFLOW | C88: STATSNZ:CEN23_POP_008(1.0) | D88: Legally registered relationship status, partnership status in current relationship, age, and gender for the census usually resident population count aged 15 years and over, (RC, TALB, SA2, Health), 2013, 2018, and 2023 Censuses | E88: I | F88: 2013 | G88: 2013 | H88: 3 | I88: Waikato Region | J88: 9 | K88: Not elsewhere included | L88: 99 | M88: Total - partnership status in current relationship | N88: 99 | O88: Total - age | P88: 3 | Q88: Another gender / He ira kÄ“ anÅ | T88: _U | U88: Not available | V88: =IF(T88<>"_U",IFERROR((ROUND(R88/W88*100,2)),"."),".") -> . | W88: =IF(AND(T88<>"_U",T88<>"c",J88<>9,J88<>99),IFERROR(VLOOKUP(A88,'Region Total'!$A$2:$W$10000,18,0),"."),".") -> .
A89: =G89&"|"&I89&"|"&Q89 -> 2013|Waikato Region|Total - gender | B89: DATAFLOW | C89: STATSNZ:CEN23_POP_008(1.0) | D89: Legally registered relationship status, partnership status in current relationship, age, and gender for the census usually resident population count aged 15 years and over, (RC, TALB, SA2, Health), 2013, 2018, and 2023 Censuses | E89: I | F89: 2013 | G89: 2013 | H89: 3 | I89: Waikato Region | J89: 9 | K89: Not elsewhere included | L89: 99 | M89: Total - partnership status in current relationship | N89: 99 | O89: Total - age | P89: 99 | Q89: Total - gender | R89: 30291 | V89: =IF(T89<>"_U",IFERROR((ROUND(R89/W89*100,2)),"."),".") -> . | W89: =IF(AND(T89<>"_U",T89<>"c",J89<>9,J89<>99),IFERROR(VLOOKUP(A89,'Region Total'!$A$2:$W$10000,18,0),"."),".") -> .
A90: =G90&"|"&I90&"|"&Q90 -> 2013|Waikato Region|Male / TÄne | B90: DATAFLOW | C90: STATSNZ:CEN23_POP_008(1.0) | D90: Legally registered relationship status, partnership status in current relationship, age, and gender for the census usually resident population count aged 15 years and over, (RC, TALB, SA2, Health), 2013, 2018, and 2023 Censuses | E90: I | F90: 2013 | G90: 2013 | H90: 3 | I90: Waikato Region | J90: 77 | K90: Total stated - legally registered relationship status | L90: 99 | M90: Total - partnership status in current relationship | N90: 99 | O90: Total - age | P90: 1 | Q90: Male / TÄne | R90: 136566 | V90: =IF(T90<>"_U",IFERROR((ROUND(R90/W90*100,2)),"."),".") -> 100 | W90: =IF(AND(T90<>"_U",T90<>"c",J90<>9,J90<>99),IFERROR(VLOOKUP(A90,'Region Total'!$A$2:$W$10000,18,0),"."),".") -> 136566
A91: =G91&"|"&I91&"|"&Q91 -> 2013|Waikato Region|Female / Wahine | B91: DATAFLOW | C91: STATSNZ:CEN23_POP_008(1.0) | D91: Legally registered relationship status, partnership status in current relationship, age, and gender for the census usually resident population count aged 15 years and over, (RC, TALB, SA2, Health), 2013, 2018, and 2023 Censuses | E91: I | F91: 2013 | G91: 2013 | H91: 3 | I91: Waikato Region | J91: 77 | K91: Total stated - legally registered relationship status | L91: 99 | M91: Total - partnership status in current relationship | N91: 99 | O91: Total - age | P91: 2 | Q91: Female / Wahine | R91: 149298 | V91: =IF(T91<>"_U",IFERROR((ROUND(R91/W91*100,2)),"."),".") -> 100 | W91: =IF(AND(T91<>"_U",T91<>"c",J91<>9,J91<>99),IFERROR(VLOOKUP(A91,'Region Total'!$A$2:$W$10000,18,0),"."),".") -> 149298
A92: =G92&"|"&I92&"|"&Q92 -> 2013|Waikato Region|Another gender / He ira kÄ“ anÅ | B92: DATAFLOW | C92: STATSNZ:CEN23_POP_008(1.0) | D92: Legally registered relationship status, partnership status in current relationship, age, and gender for the census usually resident population count aged 15 years and over, (RC, TALB, SA2, Health), 2013, 2018, and 2023 Censuses | E92: I | F92: 2013 | G92: 2013 | H92: 3 | I92: Waikato Region | J92: 77 | K92: Total stated - legally registered relationship status | L92: 99 | M92: Total - partnership status in current relationship | N92: 99 | O92: Total - age | P92: 3 | Q92: Another gender / He ira kÄ“ anÅ | T92: _U | U92: Not available | V92: =IF(T92<>"_U",IFERROR((ROUND(R92/W92*100,2)),"."),".") -> . | W92: =IF(AND(T92<>"_U",T92<>"c",J92<>9,J92<>99),IFERROR(VLOOKUP(A92,'Region Total'!$A$2:$W$10000,18,0),"."),".") -> .
A93: =G93&"|"&I93&"|"&Q93 -> 2013|Waikato Region|Total - gender | B93: DATAFLOW | C93: STATSNZ:CEN23_POP_008(1.0) | D93: Legally registered relationship status, partnership status in current relationship, age, and gender for the census usually resident population count aged 15 years and over, (RC, TALB, SA2, Health), 2013, 2018, and 2023 Censuses | E93: I | F93: 2013 | G93: 2013 | H93: 3 | I93: Waikato Region | J93: 77 | K93: Total stated - legally registered relationship status | L93: 99 | M93: Total - partnership status in current relationship | N93: 99 | O93: Total - age | P93: 99 | Q93: Total - gender | R93: 285864 | V93: =IF(T93<>"_U",IFERROR((ROUND(R93/W93*100,2)),"."),".") -> 100 | W93: =IF(AND(T93<>"_U",T93<>"c",J93<>9,J93<>99),IFERROR(VLOOKUP(A93,'Region Total'!$A$2:$W$10000,18,0),"."),".") -> 285864
A94: =G94&"|"&I94&"|"&Q94 -> 2013|Waikato Region|Male / TÄne | B94: DATAFLOW | C94: STATSNZ:CEN23_POP_008(1.0) | D94: Legally registered relationship status, partnership status in current relationship, age, and gender for the census usually resident population count aged 15 years and over, (RC, TALB, SA2, Health), 2013, 2018, and 2023 Censuses | E94: I | F94: 2013 | G94: 2013 | H94: 3 | I94: Waikato Region | J94: 99 | K94: Total - legally registered relationship status | L94: 99 | M94: Total - partnership status in current relationship | N94: 99 | O94: Total - age | P94: 1 | Q94: Male / TÄne | R94: 152385 | V94: =IF(T94<>"_U",IFERROR((ROUND(R94/W94*100,2)),"."),".") -> . | W94: =IF(AND(T94<>"_U",T94<>"c",J94<>9,J94<>99),IFERROR(VLOOKUP(A94,'Region Total'!$A$2:$W$10000,18,0),"."),".") -> .
A95: =G95&"|"&I95&"|"&Q95 -> 2013|Waikato Region|Female / Wahine | B95: DATAFLOW | C95: STATSNZ:CEN23_POP_008(1.0) | D95: Legally registered relationship status, partnership status in current relationship, age, and gender for the census usually resident population count aged 15 years and over, (RC, TALB, SA2, Health), 2013, 2018, and 2023 Censuses | E95: I | F95: 2013 | G95: 2013 | H95: 3 | I95: Waikato Region | J95: 99 | K95: Total - legally registered relationship status | L95: 99 | M95: Total - partnership status in current relationship | N95: 99 | O95: Total - age | P95: 2 | Q95: Female / Wahine | R95: 163770 | V95: =IF(T95<>"_U",IFERROR((ROUND(R95/W95*100,2)),"."),".") -> . | W95: =IF(AND(T95<>"_U",T95<>"c",J95<>9,J95<>99),IFERROR(VLOOKUP(A95,'Region Total'!$A$2:$W$10000,18,0),"."),".") -> .
A96: =G96&"|"&I96&"|"&Q96 -> 2013|Waikato Region|Another gender / He ira kÄ“ anÅ | B96: DATAFLOW | C96: STATSNZ:CEN23_POP_008(1.0) | D96: Legally registered relationship status, partnership status in current relationship, age, and gender for the census usually resident population count aged 15 years and over, (RC, TALB, SA2, Health), 2013, 2018, and 2023 Censuses | E96: I | F96: 2013 | G96: 2013 | H96: 3 | I96: Waikato Region | J96: 99 | K96: Total - legally registered relationship status | L96: 99 | M96: Total - partnership status in current relationship | N96: 99 | O96: Total - age | P96: 3 | Q96: Another gender / He ira kÄ“ anÅ | T96: _U | U96: Not available | V96: =IF(T96<>"_U",IFERROR((ROUND(R96/W96*100,2)),"."),".") -> . | W96: =IF(AND(T96<>"_U",T96<>"c",J96<>9,J96<>99),IFERROR(VLOOKUP(A96,'Region Total'!$A$2:$W$10000,18,0),"."),".") -> .
A97: =G97&"|"&I97&"|"&Q97 -> 2013|Waikato Region|Total - gender | B97: DATAFLOW | C97: STATSNZ:CEN23_POP_008(1.0) | D97: Legally registered relationship status, partnership status in current relationship, age, and gender for the census usually resident population count aged 15 years and over, (RC, TALB, SA2, Health), 2013, 2018, and 2023 Censuses | E97: I | F97: 2013 | G97: 2013 | H97: 3 | I97: Waikato Region | J97: 99 | K97: Total - legally registered relationship status | L97: 99 | M97: Total - partnership status in current relationship | N97: 99 | O97: Total - age | P97: 99 | Q97: Total - gender | R97: 316155 | V97: =IF(T97<>"_U",IFERROR((ROUND(R97/W97*100,2)),"."),".") -> . | W97: =IF(AND(T97<>"_U",T97<>"c",J97<>9,J97<>99),IFERROR(VLOOKUP(A97,'Region Total'!$A$2:$W$10000,18,0),"."),".") -> .
A98: =G98&"|"&I98&"|"&Q98 -> 2013|Bay of Plenty Region|Male / TÄne | B98: DATAFLOW | C98: STATSNZ:CEN23_POP_008(1.0) | D98: Legally registered relationship status, partnership status in current relationship, age, and gender for the census usually resident population count aged 15 years and over, (RC, TALB, SA2, Health), 2013, 2018, and 2023 Censuses | E98: I | F98: 2013 | G98: 2013 | H98: 4 | I98: Bay of Plenty Region | J98: 1 | K98: Married (Not Separated) | L98: 99 | M98: Total - partnership status in current relationship | N98: 99 | O98: Total - age | P98: 1 | Q98: Male / TÄne | R98: 45861 | V98: =IF(T98<>"_U",IFERROR((ROUND(R98/W98*100,2)),"."),".") -> 52.17 | W98: =IF(AND(T98<>"_U",T98<>"c",J98<>9,J98<>99),IFERROR(VLOOKUP(A98,'Region Total'!$A$2:$W$10000,18,0),"."),".") -> 87912
A99: =G99&"|"&I99&"|"&Q99 -> 2013|Bay of Plenty Region|Female / Wahine | B99: DATAFLOW | C99: STATSNZ:CEN23_POP_008(1.0) | D99: Legally registered relationship status, partnership status in current relationship, age, and gender for the census usually resident population count aged 15 years and over, (RC, TALB, SA2, Health), 2013, 2018, and 2023 Censuses | E99: I | F99: 2013 | G99: 2013 | H99: 4 | I99: Bay of Plenty Region | J99: 1 | K99: Married (Not Separated) | L99: 99 | M99: Total - partnership status in current relationship | N99: 99 | O99: Total - age | P99: 2 | Q99: Female / Wahine | R99: 46488 | V99: =IF(T99<>"_U",IFERROR((ROUND(R99/W99*100,2)),"."),".") -> 46.55 | W99: =IF(AND(T99<>"_U",T99<>"c",J99<>9,J99<>99),IFERROR(VLOOKUP(A99,'Region Total'!$A$2:$W$10000,18,0),"."),".") -> 99861
A100: =G100&"|"&I100&"|"&Q100 -> 2013|Bay of Plenty Region|Another gender / He ira kÄ“ anÅ | B100: DATAFLOW | C100: STATSNZ:CEN23_POP_008(1.0) | D100: Legally registered relationship status, partnership status in current relationship, age, and gender for the census usually resident population count aged 15 years and over, (RC, TALB, SA2, Health), 2013, 2018, and 2023 Censuses | E100: I | F100: 2013 | G100: 2013 | H100: 4 | I100: Bay of Plenty Region | J100: 1 | K100: Married (Not Separated) | L100: 99 | M100: Total - partnership status in current relationship | N100: 99 | O100: Total - age | P100: 3 | Q100: Another gender / He ira kÄ“ anÅ | T100: _U | U100: Not available | V100: =IF(T100<>"_U",IFERROR((ROUND(R100/W100*100,2)),"."),".") -> . | W100: =IF(AND(T100<>"_U",T100<>"c",J100<>9,J100<>99),IFERROR(VLOOKUP(A100,'Region Total'!$A$2:$W$10000,18,0),"."),".") -> .
...

Sheet Region Total
A1: HELPER COLUMN | B1: STRUCTURE | C1: STRUCTURE_ID | D1: STRUCTURE_NAME | E1: ACTION | F1: CEN23_YEAR_001 | G1: Census year | H1: CEN23_GEO_002 | I1: Area | J1: CEN23_REL_002 | K1: Legally registered relationship status | L1: CEN23_REL_003 | M1: Partnership status in current relationship | N1: CEN23_AGE_008 | O1: Age | P1: CEN23_GEN_002 | Q1: Gender | R1: OBS_VALUE | S1: Observation Value | T1: OBS_STATUS | U1: Observation Status
A2: 2013|Northland Region|Male / TÄne | B2: DATAFLOW | C2: STATSNZ:CEN23_POP_008(1.0) | D2: Legally registered relationship status, partnership status in current relationship, age, and gender for the census usually resident population count aged 15 years and over, (RC, TALB, SA2, Health), 2013, 2018, and 2023 Censuses | E2: I | F2: 2013 | G2: 2013 | H2: 1 | I2: Northland Region | J2: 77 | K2: Total stated - legally registered relationship status | L2: 99 | M2: Total - partnership status in current relationship | N2: 99 | O2: Total - age | P2: 1 | Q2: Male / TÄne | R2: 49428
A3: 2013|Northland Region|Female / Wahine | B3: DATAFLOW | C3: STATSNZ:CEN23_POP_008(1.0) | D3: Legally registered relationship status, partnership status in current relationship, age, and gender for the census usually resident population count aged 15 years and over, (RC, TALB, SA2, Health), 2013, 2018, and 2023 Censuses | E3: I | F3: 2013 | G3: 2013 | H3: 1 | I3: Northland Region | J3: 77 | K3: Total stated - legally registered relationship status | L3: 99 | M3: Total - partnership status in current relationship | N3: 99 | O3: Total - age | P3: 2 | Q3: Female / Wahine | R3: 54720
A4: 2013|Northland Region|Another gender / He ira kÄ“ anÅ | B4: DATAFLOW | C4: STATSNZ:CEN23_POP_008(1.0) | D4: Legally registered relationship status, partnership status in current relationship, age, and gender for the census usually resident population count aged 15 years and over, (RC, TALB, SA2, Health), 2013, 2018, and 2023 Censuses | E4: I | F4: 2013 | G4: 2013 | H4: 1 | I4: Northland Region | J4: 77 | K4: Total stated - legally registered relationship status | L4: 99 | M4: Total - partnership status in current relationship | N4: 99 | O4: Total - age | P4: 3 | Q4: Another gender / He ira kÄ“ anÅ | T4: _U | U4: Not available
A5: 2013|Northland Region|Total - gender | B5: DATAFLOW | C5: STATSNZ:CEN23_POP_008(1.0) | D5: Legally registered relationship status, partnership status in current relationship, age, and gender for the census usually resident population count aged 15 years and over, (RC, TALB, SA2, Health), 2013, 2018, and 2023 Censuses | E5: I | F5: 2013 | G5: 2013 | H5: 1 | I5: Northland Region | J5: 77 | K5: Total stated - legally registered relationship status | L5: 99 | M5: Total - partnership status in current relationship | N5: 99 | O5: Total - age | P5: 99 | Q5: Total - gender | R5: 104148
A6: 2013|Auckland Region|Male / TÄne | B6: DATAFLOW | C6: STATSNZ:CEN23_POP_008(1.0) | D6: Legally registered relationship status, partnership status in current relationship, age, and gender for the census usually resident population count aged 15 years and over, (RC, TALB, SA2, Health), 2013, 2018, and 2023 Censuses | E6: I | F6: 2013 | G6: 2013 | H6: 2 | I6: Auckland Region | J6: 77 | K6: Total stated - legally registered relationship status | L6: 99 | M6: Total - partnership status in current relationship | N6: 99 | O6: Total - age | P6: 1 | Q6: Male / TÄne | R6: 476985
A7: 2013|Auckland Region|Female / Wahine | B7: DATAFLOW | C7: STATSNZ:CEN23_POP_008(1.0) | D7: Legally registered relationship status, partnership status in current relationship, age, and gender for the census usually resident population count aged 15 years and over, (RC, TALB, SA2, Health), 2013, 2018, and 2023 Censuses | E7: I | F7: 2013 | G7: 2013 | H7: 2 | I7: Auckland Region | J7: 77 | K7: Total stated - legally registered relationship status | L7: 99 | M7: Total - partnership status in current relationship | N7: 99 | O7: Total - age | P7: 2 | Q7: Female / Wahine | R7: 525411
A8: 2013|Auckland Region|Another gender / He ira kÄ“ anÅ | B8: DATAFLOW | C8: STATSNZ:CEN23_POP_008(1.0) | D8: Legally registered relationship status, partnership status in current relationship, age, and gender for the census usually resident population count aged 15 years and over, (RC, TALB, SA2, Health), 2013, 2018, and 2023 Censuses | E8: I | F8: 2013 | G8: 2013 | H8: 2 | I8: Auckland Region | J8: 77 | K8: Total stated - legally registered relationship status | L8: 99 | M8: Total - partnership status in current relationship | N8: 99 | O8: Total - age | P8: 3 | Q8: Another gender / He ira kÄ“ anÅ | T8: _U | U8: Not available
A9: 2013|Auckland Region|Total - gender | B9: DATAFLOW | C9: STATSNZ:CEN23_POP_008(1.0) | D9: Legally registered relationship status, partnership status in current relationship, age, and gender for the census usually resident population count aged 15 years and over, (RC, TALB, SA2, Health), 2013, 2018, and 2023 Censuses | E9: I | F9: 2013 | G9: 2013 | H9: 2 | I9: Auckland Region | J9: 77 | K9: Total stated - legally registered relationship status | L9: 99 | M9: Total - partnership status in current relationship | N9: 99 | O9: Total - age | P9: 99 | Q9: Total - gender | R9: 1002396
A10: 2013|Waikato Region|Male / TÄne | B10: DATAFLOW | C10: STATSNZ:CEN23_POP_008(1.0) | D10: Legally registered relationship status, partnership status in current relationship, age, and gender for the census usually resident population count aged 15 years and over, (RC, TALB, SA2, Health), 2013, 2018, and 2023 Censuses | E10: I | F10: 2013 | G10: 2013 | H10: 3 | I10: Waikato Region | J10: 77 | K10: Total stated - legally registered relationship status | L10: 99 | M10: Total - partnership status in current relationship | N10: 99 | O10: Total - age | P10: 1 | Q10: Male / TÄne | R10: 136566
A11: 2013|Waikato Region|Female / Wahine | B11: DATAFLOW | C11: STATSNZ:CEN23_POP_008(1.0) | D11: Legally registered relationship status, partnership status in current relationship, age, and gender for the census usually resident population count aged 15 years and over, (RC, TALB, SA2, Health), 2013, 2018, and 2023 Censuses | E11: I | F11: 2013 | G11: 2013 | H11: 3 | I11: Waikato Region | J11: 77 | K11: Total stated - legally registered relationship status | L11: 99 | M11: Total - partnership status in current relationship | N11: 99 | O11: Total - age | P11: 2 | Q11: Female / Wahine | R11: 149298
A12: 2013|Waikato Region|Another gender / He ira kÄ“ anÅ | B12: DATAFLOW | C12: STATSNZ:CEN23_POP_008(1.0) | D12: Legally registered relationship status, partnership status in current relationship, age, and gender for the census usually resident population count aged 15 years and over, (RC, TALB, SA2, Health), 2013, 2018, and 2023 Censuses | E12: I | F12: 2013 | G12: 2013 | H12: 3 | I12: Waikato Region | J12: 77 | K12: Total stated - legally registered relationship status | L12: 99 | M12: Total - partnership status in current relationship | N12: 99 | O12: Total - age | P12: 3 | Q12: Another gender / He ira kÄ“ anÅ | T12: _U | U12: Not available
A13: 2013|Waikato Region|Total - gender | B13: DATAFLOW | C13: STATSNZ:CEN23_POP_008(1.0) | D13: Legally registered relationship status, partnership status in current relationship, age, and gender for the census usually resident population count aged 15 years and over, (RC, TALB, SA2, Health), 2013, 2018, and 2023 Censuses | E13: I | F13: 2013 | G13: 2013 | H13: 3 | I13: Waikato Region | J13: 77 | K13: Total stated - legally registered relationship status | L13: 99 | M13: Total - partnership status in current relationship | N13: 99 | O13: Total - age | P13: 99 | Q13: Total - gender | R13: 285864
A14: 2013|Bay of Plenty Region|Male / TÄne | B14: DATAFLOW | C14: STATSNZ:CEN23_POP_008(1.0) | D14: Legally registered relationship status, partnership status in current relationship, age, and gender for the census usually resident population count aged 15 years and over, (RC, TALB, SA2, Health), 2013, 2018, and 2023 Censuses | E14: I | F14: 2013 | G14: 2013 | H14: 4 | I14: Bay of Plenty Region | J14: 77 | K14: Total stated - legally registered relationship status | L14: 99 | M14: Total - partnership status in current relationship | N14: 99 | O14: Total - age | P14: 1 | Q14: Male / TÄne | R14: 87912
A15: 2013|Bay of Plenty Region|Female / Wahine | B15: DATAFLOW | C15: STATSNZ:CEN23_POP_008(1.0) | D15: Legally registered relationship status, partnership status in current relationship, age, and gender for the census usually resident population count aged 15 years and over, (RC, TALB, SA2, Health), 2013, 2018, and 2023 Censuses | E15: I | F15: 2013 | G15: 2013 | H15: 4 | I15: Bay of Plenty Region | J15: 77 | K15: Total stated - legally registered relationship status | L15: 99 | M15: Total - partnership status in current relationship | N15: 99 | O15: Total - age | P15: 2 | Q15: Female / Wahine | R15: 99861
A16: 2013|Bay of Plenty Region|Another gender / He ira kÄ“ anÅ | B16: DATAFLOW | C16: STATSNZ:CEN23_POP_008(1.0) | D16: Legally registered relationship status, partnership status in current relationship, age, and gender for the census usually resident population count aged 15 years and over, (RC, TALB, SA2, Health), 2013, 2018, and 2023 Censuses | E16: I | F16: 2013 | G16: 2013 | H16: 4 | I16: Bay of Plenty Region | J16: 77 | K16: Total stated - legally registered relationship status | L16: 99 | M16: Total - partnership status in current relationship | N16: 99 | O16: Total - age | P16: 3 | Q16: Another gender / He ira kÄ“ anÅ | T16: _U | U16: Not available
A17: 2013|Bay of Plenty Region|Total - gender | B17: DATAFLOW | C17: STATSNZ:CEN23_POP_008(1.0) | D17: Legally registered relationship status, partnership status in current relationship, age, and gender for the census usually resident population count aged 15 years and over, (RC, TALB, SA2, Health), 2013, 2018, and 2023 Censuses | E17: I | F17: 2013 | G17: 2013 | H17: 4 | I17: Bay of Plenty Region | J17: 77 | K17: Total stated - legally registered relationship status | L17: 99 | M17: Total - partnership status in current relationship | N17: 99 | O17: Total - age | P17: 99 | Q17: Total - gender | R17: 187776
A18: 2013|Gisborne Region|Male / TÄne | B18: DATAFLOW | C18: STATSNZ:CEN23_POP_008(1.0) | D18: Legally registered relationship status, partnership status in current relationship, age, and gender for the census usually resident population count aged 15 years and over, (RC, TALB, SA2, Health), 2013, 2018, and 2023 Censuses | E18: I | F18: 2013 | G18: 2013 | H18: 5 | I18: Gisborne Region | J18: 77 | K18: Total stated - legally registered relationship status | L18: 99 | M18: Total - partnership status in current relationship | N18: 99 | O18: Total - age | P18: 1 | Q18: Male / TÄne | R18: 13437
A19: 2013|Gisborne Region|Female / Wahine | B19: DATAFLOW | C19: STATSNZ:CEN23_POP_008(1.0) | D19: Legally registered relationship status, partnership status in current relationship, age, and gender for the census usually resident population count aged 15 years and over, (RC, TALB, SA2, Health), 2013, 2018, and 2023 Censuses | E19: I | F19: 2013 | G19: 2013 | H19: 5 | I19: Gisborne Region | J19: 77 | K19: Total stated - legally registered relationship status | L19: 99 | M19: Total - partnership status in current relationship | N19: 99 | O19: Total - age | P19: 2 | Q19: Female / Wahine | R19: 15297
A20: 2013|Gisborne Region|Another gender / He ira kÄ“ anÅ | B20: DATAFLOW | C20: STATSNZ:CEN23_POP_008(1.0) | D20: Legally registered relationship status, partnership status in current relationship, age, and gender for the census usually resident population count aged 15 years and over, (RC, TALB, SA2, Health), 2013, 2018, and 2023 Censuses | E20: I | F20: 2013 | G20: 2013 | H20: 5 | I20: Gisborne Region | J20: 77 | K20: Total stated - legally registered relationship status | L20: 99 | M20: Total - partnership status in current relationship | N20: 99 | O20: Total - age | P20: 3 | Q20: Another gender / He ira kÄ“ anÅ | T20: _U | U20: Not available
A21: 2013|Gisborne Region|Total - gender | B21: DATAFLOW | C21: STATSNZ:CEN23_POP_008(1.0) | D21: Legally registered relationship status, partnership status in current relationship, age, and gender for the census usually resident population count aged 15 years and over, (RC, TALB, SA2, Health), 2013, 2018, and 2023 Censuses | E21: I | F21: 2013 | G21: 2013 | H21: 5 | I21: Gisborne Region | J21: 77 | K21: Total stated - legally registered relationship status | L21: 99 | M21: Total - partnership status in current relationship | N21: 99 | O21: Total - age | P21: 99 | Q21: Total - gender | R21: 28734
A22: 2013|Hawke's Bay Region|Male / TÄne | B22: DATAFLOW | C22: STATSNZ:CEN23_POP_008(1.0) | D22: Legally registered relationship status, partnership status in current relationship, age, and gender for the census usually resident population count aged 15 years and over, (RC, TALB, SA2, Health), 2013, 2018, and 2023 Censuses | E22: I | F22: 2013 | G22: 2013 | H22: 6 | I22: Hawke's Bay Region | J22: 77 | K22: Total stated - legally registered relationship status | L22: 99 | M22: Total - partnership status in current relationship | N22: 99 | O22: Total - age | P22: 1 | Q22: Male / TÄne | R22: 49860
A23: 2013|Hawke's Bay Region|Female / Wahine | B23: DATAFLOW | C23: STATSNZ:CEN23_POP_008(1.0) | D23: Legally registered relationship status, partnership status in current relationship, age, and gender for the census usually resident population count aged 15 years and over, (RC, TALB, SA2, Health), 2013, 2018, and 2023 Censuses | E23: I | F23: 2013 | G23: 2013 | H23: 6 | I23: Hawke's Bay Region | J23: 77 | K23: Total stated - legally registered relationship status | L23: 99 | M23: Total - partnership status in current relationship | N23: 99 | O23: Total - age | P23: 2 | Q23: Female / Wahine | R23: 56319
A24: 2013|Hawke's Bay Region|Another gender / He ira kÄ“ anÅ | B24: DATAFLOW | C24: STATSNZ:CEN23_POP_008(1.0) | D24: Legally registered relationship status, partnership status in current relationship, age, and gender for the census usually resident population count aged 15 years and over, (RC, TALB, SA2, Health), 2013, 2018, and 2023 Censuses | E24: I | F24: 2013 | G24: 2013 | H24: 6 | I24: Hawke's Bay Region | J24: 77 | K24: Total stated - legally registered relationship status | L24: 99 | M24: Total - partnership status in current relationship | N24: 99 | O24: Total - age | P24: 3 | Q24: Another gender / He ira kÄ“ anÅ | T24: _U | U24: Not available
A25: 2013|Hawke's Bay Region|Total - gender | B25: DATAFLOW | C25: STATSNZ:CEN23_POP_008(1.0) | D25: Legally registered relationship status, partnership status in current relationship, age, and gender for the census usually resident population count aged 15 years and over, (RC, TALB, SA2, Health), 2013, 2018, and 2023 Censuses | E25: I | F25: 2013 | G25: 2013 | H25: 6 | I25: Hawke's Bay Region | J25: 77 | K25: Total stated - legally registered relationship status | L25: 99 | M25: Total - partnership status in current relationship | N25: 99 | O25: Total - age | P25: 99 | Q25: Total - gender | R25: 106179
A26: 2013|Taranaki Region|Male / TÄne | B26: DATAFLOW | C26: STATSNZ:CEN23_POP_008(1.0) | D26: Legally registered relationship status, partnership status in current relationship, age, and gender for the census usually resident population count aged 15 years and over, (RC, TALB, SA2, Health), 2013, 2018, and 2023 Censuses | E26: I | F26: 2013 | G26: 2013 | H26: 7 | I26: Taranaki Region | J26: 77 | K26: Total stated - legally registered relationship status | L26: 99 | M26: Total - partnership status in current relationship | N26: 99 | O26: Total - age | P26: 1 | Q26: Male / TÄne | R26: 37662
A27: 2013|Taranaki Region|Female / Wahine | B27: DATAFLOW | C27: STATSNZ:CEN23_POP_008(1.0) | D27: Legally registered relationship status, partnership status in current relationship, age, and gender for the census usually resident population count aged 15 years and over, (RC, TALB, SA2, Health), 2013, 2018, and 2023 Censuses | E27: I | F27: 2013 | G27: 2013 | H27: 7 | I27: Taranaki Region | J27: 77 | K27: Total stated - legally registered relationship status | L27: 99 | M27: Total - partnership status in current relationship | N27: 99 | O27: Total - age | P27: 2 | Q27: Female / Wahine | R27: 40833
A28: 2013|Taranaki Region|Another gender / He ira kÄ“ anÅ | B28: DATAFLOW | C28: STATSNZ:CEN23_POP_008(1.0) | D28: Legally registered relationship status, partnership status in current relationship, age, and gender for the census usually resident population count aged 15 years and over, (RC, TALB, SA2, Health), 2013, 2018, and 2023 Censuses | E28: I | F28: 2013 | G28: 2013 | H28: 7 | I28: Taranaki Region | J28: 77 | K28: Total stated - legally registered relationship status | L28: 99 | M28: Total - partnership status in current relationship | N28: 99 | O28: Total - age | P28: 3 | Q28: Another gender / He ira kÄ“ anÅ | T28: _U | U28: Not available
A29: 2013|Taranaki Region|Total - gender | B29: DATAFLOW | C29: STATSNZ:CEN23_POP_008(1.0) | D29: Legally registered relationship status, partnership status in current relationship, age, and gender for the census usually resident population count aged 15 years and over, (RC, TALB, SA2, Health), 2013, 2018, and 2023 Censuses | E29: I | F29: 2013 | G29: 2013 | H29: 7 | I29: Taranaki Region | J29: 77 | K29: Total stated - legally registered relationship status | L29: 99 | M29: Total - partnership status in current relationship | N29: 99 | O29: Total - age | P29: 99 | Q29: Total - gender | R29: 78498
A30: 2013|ManawatÅ«-Whanganui Region|Male / TÄne | B30: DATAFLOW | C30: STATSNZ:CEN23_POP_008(1.0) | D30: Legally registered relationship status, partnership status in current relationship, age, and gender for the census usually resident population count aged 15 years and over, (RC, TALB, SA2, Health), 2013, 2018, and 2023 Censuses | E30: I | F30: 2013 | G30: 2013 | H30: 8 | I30: ManawatÅ«-Whanganui Region | J30: 77 | K30: Total stated - legally registered relationship status | L30: 99 | M30: Total - partnership status in current relationship | N30: 99 | O30: Total - age | P30: 1 | Q30: Male / TÄne | R30: 76131
A31: 2013|ManawatÅ«-Whanganui Region|Female / Wahine | B31: DATAFLOW | C31: STATSNZ:CEN23_POP_008(1.0) | D31: Legally registered relationship status, partnership status in current relationship, age, and gender for the census usually resident population count aged 15 years and over, (RC, TALB, SA2, Health), 2013, 2018, and 2023 Censuses | E31: I | F31: 2013 | G31: 2013 | H31: 8 | I31: ManawatÅ«-Whanganui Region | J31: 77 | K31: Total stated - legally registered relationship status | L31: 99 | M31: Total - partnership status in current relationship | N31: 99 | O31: Total - age | P31: 2 | Q31: Female / Wahine | R31: 84570
A32: 2013|ManawatÅ«-Whanganui Region|Another gender / He ira kÄ“ anÅ | B32: DATAFLOW | C32: STATSNZ:CEN23_POP_008(1.0) | D32: Legally registered relationship status, partnership status in current relationship, age, and gender for the census usually resident population count aged 15 years and over, (RC, TALB, SA2, Health), 2013, 2018, and 2023 Censuses | E32: I | F32: 2013 | G32: 2013 | H32: 8 | I32: ManawatÅ«-Whanganui Region | J32: 77 | K32: Total stated - legally registered relationship status | L32: 99 | M32: Total - partnership status in current relationship | N32: 99 | O32: Total - age | P32: 3 | Q32: Another gender / He ira kÄ“ anÅ | T32: _U | U32: Not available
A33: 2013|ManawatÅ«-Whanganui Region|Total - gender | B33: DATAFLOW | C33: STATSNZ:CEN23_POP_008(1.0) | D33: Legally registered relationship status, partnership status in current relationship, age, and gender for the census usually resident population count aged 15 years and over, (RC, TALB, SA2, Health), 2013, 2018, and 2023 Censuses | E33: I | F33: 2013 | G33: 2013 | H33: 8 | I33: ManawatÅ«-Whanganui Region | J33: 77 | K33: Total stated - legally registered relationship status | L33: 99 | M33: Total - partnership status in current relationship | N33: 99 | O33: Total - age | P33: 99 | Q33: Total - gender | R33: 160704
A34: 2013|Wellington Region|Male / TÄne | B34: DATAFLOW | C34: STATSNZ:CEN23_POP_008(1.0) | D34: Legally registered relationship status, partnership status in current relationship, age, and gender for the census usually resident population count aged 15 years and over, (RC, TALB, SA2, Health), 2013, 2018, and 2023 Censuses | E34: I | F34: 2013 | G34: 2013 | H34: 9 | I34: Wellington Region | J34: 77 | K34: Total stated - legally registered relationship status | L34: 99 | M34: Total - partnership status in current relationship | N34: 99 | O34: Total - age | P34: 1 | Q34: Male / TÄne | R34: 164982
A35: 2013|Wellington Region|Female / Wahine | B35: DATAFLOW | C35: STATSNZ:CEN23_POP_008(1.0) | D35: Legally registered relationship status, partnership status in current relationship, age, and gender for the census usually resident population count aged 15 years and over, (RC, TALB, SA2, Health), 2013, 2018, and 2023 Censuses | E35: I | F35: 2013 | G35: 2013 | H35: 9 | I35: Wellington Region | J35: 77 | K35: Total stated - legally registered relationship status | L35: 99 | M35: Total - partnership status in current relationship | N35: 99 | O35: Total - age | P35: 2 | Q35: Female / Wahine | R35: 183051
A36: 2013|Wellington Region|Another gender / He ira kÄ“ anÅ | B36: DATAFLOW | C36: STATSNZ:CEN23_POP_008(1.0) | D36: Legally registered relationship status, partnership status in current relationship, age, and gender for the census usually resident population count aged 15 years and over, (RC, TALB, SA2, Health), 2013, 2018, and 2023 Censuses | E36: I | F36: 2013 | G36: 2013 | H36: 9 | I36: Wellington Region | J36: 77 | K36: Total stated - legally registered relationship status | L36: 99 | M36: Total - partnership status in current relationship | N36: 99 | O36: Total - age | P36: 3 | Q36: Another gender / He ira kÄ“ anÅ | T36: _U | U36: Not available
A37: 2013|Wellington Region|Total - gender | B37: DATAFLOW | C37: STATSNZ:CEN23_POP_008(1.0) | D37: Legally registered relationship status, partnership status in current relationship, age, and gender for the census usually resident population count aged 15 years and over, (RC, TALB, SA2, Health), 2013, 2018, and 2023 Censuses | E37: I | F37: 2013 | G37: 2013 | H37: 9 | I37: Wellington Region | J37: 77 | K37: Total stated - legally registered relationship status | L37: 99 | M37: Total - partnership status in current relationship | N37: 99 | O37: Total - age | P37: 99 | Q37: Total - gender | R37: 348033
A38: 2013|West Coast Region|Male / TÄne | B38: DATAFLOW | C38: STATSNZ:CEN23_POP_008(1.0) | D38: Legally registered relationship status, partnership status in current relationship, age, and gender for the census usually resident population count aged 15 years and over, (RC, TALB, SA2, Health), 2013, 2018, and 2023 Censuses | E38: I | F38: 2013 | G38: 2013 | H38: 12 | I38: West Coast Region | J38: 77 | K38: Total stated - legally registered relationship status | L38: 99 | M38: Total - partnership status in current relationship | N38: 99 | O38: Total - age | P38: 1 | Q38: Male / TÄne | R38: 11712
A39: 2013|West Coast Region|Female / Wahine | B39: DATAFLOW | C39: STATSNZ:CEN23_POP_008(1.0) | D39: Legally registered relationship status, partnership status in current relationship, age, and gender for the census usually resident population count aged 15 years and over, (RC, TALB, SA2, Health), 2013, 2018, and 2023 Censuses | E39: I | F39: 2013 | G39: 2013 | H39: 12 | I39: West Coast Region | J39: 77 | K39: Total stated - legally registered relationship status | L39: 99 | M39: Total - partnership status in current relationship | N39: 99 | O39: Total - age | P39: 2 | Q39: Female / Wahine | R39: 11700
A40: 2013|West Coast Region|Another gender / He ira kÄ“ anÅ | B40: DATAFLOW | C40: STATSNZ:CEN23_POP_008(1.0) | D40: Legally registered relationship status, partnership status in current relationship, age, and gender for the census usually resident population count aged 15 years and over, (RC, TALB, SA2, Health), 2013, 2018, and 2023 Censuses | E40: I | F40: 2013 | G40: 2013 | H40: 12 | I40: West Coast Region | J40: 77 | K40: Total stated - legally registered relationship status | L40: 99 | M40: Total - partnership status in current relationship | N40: 99 | O40: Total - age | P40: 3 | Q40: Another gender / He ira kÄ“ anÅ | T40: _U | U40: Not available
A41: 2013|West Coast Region|Total - gender | B41: DATAFLOW | C41: STATSNZ:CEN23_POP_008(1.0) | D41: Legally registered relationship status, partnership status in current relationship, age, and gender for the census usually resident population count aged 15 years and over, (RC, TALB, SA2, Health), 2013, 2018, and 2023 Censuses | E41: I | F41: 2013 | G41: 2013 | H41: 12 | I41: West Coast Region | J41: 77 | K41: Total stated - legally registered relationship status | L41: 99 | M41: Total - partnership status in current relationship | N41: 99 | O41: Total - age | P41: 99 | Q41: Total - gender | R41: 23415
A42: 2013|Canterbury Region|Male / TÄne | B42: DATAFLOW | C42: STATSNZ:CEN23_POP_008(1.0) | D42: Legally registered relationship status, partnership status in current relationship, age, and gender for the census usually resident population count aged 15 years and over, (RC, TALB, SA2, Health), 2013, 2018, and 2023 Censuses | E42: I | F42: 2013 | G42: 2013 | H42: 13 | I42: Canterbury Region | J42: 77 | K42: Total stated - legally registered relationship status | L42: 99 | M42: Total - partnership status in current relationship | N42: 99 | O42: Total - age | P42: 1 | Q42: Male / TÄne | R42: 197829
A43: 2013|Canterbury Region|Female / Wahine | B43: DATAFLOW | C43: STATSNZ:CEN23_POP_008(1.0) | D43: Legally registered relationship status, partnership status in current relationship, age, and gender for the census usually resident population count aged 15 years and over, (RC, TALB, SA2, Health), 2013, 2018, and 2023 Censuses | E43: I | F43: 2013 | G43: 2013 | H43: 13 | I43: Canterbury Region | J43: 77 | K43: Total stated - legally registered relationship status | L43: 99 | M43: Total - partnership status in current relationship | N43: 99 | O43: Total - age | P43: 2 | Q43: Female / Wahine | R43: 207831
A44: 2013|Canterbury Region|Another gender / He ira kÄ“ anÅ | B44: DATAFLOW | C44: STATSNZ:CEN23_POP_008(1.0) | D44: Legally registered relationship status, partnership status in current relationship, age, and gender for the census usually resident population count aged 15 years and over, (RC, TALB, SA2, Health), 2013, 2018, and 2023 Censuses | E44: I | F44: 2013 | G44: 2013 | H44: 13 | I44: Canterbury Region | J44: 77 | K44: Total stated - legally registered relationship status | L44: 99 | M44: Total - partnership status in current relationship | N44: 99 | O44: Total - age | P44: 3 | Q44: Another gender / He ira kÄ“ anÅ | T44: _U | U44: Not available
A45: 2013|Canterbury Region|Total - gender | B45: DATAFLOW | C45: STATSNZ:CEN23_POP_008(1.0) | D45: Legally registered relationship status, partnership status in current relationship, age, and gender for the census usually resident population count aged 15 years and over, (RC, TALB, SA2, Health), 2013, 2018, and 2023 Censuses | E45: I | F45: 2013 | G45: 2013 | H45: 13 | I45: Canterbury Region | J45: 77 | K45: Total stated - legally registered relationship status | L45: 99 | M45: Total - partnership status in current relationship | N45: 99 | O45: Total - age | P45: 99 | Q45: Total - gender | R45: 405663
A46: 2013|Otago Region|Male / TÄne | B46: DATAFLOW | C46: STATSNZ:CEN23_POP_008(1.0) | D46: Legally registered relationship status, partnership status in current relationship, age, and gender for the census usually resident population count aged 15 years and over, (RC, TALB, SA2, Health), 2013, 2018, and 2023 Censuses | E46: I | F46: 2013 | G46: 2013 | H46: 14 | I46: Otago Region | J46: 77 | K46: Total stated - legally registered relationship status | L46: 99 | M46: Total - partnership status in current relationship | N46: 99 | O46: Total - age | P46: 1 | Q46: Male / TÄne | R46: 73509
A47: 2013|Otago Region|Female / Wahine | B47: DATAFLOW | C47: STATSNZ:CEN23_POP_008(1.0) | D47: Legally registered relationship status, partnership status in current relationship, age, and gender for the census usually resident population count aged 15 years and over, (RC, TALB, SA2, Health), 2013, 2018, and 2023 Censuses | E47: I | F47: 2013 | G47: 2013 | H47: 14 | I47: Otago Region | J47: 77 | K47: Total stated - legally registered relationship status | L47: 99 | M47: Total - partnership status in current relationship | N47: 99 | O47: Total - age | P47: 2 | Q47: Female / Wahine | R47: 80292
A48: 2013|Otago Region|Another gender / He ira kÄ“ anÅ | B48: DATAFLOW | C48: STATSNZ:CEN23_POP_008(1.0) | D48: Legally registered relationship status, partnership status in current relationship, age, and gender for the census usually resident population count aged 15 years and over, (RC, TALB, SA2, Health), 2013, 2018, and 2023 Censuses | E48: I | F48: 2013 | G48: 2013 | H48: 14 | I48: Otago Region | J48: 77 | K48: Total stated - legally registered relationship status | L48: 99 | M48: Total - partnership status in current relationship | N48: 99 | O48: Total - age | P48: 3 | Q48: Another gender / He ira kÄ“ anÅ | T48: _U | U48: Not available
A49: 2013|Otago Region|Total - gender | B49: DATAFLOW | C49: STATSNZ:CEN23_POP_008(1.0) | D49: Legally registered relationship status, partnership status in current relationship, age, and gender for the census usually resident population count aged 15 years and over, (RC, TALB, SA2, Health), 2013, 2018, and 2023 Censuses | E49: I | F49: 2013 | G49: 2013 | H49: 14 | I49: Otago Region | J49: 77 | K49: Total stated - legally registered relationship status | L49: 99 | M49: Total - partnership status in current relationship | N49: 99 | O49: Total - age | P49: 99 | Q49: Total - gender | R49: 153801
A50: 2013|Southland Region|Male / TÄne | B50: DATAFLOW | C50: STATSNZ:CEN23_POP_008(1.0) | D50: Legally registered relationship status, partnership status in current relationship, age, and gender for the census usually resident population count aged 15 years and over, (RC, TALB, SA2, Health), 2013, 2018, and 2023 Censuses | E50: I | F50: 2013 | G50: 2013 | H50: 15 | I50: Southland Region | J50: 77 | K50: Total stated - legally registered relationship status | L50: 99 | M50: Total - partnership status in current relationship | N50: 99 | O50: Total - age | P50: 1 | Q50: Male / TÄne | R50: 33138
A51: 2013|Southland Region|Female / Wahine | B51: DATAFLOW | C51: STATSNZ:CEN23_POP_008(1.0) | D51: Legally registered relationship status, partnership status in current relationship, age, and gender for the census usually resident population count aged 15 years and over, (RC, TALB, SA2, Health), 2013, 2018, and 2023 Censuses | E51: I | F51: 2013 | G51: 2013 | H51: 15 | I51: Southland Region | J51: 77 | K51: Total stated - legally registered relationship status | L51: 99 | M51: Total - partnership status in current relationship | N51: 99 | O51: Total - age | P51: 2 | Q51: Female / Wahine | R51: 35115
A52: 2013|Southland Region|Another gender / He ira kÄ“ anÅ | B52: DATAFLOW | C52: STATSNZ:CEN23_POP_008(1.0) | D52: Legally registered relationship status, partnership status in current relationship, age, and gender for the census usually resident population count aged 15 years and over, (RC, TALB, SA2, Health), 2013, 2018, and 2023 Censuses | E52: I | F52: 2013 | G52: 2013 | H52: 15 | I52: Southland Region | J52: 77 | K52: Total stated - legally registered relationship status | L52: 99 | M52: Total - partnership status in current relationship | N52: 99 | O52: Total - age | P52: 3 | Q52: Another gender / He ira kÄ“ anÅ | T52: _U | U52: Not available
A53: 2013|Southland Region|Total - gender | B53: DATAFLOW | C53: STATSNZ:CEN23_POP_008(1.0) | D53: Legally registered relationship status, partnership status in current relationship, age, and gender for the census usually resident population count aged 15 years and over, (RC, TALB, SA2, Health), 2013, 2018, and 2023 Censuses | E53: I | F53: 2013 | G53: 2013 | H53: 15 | I53: Southland Region | J53: 77 | K53: Total stated - legally registered relationship status | L53: 99 | M53: Total - partnership status in current relationship | N53: 99 | O53: Total - age | P53: 99 | Q53: Total - gender | R53: 68253
A54: 2013|Tasman Region|Male / TÄne | B54: DATAFLOW | C54: STATSNZ:CEN23_POP_008(1.0) | D54: Legally registered relationship status, partnership status in current relationship, age, and gender for the census usually resident population count aged 15 years and over, (RC, TALB, SA2, Health), 2013, 2018, and 2023 Censuses | E54: I | F54: 2013 | G54: 2013 | H54: 16 | I54: Tasman Region | J54: 77 | K54: Total stated - legally registered relationship status | L54: 99 | M54: Total - partnership status in current relationship | N54: 99 | O54: Total - age | P54: 1 | Q54: Male / TÄne | R54: 17067
A55: 2013|Tasman Region|Female / Wahine | B55: DATAFLOW | C55: STATSNZ:CEN23_POP_008(1.0) | D55: Legally registered relationship status, partnership status in current relationship, age, and gender for the census usually resident population count aged 15 years and over, (RC, TALB, SA2, Health), 2013, 2018, and 2023 Censuses | E55: I | F55: 2013 | G55: 2013 | H55: 16 | I55: Tasman Region | J55: 77 | K55: Total stated - legally registered relationship status | L55: 99 | M55: Total - partnership status in current relationship | N55: 99 | O55: Total - age | P55: 2 | Q55: Female / Wahine | R55: 18081
A56: 2013|Tasman Region|Another gender / He ira kÄ“ anÅ | B56: DATAFLOW | C56: STATSNZ:CEN23_POP_008(1.0) | D56: Legally registered relationship status, partnership status in current relationship, age, and gender for the census usually resident population count aged 15 years and over, (RC, TALB, SA2, Health), 2013, 2018, and 2023 Censuses | E56: I | F56: 2013 | G56: 2013 | H56: 16 | I56: Tasman Region | J56: 77 | K56: Total stated - legally registered relationship status | L56: 99 | M56: Total - partnership status in current relationship | N56: 99 | O56: Total - age | P56: 3 | Q56: Another gender / He ira kÄ“ anÅ | T56: _U | U56: Not available
A57: 2013|Tasman Region|Total - gender | B57: DATAFLOW | C57: STATSNZ:CEN23_POP_008(1.0) | D57: Legally registered relationship status, partnership status in current relationship, age, and gender for the census usually resident population count aged 15 years and over, (RC, TALB, SA2, Health), 2013, 2018, and 2023 Censuses | E57: I | F57: 2013 | G57: 2013 | H57: 16 | I57: Tasman Region | J57: 77 | K57: Total stated - legally registered relationship status | L57: 99 | M57: Total - partnership status in current relationship | N57: 99 | O57: Total - age | P57: 99 | Q57: Total - gender | R57: 35148
A58: 2013|Nelson Region|Male / TÄne | B58: DATAFLOW | C58: STATSNZ:CEN23_POP_008(1.0) | D58: Legally registered relationship status, partnership status in current relationship, age, and gender for the census usually resident population count aged 15 years and over, (RC, TALB, SA2, Health), 2013, 2018, and 2023 Censuses | E58: I | F58: 2013 | G58: 2013 | H58: 17 | I58: Nelson Region | J58: 77 | K58: Total stated - legally registered relationship status | L58: 99 | M58: Total - partnership status in current relationship | N58: 99 | O58: Total - age | P58: 1 | Q58: Male / TÄne | R58: 16410
A59: 2013|Nelson Region|Female / Wahine | B59: DATAFLOW | C59: STATSNZ:CEN23_POP_008(1.0) | D59: Legally registered relationship status, partnership status in current relationship, age, and gender for the census usually resident population count aged 15 years and over, (RC, TALB, SA2, Health), 2013, 2018, and 2023 Censuses | E59: I | F59: 2013 | G59: 2013 | H59: 17 | I59: Nelson Region | J59: 77 | K59: Total stated - legally registered relationship status | L59: 99 | M59: Total - partnership status in current relationship | N59: 99 | O59: Total - age | P59: 2 | Q59: Female / Wahine | R59: 18522
A60: 2013|Nelson Region|Another gender / He ira kÄ“ anÅ | B60: DATAFLOW | C60: STATSNZ:CEN23_POP_008(1.0) | D60: Legally registered relationship status, partnership status in current relationship, age, and gender for the census usually resident population count aged 15 years and over, (RC, TALB, SA2, Health), 2013, 2018, and 2023 Censuses | E60: I | F60: 2013 | G60: 2013 | H60: 17 | I60: Nelson Region | J60: 77 | K60: Total stated - legally registered relationship status | L60: 99 | M60: Total - partnership status in current relationship | N60: 99 | O60: Total - age | P60: 3 | Q60: Another gender / He ira kÄ“ anÅ | T60: _U | U60: Not available
A61: 2013|Nelson Region|Total - gender | B61: DATAFLOW | C61: STATSNZ:CEN23_POP_008(1.0) | D61: Legally registered relationship status, partnership status in current relationship, age, and gender for the census usually resident population count aged 15 years and over, (RC, TALB, SA2, Health), 2013, 2018, and 2023 Censuses | E61: I | F61: 2013 | G61: 2013 | H61: 17 | I61: Nelson Region | J61: 77 | K61: Total stated - legally registered relationship status | L61: 99 | M61: Total - partnership status in current relationship | N61: 99 | O61: Total - age | P61: 99 | Q61: Total - gender | R61: 34932
A62: 2013|Marlborough Region|Male / TÄne | B62: DATAFLOW | C62: STATSNZ:CEN23_POP_008(1.0) | D62: Legally registered relationship status, partnership status in current relationship, age, and gender for the census usually resident population count aged 15 years and over, (RC, TALB, SA2, Health), 2013, 2018, and 2023 Censuses | E62: I | F62: 2013 | G62: 2013 | H62: 18 | I62: Marlborough Region | J62: 77 | K62: Total stated - legally registered relationship status | L62: 99 | M62: Total - partnership status in current relationship | N62: 99 | O62: Total - age | P62: 1 | Q62: Male / TÄne | R62: 15882
A63: 2013|Marlborough Region|Female / Wahine | B63: DATAFLOW | C63: STATSNZ:CEN23_POP_008(1.0) | D63: Legally registered relationship status, partnership status in current relationship, age, and gender for the census usually resident population count aged 15 years and over, (RC, TALB, SA2, Health), 2013, 2018, and 2023 Censuses | E63: I | F63: 2013 | G63: 2013 | H63: 18 | I63: Marlborough Region | J63: 77 | K63: Total stated - legally registered relationship status | L63: 99 | M63: Total - partnership status in current relationship | N63: 99 | O63: Total - age | P63: 2 | Q63: Female / Wahine | R63: 16905
A64: 2013|Marlborough Region|Another gender / He ira kÄ“ anÅ | B64: DATAFLOW | C64: STATSNZ:CEN23_POP_008(1.0) | D64: Legally registered relationship status, partnership status in current relationship, age, and gender for the census usually resident population count aged 15 years and over, (RC, TALB, SA2, Health), 2013, 2018, and 2023 Censuses | E64: I | F64: 2013 | G64: 2013 | H64: 18 | I64: Marlborough Region | J64: 77 | K64: Total stated - legally registered relationship status | L64: 99 | M64: Total - partnership status in current relationship | N64: 99 | O64: Total - age | P64: 3 | Q64: Another gender / He ira kÄ“ anÅ | T64: _U | U64: Not available
A65: 2013|Marlborough Region|Total - gender | B65: DATAFLOW | C65: STATSNZ:CEN23_POP_008(1.0) | D65: Legally registered relationship status, partnership status in current relationship, age, and gender for the census usually resident population count aged 15 years and over, (RC, TALB, SA2, Health), 2013, 2018, and 2023 Censuses | E65: I | F65: 2013 | G65: 2013 | H65: 18 | I65: Marlborough Region | J65: 77 | K65: Total stated - legally registered relationship status | L65: 99 | M65: Total - partnership status in current relationship | N65: 99 | O65: Total - age | P65: 99 | Q65: Total - gender | R65: 32790
A66: 2013|Area Outside Region|Male / TÄne | B66: DATAFLOW | C66: STATSNZ:CEN23_POP_008(1.0) | D66: Legally registered relationship status, partnership status in current relationship, age, and gender for the census usually resident population count aged 15 years and over, (RC, TALB, SA2, Health), 2013, 2018, and 2023 Censuses | E66: I | F66: 2013 | G66: 2013 | H66: 99 | I66: Area Outside Region | J66: 77 | K66: Total stated - legally registered relationship status | L66: 99 | M66: Total - partnership status in current relationship | N66: 99 | O66: Total - age | P66: 1 | Q66: Male / TÄne | R66: 228
A67: 2013|Area Outside Region|Female / Wahine | B67: DATAFLOW | C67: STATSNZ:CEN23_POP_008(1.0) | D67: Legally registered relationship status, partnership status in current relationship, age, and gender for the census usually resident population count aged 15 years and over, (RC, TALB, SA2, Health), 2013, 2018, and 2023 Censuses | E67: I | F67: 2013 | G67: 2013 | H67: 99 | I67: Area Outside Region | J67: 77 | K67: Total stated - legally registered relationship status | L67: 99 | M67: Total - partnership status in current relationship | N67: 99 | O67: Total - age | P67: 2 | Q67: Female / Wahine | R67: 207
A68: 2013|Area Outside Region|Another gender / He ira kÄ“ anÅ | B68: DATAFLOW | C68: STATSNZ:CEN23_POP_008(1.0) | D68: Legally registered relationship status, partnership status in current relationship, age, and gender for the census usually resident population count aged 15 years and over, (RC, TALB, SA2, Health), 2013, 2018, and 2023 Censuses | E68: I | F68: 2013 | G68: 2013 | H68: 99 | I68: Area Outside Region | J68: 77 | K68: Total stated - legally registered relationship status | L68: 99 | M68: Total - partnership status in current relationship | N68: 99 | O68: Total - age | P68: 3 | Q68: Another gender / He ira kÄ“ anÅ | T68: _U | U68: Not available
A69: 2013|Area Outside Region|Total - gender | B69: DATAFLOW | C69: STATSNZ:CEN23_POP_008(1.0) | D69: Legally registered relationship status, partnership status in current relationship, age, and gender for the census usually resident population count aged 15 years and over, (RC, TALB, SA2, Health), 2013, 2018, and 2023 Censuses | E69: I | F69: 2013 | G69: 2013 | H69: 99 | I69: Area Outside Region | J69: 77 | K69: Total stated - legally registered relationship status | L69: 99 | M69: Total - partnership status in current relationship | N69: 99 | O69: Total - age | P69: 99 | Q69: Total - gender | R69: 435
A70: 2013|Total - New Zealand by regional council|Male / TÄne | B70: DATAFLOW | C70: STATSNZ:CEN23_POP_008(1.0) | D70: Legally registered relationship status, partnership status in current relationship, age, and gender for the census usually resident population count aged 15 years and over, (RC, TALB, SA2, Health), 2013, 2018, and 2023 Censuses | E70: I | F70: 2013 | G70: 2013 | H70: 9999 | I70: Total - New Zealand by regional council | J70: 77 | K70: Total stated - legally registered relationship status | L70: 99 | M70: Total - partnership status in current relationship | N70: 99 | O70: Total - age | P70: 1 | Q70: Male / TÄne | R70: 1458744
A71: 2013|Total - New Zealand by regional council|Female / Wahine | B71: DATAFLOW | C71: STATSNZ:CEN23_POP_008(1.0) | D71: Legally registered relationship status, partnership status in current relationship, age, and gender for the census usually resident population count aged 15 years and over, (RC, TALB, SA2, Health), 2013, 2018, and 2023 Censuses | E71: I | F71: 2013 | G71: 2013 | H71: 9999 | I71: Total - New Zealand by regional council | J71: 77 | K71: Total stated - legally registered relationship status | L71: 99 | M71: Total - partnership status in current relationship | N71: 99 | O71: Total - age | P71: 2 | Q71: Female / Wahine | R71: 1598019
A72: 2013|Total - New Zealand by regional council|Another gender / He ira kÄ“ anÅ | B72: DATAFLOW | C72: STATSNZ:CEN23_POP_008(1.0) | D72: Legally registered relationship status, partnership status in current relationship, age, and gender for the census usually resident population count aged 15 years and over, (RC, TALB, SA2, Health), 2013, 2018, and 2023 Censuses | E72: I | F72: 2013 | G72: 2013 | H72: 9999 | I72: Total - New Zealand by regional council | J72: 77 | K72: Total stated - legally registered relationship status | L72: 99 | M72: Total - partnership status in current relationship | N72: 99 | O72: Total - age | P72: 3 | Q72: Another gender / He ira kÄ“ anÅ | T72: _U | U72: Not available
A73: 2013|Total - New Zealand by regional council|Total - gender | B73: DATAFLOW | C73: STATSNZ:CEN23_POP_008(1.0) | D73: Legally registered relationship status, partnership status in current relationship, age, and gender for the census usually resident population count aged 15 years and over, (RC, TALB, SA2, Health), 2013, 2018, and 2023 Censuses | E73: I | F73: 2013 | G73: 2013 | H73: 9999 | I73: Total - New Zealand by regional council | J73: 77 | K73: Total stated - legally registered relationship status | L73: 99 | M73: Total - partnership status in current relationship | N73: 99 | O73: Total - age | P73: 99 | Q73: Total - gender | R73: 3056760
A74: 2018|Northland Region|Male / TÄne | B74: DATAFLOW | C74: STATSNZ:CEN23_POP_008(1.0) | D74: Legally registered relationship status, partnership status in current relationship, age, and gender for the census usually resident population count aged 15 years and over, (RC, TALB, SA2, Health), 2013, 2018, and 2023 Censuses | E74: I | F74: 2018 | G74: 2018 | H74: 1 | I74: Northland Region | J74: 77 | K74: Total stated - legally registered relationship status | L74: 99 | M74: Total - partnership status in current relationship | N74: 99 | O74: Total - age | P74: 1 | Q74: Male / TÄne | R74: 52230
A75: 2018|Northland Region|Female / Wahine | B75: DATAFLOW | C75: STATSNZ:CEN23_POP_008(1.0) | D75: Legally registered relationship status, partnership status in current relationship, age, and gender for the census usually resident population count aged 15 years and over, (RC, TALB, SA2, Health), 2013, 2018, and 2023 Censuses | E75: I | F75: 2018 | G75: 2018 | H75: 1 | I75: Northland Region | J75: 77 | K75: Total stated - legally registered relationship status | L75: 99 | M75: Total - partnership status in current relationship | N75: 99 | O75: Total - age | P75: 2 | Q75: Female / Wahine | R75: 58266
A76: 2018|Northland Region|Another gender / He ira kÄ“ anÅ | B76: DATAFLOW | C76: STATSNZ:CEN23_POP_008(1.0) | D76: Legally registered relationship status, partnership status in current relationship, age, and gender for the census usually resident population count aged 15 years and over, (RC, TALB, SA2, Health), 2013, 2018, and 2023 Censuses | E76: I | F76: 2018 | G76: 2018 | H76: 1 | I76: Northland Region | J76: 77 | K76: Total stated - legally registered relationship status | L76: 99 | M76: Total - partnership status in current relationship | N76: 99 | O76: Total - age | P76: 3 | Q76: Another gender / He ira kÄ“ anÅ | T76: _U | U76: Not available
A77: 2018|Northland Region|Total - gender | B77: DATAFLOW | C77: STATSNZ:CEN23_POP_008(1.0) | D77: Legally registered relationship status, partnership status in current relationship, age, and gender for the census usually resident population count aged 15 years and over, (RC, TALB, SA2, Health), 2013, 2018, and 2023 Censuses | E77: I | F77: 2018 | G77: 2018 | H77: 1 | I77: Northland Region | J77: 77 | K77: Total stated - legally registered relationship status | L77: 99 | M77: Total - partnership status in current relationship | N77: 99 | O77: Total - age | P77: 99 | Q77: Total - gender | R77: 110496
A78: 2018|Auckland Region|Male / TÄne | B78: DATAFLOW | C78: STATSNZ:CEN23_POP_008(1.0) | D78: Legally registered relationship status, partnership status in current relationship, age, and gender for the census usually resident population count aged 15 years and over, (RC, TALB, SA2, Health), 2013, 2018, and 2023 Censuses | E78: I | F78: 2018 | G78: 2018 | H78: 2 | I78: Auckland Region | J78: 77 | K78: Total stated - legally registered relationship status | L78: 99 | M78: Total - partnership status in current relationship | N78: 99 | O78: Total - age | P78: 1 | Q78: Male / TÄne | R78: 478758
A79: 2018|Auckland Region|Female / Wahine | B79: DATAFLOW | C79: STATSNZ:CEN23_POP_008(1.0) | D79: Legally registered relationship status, partnership status in current relationship, age, and gender for the census usually resident population count aged 15 years and over, (RC, TALB, SA2, Health), 2013, 2018, and 2023 Censuses | E79: I | F79: 2018 | G79: 2018 | H79: 2 | I79: Auckland Region | J79: 77 | K79: Total stated - legally registered relationship status | L79: 99 | M79: Total - partnership status in current relationship | N79: 99 | O79: Total - age | P79: 2 | Q79: Female / Wahine | R79: 526791
A80: 2018|Auckland Region|Another gender / He ira kÄ“ anÅ | B80: DATAFLOW | C80: STATSNZ:CEN23_POP_008(1.0) | D80: Legally registered relationship status, partnership status in current relationship, age, and gender for the census usually resident population count aged 15 years and over, (RC, TALB, SA2, Health), 2013, 2018, and 2023 Censuses | E80: I | F80: 2018 | G80: 2018 | H80: 2 | I80: Auckland Region | J80: 77 | K80: Total stated - legally registered relationship status | L80: 99 | M80: Total - partnership status in current relationship | N80: 99 | O80: Total - age | P80: 3 | Q80: Another gender / He ira kÄ“ anÅ | T80: _U | U80: Not available
A81: 2018|Auckland Region|Total - gender | B81: DATAFLOW | C81: STATSNZ:CEN23_POP_008(1.0) | D81: Legally registered relationship status, partnership status in current relationship, age, and gender for the census usually resident population count aged 15 years and over, (RC, TALB, SA2, Health), 2013, 2018, and 2023 Censuses | E81: I | F81: 2018 | G81: 2018 | H81: 2 | I81: Auckland Region | J81: 77 | K81: Total stated - legally registered relationship status | L81: 99 | M81: Total - partnership status in current relationship | N81: 99 | O81: Total - age | P81: 99 | Q81: Total - gender | R81: 1005549
A82: 2018|Waikato Region|Male / TÄne | B82: DATAFLOW | C82: STATSNZ:CEN23_POP_008(1.0) | D82: Legally registered relationship status, partnership status in current relationship, age, and gender for the census usually resident population count aged 15 years and over, (RC, TALB, SA2, Health), 2013, 2018, and 2023 Censuses | E82: I | F82: 2018 | G82: 2018 | H82: 3 | I82: Waikato Region | J82: 77 | K82: Total stated - legally registered relationship status | L82: 99 | M82: Total - partnership status in current relationship | N82: 99 | O82: Total - age | P82: 1 | Q82: Male / TÄne | R82: 141261
A83: 2018|Waikato Region|Female / Wahine | B83: DATAFLOW | C83: STATSNZ:CEN23_POP_008(1.0) | D83: Legally registered relationship status, partnership status in current relationship, age, and gender for the census usually resident population count aged 15 years and over, (RC, TALB, SA2, Health), 2013, 2018, and 2023 Censuses | E83: I | F83: 2018 | G83: 2018 | H83: 3 | I83: Waikato Region | J83: 77 | K83: Total stated - legally registered relationship status | L83: 99 | M83: Total - partnership status in current relationship | N83: 99 | O83: Total - age | P83: 2 | Q83: Female / Wahine | R83: 155937
A84: 2018|Waikato Region|Another gender / He ira kÄ“ anÅ | B84: DATAFLOW | C84: STATSNZ:CEN23_POP_008(1.0) | D84: Legally registered relationship status, partnership status in current relationship, age, and gender for the census usually resident population count aged 15 years and over, (RC, TALB, SA2, Health), 2013, 2018, and 2023 Censuses | E84: I | F84: 2018 | G84: 2018 | H84: 3 | I84: Waikato Region | J84: 77 | K84: Total stated - legally registered relationship status | L84: 99 | M84: Total - partnership status in current relationship | N84: 99 | O84: Total - age | P84: 3 | Q84: Another gender / He ira kÄ“ anÅ | T84: _U | U84: Not available
A85: 2018|Waikato Region|Total - gender | B85: DATAFLOW | C85: STATSNZ:CEN23_POP_008(1.0) | D85: Legally registered relationship status, partnership status in current relationship, age, and gender for the census usually resident population count aged 15 years and over, (RC, TALB, SA2, Health), 2013, 2018, and 2023 Censuses | E85: I | F85: 2018 | G85: 2018 | H85: 3 | I85: Waikato Region | J85: 77 | K85: Total stated - legally registered relationship status | L85: 99 | M85: Total - partnership status in current relationship | N85: 99 | O85: Total - age | P85: 99 | Q85: Total - gender | R85: 297195
A86: 2018|Bay of Plenty Region|Male / TÄne | B86: DATAFLOW | C86: STATSNZ:CEN23_POP_008(1.0) | D86: Legally registered relationship status, partnership status in current relationship, age, and gender for the census usually resident population count aged 15 years and over, (RC, TALB, SA2, Health), 2013, 2018, and 2023 Censuses | E86: I | F86: 2018 | G86: 2018 | H86: 4 | I86: Bay of Plenty Region | J86: 77 | K86: Total stated - legally registered relationship status | L86: 99 | M86: Total - partnership status in current relationship | N86: 99 | O86: Total - age | P86: 1 | Q86: Male / TÄne | R86: 91221
A87: 2018|Bay of Plenty Region|Female / Wahine | B87: DATAFLOW | C87: STATSNZ:CEN23_POP_008(1.0) | D87: Legally registered relationship status, partnership status in current relationship, age, and gender for the census usually resident population count aged 15 years and over, (RC, TALB, SA2, Health), 2013, 2018, and 2023 Censuses | E87: I | F87: 2018 | G87: 2018 | H87: 4 | I87: Bay of Plenty Region | J87: 77 | K87: Total stated - legally registered relationship status | L87: 99 | M87: Total - partnership status in current relationship | N87: 99 | O87: Total - age | P87: 2 | Q87: Female / Wahine | R87: 104511
A88: 2018|Bay of Plenty Region|Another gender / He ira kÄ“ anÅ | B88: DATAFLOW | C88: STATSNZ:CEN23_POP_008(1.0) | D88: Legally registered relationship status, partnership status in current relationship, age, and gender for the census usually resident population count aged 15 years and over, (RC, TALB, SA2, Health), 2013, 2018, and 2023 Censuses | E88: I | F88: 2018 | G88: 2018 | H88: 4 | I88: Bay of Plenty Region | J88: 77 | K88: Total stated - legally registered relationship status | L88: 99 | M88: Total - partnership status in current relationship | N88: 99 | O88: Total - age | P88: 3 | Q88: Another gender / He ira kÄ“ anÅ | T88: _U | U88: Not available
A89: 2018|Bay of Plenty Region|Total - gender | B89: DATAFLOW | C89: STATSNZ:CEN23_POP_008(1.0) | D89: Legally registered relationship status, partnership status in current relationship, age, and gender for the census usually resident population count aged 15 years and over, (RC, TALB, SA2, Health), 2013, 2018, and 2023 Censuses | E89: I | F89: 2018 | G89: 2018 | H89: 4 | I89: Bay of Plenty Region | J89: 77 | K89: Total stated - legally registered relationship status | L89: 99 | M89: Total - partnership status in current relationship | N89: 99 | O89: Total - age | P89: 99 | Q89: Total - gender | R89: 195732
A90: 2018|Gisborne Region|Male / TÄne | B90: DATAFLOW | C90: STATSNZ:CEN23_POP_008(1.0) | D90: Legally registered relationship status, partnership status in current relationship, age, and gender for the census usually resident population count aged 15 years and over, (RC, TALB, SA2, Health), 2013, 2018, and 2023 Censuses | E90: I | F90: 2018 | G90: 2018 | H90: 5 | I90: Gisborne Region | J90: 77 | K90: Total stated - legally registered relationship status | L90: 99 | M90: Total - partnership status in current relationship | N90: 99 | O90: Total - age | P90: 1 | Q90: Male / TÄne | R90: 12909
A91: 2018|Gisborne Region|Female / Wahine | B91: DATAFLOW | C91: STATSNZ:CEN23_POP_008(1.0) | D91: Legally registered relationship status, partnership status in current relationship, age, and gender for the census usually resident population count aged 15 years and over, (RC, TALB, SA2, Health), 2013, 2018, and 2023 Censuses | E91: I | F91: 2018 | G91: 2018 | H91: 5 | I91: Gisborne Region | J91: 77 | K91: Total stated - legally registered relationship status | L91: 99 | M91: Total - partnership status in current relationship | N91: 99 | O91: Total - age | P91: 2 | Q91: Female / Wahine | R91: 14823
A92: 2018|Gisborne Region|Another gender / He ira kÄ“ anÅ | B92: DATAFLOW | C92: STATSNZ:CEN23_POP_008(1.0) | D92: Legally registered relationship status, partnership status in current relationship, age, and gender for the census usually resident population count aged 15 years and over, (RC, TALB, SA2, Health), 2013, 2018, and 2023 Censuses | E92: I | F92: 2018 | G92: 2018 | H92: 5 | I92: Gisborne Region | J92: 77 | K92: Total stated - legally registered relationship status | L92: 99 | M92: Total - partnership status in current relationship | N92: 99 | O92: Total - age | P92: 3 | Q92: Another gender / He ira kÄ“ anÅ | T92: _U | U92: Not available
A93: 2018|Gisborne Region|Total - gender | B93: DATAFLOW | C93: STATSNZ:CEN23_POP_008(1.0) | D93: Legally registered relationship status, partnership status in current relationship, age, and gender for the census usually resident population count aged 15 years and over, (RC, TALB, SA2, Health), 2013, 2018, and 2023 Censuses | E93: I | F93: 2018 | G93: 2018 | H93: 5 | I93: Gisborne Region | J93: 77 | K93: Total stated - legally registered relationship status | L93: 99 | M93: Total - partnership status in current relationship | N93: 99 | O93: Total - age | P93: 99 | Q93: Total - gender | R93: 27732
A94: 2018|Hawke's Bay Region|Male / TÄne | B94: DATAFLOW | C94: STATSNZ:CEN23_POP_008(1.0) | D94: Legally registered relationship status, partnership status in current relationship, age, and gender for the census usually resident population count aged 15 years and over, (RC, TALB, SA2, Health), 2013, 2018, and 2023 Censuses | E94: I | F94: 2018 | G94: 2018 | H94: 6 | I94: Hawke's Bay Region | J94: 77 | K94: Total stated - legally registered relationship status | L94: 99 | M94: Total - partnership status in current relationship | N94: 99 | O94: Total - age | P94: 1 | Q94: Male / TÄne | R94: 49404
A95: 2018|Hawke's Bay Region|Female / Wahine | B95: DATAFLOW | C95: STATSNZ:CEN23_POP_008(1.0) | D95: Legally registered relationship status, partnership status in current relationship, age, and gender for the census usually resident population count aged 15 years and over, (RC, TALB, SA2, Health), 2013, 2018, and 2023 Censuses | E95: I | F95: 2018 | G95: 2018 | H95: 6 | I95: Hawke's Bay Region | J95: 77 | K95: Total stated - legally registered relationship status | L95: 99 | M95: Total - partnership status in current relationship | N95: 99 | O95: Total - age | P95: 2 | Q95: Female / Wahine | R95: 56598
A96: 2018|Hawke's Bay Region|Another gender / He ira kÄ“ anÅ | B96: DATAFLOW | C96: STATSNZ:CEN23_POP_008(1.0) | D96: Legally registered relationship status, partnership status in current relationship, age, and gender for the census usually resident population count aged 15 years and over, (RC, TALB, SA2, Health), 2013, 2018, and 2023 Censuses | E96: I | F96: 2018 | G96: 2018 | H96: 6 | I96: Hawke's Bay Region | J96: 77 | K96: Total stated - legally registered relationship status | L96: 99 | M96: Total - partnership status in current relationship | N96: 99 | O96: Total - age | P96: 3 | Q96: Another gender / He ira kÄ“ anÅ | T96: _U | U96: Not available
A97: 2018|Hawke's Bay Region|Total - gender | B97: DATAFLOW | C97: STATSNZ:CEN23_POP_008(1.0) | D97: Legally registered relationship status, partnership status in current relationship, age, and gender for the census usually resident population count aged 15 years and over, (RC, TALB, SA2, Health), 2013, 2018, and 2023 Censuses | E97: I | F97: 2018 | G97: 2018 | H97: 6 | I97: Hawke's Bay Region | J97: 77 | K97: Total stated - legally registered relationship status | L97: 99 | M97: Total - partnership status in current relationship | N97: 99 | O97: Total - age | P97: 99 | Q97: Total - gender | R97: 106002
A98: 2018|Taranaki Region|Male / TÄne | B98: DATAFLOW | C98: STATSNZ:CEN23_POP_008(1.0) | D98: Legally registered relationship status, partnership status in current relationship, age, and gender for the census usually resident population count aged 15 years and over, (RC, TALB, SA2, Health), 2013, 2018, and 2023 Censuses | E98: I | F98: 2018 | G98: 2018 | H98: 7 | I98: Taranaki Region | J98: 77 | K98: Total stated - legally registered relationship status | L98: 99 | M98: Total - partnership status in current relationship | N98: 99 | O98: Total - age | P98: 1 | Q98: Male / TÄne | R98: 37848
A99: 2018|Taranaki Region|Female / Wahine | B99: DATAFLOW | C99: STATSNZ:CEN23_POP_008(1.0) | D99: Legally registered relationship status, partnership status in current relationship, age, and gender for the census usually resident population count aged 15 years and over, (RC, TALB, SA2, Health), 2013, 2018, and 2023 Censuses | E99: I | F99: 2018 | G99: 2018 | H99: 7 | I99: Taranaki Region | J99: 77 | K99: Total stated - legally registered relationship status | L99: 99 | M99: Total - partnership status in current relationship | N99: 99 | O99: Total - age | P99: 2 | Q99: Female / Wahine | R99: 41475
A100: 2018|Taranaki Region|Another gender / He ira kÄ“ anÅ | B100: DATAFLOW | C100: STATSNZ:CEN23_POP_008(1.0) | D100: Legally registered relationship status, partnership status in current relationship, age, and gender for the census usually resident population count aged 15 years and over, (RC, TALB, SA2, Health), 2013, 2018, and 2023 Censuses | E100: I | F100: 2018 | G100: 2018 | H100: 7 | I100: Taranaki Region | J100: 77 | K100: Total stated - legally registered relationship status | L100: 99 | M100: Total - partnership status in current relationship | N100: 99 | O100: Total - age | P100: 3 | Q100: Another gender / He ira kÄ“ anÅ | T100: _U | U100: Not available
...

Sheet TA
A1: HELPER COLUMN | B1: STRUCTURE | C1: STRUCTURE_ID | D1: STRUCTURE_NAME | E1: ACTION | F1: CEN23_YEAR_001 | G1: Census year | H1: CEN23_GEO_002 | I1: Area | J1: CEN23_REL_002 | K1: Legally registered relationship status | L1: CEN23_REL_003 | M1: Partnership status in current relationship | N1: CEN23_AGE_008 | O1: Age | P1: CEN23_GEN_002 | Q1: Gender | R1: OBS_VALUE | S1: Observation Value | T1: OBS_STATUS | U1: Observation Status | V1: Percentage | W1: Denominator (Total stated)
A2: =G2&"|"&I2&"|"&Q2 -> 2013|Far North District|Male / TÄne | B2: DATAFLOW | C2: STATSNZ:CEN23_POP_008(1.0) | D2: Legally registered relationship status, partnership status in current relationship, age, and gender for the census usually resident population count aged 15 years and over, (RC, TALB, SA2, Health), 2013, 2018, and 2023 Censuses | E2: I | F2: 2013 | G2: 2013 | H2: 1 | I2: Far North District | J2: 1 | K2: Married (Not Separated) | L2: 99 | M2: Total - partnership status in current relationship | N2: 99 | O2: Total - age | P2: 1 | Q2: Male / TÄne | R2: 8475 | V2: =IF(T2<>"_U",IFERROR((ROUND(R2/W2*100,2)),"."),".") -> 48.57 | W2: =IF(AND(T2<>"_U",T2<>"c",J2<>9,J2<>99),IFERROR(VLOOKUP(A2,'TA Total'!$A$2:$W$10000,18,0),"."),".") -> 17448
A3: =G3&"|"&I3&"|"&Q3 -> 2013|Far North District|Female / Wahine | B3: DATAFLOW | C3: STATSNZ:CEN23_POP_008(1.0) | D3: Legally registered relationship status, partnership status in current relationship, age, and gender for the census usually resident population count aged 15 years and over, (RC, TALB, SA2, Health), 2013, 2018, and 2023 Censuses | E3: I | F3: 2013 | G3: 2013 | H3: 1 | I3: Far North District | J3: 1 | K3: Married (Not Separated) | L3: 99 | M3: Total - partnership status in current relationship | N3: 99 | O3: Total - age | P3: 2 | Q3: Female / Wahine | R3: 8571 | V3: =IF(T3<>"_U",IFERROR((ROUND(R3/W3*100,2)),"."),".") -> 44.87 | W3: =IF(AND(T3<>"_U",T3<>"c",J3<>9,J3<>99),IFERROR(VLOOKUP(A3,'TA Total'!$A$2:$W$10000,18,0),"."),".") -> 19101
A4: =G4&"|"&I4&"|"&Q4 -> 2013|Far North District|Another gender / He ira kÄ“ anÅ | B4: DATAFLOW | C4: STATSNZ:CEN23_POP_008(1.0) | D4: Legally registered relationship status, partnership status in current relationship, age, and gender for the census usually resident population count aged 15 years and over, (RC, TALB, SA2, Health), 2013, 2018, and 2023 Censuses | E4: I | F4: 2013 | G4: 2013 | H4: 1 | I4: Far North District | J4: 1 | K4: Married (Not Separated) | L4: 99 | M4: Total - partnership status in current relationship | N4: 99 | O4: Total - age | P4: 3 | Q4: Another gender / He ira kÄ“ anÅ | T4: _U | U4: Not available | V4: =IF(T4<>"_U",IFERROR((ROUND(R4/W4*100,2)),"."),".") -> . | W4: =IF(AND(T4<>"_U",T4<>"c",J4<>9,J4<>99),IFERROR(VLOOKUP(A4,'TA Total'!$A$2:$W$10000,18,0),"."),".") -> .
A5: =G5&"|"&I5&"|"&Q5 -> 2013|Far North District|Total - gender | B5: DATAFLOW | C5: STATSNZ:CEN23_POP_008(1.0) | D5: Legally registered relationship status, partnership status in current relationship, age, and gender for the census usually resident population count aged 15 years and over, (RC, TALB, SA2, Health), 2013, 2018, and 2023 Censuses | E5: I | F5: 2013 | G5: 2013 | H5: 1 | I5: Far North District | J5: 1 | K5: Married (Not Separated) | L5: 99 | M5: Total - partnership status in current relationship | N5: 99 | O5: Total - age | P5: 99 | Q5: Total - gender | R5: 17046 | V5: =IF(T5<>"_U",IFERROR((ROUND(R5/W5*100,2)),"."),".") -> 46.64 | W5: =IF(AND(T5<>"_U",T5<>"c",J5<>9,J5<>99),IFERROR(VLOOKUP(A5,'TA Total'!$A$2:$W$10000,18,0),"."),".") -> 36549
A6: =G6&"|"&I6&"|"&Q6 -> 2013|Far North District|Male / TÄne | B6: DATAFLOW | C6: STATSNZ:CEN23_POP_008(1.0) | D6: Legally registered relationship status, partnership status in current relationship, age, and gender for the census usually resident population count aged 15 years and over, (RC, TALB, SA2, Health), 2013, 2018, and 2023 Censuses | E6: I | F6: 2013 | G6: 2013 | H6: 1 | I6: Far North District | J6: 3 | K6: Separated | L6: 99 | M6: Total - partnership status in current relationship | N6: 99 | O6: Total - age | P6: 1 | Q6: Male / TÄne | R6: 792 | V6: =IF(T6<>"_U",IFERROR((ROUND(R6/W6*100,2)),"."),".") -> 4.54 | W6: =IF(AND(T6<>"_U",T6<>"c",J6<>9,J6<>99),IFERROR(VLOOKUP(A6,'TA Total'!$A$2:$W$10000,18,0),"."),".") -> 17448
A7: =G7&"|"&I7&"|"&Q7 -> 2013|Far North District|Female / Wahine | B7: DATAFLOW | C7: STATSNZ:CEN23_POP_008(1.0) | D7: Legally registered relationship status, partnership status in current relationship, age, and gender for the census usually resident population count aged 15 years and over, (RC, TALB, SA2, Health), 2013, 2018, and 2023 Censuses | E7: I | F7: 2013 | G7: 2013 | H7: 1 | I7: Far North District | J7: 3 | K7: Separated | L7: 99 | M7: Total - partnership status in current relationship | N7: 99 | O7: Total - age | P7: 2 | Q7: Female / Wahine | R7: 882 | V7: =IF(T7<>"_U",IFERROR((ROUND(R7/W7*100,2)),"."),".") -> 4.62 | W7: =IF(AND(T7<>"_U",T7<>"c",J7<>9,J7<>99),IFERROR(VLOOKUP(A7,'TA Total'!$A$2:$W$10000,18,0),"."),".") -> 19101
A8: =G8&"|"&I8&"|"&Q8 -> 2013|Far North District|Another gender / He ira kÄ“ anÅ | B8: DATAFLOW | C8: STATSNZ:CEN23_POP_008(1.0) | D8: Legally registered relationship status, partnership status in current relationship, age, and gender for the census usually resident population count aged 15 years and over, (RC, TALB, SA2, Health), 2013, 2018, and 2023 Censuses | E8: I | F8: 2013 | G8: 2013 | H8: 1 | I8: Far North District | J8: 3 | K8: Separated | L8: 99 | M8: Total - partnership status in current relationship | N8: 99 | O8: Total - age | P8: 3 | Q8: Another gender / He ira kÄ“ anÅ | T8: _U | U8: Not available | V8: =IF(T8<>"_U",IFERROR((ROUND(R8/W8*100,2)),"."),".") -> . | W8: =IF(AND(T8<>"_U",T8<>"c",J8<>9,J8<>99),IFERROR(VLOOKUP(A8,'TA Total'!$A$2:$W$10000,18,0),"."),".") -> .
A9: =G9&"|"&I9&"|"&Q9 -> 2013|Far North District|Total - gender | B9: DATAFLOW | C9: STATSNZ:CEN23_POP_008(1.0) | D9: Legally registered relationship status, partnership status in current relationship, age, and gender for the census usually resident population count aged 15 years and over, (RC, TALB, SA2, Health), 2013, 2018, and 2023 Censuses | E9: I | F9: 2013 | G9: 2013 | H9: 1 | I9: Far North District | J9: 3 | K9: Separated | L9: 99 | M9: Total - partnership status in current relationship | N9: 99 | O9: Total - age | P9: 99 | Q9: Total - gender | R9: 1677 | V9: =IF(T9<>"_U",IFERROR((ROUND(R9/W9*100,2)),"."),".") -> 4.59 | W9: =IF(AND(T9<>"_U",T9<>"c",J9<>9,J9<>99),IFERROR(VLOOKUP(A9,'TA Total'!$A$2:$W$10000,18,0),"."),".") -> 36549
A10: =G10&"|"&I10&"|"&Q10 -> 2013|Far North District|Male / TÄne | B10: DATAFLOW | C10: STATSNZ:CEN23_POP_008(1.0) | D10: Legally registered relationship status, partnership status in current relationship, age, and gender for the census usually resident population count aged 15 years and over, (RC, TALB, SA2, Health), 2013, 2018, and 2023 Censuses | E10: I | F10: 2013 | G10: 2013 | H10: 1 | I10: Far North District | J10: 4 | K10: Divorced or dissolved | L10: 99 | M10: Total - partnership status in current relationship | N10: 99 | O10: Total - age | P10: 1 | Q10: Male / TÄne | R10: 1650 | V10: =IF(T10<>"_U",IFERROR((ROUND(R10/W10*100,2)),"."),".") -> 9.46 | W10: =IF(AND(T10<>"_U",T10<>"c",J10<>9,J10<>99),IFERROR(VLOOKUP(A10,'TA Total'!$A$2:$W$10000,18,0),"."),".") -> 17448
A11: =G11&"|"&I11&"|"&Q11 -> 2013|Far North District|Female / Wahine | B11: DATAFLOW | C11: STATSNZ:CEN23_POP_008(1.0) | D11: Legally registered relationship status, partnership status in current relationship, age, and gender for the census usually resident population count aged 15 years and over, (RC, TALB, SA2, Health), 2013, 2018, and 2023 Censuses | E11: I | F11: 2013 | G11: 2013 | H11: 1 | I11: Far North District | J11: 4 | K11: Divorced or dissolved | L11: 99 | M11: Total - partnership status in current relationship | N11: 99 | O11: Total - age | P11: 2 | Q11: Female / Wahine | R11: 1827 | V11: =IF(T11<>"_U",IFERROR((ROUND(R11/W11*100,2)),"."),".") -> 9.56 | W11: =IF(AND(T11<>"_U",T11<>"c",J11<>9,J11<>99),IFERROR(VLOOKUP(A11,'TA Total'!$A$2:$W$10000,18,0),"."),".") -> 19101
A12: =G12&"|"&I12&"|"&Q12 -> 2013|Far North District|Another gender / He ira kÄ“ anÅ | B12: DATAFLOW | C12: STATSNZ:CEN23_POP_008(1.0) | D12: Legally registered relationship status, partnership status in current relationship, age, and gender for the census usually resident population count aged 15 years and over, (RC, TALB, SA2, Health), 2013, 2018, and 2023 Censuses | E12: I | F12: 2013 | G12: 2013 | H12: 1 | I12: Far North District | J12: 4 | K12: Divorced or dissolved | L12: 99 | M12: Total - partnership status in current relationship | N12: 99 | O12: Total - age | P12: 3 | Q12: Another gender / He ira kÄ“ anÅ | T12: _U | U12: Not available | V12: =IF(T12<>"_U",IFERROR((ROUND(R12/W12*100,2)),"."),".") -> . | W12: =IF(AND(T12<>"_U",T12<>"c",J12<>9,J12<>99),IFERROR(VLOOKUP(A12,'TA Total'!$A$2:$W$10000,18,0),"."),".") -> .
A13: =G13&"|"&I13&"|"&Q13 -> 2013|Far North District|Total - gender | B13: DATAFLOW | C13: STATSNZ:CEN23_POP_008(1.0) | D13: Legally registered relationship status, partnership status in current relationship, age, and gender for the census usually resident population count aged 15 years and over, (RC, TALB, SA2, Health), 2013, 2018, and 2023 Censuses | E13: I | F13: 2013 | G13: 2013 | H13: 1 | I13: Far North District | J13: 4 | K13: Divorced or dissolved | L13: 99 | M13: Total - partnership status in current relationship | N13: 99 | O13: Total - age | P13: 99 | Q13: Total - gender | R13: 3477 | V13: =IF(T13<>"_U",IFERROR((ROUND(R13/W13*100,2)),"."),".") -> 9.51 | W13: =IF(AND(T13<>"_U",T13<>"c",J13<>9,J13<>99),IFERROR(VLOOKUP(A13,'TA Total'!$A$2:$W$10000,18,0),"."),".") -> 36549
A14: =G14&"|"&I14&"|"&Q14 -> 2013|Far North District|Male / TÄne | B14: DATAFLOW | C14: STATSNZ:CEN23_POP_008(1.0) | D14: Legally registered relationship status, partnership status in current relationship, age, and gender for the census usually resident population count aged 15 years and over, (RC, TALB, SA2, Health), 2013, 2018, and 2023 Censuses | E14: I | F14: 2013 | G14: 2013 | H14: 1 | I14: Far North District | J14: 5 | K14: Widowed or surviving civil union partner | L14: 99 | M14: Total - partnership status in current relationship | N14: 99 | O14: Total - age | P14: 1 | Q14: Male / TÄne | R14: 708 | V14: =IF(T14<>"_U",IFERROR((ROUND(R14/W14*100,2)),"."),".") -> 4.06 | W14: =IF(AND(T14<>"_U",T14<>"c",J14<>9,J14<>99),IFERROR(VLOOKUP(A14,'TA Total'!$A$2:$W$10000,18,0),"."),".") -> 17448
A15: =G15&"|"&I15&"|"&Q15 -> 2013|Far North District|Female / Wahine | B15: DATAFLOW | C15: STATSNZ:CEN23_POP_008(1.0) | D15: Legally registered relationship status, partnership status in current relationship, age, and gender for the census usually resident population count aged 15 years and over, (RC, TALB, SA2, Health), 2013, 2018, and 2023 Censuses | E15: I | F15: 2013 | G15: 2013 | H15: 1 | I15: Far North District | J15: 5 | K15: Widowed or surviving civil union partner | L15: 99 | M15: Total - partnership status in current relationship | N15: 99 | O15: Total - age | P15: 2 | Q15: Female / Wahine | R15: 1998 | V15: =IF(T15<>"_U",IFERROR((ROUND(R15/W15*100,2)),"."),".") -> 10.46 | W15: =IF(AND(T15<>"_U",T15<>"c",J15<>9,J15<>99),IFERROR(VLOOKUP(A15,'TA Total'!$A$2:$W$10000,18,0),"."),".") -> 19101
A16: =G16&"|"&I16&"|"&Q16 -> 2013|Far North District|Another gender / He ira kÄ“ anÅ | B16: DATAFLOW | C16: STATSNZ:CEN23_POP_008(1.0) | D16: Legally registered relationship status, partnership status in current relationship, age, and gender for the census usually resident population count aged 15 years and over, (RC, TALB, SA2, Health), 2013, 2018, and 2023 Censuses | E16: I | F16: 2013 | G16: 2013 | H16: 1 | I16: Far North District | J16: 5 | K16: Widowed or surviving civil union partner | L16: 99 | M16: Total - partnership status in current relationship | N16: 99 | O16: Total - age | P16: 3 | Q16: Another gender / He ira kÄ“ anÅ | T16: _U | U16: Not available | V16: =IF(T16<>"_U",IFERROR((ROUND(R16/W16*100,2)),"."),".") -> . | W16: =IF(AND(T16<>"_U",T16<>"c",J16<>9,J16<>99),IFERROR(VLOOKUP(A16,'TA Total'!$A$2:$W$10000,18,0),"."),".") -> .
A17: =G17&"|"&I17&"|"&Q17 -> 2013|Far North District|Total - gender | B17: DATAFLOW | C17: STATSNZ:CEN23_POP_008(1.0) | D17: Legally registered relationship status, partnership status in current relationship, age, and gender for the census usually resident population count aged 15 years and over, (RC, TALB, SA2, Health), 2013, 2018, and 2023 Censuses | E17: I | F17: 2013 | G17: 2013 | H17: 1 | I17: Far North District | J17: 5 | K17: Widowed or surviving civil union partner | L17: 99 | M17: Total - partnership status in current relationship | N17: 99 | O17: Total - age | P17: 99 | Q17: Total - gender | R17: 2706 | V17: =IF(T17<>"_U",IFERROR((ROUND(R17/W17*100,2)),"."),".") -> 7.4 | W17: =IF(AND(T17<>"_U",T17<>"c",J17<>9,J17<>99),IFERROR(VLOOKUP(A17,'TA Total'!$A$2:$W$10000,18,0),"."),".") -> 36549
A18: =G18&"|"&I18&"|"&Q18 -> 2013|Far North District|Male / TÄne | B18: DATAFLOW | C18: STATSNZ:CEN23_POP_008(1.0) | D18: Legally registered relationship status, partnership status in current relationship, age, and gender for the census usually resident population count aged 15 years and over, (RC, TALB, SA2, Health), 2013, 2018, and 2023 Censuses | E18: I | F18: 2013 | G18: 2013 | H18: 1 | I18: Far North District | J18: 6 | K18: Never married and never in a civil union | L18: 99 | M18: Total - partnership status in current relationship | N18: 99 | O18: Total - age | P18: 1 | Q18: Male / TÄne | R18: 5826 | V18: =IF(T18<>"_U",IFERROR((ROUND(R18/W18*100,2)),"."),".") -> 33.39 | W18: =IF(AND(T18<>"_U",T18<>"c",J18<>9,J18<>99),IFERROR(VLOOKUP(A18,'TA Total'!$A$2:$W$10000,18,0),"."),".") -> 17448
A19: =G19&"|"&I19&"|"&Q19 -> 2013|Far North District|Female / Wahine | B19: DATAFLOW | C19: STATSNZ:CEN23_POP_008(1.0) | D19: Legally registered relationship status, partnership status in current relationship, age, and gender for the census usually resident population count aged 15 years and over, (RC, TALB, SA2, Health), 2013, 2018, and 2023 Censuses | E19: I | F19: 2013 | G19: 2013 | H19: 1 | I19: Far North District | J19: 6 | K19: Never married and never in a civil union | L19: 99 | M19: Total - partnership status in current relationship | N19: 99 | O19: Total - age | P19: 2 | Q19: Female / Wahine | R19: 5820 | V19: =IF(T19<>"_U",IFERROR((ROUND(R19/W19*100,2)),"."),".") -> 30.47 | W19: =IF(AND(T19<>"_U",T19<>"c",J19<>9,J19<>99),IFERROR(VLOOKUP(A19,'TA Total'!$A$2:$W$10000,18,0),"."),".") -> 19101
A20: =G20&"|"&I20&"|"&Q20 -> 2013|Far North District|Another gender / He ira kÄ“ anÅ | B20: DATAFLOW | C20: STATSNZ:CEN23_POP_008(1.0) | D20: Legally registered relationship status, partnership status in current relationship, age, and gender for the census usually resident population count aged 15 years and over, (RC, TALB, SA2, Health), 2013, 2018, and 2023 Censuses | E20: I | F20: 2013 | G20: 2013 | H20: 1 | I20: Far North District | J20: 6 | K20: Never married and never in a civil union | L20: 99 | M20: Total - partnership status in current relationship | N20: 99 | O20: Total - age | P20: 3 | Q20: Another gender / He ira kÄ“ anÅ | T20: _U | U20: Not available | V20: =IF(T20<>"_U",IFERROR((ROUND(R20/W20*100,2)),"."),".") -> . | W20: =IF(AND(T20<>"_U",T20<>"c",J20<>9,J20<>99),IFERROR(VLOOKUP(A20,'TA Total'!$A$2:$W$10000,18,0),"."),".") -> .
A21: =G21&"|"&I21&"|"&Q21 -> 2013|Far North District|Total - gender | B21: DATAFLOW | C21: STATSNZ:CEN23_POP_008(1.0) | D21: Legally registered relationship status, partnership status in current relationship, age, and gender for the census usually resident population count aged 15 years and over, (RC, TALB, SA2, Health), 2013, 2018, and 2023 Censuses | E21: I | F21: 2013 | G21: 2013 | H21: 1 | I21: Far North District | J21: 6 | K21: Never married and never in a civil union | L21: 99 | M21: Total - partnership status in current relationship | N21: 99 | O21: Total - age | P21: 99 | Q21: Total - gender | R21: 11643 | V21: =IF(T21<>"_U",IFERROR((ROUND(R21/W21*100,2)),"."),".") -> 31.86 | W21: =IF(AND(T21<>"_U",T21<>"c",J21<>9,J21<>99),IFERROR(VLOOKUP(A21,'TA Total'!$A$2:$W$10000,18,0),"."),".") -> 36549
A22: =G22&"|"&I22&"|"&Q22 -> 2013|Far North District|Male / TÄne | B22: DATAFLOW | C22: STATSNZ:CEN23_POP_008(1.0) | D22: Legally registered relationship status, partnership status in current relationship, age, and gender for the census usually resident population count aged 15 years and over, (RC, TALB, SA2, Health), 2013, 2018, and 2023 Censuses | E22: I | F22: 2013 | G22: 2013 | H22: 1 | I22: Far North District | J22: 9 | K22: Not elsewhere included | L22: 99 | M22: Total - partnership status in current relationship | N22: 99 | O22: Total - age | P22: 1 | Q22: Male / TÄne | R22: 3453 | V22: =IF(T22<>"_U",IFERROR((ROUND(R22/W22*100,2)),"."),".") -> . | W22: =IF(AND(T22<>"_U",T22<>"c",J22<>9,J22<>99),IFERROR(VLOOKUP(A22,'TA Total'!$A$2:$W$10000,18,0),"."),".") -> .
A23: =G23&"|"&I23&"|"&Q23 -> 2013|Far North District|Female / Wahine | B23: DATAFLOW | C23: STATSNZ:CEN23_POP_008(1.0) | D23: Legally registered relationship status, partnership status in current relationship, age, and gender for the census usually resident population count aged 15 years and over, (RC, TALB, SA2, Health), 2013, 2018, and 2023 Censuses | E23: I | F23: 2013 | G23: 2013 | H23: 1 | I23: Far North District | J23: 9 | K23: Not elsewhere included | L23: 99 | M23: Total - partnership status in current relationship | N23: 99 | O23: Total - age | P23: 2 | Q23: Female / Wahine | R23: 3345 | V23: =IF(T23<>"_U",IFERROR((ROUND(R23/W23*100,2)),"."),".") -> . | W23: =IF(AND(T23<>"_U",T23<>"c",J23<>9,J23<>99),IFERROR(VLOOKUP(A23,'TA Total'!$A$2:$W$10000,18,0),"."),".") -> .
A24: =G24&"|"&I24&"|"&Q24 -> 2013|Far North District|Another gender / He ira kÄ“ anÅ | B24: DATAFLOW | C24: STATSNZ:CEN23_POP_008(1.0) | D24: Legally registered relationship status, partnership status in current relationship, age, and gender for the census usually resident population count aged 15 years and over, (RC, TALB, SA2, Health), 2013, 2018, and 2023 Censuses | E24: I | F24: 2013 | G24: 2013 | H24: 1 | I24: Far North District | J24: 9 | K24: Not elsewhere included | L24: 99 | M24: Total - partnership status in current relationship | N24: 99 | O24: Total - age | P24: 3 | Q24: Another gender / He ira kÄ“ anÅ | T24: _U | U24: Not available | V24: =IF(T24<>"_U",IFERROR((ROUND(R24/W24*100,2)),"."),".") -> . | W24: =IF(AND(T24<>"_U",T24<>"c",J24<>9,J24<>99),IFERROR(VLOOKUP(A24,'TA Total'!$A$2:$W$10000,18,0),"."),".") -> .
A25: =G25&"|"&I25&"|"&Q25 -> 2013|Far North District|Total - gender | B25: DATAFLOW | C25: STATSNZ:CEN23_POP_008(1.0) | D25: Legally registered relationship status, partnership status in current relationship, age, and gender for the census usually resident population count aged 15 years and over, (RC, TALB, SA2, Health), 2013, 2018, and 2023 Censuses | E25: I | F25: 2013 | G25: 2013 | H25: 1 | I25: Far North District | J25: 9 | K25: Not elsewhere included | L25: 99 | M25: Total - partnership status in current relationship | N25: 99 | O25: Total - age | P25: 99 | Q25: Total - gender | R25: 6798 | V25: =IF(T25<>"_U",IFERROR((ROUND(R25/W25*100,2)),"."),".") -> . | W25: =IF(AND(T25<>"_U",T25<>"c",J25<>9,J25<>99),IFERROR(VLOOKUP(A25,'TA Total'!$A$2:$W$10000,18,0),"."),".") -> .
A26: =G26&"|"&I26&"|"&Q26 -> 2013|Far North District|Male / TÄne | B26: DATAFLOW | C26: STATSNZ:CEN23_POP_008(1.0) | D26: Legally registered relationship status, partnership status in current relationship, age, and gender for the census usually resident population count aged 15 years and over, (RC, TALB, SA2, Health), 2013, 2018, and 2023 Censuses | E26: I | F26: 2013 | G26: 2013 | H26: 1 | I26: Far North District | J26: 77 | K26: Total stated - legally registered relationship status | L26: 99 | M26: Total - partnership status in current relationship | N26: 99 | O26: Total - age | P26: 1 | Q26: Male / TÄne | R26: 17448 | V26: =IF(T26<>"_U",IFERROR((ROUND(R26/W26*100,2)),"."),".") -> 100 | W26: =IF(AND(T26<>"_U",T26<>"c",J26<>9,J26<>99),IFERROR(VLOOKUP(A26,'TA Total'!$A$2:$W$10000,18,0),"."),".") -> 17448
A27: =G27&"|"&I27&"|"&Q27 -> 2013|Far North District|Female / Wahine | B27: DATAFLOW | C27: STATSNZ:CEN23_POP_008(1.0) | D27: Legally registered relationship status, partnership status in current relationship, age, and gender for the census usually resident population count aged 15 years and over, (RC, TALB, SA2, Health), 2013, 2018, and 2023 Censuses | E27: I | F27: 2013 | G27: 2013 | H27: 1 | I27: Far North District | J27: 77 | K27: Total stated - legally registered relationship status | L27: 99 | M27: Total - partnership status in current relationship | N27: 99 | O27: Total - age | P27: 2 | Q27: Female / Wahine | R27: 19101 | V27: =IF(T27<>"_U",IFERROR((ROUND(R27/W27*100,2)),"."),".") -> 100 | W27: =IF(AND(T27<>"_U",T27<>"c",J27<>9,J27<>99),IFERROR(VLOOKUP(A27,'TA Total'!$A$2:$W$10000,18,0),"."),".") -> 19101
A28: =G28&"|"&I28&"|"&Q28 -> 2013|Far North District|Another gender / He ira kÄ“ anÅ | B28: DATAFLOW | C28: STATSNZ:CEN23_POP_008(1.0) | D28: Legally registered relationship status, partnership status in current relationship, age, and gender for the census usually resident population count aged 15 years and over, (RC, TALB, SA2, Health), 2013, 2018, and 2023 Censuses | E28: I | F28: 2013 | G28: 2013 | H28: 1 | I28: Far North District | J28: 77 | K28: Total stated - legally registered relationship status | L28: 99 | M28: Total - partnership status in current relationship | N28: 99 | O28: Total - age | P28: 3 | Q28: Another gender / He ira kÄ“ anÅ | T28: _U | U28: Not available | V28: =IF(T28<>"_U",IFERROR((ROUND(R28/W28*100,2)),"."),".") -> . | W28: =IF(AND(T28<>"_U",T28<>"c",J28<>9,J28<>99),IFERROR(VLOOKUP(A28,'TA Total'!$A$2:$W$10000,18,0),"."),".") -> .
A29: =G29&"|"&I29&"|"&Q29 -> 2013|Far North District|Total - gender | B29: DATAFLOW | C29: STATSNZ:CEN23_POP_008(1.0) | D29: Legally registered relationship status, partnership status in current relationship, age, and gender for the census usually resident population count aged 15 years and over, (RC, TALB, SA2, Health), 2013, 2018, and 2023 Censuses | E29: I | F29: 2013 | G29: 2013 | H29: 1 | I29: Far North District | J29: 77 | K29: Total stated - legally registered relationship status | L29: 99 | M29: Total - partnership status in current relationship | N29: 99 | O29: Total - age | P29: 99 | Q29: Total - gender | R29: 36549 | V29: =IF(T29<>"_U",IFERROR((ROUND(R29/W29*100,2)),"."),".") -> 100 | W29: =IF(AND(T29<>"_U",T29<>"c",J29<>9,J29<>99),IFERROR(VLOOKUP(A29,'TA Total'!$A$2:$W$10000,18,0),"."),".") -> 36549
A30: =G30&"|"&I30&"|"&Q30 -> 2013|Far North District|Male / TÄne | B30: DATAFLOW | C30: STATSNZ:CEN23_POP_008(1.0) | D30: Legally registered relationship status, partnership status in current relationship, age, and gender for the census usually resident population count aged 15 years and over, (RC, TALB, SA2, Health), 2013, 2018, and 2023 Censuses | E30: I | F30: 2013 | G30: 2013 | H30: 1 | I30: Far North District | J30: 99 | K30: Total - legally registered relationship status | L30: 99 | M30: Total - partnership status in current relationship | N30: 99 | O30: Total - age | P30: 1 | Q30: Male / TÄne | R30: 20901 | V30: =IF(T30<>"_U",IFERROR((ROUND(R30/W30*100,2)),"."),".") -> . | W30: =IF(AND(T30<>"_U",T30<>"c",J30<>9,J30<>99),IFERROR(VLOOKUP(A30,'TA Total'!$A$2:$W$10000,18,0),"."),".") -> .
A31: =G31&"|"&I31&"|"&Q31 -> 2013|Far North District|Female / Wahine | B31: DATAFLOW | C31: STATSNZ:CEN23_POP_008(1.0) | D31: Legally registered relationship status, partnership status in current relationship, age, and gender for the census usually resident population count aged 15 years and over, (RC, TALB, SA2, Health), 2013, 2018, and 2023 Censuses | E31: I | F31: 2013 | G31: 2013 | H31: 1 | I31: Far North District | J31: 99 | K31: Total - legally registered relationship status | L31: 99 | M31: Total - partnership status in current relationship | N31: 99 | O31: Total - age | P31: 2 | Q31: Female / Wahine | R31: 22446 | V31: =IF(T31<>"_U",IFERROR((ROUND(R31/W31*100,2)),"."),".") -> . | W31: =IF(AND(T31<>"_U",T31<>"c",J31<>9,J31<>99),IFERROR(VLOOKUP(A31,'TA Total'!$A$2:$W$10000,18,0),"."),".") -> .
A32: =G32&"|"&I32&"|"&Q32 -> 2013|Far North District|Another gender / He ira kÄ“ anÅ | B32: DATAFLOW | C32: STATSNZ:CEN23_POP_008(1.0) | D32: Legally registered relationship status, partnership status in current relationship, age, and gender for the census usually resident population count aged 15 years and over, (RC, TALB, SA2, Health), 2013, 2018, and 2023 Censuses | E32: I | F32: 2013 | G32: 2013 | H32: 1 | I32: Far North District | J32: 99 | K32: Total - legally registered relationship status | L32: 99 | M32: Total - partnership status in current relationship | N32: 99 | O32: Total - age | P32: 3 | Q32: Another gender / He ira kÄ“ anÅ | T32: _U | U32: Not available | V32: =IF(T32<>"_U",IFERROR((ROUND(R32/W32*100,2)),"."),".") -> . | W32: =IF(AND(T32<>"_U",T32<>"c",J32<>9,J32<>99),IFERROR(VLOOKUP(A32,'TA Total'!$A$2:$W$10000,18,0),"."),".") -> .
A33: =G33&"|"&I33&"|"&Q33 -> 2013|Far North District|Total - gender | B33: DATAFLOW | C33: STATSNZ:CEN23_POP_008(1.0) | D33: Legally registered relationship status, partnership status in current relationship, age, and gender for the census usually resident population count aged 15 years and over, (RC, TALB, SA2, Health), 2013, 2018, and 2023 Censuses | E33: I | F33: 2013 | G33: 2013 | H33: 1 | I33: Far North District | J33: 99 | K33: Total - legally registered relationship status | L33: 99 | M33: Total - partnership status in current relationship | N33: 99 | O33: Total - age | P33: 99 | Q33: Total - gender | R33: 43347 | V33: =IF(T33<>"_U",IFERROR((ROUND(R33/W33*100,2)),"."),".") -> . | W33: =IF(AND(T33<>"_U",T33<>"c",J33<>9,J33<>99),IFERROR(VLOOKUP(A33,'TA Total'!$A$2:$W$10000,18,0),"."),".") -> .
A34: =G34&"|"&I34&"|"&Q34 -> 2013|Whangarei District|Male / TÄne | B34: DATAFLOW | C34: STATSNZ:CEN23_POP_008(1.0) | D34: Legally registered relationship status, partnership status in current relationship, age, and gender for the census usually resident population count aged 15 years and over, (RC, TALB, SA2, Health), 2013, 2018, and 2023 Censuses | E34: I | F34: 2013 | G34: 2013 | H34: 2 | I34: Whangarei District | J34: 1 | K34: Married (Not Separated) | L34: 99 | M34: Total - partnership status in current relationship | N34: 99 | O34: Total - age | P34: 1 | Q34: Male / TÄne | R34: 13179 | V34: =IF(T34<>"_U",IFERROR((ROUND(R34/W34*100,2)),"."),".") -> 52.19 | W34: =IF(AND(T34<>"_U",T34<>"c",J34<>9,J34<>99),IFERROR(VLOOKUP(A34,'TA Total'!$A$2:$W$10000,18,0),"."),".") -> 25254
A35: =G35&"|"&I35&"|"&Q35 -> 2013|Whangarei District|Female / Wahine | B35: DATAFLOW | C35: STATSNZ:CEN23_POP_008(1.0) | D35: Legally registered relationship status, partnership status in current relationship, age, and gender for the census usually resident population count aged 15 years and over, (RC, TALB, SA2, Health), 2013, 2018, and 2023 Censuses | E35: I | F35: 2013 | G35: 2013 | H35: 2 | I35: Whangarei District | J35: 1 | K35: Married (Not Separated) | L35: 99 | M35: Total - partnership status in current relationship | N35: 99 | O35: Total - age | P35: 2 | Q35: Female / Wahine | R35: 13395 | V35: =IF(T35<>"_U",IFERROR((ROUND(R35/W35*100,2)),"."),".") -> 46.78 | W35: =IF(AND(T35<>"_U",T35<>"c",J35<>9,J35<>99),IFERROR(VLOOKUP(A35,'TA Total'!$A$2:$W$10000,18,0),"."),".") -> 28635
A36: =G36&"|"&I36&"|"&Q36 -> 2013|Whangarei District|Another gender / He ira kÄ“ anÅ | B36: DATAFLOW | C36: STATSNZ:CEN23_POP_008(1.0) | D36: Legally registered relationship status, partnership status in current relationship, age, and gender for the census usually resident population count aged 15 years and over, (RC, TALB, SA2, Health), 2013, 2018, and 2023 Censuses | E36: I | F36: 2013 | G36: 2013 | H36: 2 | I36: Whangarei District | J36: 1 | K36: Married (Not Separated) | L36: 99 | M36: Total - partnership status in current relationship | N36: 99 | O36: Total - age | P36: 3 | Q36: Another gender / He ira kÄ“ anÅ | T36: _U | U36: Not available | V36: =IF(T36<>"_U",IFERROR((ROUND(R36/W36*100,2)),"."),".") -> . | W36: =IF(AND(T36<>"_U",T36<>"c",J36<>9,J36<>99),IFERROR(VLOOKUP(A36,'TA Total'!$A$2:$W$10000,18,0),"."),".") -> .
A37: =G37&"|"&I37&"|"&Q37 -> 2013|Whangarei District|Total - gender | B37: DATAFLOW | C37: STATSNZ:CEN23_POP_008(1.0) | D37: Legally registered relationship status, partnership status in current relationship, age, and gender for the census usually resident population count aged 15 years and over, (RC, TALB, SA2, Health), 2013, 2018, and 2023 Censuses | E37: I | F37: 2013 | G37: 2013 | H37: 2 | I37: Whangarei District | J37: 1 | K37: Married (Not Separated) | L37: 99 | M37: Total - partnership status in current relationship | N37: 99 | O37: Total - age | P37: 99 | Q37: Total - gender | R37: 26574 | V37: =IF(T37<>"_U",IFERROR((ROUND(R37/W37*100,2)),"."),".") -> 49.31 | W37: =IF(AND(T37<>"_U",T37<>"c",J37<>9,J37<>99),IFERROR(VLOOKUP(A37,'TA Total'!$A$2:$W$10000,18,0),"."),".") -> 53892
A38: =G38&"|"&I38&"|"&Q38 -> 2013|Whangarei District|Male / TÄne | B38: DATAFLOW | C38: STATSNZ:CEN23_POP_008(1.0) | D38: Legally registered relationship status, partnership status in current relationship, age, and gender for the census usually resident population count aged 15 years and over, (RC, TALB, SA2, Health), 2013, 2018, and 2023 Censuses | E38: I | F38: 2013 | G38: 2013 | H38: 2 | I38: Whangarei District | J38: 3 | K38: Separated | L38: 99 | M38: Total - partnership status in current relationship | N38: 99 | O38: Total - age | P38: 1 | Q38: Male / TÄne | R38: 930 | V38: =IF(T38<>"_U",IFERROR((ROUND(R38/W38*100,2)),"."),".") -> 3.68 | W38: =IF(AND(T38<>"_U",T38<>"c",J38<>9,J38<>99),IFERROR(VLOOKUP(A38,'TA Total'!$A$2:$W$10000,18,0),"."),".") -> 25254
A39: =G39&"|"&I39&"|"&Q39 -> 2013|Whangarei District|Female / Wahine | B39: DATAFLOW | C39: STATSNZ:CEN23_POP_008(1.0) | D39: Legally registered relationship status, partnership status in current relationship, age, and gender for the census usually resident population count aged 15 years and over, (RC, TALB, SA2, Health), 2013, 2018, and 2023 Censuses | E39: I | F39: 2013 | G39: 2013 | H39: 2 | I39: Whangarei District | J39: 3 | K39: Separated | L39: 99 | M39: Total - partnership status in current relationship | N39: 99 | O39: Total - age | P39: 2 | Q39: Female / Wahine | R39: 1227 | V39: =IF(T39<>"_U",IFERROR((ROUND(R39/W39*100,2)),"."),".") -> 4.28 | W39: =IF(AND(T39<>"_U",T39<>"c",J39<>9,J39<>99),IFERROR(VLOOKUP(A39,'TA Total'!$A$2:$W$10000,18,0),"."),".") -> 28635
A40: =G40&"|"&I40&"|"&Q40 -> 2013|Whangarei District|Another gender / He ira kÄ“ anÅ | B40: DATAFLOW | C40: STATSNZ:CEN23_POP_008(1.0) | D40: Legally registered relationship status, partnership status in current relationship, age, and gender for the census usually resident population count aged 15 years and over, (RC, TALB, SA2, Health), 2013, 2018, and 2023 Censuses | E40: I | F40: 2013 | G40: 2013 | H40: 2 | I40: Whangarei District | J40: 3 | K40: Separated | L40: 99 | M40: Total - partnership status in current relationship | N40: 99 | O40: Total - age | P40: 3 | Q40: Another gender / He ira kÄ“ anÅ | T40: _U | U40: Not available | V40: =IF(T40<>"_U",IFERROR((ROUND(R40/W40*100,2)),"."),".") -> . | W40: =IF(AND(T40<>"_U",T40<>"c",J40<>9,J40<>99),IFERROR(VLOOKUP(A40,'TA Total'!$A$2:$W$10000,18,0),"."),".") -> .
A41: =G41&"|"&I41&"|"&Q41 -> 2013|Whangarei District|Total - gender | B41: DATAFLOW | C41: STATSNZ:CEN23_POP_008(1.0) | D41: Legally registered relationship status, partnership status in current relationship, age, and gender for the census usually resident population count aged 15 years and over, (RC, TALB, SA2, Health), 2013, 2018, and 2023 Censuses | E41: I | F41: 2013 | G41: 2013 | H41: 2 | I41: Whangarei District | J41: 3 | K41: Separated | L41: 99 | M41: Total - partnership status in current relationship | N41: 99 | O41: Total - age | P41: 99 | Q41: Total - gender | R41: 2157 | V41: =IF(T41<>"_U",IFERROR((ROUND(R41/W41*100,2)),"."),".") -> 4 | W41: =IF(AND(T41<>"_U",T41<>"c",J41<>9,J41<>99),IFERROR(VLOOKUP(A41,'TA Total'!$A$2:$W$10000,18,0),"."),".") -> 53892
A42: =G42&"|"&I42&"|"&Q42 -> 2013|Whangarei District|Male / TÄne | B42: DATAFLOW | C42: STATSNZ:CEN23_POP_008(1.0) | D42: Legally registered relationship status, partnership status in current relationship, age, and gender for the census usually resident population count aged 15 years and over, (RC, TALB, SA2, Health), 2013, 2018, and 2023 Censuses | E42: I | F42: 2013 | G42: 2013 | H42: 2 | I42: Whangarei District | J42: 4 | K42: Divorced or dissolved | L42: 99 | M42: Total - partnership status in current relationship | N42: 99 | O42: Total - age | P42: 1 | Q42: Male / TÄne | R42: 2085 | V42: =IF(T42<>"_U",IFERROR((ROUND(R42/W42*100,2)),"."),".") -> 8.26 | W42: =IF(AND(T42<>"_U",T42<>"c",J42<>9,J42<>99),IFERROR(VLOOKUP(A42,'TA Total'!$A$2:$W$10000,18,0),"."),".") -> 25254
A43: =G43&"|"&I43&"|"&Q43 -> 2013|Whangarei District|Female / Wahine | B43: DATAFLOW | C43: STATSNZ:CEN23_POP_008(1.0) | D43: Legally registered relationship status, partnership status in current relationship, age, and gender for the census usually resident population count aged 15 years and over, (RC, TALB, SA2, Health), 2013, 2018, and 2023 Censuses | E43: I | F43: 2013 | G43: 2013 | H43: 2 | I43: Whangarei District | J43: 4 | K43: Divorced or dissolved | L43: 99 | M43: Total - partnership status in current relationship | N43: 99 | O43: Total - age | P43: 2 | Q43: Female / Wahine | R43: 2790 | V43: =IF(T43<>"_U",IFERROR((ROUND(R43/W43*100,2)),"."),".") -> 9.74 | W43: =IF(AND(T43<>"_U",T43<>"c",J43<>9,J43<>99),IFERROR(VLOOKUP(A43,'TA Total'!$A$2:$W$10000,18,0),"."),".") -> 28635
A44: =G44&"|"&I44&"|"&Q44 -> 2013|Whangarei District|Another gender / He ira kÄ“ anÅ | B44: DATAFLOW | C44: STATSNZ:CEN23_POP_008(1.0) | D44: Legally registered relationship status, partnership status in current relationship, age, and gender for the census usually resident population count aged 15 years and over, (RC, TALB, SA2, Health), 2013, 2018, and 2023 Censuses | E44: I | F44: 2013 | G44: 2013 | H44: 2 | I44: Whangarei District | J44: 4 | K44: Divorced or dissolved | L44: 99 | M44: Total - partnership status in current relationship | N44: 99 | O44: Total - age | P44: 3 | Q44: Another gender / He ira kÄ“ anÅ | T44: _U | U44: Not available | V44: =IF(T44<>"_U",IFERROR((ROUND(R44/W44*100,2)),"."),".") -> . | W44: =IF(AND(T44<>"_U",T44<>"c",J44<>9,J44<>99),IFERROR(VLOOKUP(A44,'TA Total'!$A$2:$W$10000,18,0),"."),".") -> .
A45: =G45&"|"&I45&"|"&Q45 -> 2013|Whangarei District|Total - gender | B45: DATAFLOW | C45: STATSNZ:CEN23_POP_008(1.0) | D45: Legally registered relationship status, partnership status in current relationship, age, and gender for the census usually resident population count aged 15 years and over, (RC, TALB, SA2, Health), 2013, 2018, and 2023 Censuses | E45: I | F45: 2013 | G45: 2013 | H45: 2 | I45: Whangarei District | J45: 4 | K45: Divorced or dissolved | L45: 99 | M45: Total - partnership status in current relationship | N45: 99 | O45: Total - age | P45: 99 | Q45: Total - gender | R45: 4875 | V45: =IF(T45<>"_U",IFERROR((ROUND(R45/W45*100,2)),"."),".") -> 9.05 | W45: =IF(AND(T45<>"_U",T45<>"c",J45<>9,J45<>99),IFERROR(VLOOKUP(A45,'TA Total'!$A$2:$W$10000,18,0),"."),".") -> 53892
A46: =G46&"|"&I46&"|"&Q46 -> 2013|Whangarei District|Male / TÄne | B46: DATAFLOW | C46: STATSNZ:CEN23_POP_008(1.0) | D46: Legally registered relationship status, partnership status in current relationship, age, and gender for the census usually resident population count aged 15 years and over, (RC, TALB, SA2, Health), 2013, 2018, and 2023 Censuses | E46: I | F46: 2013 | G46: 2013 | H46: 2 | I46: Whangarei District | J46: 5 | K46: Widowed or surviving civil union partner | L46: 99 | M46: Total - partnership status in current relationship | N46: 99 | O46: Total - age | P46: 1 | Q46: Male / TÄne | R46: 825 | V46: =IF(T46<>"_U",IFERROR((ROUND(R46/W46*100,2)),"."),".") -> 3.27 | W46: =IF(AND(T46<>"_U",T46<>"c",J46<>9,J46<>99),IFERROR(VLOOKUP(A46,'TA Total'!$A$2:$W$10000,18,0),"."),".") -> 25254
A47: =G47&"|"&I47&"|"&Q47 -> 2013|Whangarei District|Female / Wahine | B47: DATAFLOW | C47: STATSNZ:CEN23_POP_008(1.0) | D47: Legally registered relationship status, partnership status in current relationship, age, and gender for the census usually resident population count aged 15 years and over, (RC, TALB, SA2, Health), 2013, 2018, and 2023 Censuses | E47: I | F47: 2013 | G47: 2013 | H47: 2 | I47: Whangarei District | J47: 5 | K47: Widowed or surviving civil union partner | L47: 99 | M47: Total - partnership status in current relationship | N47: 99 | O47: Total - age | P47: 2 | Q47: Female / Wahine | R47: 3054 | V47: =IF(T47<>"_U",IFERROR((ROUND(R47/W47*100,2)),"."),".") -> 10.67 | W47: =IF(AND(T47<>"_U",T47<>"c",J47<>9,J47<>99),IFERROR(VLOOKUP(A47,'TA Total'!$A$2:$W$10000,18,0),"."),".") -> 28635
A48: =G48&"|"&I48&"|"&Q48 -> 2013|Whangarei District|Another gender / He ira kÄ“ anÅ | B48: DATAFLOW | C48: STATSNZ:CEN23_POP_008(1.0) | D48: Legally registered relationship status, partnership status in current relationship, age, and gender for the census usually resident population count aged 15 years and over, (RC, TALB, SA2, Health), 2013, 2018, and 2023 Censuses | E48: I | F48: 2013 | G48: 2013 | H48: 2 | I48: Whangarei District | J48: 5 | K48: Widowed or surviving civil union partner | L48: 99 | M48: Total - partnership status in current relationship | N48: 99 | O48: Total - age | P48: 3 | Q48: Another gender / He ira kÄ“ anÅ | T48: _U | U48: Not available | V48: =IF(T48<>"_U",IFERROR((ROUND(R48/W48*100,2)),"."),".") -> . | W48: =IF(AND(T48<>"_U",T48<>"c",J48<>9,J48<>99),IFERROR(VLOOKUP(A48,'TA Total'!$A$2:$W$10000,18,0),"."),".") -> .
A49: =G49&"|"&I49&"|"&Q49 -> 2013|Whangarei District|Total - gender | B49: DATAFLOW | C49: STATSNZ:CEN23_POP_008(1.0) | D49: Legally registered relationship status, partnership status in current relationship, age, and gender for the census usually resident population count aged 15 years and over, (RC, TALB, SA2, Health), 2013, 2018, and 2023 Censuses | E49: I | F49: 2013 | G49: 2013 | H49: 2 | I49: Whangarei District | J49: 5 | K49: Widowed or surviving civil union partner | L49: 99 | M49: Total - partnership status in current relationship | N49: 99 | O49: Total - age | P49: 99 | Q49: Total - gender | R49: 3879 | V49: =IF(T49<>"_U",IFERROR((ROUND(R49/W49*100,2)),"."),".") -> 7.2 | W49: =IF(AND(T49<>"_U",T49<>"c",J49<>9,J49<>99),IFERROR(VLOOKUP(A49,'TA Total'!$A$2:$W$10000,18,0),"."),".") -> 53892
A50: =G50&"|"&I50&"|"&Q50 -> 2013|Whangarei District|Male / TÄne | B50: DATAFLOW | C50: STATSNZ:CEN23_POP_008(1.0) | D50: Legally registered relationship status, partnership status in current relationship, age, and gender for the census usually resident population count aged 15 years and over, (RC, TALB, SA2, Health), 2013, 2018, and 2023 Censuses | E50: I | F50: 2013 | G50: 2013 | H50: 2 | I50: Whangarei District | J50: 6 | K50: Never married and never in a civil union | L50: 99 | M50: Total - partnership status in current relationship | N50: 99 | O50: Total - age | P50: 1 | Q50: Male / TÄne | R50: 8235 | V50: =IF(T50<>"_U",IFERROR((ROUND(R50/W50*100,2)),"."),".") -> 32.61 | W50: =IF(AND(T50<>"_U",T50<>"c",J50<>9,J50<>99),IFERROR(VLOOKUP(A50,'TA Total'!$A$2:$W$10000,18,0),"."),".") -> 25254
A51: =G51&"|"&I51&"|"&Q51 -> 2013|Whangarei District|Female / Wahine | B51: DATAFLOW | C51: STATSNZ:CEN23_POP_008(1.0) | D51: Legally registered relationship status, partnership status in current relationship, age, and gender for the census usually resident population count aged 15 years and over, (RC, TALB, SA2, Health), 2013, 2018, and 2023 Censuses | E51: I | F51: 2013 | G51: 2013 | H51: 2 | I51: Whangarei District | J51: 6 | K51: Never married and never in a civil union | L51: 99 | M51: Total - partnership status in current relationship | N51: 99 | O51: Total - age | P51: 2 | Q51: Female / Wahine | R51: 8166 | V51: =IF(T51<>"_U",IFERROR((ROUND(R51/W51*100,2)),"."),".") -> 28.52 | W51: =IF(AND(T51<>"_U",T51<>"c",J51<>9,J51<>99),IFERROR(VLOOKUP(A51,'TA Total'!$A$2:$W$10000,18,0),"."),".") -> 28635
A52: =G52&"|"&I52&"|"&Q52 -> 2013|Whangarei District|Another gender / He ira kÄ“ anÅ | B52: DATAFLOW | C52: STATSNZ:CEN23_POP_008(1.0) | D52: Legally registered relationship status, partnership status in current relationship, age, and gender for the census usually resident population count aged 15 years and over, (RC, TALB, SA2, Health), 2013, 2018, and 2023 Censuses | E52: I | F52: 2013 | G52: 2013 | H52: 2 | I52: Whangarei District | J52: 6 | K52: Never married and never in a civil union | L52: 99 | M52: Total - partnership status in current relationship | N52: 99 | O52: Total - age | P52: 3 | Q52: Another gender / He ira kÄ“ anÅ | T52: _U | U52: Not available | V52: =IF(T52<>"_U",IFERROR((ROUND(R52/W52*100,2)),"."),".") -> . | W52: =IF(AND(T52<>"_U",T52<>"c",J52<>9,J52<>99),IFERROR(VLOOKUP(A52,'TA Total'!$A$2:$W$10000,18,0),"."),".") -> .
A53: =G53&"|"&I53&"|"&Q53 -> 2013|Whangarei District|Total - gender | B53: DATAFLOW | C53: STATSNZ:CEN23_POP_008(1.0) | D53: Legally registered relationship status, partnership status in current relationship, age, and gender for the census usually resident population count aged 15 years and over, (RC, TALB, SA2, Health), 2013, 2018, and 2023 Censuses | E53: I | F53: 2013 | G53: 2013 | H53: 2 | I53: Whangarei District | J53: 6 | K53: Never married and never in a civil union | L53: 99 | M53: Total - partnership status in current relationship | N53: 99 | O53: Total - age | P53: 99 | Q53: Total - gender | R53: 16401 | V53: =IF(T53<>"_U",IFERROR((ROUND(R53/W53*100,2)),"."),".") -> 30.43 | W53: =IF(AND(T53<>"_U",T53<>"c",J53<>9,J53<>99),IFERROR(VLOOKUP(A53,'TA Total'!$A$2:$W$10000,18,0),"."),".") -> 53892
A54: =G54&"|"&I54&"|"&Q54 -> 2013|Whangarei District|Male / TÄne | B54: DATAFLOW | C54: STATSNZ:CEN23_POP_008(1.0) | D54: Legally registered relationship status, partnership status in current relationship, age, and gender for the census usually resident population count aged 15 years and over, (RC, TALB, SA2, Health), 2013, 2018, and 2023 Censuses | E54: I | F54: 2013 | G54: 2013 | H54: 2 | I54: Whangarei District | J54: 9 | K54: Not elsewhere included | L54: 99 | M54: Total - partnership status in current relationship | N54: 99 | O54: Total - age | P54: 1 | Q54: Male / TÄne | R54: 3273 | V54: =IF(T54<>"_U",IFERROR((ROUND(R54/W54*100,2)),"."),".") -> . | W54: =IF(AND(T54<>"_U",T54<>"c",J54<>9,J54<>99),IFERROR(VLOOKUP(A54,'TA Total'!$A$2:$W$10000,18,0),"."),".") -> .
A55: =G55&"|"&I55&"|"&Q55 -> 2013|Whangarei District|Female / Wahine | B55: DATAFLOW | C55: STATSNZ:CEN23_POP_008(1.0) | D55: Legally registered relationship status, partnership status in current relationship, age, and gender for the census usually resident population count aged 15 years and over, (RC, TALB, SA2, Health), 2013, 2018, and 2023 Censuses | E55: I | F55: 2013 | G55: 2013 | H55: 2 | I55: Whangarei District | J55: 9 | K55: Not elsewhere included | L55: 99 | M55: Total - partnership status in current relationship | N55: 99 | O55: Total - age | P55: 2 | Q55: Female / Wahine | R55: 3264 | V55: =IF(T55<>"_U",IFERROR((ROUND(R55/W55*100,2)),"."),".") -> . | W55: =IF(AND(T55<>"_U",T55<>"c",J55<>9,J55<>99),IFERROR(VLOOKUP(A55,'TA Total'!$A$2:$W$10000,18,0),"."),".") -> .
A56: =G56&"|"&I56&"|"&Q56 -> 2013|Whangarei District|Another gender / He ira kÄ“ anÅ | B56: DATAFLOW | C56: STATSNZ:CEN23_POP_008(1.0) | D56: Legally registered relationship status, partnership status in current relationship, age, and gender for the census usually resident population count aged 15 years and over, (RC, TALB, SA2, Health), 2013, 2018, and 2023 Censuses | E56: I | F56: 2013 | G56: 2013 | H56: 2 | I56: Whangarei District | J56: 9 | K56: Not elsewhere included | L56: 99 | M56: Total - partnership status in current relationship | N56: 99 | O56: Total - age | P56: 3 | Q56: Another gender / He ira kÄ“ anÅ | T56: _U | U56: Not available | V56: =IF(T56<>"_U",IFERROR((ROUND(R56/W56*100,2)),"."),".") -> . | W56: =IF(AND(T56<>"_U",T56<>"c",J56<>9,J56<>99),IFERROR(VLOOKUP(A56,'TA Total'!$A$2:$W$10000,18,0),"."),".") -> .
A57: =G57&"|"&I57&"|"&Q57 -> 2013|Whangarei District|Total - gender | B57: DATAFLOW | C57: STATSNZ:CEN23_POP_008(1.0) | D57: Legally registered relationship status, partnership status in current relationship, age, and gender for the census usually resident population count aged 15 years and over, (RC, TALB, SA2, Health), 2013, 2018, and 2023 Censuses | E57: I | F57: 2013 | G57: 2013 | H57: 2 | I57: Whangarei District | J57: 9 | K57: Not elsewhere included | L57: 99 | M57: Total - partnership status in current relationship | N57: 99 | O57: Total - age | P57: 99 | Q57: Total - gender | R57: 6537 | V57: =IF(T57<>"_U",IFERROR((ROUND(R57/W57*100,2)),"."),".") -> . | W57: =IF(AND(T57<>"_U",T57<>"c",J57<>9,J57<>99),IFERROR(VLOOKUP(A57,'TA Total'!$A$2:$W$10000,18,0),"."),".") -> .
A58: =G58&"|"&I58&"|"&Q58 -> 2013|Whangarei District|Male / TÄne | B58: DATAFLOW | C58: STATSNZ:CEN23_POP_008(1.0) | D58: Legally registered relationship status, partnership status in current relationship, age, and gender for the census usually resident population count aged 15 years and over, (RC, TALB, SA2, Health), 2013, 2018, and 2023 Censuses | E58: I | F58: 2013 | G58: 2013 | H58: 2 | I58: Whangarei District | J58: 77 | K58: Total stated - legally registered relationship status | L58: 99 | M58: Total - partnership status in current relationship | N58: 99 | O58: Total - age | P58: 1 | Q58: Male / TÄne | R58: 25254 | V58: =IF(T58<>"_U",IFERROR((ROUND(R58/W58*100,2)),"."),".") -> 100 | W58: =IF(AND(T58<>"_U",T58<>"c",J58<>9,J58<>99),IFERROR(VLOOKUP(A58,'TA Total'!$A$2:$W$10000,18,0),"."),".") -> 25254
A59: =G59&"|"&I59&"|"&Q59 -> 2013|Whangarei District|Female / Wahine | B59: DATAFLOW | C59: STATSNZ:CEN23_POP_008(1.0) | D59: Legally registered relationship status, partnership status in current relationship, age, and gender for the census usually resident population count aged 15 years and over, (RC, TALB, SA2, Health), 2013, 2018, and 2023 Censuses | E59: I | F59: 2013 | G59: 2013 | H59: 2 | I59: Whangarei District | J59: 77 | K59: Total stated - legally registered relationship status | L59: 99 | M59: Total - partnership status in current relationship | N59: 99 | O59: Total - age | P59: 2 | Q59: Female / Wahine | R59: 28635 | V59: =IF(T59<>"_U",IFERROR((ROUND(R59/W59*100,2)),"."),".") -> 100 | W59: =IF(AND(T59<>"_U",T59<>"c",J59<>9,J59<>99),IFERROR(VLOOKUP(A59,'TA Total'!$A$2:$W$10000,18,0),"."),".") -> 28635
A60: =G60&"|"&I60&"|"&Q60 -> 2013|Whangarei District|Another gender / He ira kÄ“ anÅ | B60: DATAFLOW | C60: STATSNZ:CEN23_POP_008(1.0) | D60: Legally registered relationship status, partnership status in current relationship, age, and gender for the census usually resident population count aged 15 years and over, (RC, TALB, SA2, Health), 2013, 2018, and 2023 Censuses | E60: I | F60: 2013 | G60: 2013 | H60: 2 | I60: Whangarei District | J60: 77 | K60: Total stated - legally registered relationship status | L60: 99 | M60: Total - partnership status in current relationship | N60: 99 | O60: Total - age | P60: 3 | Q60: Another gender / He ira kÄ“ anÅ | T60: _U | U60: Not available | V60: =IF(T60<>"_U",IFERROR((ROUND(R60/W60*100,2)),"."),".") -> . | W60: =IF(AND(T60<>"_U",T60<>"c",J60<>9,J60<>99),IFERROR(VLOOKUP(A60,'TA Total'!$A$2:$W$10000,18,0),"."),".") -> .
A61: =G61&"|"&I61&"|"&Q61 -> 2013|Whangarei District|Total - gender | B61: DATAFLOW | C61: STATSNZ:CEN23_POP_008(1.0) | D61: Legally registered relationship status, partnership status in current relationship, age, and gender for the census usually resident population count aged 15 years and over, (RC, TALB, SA2, Health), 2013, 2018, and 2023 Censuses | E61: I | F61: 2013 | G61: 2013 | H61: 2 | I61: Whangarei District | J61: 77 | K61: Total stated - legally registered relationship status | L61: 99 | M61: Total - partnership status in current relationship | N61: 99 | O61: Total - age | P61: 99 | Q61: Total - gender | R61: 53892 | V61: =IF(T61<>"_U",IFERROR((ROUND(R61/W61*100,2)),"."),".") -> 100 | W61: =IF(AND(T61<>"_U",T61<>"c",J61<>9,J61<>99),IFERROR(VLOOKUP(A61,'TA Total'!$A$2:$W$10000,18,0),"."),".") -> 53892
A62: =G62&"|"&I62&"|"&Q62 -> 2013|Whangarei District|Male / TÄne | B62: DATAFLOW | C62: STATSNZ:CEN23_POP_008(1.0) | D62: Legally registered relationship status, partnership status in current relationship, age, and gender for the census usually resident population count aged 15 years and over, (RC, TALB, SA2, Health), 2013, 2018, and 2023 Censuses | E62: I | F62: 2013 | G62: 2013 | H62: 2 | I62: Whangarei District | J62: 99 | K62: Total - legally registered relationship status | L62: 99 | M62: Total - partnership status in current relationship | N62: 99 | O62: Total - age | P62: 1 | Q62: Male / TÄne | R62: 28527 | V62: =IF(T62<>"_U",IFERROR((ROUND(R62/W62*100,2)),"."),".") -> . | W62: =IF(AND(T62<>"_U",T62<>"c",J62<>9,J62<>99),IFERROR(VLOOKUP(A62,'TA Total'!$A$2:$W$10000,18,0),"."),".") -> .
A63: =G63&"|"&I63&"|"&Q63 -> 2013|Whangarei District|Female / Wahine | B63: DATAFLOW | C63: STATSNZ:CEN23_POP_008(1.0) | D63: Legally registered relationship status, partnership status in current relationship, age, and gender for the census usually resident population count aged 15 years and over, (RC, TALB, SA2, Health), 2013, 2018, and 2023 Censuses | E63: I | F63: 2013 | G63: 2013 | H63: 2 | I63: Whangarei District | J63: 99 | K63: Total - legally registered relationship status | L63: 99 | M63: Total - partnership status in current relationship | N63: 99 | O63: Total - age | P63: 2 | Q63: Female / Wahine | R63: 31902 | V63: =IF(T63<>"_U",IFERROR((ROUND(R63/W63*100,2)),"."),".") -> . | W63: =IF(AND(T63<>"_U",T63<>"c",J63<>9,J63<>99),IFERROR(VLOOKUP(A63,'TA Total'!$A$2:$W$10000,18,0),"."),".") -> .
A64: =G64&"|"&I64&"|"&Q64 -> 2013|Whangarei District|Another gender / He ira kÄ“ anÅ | B64: DATAFLOW | C64: STATSNZ:CEN23_POP_008(1.0) | D64: Legally registered relationship status, partnership status in current relationship, age, and gender for the census usually resident population count aged 15 years and over, (RC, TALB, SA2, Health), 2013, 2018, and 2023 Censuses | E64: I | F64: 2013 | G64: 2013 | H64: 2 | I64: Whangarei District | J64: 99 | K64: Total - legally registered relationship status | L64: 99 | M64: Total - partnership status in current relationship | N64: 99 | O64: Total - age | P64: 3 | Q64: Another gender / He ira kÄ“ anÅ | T64: _U | U64: Not available | V64: =IF(T64<>"_U",IFERROR((ROUND(R64/W64*100,2)),"."),".") -> . | W64: =IF(AND(T64<>"_U",T64<>"c",J64<>9,J64<>99),IFERROR(VLOOKUP(A64,'TA Total'!$A$2:$W$10000,18,0),"."),".") -> .
A65: =G65&"|"&I65&"|"&Q65 -> 2013|Whangarei District|Total - gender | B65: DATAFLOW | C65: STATSNZ:CEN23_POP_008(1.0) | D65: Legally registered relationship status, partnership status in current relationship, age, and gender for the census usually resident population count aged 15 years and over, (RC, TALB, SA2, Health), 2013, 2018, and 2023 Censuses | E65: I | F65: 2013 | G65: 2013 | H65: 2 | I65: Whangarei District | J65: 99 | K65: Total - legally registered relationship status | L65: 99 | M65: Total - partnership status in current relationship | N65: 99 | O65: Total - age | P65: 99 | Q65: Total - gender | R65: 60429 | V65: =IF(T65<>"_U",IFERROR((ROUND(R65/W65*100,2)),"."),".") -> . | W65: =IF(AND(T65<>"_U",T65<>"c",J65<>9,J65<>99),IFERROR(VLOOKUP(A65,'TA Total'!$A$2:$W$10000,18,0),"."),".") -> .
A66: =G66&"|"&I66&"|"&Q66 -> 2013|Kaipara District|Male / TÄne | B66: DATAFLOW | C66: STATSNZ:CEN23_POP_008(1.0) | D66: Legally registered relationship status, partnership status in current relationship, age, and gender for the census usually resident population count aged 15 years and over, (RC, TALB, SA2, Health), 2013, 2018, and 2023 Censuses | E66: I | F66: 2013 | G66: 2013 | H66: 3 | I66: Kaipara District | J66: 1 | K66: Married (Not Separated) | L66: 99 | M66: Total - partnership status in current relationship | N66: 99 | O66: Total - age | P66: 1 | Q66: Male / TÄne | R66: 3462 | V66: =IF(T66<>"_U",IFERROR((ROUND(R66/W66*100,2)),"."),".") -> 51.49 | W66: =IF(AND(T66<>"_U",T66<>"c",J66<>9,J66<>99),IFERROR(VLOOKUP(A66,'TA Total'!$A$2:$W$10000,18,0),"."),".") -> 6723
A67: =G67&"|"&I67&"|"&Q67 -> 2013|Kaipara District|Female / Wahine | B67: DATAFLOW | C67: STATSNZ:CEN23_POP_008(1.0) | D67: Legally registered relationship status, partnership status in current relationship, age, and gender for the census usually resident population count aged 15 years and over, (RC, TALB, SA2, Health), 2013, 2018, and 2023 Censuses | E67: I | F67: 2013 | G67: 2013 | H67: 3 | I67: Kaipara District | J67: 1 | K67: Married (Not Separated) | L67: 99 | M67: Total - partnership status in current relationship | N67: 99 | O67: Total - age | P67: 2 | Q67: Female / Wahine | R67: 3477 | V67: =IF(T67<>"_U",IFERROR((ROUND(R67/W67*100,2)),"."),".") -> 49.79 | W67: =IF(AND(T67<>"_U",T67<>"c",J67<>9,J67<>99),IFERROR(VLOOKUP(A67,'TA Total'!$A$2:$W$10000,18,0),"."),".") -> 6984
A68: =G68&"|"&I68&"|"&Q68 -> 2013|Kaipara District|Another gender / He ira kÄ“ anÅ | B68: DATAFLOW | C68: STATSNZ:CEN23_POP_008(1.0) | D68: Legally registered relationship status, partnership status in current relationship, age, and gender for the census usually resident population count aged 15 years and over, (RC, TALB, SA2, Health), 2013, 2018, and 2023 Censuses | E68: I | F68: 2013 | G68: 2013 | H68: 3 | I68: Kaipara District | J68: 1 | K68: Married (Not Separated) | L68: 99 | M68: Total - partnership status in current relationship | N68: 99 | O68: Total - age | P68: 3 | Q68: Another gender / He ira kÄ“ anÅ | T68: _U | U68: Not available | V68: =IF(T68<>"_U",IFERROR((ROUND(R68/W68*100,2)),"."),".") -> . | W68: =IF(AND(T68<>"_U",T68<>"c",J68<>9,J68<>99),IFERROR(VLOOKUP(A68,'TA Total'!$A$2:$W$10000,18,0),"."),".") -> .
A69: =G69&"|"&I69&"|"&Q69 -> 2013|Kaipara District|Total - gender | B69: DATAFLOW | C69: STATSNZ:CEN23_POP_008(1.0) | D69: Legally registered relationship status, partnership status in current relationship, age, and gender for the census usually resident population count aged 15 years and over, (RC, TALB, SA2, Health), 2013, 2018, and 2023 Censuses | E69: I | F69: 2013 | G69: 2013 | H69: 3 | I69: Kaipara District | J69: 1 | K69: Married (Not Separated) | L69: 99 | M69: Total - partnership status in current relationship | N69: 99 | O69: Total - age | P69: 99 | Q69: Total - gender | R69: 6939 | V69: =IF(T69<>"_U",IFERROR((ROUND(R69/W69*100,2)),"."),".") -> 50.61 | W69: =IF(AND(T69<>"_U",T69<>"c",J69<>9,J69<>99),IFERROR(VLOOKUP(A69,'TA Total'!$A$2:$W$10000,18,0),"."),".") -> 13710
A70: =G70&"|"&I70&"|"&Q70 -> 2013|Kaipara District|Male / TÄne | B70: DATAFLOW | C70: STATSNZ:CEN23_POP_008(1.0) | D70: Legally registered relationship status, partnership status in current relationship, age, and gender for the census usually resident population count aged 15 years and over, (RC, TALB, SA2, Health), 2013, 2018, and 2023 Censuses | E70: I | F70: 2013 | G70: 2013 | H70: 3 | I70: Kaipara District | J70: 3 | K70: Separated | L70: 99 | M70: Total - partnership status in current relationship | N70: 99 | O70: Total - age | P70: 1 | Q70: Male / TÄne | R70: 279 | V70: =IF(T70<>"_U",IFERROR((ROUND(R70/W70*100,2)),"."),".") -> 4.15 | W70: =IF(AND(T70<>"_U",T70<>"c",J70<>9,J70<>99),IFERROR(VLOOKUP(A70,'TA Total'!$A$2:$W$10000,18,0),"."),".") -> 6723
A71: =G71&"|"&I71&"|"&Q71 -> 2013|Kaipara District|Female / Wahine | B71: DATAFLOW | C71: STATSNZ:CEN23_POP_008(1.0) | D71: Legally registered relationship status, partnership status in current relationship, age, and gender for the census usually resident population count aged 15 years and over, (RC, TALB, SA2, Health), 2013, 2018, and 2023 Censuses | E71: I | F71: 2013 | G71: 2013 | H71: 3 | I71: Kaipara District | J71: 3 | K71: Separated | L71: 99 | M71: Total - partnership status in current relationship | N71: 99 | O71: Total - age | P71: 2 | Q71: Female / Wahine | R71: 282 | V71: =IF(T71<>"_U",IFERROR((ROUND(R71/W71*100,2)),"."),".") -> 4.04 | W71: =IF(AND(T71<>"_U",T71<>"c",J71<>9,J71<>99),IFERROR(VLOOKUP(A71,'TA Total'!$A$2:$W$10000,18,0),"."),".") -> 6984
