Workbook

Sheet Data
A1: ethnicityVarType | B1: ethnicityVars | C1: ethnicityVars_label | D1: i_language_output_concat | E1: i_language_output_concat_label | F1: Count | G1: Percentage | H1: MEC group
A2: ethnic_group_MEC_lvl1 | B2: 1 EC | C2: Ethnic Communities (total) | D2: 01100 | E2: West Germanic not further defined | F2: ..C | G2: =IF(OR(D2="Total",D2="44444",D2="55555",D2="66666",D2="77777",D2="88888",D2="99999"),"..",IFERROR(ROUND(F2/VLOOKUP(C2,$C$43387:$F$43607,4,0),4),F2)) -> ..C | H2: =VLOOKUP(B2,Ref!$B$2:$D$219,3,0) -> Ethnic Communities
A3: ethnic_group_MEC_lvl1 | B3: 1 EC | C3: Ethnic Communities (total) | D3: 01110 | E3: Afrikaans | F3: 33528 | G3: =IF(OR(D3="Total",D3="44444",D3="55555",D3="66666",D3="77777",D3="88888",D3="99999"),"..",IFERROR(ROUND(F3/VLOOKUP(C3,$C$43387:$F$43607,4,0),4),F3)) -> 0.031 | H3: =VLOOKUP(B3,Ref!$B$2:$D$219,3,0) -> Ethnic Communities
A4: ethnic_group_MEC_lvl1 | B4: 1 EC | C4: Ethnic Communities (total) | D4: 01111 | E4: Dutch | F4: 13770 | G4: =IF(OR(D4="Total",D4="44444",D4="55555",D4="66666",D4="77777",D4="88888",D4="99999"),"..",IFERROR(ROUND(F4/VLOOKUP(C4,$C$43387:$F$43607,4,0),4),F4)) -> 0.0127 | H4: =VLOOKUP(B4,Ref!$B$2:$D$219,3,0) -> Ethnic Communities
A5: ethnic_group_MEC_lvl1 | B5: 1 EC | C5: Ethnic Communities (total) | D5: 01112 | E5: English | F5: 979233 | G5: =IF(OR(D5="Total",D5="44444",D5="55555",D5="66666",D5="77777",D5="88888",D5="99999"),"..",IFERROR(ROUND(F5/VLOOKUP(C5,$C$43387:$F$43607,4,0),4),F5)) -> 0.904 | H5: =VLOOKUP(B5,Ref!$B$2:$D$219,3,0) -> Ethnic Communities
A6: ethnic_group_MEC_lvl1 | B6: 1 EC | C6: Ethnic Communities (total) | D6: 01113 | E6: German | F6: 18360 | G6: =IF(OR(D6="Total",D6="44444",D6="55555",D6="66666",D6="77777",D6="88888",D6="99999"),"..",IFERROR(ROUND(F6/VLOOKUP(C6,$C$43387:$F$43607,4,0),4),F6)) -> 0.0169 | H6: =VLOOKUP(B6,Ref!$B$2:$D$219,3,0) -> Ethnic Communities
A7: ethnic_group_MEC_lvl1 | B7: 1 EC | C7: Ethnic Communities (total) | D7: 01114 | E7: Friesian | F7: 198 | G7: =IF(OR(D7="Total",D7="44444",D7="55555",D7="66666",D7="77777",D7="88888",D7="99999"),"..",IFERROR(ROUND(F7/VLOOKUP(C7,$C$43387:$F$43607,4,0),4),F7)) -> 0.0002 | H7: =VLOOKUP(B7,Ref!$B$2:$D$219,3,0) -> Ethnic Communities
A8: ethnic_group_MEC_lvl1 | B8: 1 EC | C8: Ethnic Communities (total) | D8: 01115 | E8: Yiddish | F8: 27 | G8: =IF(OR(D8="Total",D8="44444",D8="55555",D8="66666",D8="77777",D8="88888",D8="99999"),"..",IFERROR(ROUND(F8/VLOOKUP(C8,$C$43387:$F$43607,4,0),4),F8)) -> 0 | H8: =VLOOKUP(B8,Ref!$B$2:$D$219,3,0) -> Ethnic Communities
A9: ethnic_group_MEC_lvl1 | B9: 1 EC | C9: Ethnic Communities (total) | D9: 01116 | E9: Scots | F9: 9 | G9: =IF(OR(D9="Total",D9="44444",D9="55555",D9="66666",D9="77777",D9="88888",D9="99999"),"..",IFERROR(ROUND(F9/VLOOKUP(C9,$C$43387:$F$43607,4,0),4),F9)) -> 0 | H9: =VLOOKUP(B9,Ref!$B$2:$D$219,3,0) -> Ethnic Communities
A10: ethnic_group_MEC_lvl1 | B10: 1 EC | C10: Ethnic Communities (total) | D10: 01199 | E10: West Germanic not elsewhere classified | F10: 1380 | G10: =IF(OR(D10="Total",D10="44444",D10="55555",D10="66666",D10="77777",D10="88888",D10="99999"),"..",IFERROR(ROUND(F10/VLOOKUP(C10,$C$43387:$F$43607,4,0),4),F10)) -> 0.0013 | H10: =VLOOKUP(B10,Ref!$B$2:$D$219,3,0) -> Ethnic Communities
A11: ethnic_group_MEC_lvl1 | B11: 1 EC | C11: Ethnic Communities (total) | D11: 01200 | E11: North Germanic not further defined | F11: ..C | G11: =IF(OR(D11="Total",D11="44444",D11="55555",D11="66666",D11="77777",D11="88888",D11="99999"),"..",IFERROR(ROUND(F11/VLOOKUP(C11,$C$43387:$F$43607,4,0),4),F11)) -> ..C | H11: =VLOOKUP(B11,Ref!$B$2:$D$219,3,0) -> Ethnic Communities
A12: ethnic_group_MEC_lvl1 | B12: 1 EC | C12: Ethnic Communities (total) | D12: 01210 | E12: Danish | F12: 1152 | G12: =IF(OR(D12="Total",D12="44444",D12="55555",D12="66666",D12="77777",D12="88888",D12="99999"),"..",IFERROR(ROUND(F12/VLOOKUP(C12,$C$43387:$F$43607,4,0),4),F12)) -> 0.0011 | H12: =VLOOKUP(B12,Ref!$B$2:$D$219,3,0) -> Ethnic Communities
A13: ethnic_group_MEC_lvl1 | B13: 1 EC | C13: Ethnic Communities (total) | D13: 01211 | E13: Norwegian | F13: 588 | G13: =IF(OR(D13="Total",D13="44444",D13="55555",D13="66666",D13="77777",D13="88888",D13="99999"),"..",IFERROR(ROUND(F13/VLOOKUP(C13,$C$43387:$F$43607,4,0),4),F13)) -> 0.0005 | H13: =VLOOKUP(B13,Ref!$B$2:$D$219,3,0) -> Ethnic Communities
... A43383: ethnic_group_MEC_lvl4 | B43383: Total | C43383: Total | D43383: Total | E43383: Total | F43383: 4993923 | G43383: =IF(OR(D43383="Total",D43383="44444",D43383="55555",D43383="66666",D43383="77777",D43383="88888",D43383="99999"),"..",IFERROR(ROUND(F43383/VLOOKUP(C43383,$C$43387:$F$43607,4,0),4),F43383)) -> .. | H43383: =VLOOKUP(B43383,Ref!$B$2:$D$219,3,0) -> Total
A43386: ethnicityVarType | B43386: ethnicityVars | C43386: ethnicityVars_label | D43386: i_language_output_concat | E43386: i_language_output_concat_label | F43386: Count
A43387: ethnic_group_MEC_lvl1 | B43387: 1 EC | C43387: Ethnic Communities (total) | D43387: Total stated | E43387: Total stated | F43387: 1083255
A43388: ethnic_group_MEC_lvl1 | B43388: 2 NE | C43388: Non Ethnic Communities (total) | D43388: Total stated | E43388: Total stated | F43388: 3941616
A43389: ethnic_group_MEC_lvl1 | B43389: Total | C43389: Total | D43389: Total stated | E43389: Total stated | F43389: 4889202
A43390: ethnic_group_MEC_lvl2 | B43390: 1 CE | C43390: Continental European | D43390: Total stated | E43390: Total stated | F43390: 105684
A43391: ethnic_group_MEC_lvl2 | B43391: 2 AS | C43391: Asian | D43391: Total stated | E43391: Total stated | F43391: 834792
A43392: ethnic_group_MEC_lvl2 | B43392: 3 ME | C43392: MELAA+ | D43392: Total stated | E43392: Total stated | F43392: 153555
A43393: ethnic_group_MEC_lvl2 | B43393: 4 OE | C43393: Other European | D43393: Total stated | E43393: Total stated | F43393: 3206664
A43394: ethnic_group_MEC_lvl2 | B43394: 5 MM | C43394: Māori | D43394: Total stated | E43394: Total stated | F43394: 860001
A43395: ethnic_group_MEC_lvl2 | B43395: 6 PP | C43395: Pacific Peoples | D43395: Total stated | E43395: Total stated | F43395: 426705
A43396: ethnic_group_MEC_lvl2 | B43396: 7 EO | C43396: Other ethnicities | D43396: Total stated | E43396: Total stated | F43396: 45633
A43397: ethnic_group_MEC_lvl2 | B43397: Total | C43397: Total | D43397: Total stated | E43397: Total stated | F43397: 4889202
... A43607: ethnic_group_MEC_lvl4 | B43607: Total | C43607: Total | D43607: Total stated | E43607: Total stated | F43607: 4889202

Sheet Ref
B1: ethnicityVars | C1: ethnicityVars_label | D1: MEC
B2: 1 CE | C2: Continental European | D2: Continental European
B3: 1 EC | C3: Ethnic Communities (total) | D3: Ethnic Communities
B4: 100 | C4: European nfd | D4: Other European
B5: 10000 | C5: European nfd | D5: Other European
B6: 111 | C6: New Zealand European | D6: Other European
B7: 11111 | C7: New Zealand European | D7: Other European
B8: 121 | C8: British and Irish | D8: Other European
B9: 12100 | C9: British nfd | D9: Other European
B10: 12111 | C10: Celtic nfd | D10: Other European
B11: 12112 | C11: Channel Islander | D11: Other European
B12: 12113 | C12: Cornish | D12: Other European
... B219: Total | C219: Total | D219: Total
