Workbook

Sheet Region
A1: HELPER COLUMN | B1: STRUCTURE | C1: STRUCTURE_ID | D1: STRUCTURE_NAME | E1: ACTION | F1: CEN23_YEAR_001 | G1: Census year | H1: CEN23_GEO_013 | I1: Area | J1: CEN23_HOD_002 | K1: Access to basic amenities | L1: CEN23_TIH_001 | M1: Total household income | N1: CEN23_THD_001 | O1: Tenure of household | P1: OBS_VALUE | Q1: Observation Value | R1: OBS_STATUS | S1: Observation Status | T1: Percentage | U1: Denominator (Total stated)
A2: =G2&"|"&I2&"|"&M2 -> 2018|Northland Region|$20,000 or less | B2: DATAFLOW | C2: STATSNZ:CEN23_HOU_001(1.0) | D2: Access to basic amenities, total household income, and tenure of household for households in occupied private dwellings, (RC, TALB, SA2, Health), 2018 and 2023 Censuses | E2: I | F2: 2018 | G2: 2018 | H2: 1 | I2: Northland Region | J2: 99 | K2: Total - access to basic amenities | L2: 1 | M2: $20,000 or less | N2: 1 | O2: Dwelling owned or partly owned | P2: 2991 | T2: =IF(AND(R2<>"_U",R2<>"c",N2<>999,N2<>9999,L2<>"Median"),IFERROR((ROUND(P2/U2*100,2)),"."),".") -> 41.3 | U2: =IF(AND(R2<>"_U",N2<>9999,N2<>999,L2<>"Median"),IFERROR(VLOOKUP(A2,'Region Total'!A:P,16,0),"."),".") -> 7242
A3: =G3&"|"&I3&"|"&M3 -> 2018|Northland Region|$20,000 or less | B3: DATAFLOW | C3: STATSNZ:CEN23_HOU_001(1.0) | D3: Access to basic amenities, total household income, and tenure of household for households in occupied private dwellings, (RC, TALB, SA2, Health), 2018 and 2023 Censuses | E3: I | F3: 2018 | G3: 2018 | H3: 1 | I3: Northland Region | J3: 99 | K3: Total - access to basic amenities | L3: 1 | M3: $20,000 or less | N3: 2 | O3: Dwelling not owned and not held in a family trust | P3: 3609 | T3: =IF(AND(R3<>"_U",R3<>"c",N3<>999,N3<>9999,L3<>"Median"),IFERROR((ROUND(P3/U3*100,2)),"."),".") -> 49.83 | U3: =IF(AND(R3<>"_U",N3<>9999,N3<>999,L3<>"Median"),IFERROR(VLOOKUP(A3,'Region Total'!A:P,16,0),"."),".") -> 7242
A4: =G4&"|"&I4&"|"&M4 -> 2018|Northland Region|$20,000 or less | B4: DATAFLOW | C4: STATSNZ:CEN23_HOU_001(1.0) | D4: Access to basic amenities, total household income, and tenure of household for households in occupied private dwellings, (RC, TALB, SA2, Health), 2018 and 2023 Censuses | E4: I | F4: 2018 | G4: 2018 | H4: 1 | I4: Northland Region | J4: 99 | K4: Total - access to basic amenities | L4: 1 | M4: $20,000 or less | N4: 9999 | O4: Total - tenure of household | P4: 7248 | T4: =IF(AND(R4<>"_U",R4<>"c",N4<>999,N4<>9999,L4<>"Median"),IFERROR((ROUND(P4/U4*100,2)),"."),".") -> . | U4: =IF(AND(R4<>"_U",N4<>9999,N4<>999,L4<>"Median"),IFERROR(VLOOKUP(A4,'Region Total'!A:P,16,0),"."),".") -> .
A5: =G5&"|"&I5&"|"&M5 -> 2018|Northland Region|$20,000 or less | B5: DATAFLOW | C5: STATSNZ:CEN23_HOU_001(1.0) | D5: Access to basic amenities, total household income, and tenure of household for households in occupied private dwellings, (RC, TALB, SA2, Health), 2018 and 2023 Censuses | E5: I | F5: 2018 | G5: 2018 | H5: 1 | I5: Northland Region | J5: 99 | K5: Total - access to basic amenities | L5: 1 | M5: $20,000 or less | N5: 3 | O5: Dwelling held in a family trust | P5: 639 | T5: =IF(AND(R5<>"_U",R5<>"c",N5<>999,N5<>9999,L5<>"Median"),IFERROR((ROUND(P5/U5*100,2)),"."),".") -> 8.82 | U5: =IF(AND(R5<>"_U",N5<>9999,N5<>999,L5<>"Median"),IFERROR(VLOOKUP(A5,'Region Total'!A:P,16,0),"."),".") -> 7242
A6: =G6&"|"&I6&"|"&M6 -> 2018|Northland Region|$20,000 or less | B6: DATAFLOW | C6: STATSNZ:CEN23_HOU_001(1.0) | D6: Access to basic amenities, total household income, and tenure of household for households in occupied private dwellings, (RC, TALB, SA2, Health), 2018 and 2023 Censuses | E6: I | F6: 2018 | G6: 2018 | H6: 1 | I6: Northland Region | J6: 99 | K6: Total - access to basic amenities | L6: 1 | M6: $20,000 or less | N6: 7777 | O6: Total stated - tenure of household | P6: 7242 | T6: =IF(AND(R6<>"_U",R6<>"c",N6<>999,N6<>9999,L6<>"Median"),IFERROR((ROUND(P6/U6*100,2)),"."),".") -> 100 | U6: =IF(AND(R6<>"_U",N6<>9999,N6<>999,L6<>"Median"),IFERROR(VLOOKUP(A6,'Region Total'!A:P,16,0),"."),".") -> 7242
A7: =G7&"|"&I7&"|"&M7 -> 2018|Northland Region|$20,000 or less | B7: DATAFLOW | C7: STATSNZ:CEN23_HOU_001(1.0) | D7: Access to basic amenities, total household income, and tenure of household for households in occupied private dwellings, (RC, TALB, SA2, Health), 2018 and 2023 Censuses | E7: I | F7: 2018 | G7: 2018 | H7: 1 | I7: Northland Region | J7: 99 | K7: Total - access to basic amenities | L7: 1 | M7: $20,000 or less | N7: 999 | O7: Not elsewhere included | P7: 3 | T7: =IF(AND(R7<>"_U",R7<>"c",N7<>999,N7<>9999,L7<>"Median"),IFERROR((ROUND(P7/U7*100,2)),"."),".") -> . | U7: =IF(AND(R7<>"_U",N7<>9999,N7<>999,L7<>"Median"),IFERROR(VLOOKUP(A7,'Region Total'!A:P,16,0),"."),".") -> .
A8: =G8&"|"&I8&"|"&M8 -> 2018|Northland Region|$20,001-$30,000 | B8: DATAFLOW | C8: STATSNZ:CEN23_HOU_001(1.0) | D8: Access to basic amenities, total household income, and tenure of household for households in occupied private dwellings, (RC, TALB, SA2, Health), 2018 and 2023 Censuses | E8: I | F8: 2018 | G8: 2018 | H8: 1 | I8: Northland Region | J8: 99 | K8: Total - access to basic amenities | L8: 2 | M8: $20,001-$30,000 | N8: 1 | O8: Dwelling owned or partly owned | P8: 3951 | T8: =IF(AND(R8<>"_U",R8<>"c",N8<>999,N8<>9999,L8<>"Median"),IFERROR((ROUND(P8/U8*100,2)),"."),".") -> 51.87 | U8: =IF(AND(R8<>"_U",N8<>9999,N8<>999,L8<>"Median"),IFERROR(VLOOKUP(A8,'Region Total'!A:P,16,0),"."),".") -> 7617
A9: =G9&"|"&I9&"|"&M9 -> 2018|Northland Region|$20,001-$30,000 | B9: DATAFLOW | C9: STATSNZ:CEN23_HOU_001(1.0) | D9: Access to basic amenities, total household income, and tenure of household for households in occupied private dwellings, (RC, TALB, SA2, Health), 2018 and 2023 Censuses | E9: I | F9: 2018 | G9: 2018 | H9: 1 | I9: Northland Region | J9: 99 | K9: Total - access to basic amenities | L9: 2 | M9: $20,001-$30,000 | N9: 9999 | O9: Total - tenure of household | P9: 7617 | T9: =IF(AND(R9<>"_U",R9<>"c",N9<>999,N9<>9999,L9<>"Median"),IFERROR((ROUND(P9/U9*100,2)),"."),".") -> . | U9: =IF(AND(R9<>"_U",N9<>9999,N9<>999,L9<>"Median"),IFERROR(VLOOKUP(A9,'Region Total'!A:P,16,0),"."),".") -> .
A10: =G10&"|"&I10&"|"&M10 -> 2018|Northland Region|$20,001-$30,000 | B10: DATAFLOW | C10: STATSNZ:CEN23_HOU_001(1.0) | D10: Access to basic amenities, total household income, and tenure of household for households in occupied private dwellings, (RC, TALB, SA2, Health), 2018 and 2023 Censuses | E10: I | F10: 2018 | G10: 2018 | H10: 1 | I10: Northland Region | J10: 99 | K10: Total - access to basic amenities | L10: 2 | M10: $20,001-$30,000 | N10: 3 | O10: Dwelling held in a family trust | P10: 801 | T10: =IF(AND(R10<>"_U",R10<>"c",N10<>999,N10<>9999,L10<>"Median"),IFERROR((ROUND(P10/U10*100,2)),"."),".") -> 10.52 | U10: =IF(AND(R10<>"_U",N10<>9999,N10<>999,L10<>"Median"),IFERROR(VLOOKUP(A10,'Region Total'!A:P,16,0),"."),".") -> 7617
A11: =G11&"|"&I11&"|"&M11 -> 2018|Northland Region|$20,001-$30,000 | B11: DATAFLOW | C11: STATSNZ:CEN23_HOU_001(1.0) | D11: Access to basic amenities, total household income, and tenure of household for households in occupied private dwellings, (RC, TALB, SA2, Health), 2018 and 2023 Censuses | E11: I | F11: 2018 | G11: 2018 | H11: 1 | I11: Northland Region | J11: 99 | K11: Total - access to basic amenities | L11: 2 | M11: $20,001-$30,000 | N11: 7777 | O11: Total stated - tenure of household | P11: 7617 | T11: =IF(AND(R11<>"_U",R11<>"c",N11<>999,N11<>9999,L11<>"Median"),IFERROR((ROUND(P11/U11*100,2)),"."),".") -> 100 | U11: =IF(AND(R11<>"_U",N11<>9999,N11<>999,L11<>"Median"),IFERROR(VLOOKUP(A11,'Region Total'!A:P,16,0),"."),".") -> 7617
A12: =G12&"|"&I12&"|"&M12 -> 2018|Northland Region|$20,001-$30,000 | B12: DATAFLOW | C12: STATSNZ:CEN23_HOU_001(1.0) | D12: Access to basic amenities, total household income, and tenure of household for households in occupied private dwellings, (RC, TALB, SA2, Health), 2018 and 2023 Censuses | E12: I | F12: 2018 | G12: 2018 | H12: 1 | I12: Northland Region | J12: 99 | K12: Total - access to basic amenities | L12: 2 | M12: $20,001-$30,000 | N12: 999 | O12: Not elsewhere included | P12: 0 | T12: =IF(AND(R12<>"_U",R12<>"c",N12<>999,N12<>9999,L12<>"Median"),IFERROR((ROUND(P12/U12*100,2)),"."),".") -> . | U12: =IF(AND(R12<>"_U",N12<>9999,N12<>999,L12<>"Median"),IFERROR(VLOOKUP(A12,'Region Total'!A:P,16,0),"."),".") -> .
A13: =G13&"|"&I13&"|"&M13 -> 2018|Northland Region|$20,001-$30,000 | B13: DATAFLOW | C13: STATSNZ:CEN23_HOU_001(1.0) | D13: Access to basic amenities, total household income, and tenure of household for households in occupied private dwellings, (RC, TALB, SA2, Health), 2018 and 2023 Censuses | E13: I | F13: 2018 | G13: 2018 | H13: 1 | I13: Northland Region | J13: 99 | K13: Total - access to basic amenities | L13: 2 | M13: $20,001-$30,000 | N13: 2 | O13: Dwelling not owned and not held in a family trust | P13: 2865 | T13: =IF(AND(R13<>"_U",R13<>"c",N13<>999,N13<>9999,L13<>"Median"),IFERROR((ROUND(P13/U13*100,2)),"."),".") -> 37.61 | U13: =IF(AND(R13<>"_U",N13<>9999,N13<>999,L13<>"Median"),IFERROR(VLOOKUP(A13,'Region Total'!A:P,16,0),"."),".") -> 7617
... A43: =G43&"|"&I43&"|"&M43 -> 2018|Northland Region|$150,001-$200,000 | B43: DATAFLOW | C43: STATSNZ:CEN23_HOU_001(1.0) | D43: Access to basic amenities, total household income, and tenure of household for households in occupied private dwellings, (RC, TALB, SA2, Health), 2018 and 2023 Censuses | E43: I | F43: 2018 | G43: 2018 | H43: 1 | I43: Northland Region | J43: 99 | K43: Total - access to basic amenities | L43: 7 | M43: $150,001-$200,000 | N43: 2 | O43: Dwelling not owned and not held in a family trust | P43: 783 | T43: =IF(AND(R43<>"_U",R43<>"c",N43<>999,N43<>9999,L43<>"Median"),IFERROR((ROUND(P43/U43*100,2)),"."),".") -> 13.79 | U43: =IF(AND(R43<>"_U",N43<>9999,N43<>999,L43<>"Median"),IFERROR(VLOOKUP(A43,'Region Total'!A:P,16,0),"."),".") -> 5679
A44: =G44&"|"&I44&"|"&M44 -> 2018|Northland Region|$200,001 or more | B44: DATAFLOW | C44: STATSNZ:CEN23_HOU_001(1.0) | D44: Access to basic amenities, total household income, and tenure of household for households in occupied private dwellings, (RC, TALB, SA2, Health), 2018 and 2023 Censuses | E44: I | F44: 2018 | G44: 2018 | H44: 1 | I44: Northland Region | J44: 99 | K44: Total - access to basic amenities | L44: 8 | M44: $200,001 or more | N44: 1 | O44: Dwelling owned or partly owned | R44: _U | S44: Not available | T44: =IF(AND(R44<>"_U",R44<>"c",N44<>999,N44<>9999,L44<>"Median"),IFERROR((ROUND(P44/U44*100,2)),"."),".") -> . | U44: =IF(AND(R44<>"_U",N44<>9999,N44<>999,L44<>"Median"),IFERROR(VLOOKUP(A44,'Region Total'!A:P,16,0),"."),".") -> .
A45: =G45&"|"&I45&"|"&M45 -> 2018|Northland Region|$200,001 or more | B45: DATAFLOW | C45: STATSNZ:CEN23_HOU_001(1.0) | D45: Access to basic amenities, total household income, and tenure of household for households in occupied private dwellings, (RC, TALB, SA2, Health), 2018 and 2023 Censuses | E45: I | F45: 2018 | G45: 2018 | H45: 1 | I45: Northland Region | J45: 99 | K45: Total - access to basic amenities | L45: 8 | M45: $200,001 or more | N45: 2 | O45: Dwelling not owned and not held in a family trust | R45: _U | S45: Not available | T45: =IF(AND(R45<>"_U",R45<>"c",N45<>999,N45<>9999,L45<>"Median"),IFERROR((ROUND(P45/U45*100,2)),"."),".") -> . | U45: =IF(AND(R45<>"_U",N45<>9999,N45<>999,L45<>"Median"),IFERROR(VLOOKUP(A45,'Region Total'!A:P,16,0),"."),".") -> .
A46: =G46&"|"&I46&"|"&M46 -> 2018|Northland Region|$200,001 or more | B46: DATAFLOW | C46: STATSNZ:CEN23_HOU_001(1.0) | D46: Access to basic amenities, total household income, and tenure of household for households in occupied private dwellings, (RC, TALB, SA2, Health), 2018 and 2023 Censuses | E46: I | F46: 2018 | G46: 2018 | H46: 1 | I46: Northland Region | J46: 99 | K46: Total - access to basic amenities | L46: 8 | M46: $200,001 or more | N46: 9999 | O46: Total - tenure of household | R46: _U | S46: Not available | T46: =IF(AND(R46<>"_U",R46<>"c",N46<>999,N46<>9999,L46<>"Median"),IFERROR((ROUND(P46/U46*100,2)),"."),".") -> . | U46: =IF(AND(R46<>"_U",N46<>9999,N46<>999,L46<>"Median"),IFERROR(VLOOKUP(A46,'Region Total'!A:P,16,0),"."),".") -> .
A47: =G47&"|"&I47&"|"&M47 -> 2018|Northland Region|$200,001 or more | B47: DATAFLOW | C47: STATSNZ:CEN23_HOU_001(1.0) | D47: Access to basic amenities, total household income, and tenure of household for households in occupied private dwellings, (RC, TALB, SA2, Health), 2018 and 2023 Censuses | E47: I | F47: 2018 | G47: 2018 | H47: 1 | I47: Northland Region | J47: 99 | K47: Total - access to basic amenities | L47: 8 | M47: $200,001 or more | N47: 7777 | O47: Total stated - tenure of household | R47: _U | S47: Not available | T47: =IF(AND(R47<>"_U",R47<>"c",N47<>999,N47<>9999,L47<>"Median"),IFERROR((ROUND(P47/U47*100,2)),"."),".") -> . | U47: =IF(AND(R47<>"_U",N47<>9999,N47<>999,L47<>"Median"),IFERROR(VLOOKUP(A47,'Region Total'!A:P,16,0),"."),".") -> .
A48: =G48&"|"&I48&"|"&M48 -> 2018|Northland Region|$200,001 or more | B48: DATAFLOW | C48: STATSNZ:CEN23_HOU_001(1.0) | D48: Access to basic amenities, total household income, and tenure of household for households in occupied private dwellings, (RC, TALB, SA2, Health), 2018 and 2023 Censuses | E48: I | F48: 2018 | G48: 2018 | H48: 1 | I48: Northland Region | J48: 99 | K48: Total - access to basic amenities | L48: 8 | M48: $200,001 or more | N48: 3 | O48: Dwelling held in a family trust | R48: _U | S48: Not available | T48: =IF(AND(R48<>"_U",R48<>"c",N48<>999,N48<>9999,L48<>"Median"),IFERROR((ROUND(P48/U48*100,2)),"."),".") -> . | U48: =IF(AND(R48<>"_U",N48<>9999,N48<>999,L48<>"Median"),IFERROR(VLOOKUP(A48,'Region Total'!A:P,16,0),"."),".") -> .
A49: =G49&"|"&I49&"|"&M49 -> 2018|Northland Region|$200,001 or more | B49: DATAFLOW | C49: STATSNZ:CEN23_HOU_001(1.0) | D49: Access to basic amenities, total household income, and tenure of household for households in occupied private dwellings, (RC, TALB, SA2, Health), 2018 and 2023 Censuses | E49: I | F49: 2018 | G49: 2018 | H49: 1 | I49: Northland Region | J49: 99 | K49: Total - access to basic amenities | L49: 8 | M49: $200,001 or more | N49: 999 | O49: Not elsewhere included | R49: _U | S49: Not available | T49: =IF(AND(R49<>"_U",R49<>"c",N49<>999,N49<>9999,L49<>"Median"),IFERROR((ROUND(P49/U49*100,2)),"."),".") -> . | U49: =IF(AND(R49<>"_U",N49<>9999,N49<>999,L49<>"Median"),IFERROR(VLOOKUP(A49,'Region Total'!A:P,16,0),"."),".") -> .
A50: =G50&"|"&I50&"|"&M50 -> 2018|Northland Region|Total stated - total household income | B50: DATAFLOW | C50: STATSNZ:CEN23_HOU_001(1.0) | D50: Access to basic amenities, total household income, and tenure of household for households in occupied private dwellings, (RC, TALB, SA2, Health), 2018 and 2023 Censuses | E50: I | F50: 2018 | G50: 2018 | H50: 1 | I50: Northland Region | J50: 99 | K50: Total - access to basic amenities | L50: 77 | M50: Total stated - total household income | N50: 9999 | O50: Total - tenure of household | P50: 58182 | T50: =IF(AND(R50<>"_U",R50<>"c",N50<>999,N50<>9999,L50<>"Median"),IFERROR((ROUND(P50/U50*100,2)),"."),".") -> . | U50: =IF(AND(R50<>"_U",N50<>9999,N50<>999,L50<>"Median"),IFERROR(VLOOKUP(A50,'Region Total'!A:P,16,0),"."),".") -> .
A51: =G51&"|"&I51&"|"&M51 -> 2018|Northland Region|Total stated - total household income | B51: DATAFLOW | C51: STATSNZ:CEN23_HOU_001(1.0) | D51: Access to basic amenities, total household income, and tenure of household for households in occupied private dwellings, (RC, TALB, SA2, Health), 2018 and 2023 Censuses | E51: I | F51: 2018 | G51: 2018 | H51: 1 | I51: Northland Region | J51: 99 | K51: Total - access to basic amenities | L51: 77 | M51: Total stated - total household income | N51: 2 | O51: Dwelling not owned and not held in a family trust | P51: 18402 | T51: =IF(AND(R51<>"_U",R51<>"c",N51<>999,N51<>9999,L51<>"Median"),IFERROR((ROUND(P51/U51*100,2)),"."),".") -> 31.63 | U51: =IF(AND(R51<>"_U",N51<>9999,N51<>999,L51<>"Median"),IFERROR(VLOOKUP(A51,'Region Total'!A:P,16,0),"."),".") -> 58179
A52: =G52&"|"&I52&"|"&M52 -> 2018|Northland Region|Total stated - total household income | B52: DATAFLOW | C52: STATSNZ:CEN23_HOU_001(1.0) | D52: Access to basic amenities, total household income, and tenure of household for households in occupied private dwellings, (RC, TALB, SA2, Health), 2018 and 2023 Censuses | E52: I | F52: 2018 | G52: 2018 | H52: 1 | I52: Northland Region | J52: 99 | K52: Total - access to basic amenities | L52: 77 | M52: Total stated - total household income | N52: 1 | O52: Dwelling owned or partly owned | P52: 32292 | T52: =IF(AND(R52<>"_U",R52<>"c",N52<>999,N52<>9999,L52<>"Median"),IFERROR((ROUND(P52/U52*100,2)),"."),".") -> 55.5 | U52: =IF(AND(R52<>"_U",N52<>9999,N52<>999,L52<>"Median"),IFERROR(VLOOKUP(A52,'Region Total'!A:P,16,0),"."),".") -> 58179
A53: =G53&"|"&I53&"|"&M53 -> 2018|Northland Region|Total stated - total household income | B53: DATAFLOW | C53: STATSNZ:CEN23_HOU_001(1.0) | D53: Access to basic amenities, total household income, and tenure of household for households in occupied private dwellings, (RC, TALB, SA2, Health), 2018 and 2023 Censuses | E53: I | F53: 2018 | G53: 2018 | H53: 1 | I53: Northland Region | J53: 99 | K53: Total - access to basic amenities | L53: 77 | M53: Total stated - total household income | N53: 999 | O53: Not elsewhere included | P53: 3 | T53: =IF(AND(R53<>"_U",R53<>"c",N53<>999,N53<>9999,L53<>"Median"),IFERROR((ROUND(P53/U53*100,2)),"."),".") -> . | U53: =IF(AND(R53<>"_U",N53<>9999,N53<>999,L53<>"Median"),IFERROR(VLOOKUP(A53,'Region Total'!A:P,16,0),"."),".") -> .
A54: =G54&"|"&I54&"|"&M54 -> 2018|Northland Region|Total stated - total household income | B54: DATAFLOW | C54: STATSNZ:CEN23_HOU_001(1.0) | D54: Access to basic amenities, total household income, and tenure of household for households in occupied private dwellings, (RC, TALB, SA2, Health), 2018 and 2023 Censuses | E54: I | F54: 2018 | G54: 2018 | H54: 1 | I54: Northland Region | J54: 99 | K54: Total - access to basic amenities | L54: 77 | M54: Total stated - total household income | N54: 3 | O54: Dwelling held in a family trust | P54: 7485 | T54: =IF(AND(R54<>"_U",R54<>"c",N54<>999,N54<>9999,L54<>"Median"),IFERROR((ROUND(P54/U54*100,2)),"."),".") -> 12.87 | U54: =IF(AND(R54<>"_U",N54<>9999,N54<>999,L54<>"Median"),IFERROR(VLOOKUP(A54,'Region Total'!A:P,16,0),"."),".") -> 58179
A55: =G55&"|"&I55&"|"&M55 -> 2018|Northland Region|Total stated - total household income | B55: DATAFLOW | C55: STATSNZ:CEN23_HOU_001(1.0) | D55: Access to basic amenities, total household income, and tenure of household for households in occupied private dwellings, (RC, TALB, SA2, Health), 2018 and 2023 Censuses | E55: I | F55: 2018 | G55: 2018 | H55: 1 | I55: Northland Region | J55: 99 | K55: Total - access to basic amenities | L55: 77 | M55: Total stated - total household income | N55: 7777 | O55: Total stated - tenure of household | P55: 58179 | T55: =IF(AND(R55<>"_U",R55<>"c",N55<>999,N55<>9999,L55<>"Median"),IFERROR((ROUND(P55/U55*100,2)),"."),".") -> 100 | U55: =IF(AND(R55<>"_U",N55<>9999,N55<>999,L55<>"Median"),IFERROR(VLOOKUP(A55,'Region Total'!A:P,16,0),"."),".") -> 58179
A56: =G56&"|"&I56&"|"&M56 -> 2018|Northland Region|Total - total household income | B56: DATAFLOW | C56: STATSNZ:CEN23_HOU_001(1.0) | D56: Access to basic amenities, total household income, and tenure of household for households in occupied private dwellings, (RC, TALB, SA2, Health), 2018 and 2023 Censuses | E56: I | F56: 2018 | G56: 2018 | H56: 1 | I56: Northland Region | J56: 99 | K56: Total - access to basic amenities | L56: 99 | M56: Total - total household income | N56: 9999 | O56: Total - tenure of household | P56: 64257 | T56: =IF(AND(R56<>"_U",R56<>"c",N56<>999,N56<>9999,L56<>"Median"),IFERROR((ROUND(P56/U56*100,2)),"."),".") -> . | U56: =IF(AND(R56<>"_U",N56<>9999,N56<>999,L56<>"Median"),IFERROR(VLOOKUP(A56,'Region Total'!A:P,16,0),"."),".") -> .
A57: =G57&"|"&I57&"|"&M57 -> 2018|Northland Region|Total - total household income | B57: DATAFLOW | C57: STATSNZ:CEN23_HOU_001(1.0) | D57: Access to basic amenities, total household income, and tenure of household for households in occupied private dwellings, (RC, TALB, SA2, Health), 2018 and 2023 Censuses | E57: I | F57: 2018 | G57: 2018 | H57: 1 | I57: Northland Region | J57: 99 | K57: Total - access to basic amenities | L57: 99 | M57: Total - total household income | N57: 999 | O57: Not elsewhere included | P57: 42 | T57: =IF(AND(R57<>"_U",R57<>"c",N57<>999,N57<>9999,L57<>"Median"),IFERROR((ROUND(P57/U57*100,2)),"."),".") -> . | U57: =IF(AND(R57<>"_U",N57<>9999,N57<>999,L57<>"Median"),IFERROR(VLOOKUP(A57,'Region Total'!A:P,16,0),"."),".") -> .
A58: =G58&"|"&I58&"|"&M58 -> 2018|Northland Region|Total - total household income | B58: DATAFLOW | C58: STATSNZ:CEN23_HOU_001(1.0) | D58: Access to basic amenities, total household income, and tenure of household for households in occupied private dwellings, (RC, TALB, SA2, Health), 2018 and 2023 Censuses | E58: I | F58: 2018 | G58: 2018 | H58: 1 | I58: Northland Region | J58: 99 | K58: Total - access to basic amenities | L58: 99 | M58: Total - total household income | N58: 1 | O58: Dwelling owned or partly owned | P58: 35379 | T58: =IF(AND(R58<>"_U",R58<>"c",N58<>999,N58<>9999,L58<>"Median"),IFERROR((ROUND(P58/U58*100,2)),"."),".") -> 55.09 | U58: =IF(AND(R58<>"_U",N58<>9999,N58<>999,L58<>"Median"),IFERROR(VLOOKUP(A58,'Region Total'!A:P,16,0),"."),".") -> 64215
A59: =G59&"|"&I59&"|"&M59 -> 2018|Northland Region|Total - total household income | B59: DATAFLOW | C59: STATSNZ:CEN23_HOU_001(1.0) | D59: Access to basic amenities, total household income, and tenure of household for households in occupied private dwellings, (RC, TALB, SA2, Health), 2018 and 2023 Censuses | E59: I | F59: 2018 | G59: 2018 | H59: 1 | I59: Northland Region | J59: 99 | K59: Total - access to basic amenities | L59: 99 | M59: Total - total household income | N59: 7777 | O59: Total stated - tenure of household | P59: 64215 | T59: =IF(AND(R59<>"_U",R59<>"c",N59<>999,N59<>9999,L59<>"Median"),IFERROR((ROUND(P59/U59*100,2)),"."),".") -> 100 | U59: =IF(AND(R59<>"_U",N59<>9999,N59<>999,L59<>"Median"),IFERROR(VLOOKUP(A59,'Region Total'!A:P,16,0),"."),".") -> 64215
A60: =G60&"|"&I60&"|"&M60 -> 2018|Northland Region|Total - total household income | B60: DATAFLOW | C60: STATSNZ:CEN23_HOU_001(1.0) | D60: Access to basic amenities, total household income, and tenure of household for households in occupied private dwellings, (RC, TALB, SA2, Health), 2018 and 2023 Censuses | E60: I | F60: 2018 | G60: 2018 | H60: 1 | I60: Northland Region | J60: 99 | K60: Total - access to basic amenities | L60: 99 | M60: Total - total household income | N60: 3 | O60: Dwelling held in a family trust | P60: 8226 | T60: =IF(AND(R60<>"_U",R60<>"c",N60<>999,N60<>9999,L60<>"Median"),IFERROR((ROUND(P60/U60*100,2)),"."),".") -> 12.81 | U60: =IF(AND(R60<>"_U",N60<>9999,N60<>999,L60<>"Median"),IFERROR(VLOOKUP(A60,'Region Total'!A:P,16,0),"."),".") -> 64215
A61: =G61&"|"&I61&"|"&M61 -> 2018|Northland Region|Total - total household income | B61: DATAFLOW | C61: STATSNZ:CEN23_HOU_001(1.0) | D61: Access to basic amenities, total household income, and tenure of household for households in occupied private dwellings, (RC, TALB, SA2, Health), 2018 and 2023 Censuses | E61: I | F61: 2018 | G61: 2018 | H61: 1 | I61: Northland Region | J61: 99 | K61: Total - access to basic amenities | L61: 99 | M61: Total - total household income | N61: 2 | O61: Dwelling not owned and not held in a family trust | P61: 20610 | T61: =IF(AND(R61<>"_U",R61<>"c",N61<>999,N61<>9999,L61<>"Median"),IFERROR((ROUND(P61/U61*100,2)),"."),".") -> 32.1 | U61: =IF(AND(R61<>"_U",N61<>9999,N61<>999,L61<>"Median"),IFERROR(VLOOKUP(A61,'Region Total'!A:P,16,0),"."),".") -> 64215
A62: =G62&"|"&I62&"|"&M62 -> 2018|Northland Region|Median ($) - total household income | B62: DATAFLOW | C62: STATSNZ:CEN23_HOU_001(1.0) | D62: Access to basic amenities, total household income, and tenure of household for households in occupied private dwellings, (RC, TALB, SA2, Health), 2018 and 2023 Censuses | E62: I | F62: 2018 | G62: 2018 | H62: 1 | I62: Northland Region | J62: 99 | K62: Total - access to basic amenities | L62: Median | M62: Median ($) - total household income | N62: 7777 | O62: Total stated - tenure of household | P62: 57000 | T62: =IF(AND(R62<>"_U",R62<>"c",N62<>999,N62<>9999,L62<>"Median"),IFERROR((ROUND(P62/U62*100,2)),"."),".") -> . | U62: =IF(AND(R62<>"_U",N62<>9999,N62<>999,L62<>"Median"),IFERROR(VLOOKUP(A62,'Region Total'!A:P,16,0),"."),".") -> .
A63: =G63&"|"&I63&"|"&M63 -> 2018|Northland Region|Median ($) - total household income | B63: DATAFLOW | C63: STATSNZ:CEN23_HOU_001(1.0) | D63: Access to basic amenities, total household income, and tenure of household for households in occupied private dwellings, (RC, TALB, SA2, Health), 2018 and 2023 Censuses | E63: I | F63: 2018 | G63: 2018 | H63: 1 | I63: Northland Region | J63: 99 | K63: Total - access to basic amenities | L63: Median | M63: Median ($) - total household income | N63: 1 | O63: Dwelling owned or partly owned | P63: 62900 | T63: =IF(AND(R63<>"_U",R63<>"c",N63<>999,N63<>9999,L63<>"Median"),IFERROR((ROUND(P63/U63*100,2)),"."),".") -> . | U63: =IF(AND(R63<>"_U",N63<>9999,N63<>999,L63<>"Median"),IFERROR(VLOOKUP(A63,'Region Total'!A:P,16,0),"."),".") -> .
A64: =G64&"|"&I64&"|"&M64 -> 2018|Northland Region|Median ($) - total household income | B64: DATAFLOW | C64: STATSNZ:CEN23_HOU_001(1.0) | D64: Access to basic amenities, total household income, and tenure of household for households in occupied private dwellings, (RC, TALB, SA2, Health), 2018 and 2023 Censuses | E64: I | F64: 2018 | G64: 2018 | H64: 1 | I64: Northland Region | J64: 99 | K64: Total - access to basic amenities | L64: Median | M64: Median ($) - total household income | N64: 3 | O64: Dwelling held in a family trust | P64: 67300 | T64: =IF(AND(R64<>"_U",R64<>"c",N64<>999,N64<>9999,L64<>"Median"),IFERROR((ROUND(P64/U64*100,2)),"."),".") -> . | U64: =IF(AND(R64<>"_U",N64<>9999,N64<>999,L64<>"Median"),IFERROR(VLOOKUP(A64,'Region Total'!A:P,16,0),"."),".") -> .
A65: =G65&"|"&I65&"|"&M65 -> 2018|Northland Region|Median ($) - total household income | B65: DATAFLOW | C65: STATSNZ:CEN23_HOU_001(1.0) | D65: Access to basic amenities, total household income, and tenure of household for households in occupied private dwellings, (RC, TALB, SA2, Health), 2018 and 2023 Censuses | E65: I | F65: 2018 | G65: 2018 | H65: 1 | I65: Northland Region | J65: 99 | K65: Total - access to basic amenities | L65: Median | M65: Median ($) - total household income | N65: 999 | O65: Not elsewhere included | P65: 17900 | T65: =IF(AND(R65<>"_U",R65<>"c",N65<>999,N65<>9999,L65<>"Median"),IFERROR((ROUND(P65/U65*100,2)),"."),".") -> . | U65: =IF(AND(R65<>"_U",N65<>9999,N65<>999,L65<>"Median"),IFERROR(VLOOKUP(A65,'Region Total'!A:P,16,0),"."),".") -> .
A66: =G66&"|"&I66&"|"&M66 -> 2018|Northland Region|Median ($) - total household income | B66: DATAFLOW | C66: STATSNZ:CEN23_HOU_001(1.0) | D66: Access to basic amenities, total household income, and tenure of household for households in occupied private dwellings, (RC, TALB, SA2, Health), 2018 and 2023 Censuses | E66: I | F66: 2018 | G66: 2018 | H66: 1 | I66: Northland Region | J66: 99 | K66: Total - access to basic amenities | L66: Median | M66: Median ($) - total household income | N66: 9999 | O66: Total - tenure of household | P66: 57000 | T66: =IF(AND(R66<>"_U",R66<>"c",N66<>999,N66<>9999,L66<>"Median"),IFERROR((ROUND(P66/U66*100,2)),"."),".") -> . | U66: =IF(AND(R66<>"_U",N66<>9999,N66<>999,L66<>"Median"),IFERROR(VLOOKUP(A66,'Region Total'!A:P,16,0),"."),".") -> .
A67: =G67&"|"&I67&"|"&M67 -> 2018|Northland Region|Median ($) - total household income | B67: DATAFLOW | C67: STATSNZ:CEN23_HOU_001(1.0) | D67: Access to basic amenities, total household income, and tenure of household for households in occupied private dwellings, (RC, TALB, SA2, Health), 2018 and 2023 Censuses | E67: I | F67: 2018 | G67: 2018 | H67: 1 | I67: Northland Region | J67: 99 | K67: Total - access to basic amenities | L67: Median | M67: Median ($) - total household income | N67: 2 | O67: Dwelling not owned and not held in a family trust | P67: 43900 | T67: =IF(AND(R67<>"_U",R67<>"c",N67<>999,N67<>9999,L67<>"Median"),IFERROR((ROUND(P67/U67*100,2)),"."),".") -> . | U67: =IF(AND(R67<>"_U",N67<>9999,N67<>999,L67<>"Median"),IFERROR(VLOOKUP(A67,'Region Total'!A:P,16,0),"."),".") -> .
A68: =G68&"|"&I68&"|"&M68 -> 2018|Auckland Region|$20,000 or less | B68: DATAFLOW | C68: STATSNZ:CEN23_HOU_001(1.0) | D68: Access to basic amenities, total household income, and tenure of household for households in occupied private dwellings, (RC, TALB, SA2, Health), 2018 and 2023 Censuses | E68: I | F68: 2018 | G68: 2018 | H68: 2 | I68: Auckland Region | J68: 99 | K68: Total - access to basic amenities | L68: 1 | M68: $20,000 or less | N68: 7777 | O68: Total stated - tenure of household | P68: 36933 | T68: =IF(AND(R68<>"_U",R68<>"c",N68<>999,N68<>9999,L68<>"Median"),IFERROR((ROUND(P68/U68*100,2)),"."),".") -> 100 | U68: =IF(AND(R68<>"_U",N68<>9999,N68<>999,L68<>"Median"),IFERROR(VLOOKUP(A68,'Region Total'!A:P,16,0),"."),".") -> 36933
A69: =G69&"|"&I69&"|"&M69 -> 2018|Auckland Region|$20,000 or less | B69: DATAFLOW | C69: STATSNZ:CEN23_HOU_001(1.0) | D69: Access to basic amenities, total household income, and tenure of household for households in occupied private dwellings, (RC, TALB, SA2, Health), 2018 and 2023 Censuses | E69: I | F69: 2018 | G69: 2018 | H69: 2 | I69: Auckland Region | J69: 99 | K69: Total - access to basic amenities | L69: 1 | M69: $20,000 or less | N69: 999 | O69: Not elsewhere included | P69: 0 | T69: =IF(AND(R69<>"_U",R69<>"c",N69<>999,N69<>9999,L69<>"Median"),IFERROR((ROUND(P69/U69*100,2)),"."),".") -> . | U69: =IF(AND(R69<>"_U",N69<>9999,N69<>999,L69<>"Median"),IFERROR(VLOOKUP(A69,'Region Total'!A:P,16,0),"."),".") -> .
...

Sheet Region Total
A1: HELPER COLUMN | B1: STRUCTURE | C1: STRUCTURE_ID | D1: STRUCTURE_NAME | E1: ACTION | F1: CEN23_YEAR_001 | G1: Census year | H1: CEN23_GEO_013 | I1: Area | J1: CEN23_HOD_002 | K1: Access to basic amenities | L1: CEN23_TIH_001 | M1: Total household income | N1: CEN23_THD_001 | O1: Tenure of household | P1: OBS_VALUE | Q1: Observation Value | R1: OBS_STATUS | S1: Observation Status
A2: 2018|Northland Region|$20,000 or less | B2: DATAFLOW | C2: STATSNZ:CEN23_HOU_001(1.0) | D2: Access to basic amenities, total household income, and tenure of household for households in occupied private dwellings, (RC, TALB, SA2, Health), 2018 and 2023 Censuses | E2: I | F2: 2018 | G2: 2018 | H2: 1 | I2: Northland Region | J2: 99 | K2: Total - access to basic amenities | L2: 1 | M2: $20,000 or less | N2: 7777 | O2: Total stated - tenure of household | P2: 7242
A3: 2018|Northland Region|$20,001-$30,000 | B3: DATAFLOW | C3: STATSNZ:CEN23_HOU_001(1.0) | D3: Access to basic amenities, total household income, and tenure of household for households in occupied private dwellings, (RC, TALB, SA2, Health), 2018 and 2023 Censuses | E3: I | F3: 2018 | G3: 2018 | H3: 1 | I3: Northland Region | J3: 99 | K3: Total - access to basic amenities | L3: 2 | M3: $20,001-$30,000 | N3: 7777 | O3: Total stated - tenure of household | P3: 7617
A4: 2018|Northland Region|$30,001-$50,000 | B4: DATAFLOW | C4: STATSNZ:CEN23_HOU_001(1.0) | D4: Access to basic amenities, total household income, and tenure of household for households in occupied private dwellings, (RC, TALB, SA2, Health), 2018 and 2023 Censuses | E4: I | F4: 2018 | G4: 2018 | H4: 1 | I4: Northland Region | J4: 99 | K4: Total - access to basic amenities | L4: 3 | M4: $30,001-$50,000 | N4: 7777 | O4: Total stated - tenure of household | P4: 10992
A5: 2018|Northland Region|$50,001-$70,000 | B5: DATAFLOW | C5: STATSNZ:CEN23_HOU_001(1.0) | D5: Access to basic amenities, total household income, and tenure of household for households in occupied private dwellings, (RC, TALB, SA2, Health), 2018 and 2023 Censuses | E5: I | F5: 2018 | G5: 2018 | H5: 1 | I5: Northland Region | J5: 99 | K5: Total - access to basic amenities | L5: 4 | M5: $50,001-$70,000 | N5: 7777 | O5: Total stated - tenure of household | P5: 8835
A6: 2018|Northland Region|$70,001-$100,000 | B6: DATAFLOW | C6: STATSNZ:CEN23_HOU_001(1.0) | D6: Access to basic amenities, total household income, and tenure of household for households in occupied private dwellings, (RC, TALB, SA2, Health), 2018 and 2023 Censuses | E6: I | F6: 2018 | G6: 2018 | H6: 1 | I6: Northland Region | J6: 99 | K6: Total - access to basic amenities | L6: 5 | M6: $70,001-$100,000 | N6: 7777 | O6: Total stated - tenure of household | P6: 8895
A7: 2018|Northland Region|$100,001-$150,000 | B7: DATAFLOW | C7: STATSNZ:CEN23_HOU_001(1.0) | D7: Access to basic amenities, total household income, and tenure of household for households in occupied private dwellings, (RC, TALB, SA2, Health), 2018 and 2023 Censuses | E7: I | F7: 2018 | G7: 2018 | H7: 1 | I7: Northland Region | J7: 99 | K7: Total - access to basic amenities | L7: 6 | M7: $100,001-$150,000 | N7: 7777 | O7: Total stated - tenure of household | P7: 8919
A8: 2018|Northland Region|$150,001-$200,000 | B8: DATAFLOW | C8: STATSNZ:CEN23_HOU_001(1.0) | D8: Access to basic amenities, total household income, and tenure of household for households in occupied private dwellings, (RC, TALB, SA2, Health), 2018 and 2023 Censuses | E8: I | F8: 2018 | G8: 2018 | H8: 1 | I8: Northland Region | J8: 99 | K8: Total - access to basic amenities | L8: 7 | M8: $150,001-$200,000 | N8: 7777 | O8: Total stated - tenure of household | P8: 5679
A9: 2018|Northland Region|$200,001 or more | B9: DATAFLOW | C9: STATSNZ:CEN23_HOU_001(1.0) | D9: Access to basic amenities, total household income, and tenure of household for households in occupied private dwellings, (RC, TALB, SA2, Health), 2018 and 2023 Censuses | E9: I | F9: 2018 | G9: 2018 | H9: 1 | I9: Northland Region | J9: 99 | K9: Total - access to basic amenities | L9: 8 | M9: $200,001 or more | N9: 7777 | O9: Total stated - tenure of household | R9: _U | S9: Not available
A10: 2018|Northland Region|Total stated - total household income | B10: DATAFLOW | C10: STATSNZ:CEN23_HOU_001(1.0) | D10: Access to basic amenities, total household income, and tenure of household for households in occupied private dwellings, (RC, TALB, SA2, Health), 2018 and 2023 Censuses | E10: I | F10: 2018 | G10: 2018 | H10: 1 | I10: Northland Region | J10: 99 | K10: Total - access to basic amenities | L10: 77 | M10: Total stated - total household income | N10: 7777 | O10: Total stated - tenure of household | P10: 58179
A11: 2018|Northland Region|Total - total household income | B11: DATAFLOW | C11: STATSNZ:CEN23_HOU_001(1.0) | D11: Access to basic amenities, total household income, and tenure of household for households in occupied private dwellings, (RC, TALB, SA2, Health), 2018 and 2023 Censuses | E11: I | F11: 2018 | G11: 2018 | H11: 1 | I11: Northland Region | J11: 99 | K11: Total - access to basic amenities | L11: 99 | M11: Total - total household income | N11: 7777 | O11: Total stated - tenure of household | P11: 64215
A12: 2018|Northland Region|Median ($) - total household income | B12: DATAFLOW | C12: STATSNZ:CEN23_HOU_001(1.0) | D12: Access to basic amenities, total household income, and tenure of household for households in occupied private dwellings, (RC, TALB, SA2, Health), 2018 and 2023 Censuses | E12: I | F12: 2018 | G12: 2018 | H12: 1 | I12: Northland Region | J12: 99 | K12: Total - access to basic amenities | L12: Median | M12: Median ($) - total household income | N12: 7777 | O12: Total stated - tenure of household | P12: 57000
A13: 2018|Auckland Region|$20,000 or less | B13: DATAFLOW | C13: STATSNZ:CEN23_HOU_001(1.0) | D13: Access to basic amenities, total household income, and tenure of household for households in occupied private dwellings, (RC, TALB, SA2, Health), 2018 and 2023 Censuses | E13: I | F13: 2018 | G13: 2018 | H13: 2 | I13: Auckland Region | J13: 99 | K13: Total - access to basic amenities | L13: 1 | M13: $20,000 or less | N13: 7777 | O13: Total stated - tenure of household | P13: 36933
A14: 2018|Auckland Region|$20,001-$30,000 | B14: DATAFLOW | C14: STATSNZ:CEN23_HOU_001(1.0) | D14: Access to basic amenities, total household income, and tenure of household for households in occupied private dwellings, (RC, TALB, SA2, Health), 2018 and 2023 Censuses | E14: I | F14: 2018 | G14: 2018 | H14: 2 | I14: Auckland Region | J14: 99 | K14: Total - access to basic amenities | L14: 2 | M14: $20,001-$30,000 | N14: 7777 | O14: Total stated - tenure of household | P14: 33021
A15: 2018|Auckland Region|$30,001-$50,000 | B15: DATAFLOW | C15: STATSNZ:CEN23_HOU_001(1.0) | D15: Access to basic amenities, total household income, and tenure of household for households in occupied private dwellings, (RC, TALB, SA2, Health), 2018 and 2023 Censuses | E15: I | F15: 2018 | G15: 2018 | H15: 2 | I15: Auckland Region | J15: 99 | K15: Total - access to basic amenities | L15: 3 | M15: $30,001-$50,000 | N15: 7777 | O15: Total stated - tenure of household | P15: 52188
A16: 2018|Auckland Region|$50,001-$70,000 | B16: DATAFLOW | C16: STATSNZ:CEN23_HOU_001(1.0) | D16: Access to basic amenities, total household income, and tenure of household for households in occupied private dwellings, (RC, TALB, SA2, Health), 2018 and 2023 Censuses | E16: I | F16: 2018 | G16: 2018 | H16: 2 | I16: Auckland Region | J16: 99 | K16: Total - access to basic amenities | L16: 4 | M16: $50,001-$70,000 | N16: 7777 | O16: Total stated - tenure of household | P16: 51492
A17: 2018|Auckland Region|$70,001-$100,000 | B17: DATAFLOW | C17: STATSNZ:CEN23_HOU_001(1.0) | D17: Access to basic amenities, total household income, and tenure of household for households in occupied private dwellings, (RC, TALB, SA2, Health), 2018 and 2023 Censuses | E17: I | F17: 2018 | G17: 2018 | H17: 2 | I17: Auckland Region | J17: 99 | K17: Total - access to basic amenities | L17: 5 | M17: $70,001-$100,000 | N17: 7777 | O17: Total stated - tenure of household | P17: 66759
A18: 2018|Auckland Region|$100,001-$150,000 | B18: DATAFLOW | C18: STATSNZ:CEN23_HOU_001(1.0) | D18: Access to basic amenities, total household income, and tenure of household for households in occupied private dwellings, (RC, TALB, SA2, Health), 2018 and 2023 Censuses | E18: I | F18: 2018 | G18: 2018 | H18: 2 | I18: Auckland Region | J18: 99 | K18: Total - access to basic amenities | L18: 6 | M18: $100,001-$150,000 | N18: 7777 | O18: Total stated - tenure of household | P18: 95559
A19: 2018|Auckland Region|$150,001-$200,000 | B19: DATAFLOW | C19: STATSNZ:CEN23_HOU_001(1.0) | D19: Access to basic amenities, total household income, and tenure of household for households in occupied private dwellings, (RC, TALB, SA2, Health), 2018 and 2023 Censuses | E19: I | F19: 2018 | G19: 2018 | H19: 2 | I19: Auckland Region | J19: 99 | K19: Total - access to basic amenities | L19: 7 | M19: $150,001-$200,000 | N19: 7777 | O19: Total stated - tenure of household | P19: 117759
A20: 2018|Auckland Region|$200,001 or more | B20: DATAFLOW | C20: STATSNZ:CEN23_HOU_001(1.0) | D20: Access to basic amenities, total household income, and tenure of household for households in occupied private dwellings, (RC, TALB, SA2, Health), 2018 and 2023 Censuses | E20: I | F20: 2018 | G20: 2018 | H20: 2 | I20: Auckland Region | J20: 99 | K20: Total - access to basic amenities | L20: 8 | M20: $200,001 or more | N20: 7777 | O20: Total stated - tenure of household | R20: _U | S20: Not available
A21: 2018|Auckland Region|Total stated - total household income | B21: DATAFLOW | C21: STATSNZ:CEN23_HOU_001(1.0) | D21: Access to basic amenities, total household income, and tenure of household for households in occupied private dwellings, (RC, TALB, SA2, Health), 2018 and 2023 Censuses | E21: I | F21: 2018 | G21: 2018 | H21: 2 | I21: Auckland Region | J21: 99 | K21: Total - access to basic amenities | L21: 77 | M21: Total stated - total household income | N21: 7777 | O21: Total stated - tenure of household | P21: 453705
A22: 2018|Auckland Region|Total - total household income | B22: DATAFLOW | C22: STATSNZ:CEN23_HOU_001(1.0) | D22: Access to basic amenities, total household income, and tenure of household for households in occupied private dwellings, (RC, TALB, SA2, Health), 2018 and 2023 Censuses | E22: I | F22: 2018 | G22: 2018 | H22: 2 | I22: Auckland Region | J22: 99 | K22: Total - access to basic amenities | L22: 99 | M22: Total - total household income | N22: 7777 | O22: Total stated - tenure of household | P22: 496428
A23: 2018|Auckland Region|Median ($) - total household income | B23: DATAFLOW | C23: STATSNZ:CEN23_HOU_001(1.0) | D23: Access to basic amenities, total household income, and tenure of household for households in occupied private dwellings, (RC, TALB, SA2, Health), 2018 and 2023 Censuses | E23: I | F23: 2018 | G23: 2018 | H23: 2 | I23: Auckland Region | J23: 99 | K23: Total - access to basic amenities | L23: Median | M23: Median ($) - total household income | N23: 7777 | O23: Total stated - tenure of household | P23: 93900
A24: 2018|Waikato Region|$20,000 or less | B24: DATAFLOW | C24: STATSNZ:CEN23_HOU_001(1.0) | D24: Access to basic amenities, total household income, and tenure of household for households in occupied private dwellings, (RC, TALB, SA2, Health), 2018 and 2023 Censuses | E24: I | F24: 2018 | G24: 2018 | H24: 3 | I24: Waikato Region | J24: 99 | K24: Total - access to basic amenities | L24: 1 | M24: $20,000 or less | N24: 7777 | O24: Total stated - tenure of household | P24: 14001
A25: 2018|Waikato Region|$20,001-$30,000 | B25: DATAFLOW | C25: STATSNZ:CEN23_HOU_001(1.0) | D25: Access to basic amenities, total household income, and tenure of household for households in occupied private dwellings, (RC, TALB, SA2, Health), 2018 and 2023 Censuses | E25: I | F25: 2018 | G25: 2018 | H25: 3 | I25: Waikato Region | J25: 99 | K25: Total - access to basic amenities | L25: 2 | M25: $20,001-$30,000 | N25: 7777 | O25: Total stated - tenure of household | P25: 15543
A26: 2018|Waikato Region|$30,001-$50,000 | B26: DATAFLOW | C26: STATSNZ:CEN23_HOU_001(1.0) | D26: Access to basic amenities, total household income, and tenure of household for households in occupied private dwellings, (RC, TALB, SA2, Health), 2018 and 2023 Censuses | E26: I | F26: 2018 | G26: 2018 | H26: 3 | I26: Waikato Region | J26: 99 | K26: Total - access to basic amenities | L26: 3 | M26: $30,001-$50,000 | N26: 7777 | O26: Total stated - tenure of household | P26: 23982
A27: 2018|Waikato Region|$50,001-$70,000 | B27: DATAFLOW | C27: STATSNZ:CEN23_HOU_001(1.0) | D27: Access to basic amenities, total household income, and tenure of household for households in occupied private dwellings, (RC, TALB, SA2, Health), 2018 and 2023 Censuses | E27: I | F27: 2018 | G27: 2018 | H27: 3 | I27: Waikato Region | J27: 99 | K27: Total - access to basic amenities | L27: 4 | M27: $50,001-$70,000 | N27: 7777 | O27: Total stated - tenure of household | P27: 21921
A28: 2018|Waikato Region|$70,001-$100,000 | B28: DATAFLOW | C28: STATSNZ:CEN23_HOU_001(1.0) | D28: Access to basic amenities, total household income, and tenure of household for households in occupied private dwellings, (RC, TALB, SA2, Health), 2018 and 2023 Censuses | E28: I | F28: 2018 | G28: 2018 | H28: 3 | I28: Waikato Region | J28: 99 | K28: Total - access to basic amenities | L28: 5 | M28: $70,001-$100,000 | N28: 7777 | O28: Total stated - tenure of household | P28: 24798
A29: 2018|Waikato Region|$100,001-$150,000 | B29: DATAFLOW | C29: STATSNZ:CEN23_HOU_001(1.0) | D29: Access to basic amenities, total household income, and tenure of household for households in occupied private dwellings, (RC, TALB, SA2, Health), 2018 and 2023 Censuses | E29: I | F29: 2018 | G29: 2018 | H29: 3 | I29: Waikato Region | J29: 99 | K29: Total - access to basic amenities | L29: 6 | M29: $100,001-$150,000 | N29: 7777 | O29: Total stated - tenure of household | P29: 28617
A30: 2018|Waikato Region|$150,001-$200,000 | B30: DATAFLOW | C30: STATSNZ:CEN23_HOU_001(1.0) | D30: Access to basic amenities, total household income, and tenure of household for households in occupied private dwellings, (RC, TALB, SA2, Health), 2018 and 2023 Censuses | E30: I | F30: 2018 | G30: 2018 | H30: 3 | I30: Waikato Region | J30: 99 | K30: Total - access to basic amenities | L30: 7 | M30: $150,001-$200,000 | N30: 7777 | O30: Total stated - tenure of household | P30: 21291
A31: 2018|Waikato Region|$200,001 or more | B31: DATAFLOW | C31: STATSNZ:CEN23_HOU_001(1.0) | D31: Access to basic amenities, total household income, and tenure of household for households in occupied private dwellings, (RC, TALB, SA2, Health), 2018 and 2023 Censuses | E31: I | F31: 2018 | G31: 2018 | H31: 3 | I31: Waikato Region | J31: 99 | K31: Total - access to basic amenities | L31: 8 | M31: $200,001 or more | N31: 7777 | O31: Total stated - tenure of household | R31: _U | S31: Not available
A32: 2018|Waikato Region|Total stated - total household income | B32: DATAFLOW | C32: STATSNZ:CEN23_HOU_001(1.0) | D32: Access to basic amenities, total household income, and tenure of household for households in occupied private dwellings, (RC, TALB, SA2, Health), 2018 and 2023 Censuses | E32: I | F32: 2018 | G32: 2018 | H32: 3 | I32: Waikato Region | J32: 99 | K32: Total - access to basic amenities | L32: 77 | M32: Total stated - total household income | N32: 7777 | O32: Total stated - tenure of household | P32: 150159
A33: 2018|Waikato Region|Total - total household income | B33: DATAFLOW | C33: STATSNZ:CEN23_HOU_001(1.0) | D33: Access to basic amenities, total household income, and tenure of household for households in occupied private dwellings, (RC, TALB, SA2, Health), 2018 and 2023 Censuses | E33: I | F33: 2018 | G33: 2018 | H33: 3 | I33: Waikato Region | J33: 99 | K33: Total - access to basic amenities | L33: 99 | M33: Total - total household income | N33: 7777 | O33: Total stated - tenure of household | P33: 162804
A34: 2018|Waikato Region|Median ($) - total household income | B34: DATAFLOW | C34: STATSNZ:CEN23_HOU_001(1.0) | D34: Access to basic amenities, total household income, and tenure of household for households in occupied private dwellings, (RC, TALB, SA2, Health), 2018 and 2023 Censuses | E34: I | F34: 2018 | G34: 2018 | H34: 3 | I34: Waikato Region | J34: 99 | K34: Total - access to basic amenities | L34: Median | M34: Median ($) - total household income | N34: 7777 | O34: Total stated - tenure of household | P34: 69600
A35: 2018|Bay of Plenty Region|$20,000 or less | B35: DATAFLOW | C35: STATSNZ:CEN23_HOU_001(1.0) | D35: Access to basic amenities, total household income, and tenure of household for households in occupied private dwellings, (RC, TALB, SA2, Health), 2018 and 2023 Censuses | E35: I | F35: 2018 | G35: 2018 | H35: 4 | I35: Bay of Plenty Region | J35: 99 | K35: Total - access to basic amenities | L35: 1 | M35: $20,000 or less | N35: 7777 | O35: Total stated - tenure of household | P35: 8991
A36: 2018|Bay of Plenty Region|$20,001-$30,000 | B36: DATAFLOW | C36: STATSNZ:CEN23_HOU_001(1.0) | D36: Access to basic amenities, total household income, and tenure of household for households in occupied private dwellings, (RC, TALB, SA2, Health), 2018 and 2023 Censuses | E36: I | F36: 2018 | G36: 2018 | H36: 4 | I36: Bay of Plenty Region | J36: 99 | K36: Total - access to basic amenities | L36: 2 | M36: $20,001-$30,000 | N36: 7777 | O36: Total stated - tenure of household | P36: 11589
A37: 2018|Bay of Plenty Region|$30,001-$50,000 | B37: DATAFLOW | C37: STATSNZ:CEN23_HOU_001(1.0) | D37: Access to basic amenities, total household income, and tenure of household for households in occupied private dwellings, (RC, TALB, SA2, Health), 2018 and 2023 Censuses | E37: I | F37: 2018 | G37: 2018 | H37: 4 | I37: Bay of Plenty Region | J37: 99 | K37: Total - access to basic amenities | L37: 3 | M37: $30,001-$50,000 | N37: 7777 | O37: Total stated - tenure of household | P37: 17427
A38: 2018|Bay of Plenty Region|$50,001-$70,000 | B38: DATAFLOW | C38: STATSNZ:CEN23_HOU_001(1.0) | D38: Access to basic amenities, total household income, and tenure of household for households in occupied private dwellings, (RC, TALB, SA2, Health), 2018 and 2023 Censuses | E38: I | F38: 2018 | G38: 2018 | H38: 4 | I38: Bay of Plenty Region | J38: 99 | K38: Total - access to basic amenities | L38: 4 | M38: $50,001-$70,000 | N38: 7777 | O38: Total stated - tenure of household | P38: 14772
A39: 2018|Bay of Plenty Region|$70,001-$100,000 | B39: DATAFLOW | C39: STATSNZ:CEN23_HOU_001(1.0) | D39: Access to basic amenities, total household income, and tenure of household for households in occupied private dwellings, (RC, TALB, SA2, Health), 2018 and 2023 Censuses | E39: I | F39: 2018 | G39: 2018 | H39: 4 | I39: Bay of Plenty Region | J39: 99 | K39: Total - access to basic amenities | L39: 5 | M39: $70,001-$100,000 | N39: 7777 | O39: Total stated - tenure of household | P39: 16425
A40: 2018|Bay of Plenty Region|$100,001-$150,000 | B40: DATAFLOW | C40: STATSNZ:CEN23_HOU_001(1.0) | D40: Access to basic amenities, total household income, and tenure of household for households in occupied private dwellings, (RC, TALB, SA2, Health), 2018 and 2023 Censuses | E40: I | F40: 2018 | G40: 2018 | H40: 4 | I40: Bay of Plenty Region | J40: 99 | K40: Total - access to basic amenities | L40: 6 | M40: $100,001-$150,000 | N40: 7777 | O40: Total stated - tenure of household | P40: 18405
...

Sheet TA
A1: HELPER COLUMN | B1: STRUCTURE | C1: STRUCTURE_ID | D1: STRUCTURE_NAME | E1: ACTION | F1: CEN23_YEAR_001 | G1: Census year | H1: CEN23_GEO_013 | I1: Area | J1: CEN23_HOD_002 | K1: Access to basic amenities | L1: CEN23_TIH_001 | M1: Total household income | N1: CEN23_THD_001 | O1: Tenure of household | P1: OBS_VALUE | Q1: Observation Value | R1: OBS_STATUS | S1: Observation Status | T1: Percentage | U1: Denominator (Total stated)
A2: =G2&"|"&I2&"|"&M2 -> 2018|Far North District|$20,000 or less | B2: DATAFLOW | C2: STATSNZ:CEN23_HOU_001(1.0) | D2: Access to basic amenities, total household income, and tenure of household for households in occupied private dwellings, (RC, TALB, SA2, Health), 2018 and 2023 Censuses | E2: I | F2: 2018 | G2: 2018 | H2: 1 | I2: Far North District | J2: 99 | K2: Total - access to basic amenities | L2: 1 | M2: $20,000 or less | N2: 9999 | O2: Total - tenure of household | P2: 2853 | T2: =IF(AND(R2<>"_U",R2<>"c",N2<>999,N2<>9999,L2<>"Median"),IFERROR((ROUND(P2/U2*100,2)),"."),".") -> . | U2: =IF(AND(R2<>"_U",N2<>9999,N2<>999,L2<>"Median"),IFERROR(VLOOKUP(A2,'TA Total'!A:P,16,0),"."),".") -> .
A3: =G3&"|"&I3&"|"&M3 -> 2018|Far North District|$20,000 or less | B3: DATAFLOW | C3: STATSNZ:CEN23_HOU_001(1.0) | D3: Access to basic amenities, total household income, and tenure of household for households in occupied private dwellings, (RC, TALB, SA2, Health), 2018 and 2023 Censuses | E3: I | F3: 2018 | G3: 2018 | H3: 1 | I3: Far North District | J3: 99 | K3: Total - access to basic amenities | L3: 1 | M3: $20,000 or less | N3: 1 | O3: Dwelling owned or partly owned | P3: 1245 | T3: =IF(AND(R3<>"_U",R3<>"c",N3<>999,N3<>9999,L3<>"Median"),IFERROR((ROUND(P3/U3*100,2)),"."),".") -> 43.64 | U3: =IF(AND(R3<>"_U",N3<>9999,N3<>999,L3<>"Median"),IFERROR(VLOOKUP(A3,'TA Total'!A:P,16,0),"."),".") -> 2853
A4: =G4&"|"&I4&"|"&M4 -> 2018|Far North District|$20,000 or less | B4: DATAFLOW | C4: STATSNZ:CEN23_HOU_001(1.0) | D4: Access to basic amenities, total household income, and tenure of household for households in occupied private dwellings, (RC, TALB, SA2, Health), 2018 and 2023 Censuses | E4: I | F4: 2018 | G4: 2018 | H4: 1 | I4: Far North District | J4: 99 | K4: Total - access to basic amenities | L4: 1 | M4: $20,000 or less | N4: 2 | O4: Dwelling not owned and not held in a family trust | P4: 1374 | T4: =IF(AND(R4<>"_U",R4<>"c",N4<>999,N4<>9999,L4<>"Median"),IFERROR((ROUND(P4/U4*100,2)),"."),".") -> 48.16 | U4: =IF(AND(R4<>"_U",N4<>9999,N4<>999,L4<>"Median"),IFERROR(VLOOKUP(A4,'TA Total'!A:P,16,0),"."),".") -> 2853
A5: =G5&"|"&I5&"|"&M5 -> 2018|Far North District|$20,000 or less | B5: DATAFLOW | C5: STATSNZ:CEN23_HOU_001(1.0) | D5: Access to basic amenities, total household income, and tenure of household for households in occupied private dwellings, (RC, TALB, SA2, Health), 2018 and 2023 Censuses | E5: I | F5: 2018 | G5: 2018 | H5: 1 | I5: Far North District | J5: 99 | K5: Total - access to basic amenities | L5: 1 | M5: $20,000 or less | N5: 3 | O5: Dwelling held in a family trust | P5: 234 | T5: =IF(AND(R5<>"_U",R5<>"c",N5<>999,N5<>9999,L5<>"Median"),IFERROR((ROUND(P5/U5*100,2)),"."),".") -> 8.2 | U5: =IF(AND(R5<>"_U",N5<>9999,N5<>999,L5<>"Median"),IFERROR(VLOOKUP(A5,'TA Total'!A:P,16,0),"."),".") -> 2853
A6: =G6&"|"&I6&"|"&M6 -> 2018|Far North District|$20,000 or less | B6: DATAFLOW | C6: STATSNZ:CEN23_HOU_001(1.0) | D6: Access to basic amenities, total household income, and tenure of household for households in occupied private dwellings, (RC, TALB, SA2, Health), 2018 and 2023 Censuses | E6: I | F6: 2018 | G6: 2018 | H6: 1 | I6: Far North District | J6: 99 | K6: Total - access to basic amenities | L6: 1 | M6: $20,000 or less | N6: 999 | O6: Not elsewhere included | P6: 0 | T6: =IF(AND(R6<>"_U",R6<>"c",N6<>999,N6<>9999,L6<>"Median"),IFERROR((ROUND(P6/U6*100,2)),"."),".") -> . | U6: =IF(AND(R6<>"_U",N6<>9999,N6<>999,L6<>"Median"),IFERROR(VLOOKUP(A6,'TA Total'!A:P,16,0),"."),".") -> .
A7: =G7&"|"&I7&"|"&M7 -> 2018|Far North District|$20,000 or less | B7: DATAFLOW | C7: STATSNZ:CEN23_HOU_001(1.0) | D7: Access to basic amenities, total household income, and tenure of household for households in occupied private dwellings, (RC, TALB, SA2, Health), 2018 and 2023 Censuses | E7: I | F7: 2018 | G7: 2018 | H7: 1 | I7: Far North District | J7: 99 | K7: Total - access to basic amenities | L7: 1 | M7: $20,000 or less | N7: 7777 | O7: Total stated - tenure of household | P7: 2853 | T7: =IF(AND(R7<>"_U",R7<>"c",N7<>999,N7<>9999,L7<>"Median"),IFERROR((ROUND(P7/U7*100,2)),"."),".") -> 100 | U7: =IF(AND(R7<>"_U",N7<>9999,N7<>999,L7<>"Median"),IFERROR(VLOOKUP(A7,'TA Total'!A:P,16,0),"."),".") -> 2853
A8: =G8&"|"&I8&"|"&M8 -> 2018|Far North District|$20,001-$30,000 | B8: DATAFLOW | C8: STATSNZ:CEN23_HOU_001(1.0) | D8: Access to basic amenities, total household income, and tenure of household for households in occupied private dwellings, (RC, TALB, SA2, Health), 2018 and 2023 Censuses | E8: I | F8: 2018 | G8: 2018 | H8: 1 | I8: Far North District | J8: 99 | K8: Total - access to basic amenities | L8: 2 | M8: $20,001-$30,000 | N8: 999 | O8: Not elsewhere included | P8: 0 | T8: =IF(AND(R8<>"_U",R8<>"c",N8<>999,N8<>9999,L8<>"Median"),IFERROR((ROUND(P8/U8*100,2)),"."),".") -> . | U8: =IF(AND(R8<>"_U",N8<>9999,N8<>999,L8<>"Median"),IFERROR(VLOOKUP(A8,'TA Total'!A:P,16,0),"."),".") -> .
A9: =G9&"|"&I9&"|"&M9 -> 2018|Far North District|$20,001-$30,000 | B9: DATAFLOW | C9: STATSNZ:CEN23_HOU_001(1.0) | D9: Access to basic amenities, total household income, and tenure of household for households in occupied private dwellings, (RC, TALB, SA2, Health), 2018 and 2023 Censuses | E9: I | F9: 2018 | G9: 2018 | H9: 1 | I9: Far North District | J9: 99 | K9: Total - access to basic amenities | L9: 2 | M9: $20,001-$30,000 | N9: 1 | O9: Dwelling owned or partly owned | P9: 1488 | T9: =IF(AND(R9<>"_U",R9<>"c",N9<>999,N9<>9999,L9<>"Median"),IFERROR((ROUND(P9/U9*100,2)),"."),".") -> 52.71 | U9: =IF(AND(R9<>"_U",N9<>9999,N9<>999,L9<>"Median"),IFERROR(VLOOKUP(A9,'TA Total'!A:P,16,0),"."),".") -> 2823
A10: =G10&"|"&I10&"|"&M10 -> 2018|Far North District|$20,001-$30,000 | B10: DATAFLOW | C10: STATSNZ:CEN23_HOU_001(1.0) | D10: Access to basic amenities, total household income, and tenure of household for households in occupied private dwellings, (RC, TALB, SA2, Health), 2018 and 2023 Censuses | E10: I | F10: 2018 | G10: 2018 | H10: 1 | I10: Far North District | J10: 99 | K10: Total - access to basic amenities | L10: 2 | M10: $20,001-$30,000 | N10: 2 | O10: Dwelling not owned and not held in a family trust | P10: 1077 | T10: =IF(AND(R10<>"_U",R10<>"c",N10<>999,N10<>9999,L10<>"Median"),IFERROR((ROUND(P10/U10*100,2)),"."),".") -> 38.15 | U10: =IF(AND(R10<>"_U",N10<>9999,N10<>999,L10<>"Median"),IFERROR(VLOOKUP(A10,'TA Total'!A:P,16,0),"."),".") -> 2823
A11: =G11&"|"&I11&"|"&M11 -> 2018|Far North District|$20,001-$30,000 | B11: DATAFLOW | C11: STATSNZ:CEN23_HOU_001(1.0) | D11: Access to basic amenities, total household income, and tenure of household for households in occupied private dwellings, (RC, TALB, SA2, Health), 2018 and 2023 Censuses | E11: I | F11: 2018 | G11: 2018 | H11: 1 | I11: Far North District | J11: 99 | K11: Total - access to basic amenities | L11: 2 | M11: $20,001-$30,000 | N11: 9999 | O11: Total - tenure of household | P11: 2823 | T11: =IF(AND(R11<>"_U",R11<>"c",N11<>999,N11<>9999,L11<>"Median"),IFERROR((ROUND(P11/U11*100,2)),"."),".") -> . | U11: =IF(AND(R11<>"_U",N11<>9999,N11<>999,L11<>"Median"),IFERROR(VLOOKUP(A11,'TA Total'!A:P,16,0),"."),".") -> .
A12: =G12&"|"&I12&"|"&M12 -> 2018|Far North District|$20,001-$30,000 | B12: DATAFLOW | C12: STATSNZ:CEN23_HOU_001(1.0) | D12: Access to basic amenities, total household income, and tenure of household for households in occupied private dwellings, (RC, TALB, SA2, Health), 2018 and 2023 Censuses | E12: I | F12: 2018 | G12: 2018 | H12: 1 | I12: Far North District | J12: 99 | K12: Total - access to basic amenities | L12: 2 | M12: $20,001-$30,000 | N12: 3 | O12: Dwelling held in a family trust | P12: 255 | T12: =IF(AND(R12<>"_U",R12<>"c",N12<>999,N12<>9999,L12<>"Median"),IFERROR((ROUND(P12/U12*100,2)),"."),".") -> 9.03 | U12: =IF(AND(R12<>"_U",N12<>9999,N12<>999,L12<>"Median"),IFERROR(VLOOKUP(A12,'TA Total'!A:P,16,0),"."),".") -> 2823
A13: =G13&"|"&I13&"|"&M13 -> 2018|Far North District|$20,001-$30,000 | B13: DATAFLOW | C13: STATSNZ:CEN23_HOU_001(1.0) | D13: Access to basic amenities, total household income, and tenure of household for households in occupied private dwellings, (RC, TALB, SA2, Health), 2018 and 2023 Censuses | E13: I | F13: 2018 | G13: 2018 | H13: 1 | I13: Far North District | J13: 99 | K13: Total - access to basic amenities | L13: 2 | M13: $20,001-$30,000 | N13: 7777 | O13: Total stated - tenure of household | P13: 2823 | T13: =IF(AND(R13<>"_U",R13<>"c",N13<>999,N13<>9999,L13<>"Median"),IFERROR((ROUND(P13/U13*100,2)),"."),".") -> 100 | U13: =IF(AND(R13<>"_U",N13<>9999,N13<>999,L13<>"Median"),IFERROR(VLOOKUP(A13,'TA Total'!A:P,16,0),"."),".") -> 2823
... A43: =G43&"|"&I43&"|"&M43 -> 2018|Far North District|$150,001-$200,000 | B43: DATAFLOW | C43: STATSNZ:CEN23_HOU_001(1.0) | D43: Access to basic amenities, total household income, and tenure of household for households in occupied private dwellings, (RC, TALB, SA2, Health), 2018 and 2023 Censuses | E43: I | F43: 2018 | G43: 2018 | H43: 1 | I43: Far North District | J43: 99 | K43: Total - access to basic amenities | L43: 7 | M43: $150,001-$200,000 | N43: 9999 | O43: Total - tenure of household | P43: 1542 | T43: =IF(AND(R43<>"_U",R43<>"c",N43<>999,N43<>9999,L43<>"Median"),IFERROR((ROUND(P43/U43*100,2)),"."),".") -> . | U43: =IF(AND(R43<>"_U",N43<>9999,N43<>999,L43<>"Median"),IFERROR(VLOOKUP(A43,'TA Total'!A:P,16,0),"."),".") -> .
