Workbook

Sheet Region
A1: HELPER COLUMN | B1: STRUCTURE | C1: STRUCTURE_ID | D1: STRUCTURE_NAME | E1: ACTION | F1: CEN23_YEAR_001 | G1: Census year | H1: CEN23_GEO_013 | I1: Area | J1: CEN23_HOD_002 | K1: Access to basic amenities | L1: CEN23_TIH_001 | M1: Total household income | N1: CEN23_THD_001 | O1: Tenure of household | P1: OBS_VALUE | Q1: Observation Value | R1: OBS_STATUS | S1: Observation Status | T1: Percentage | U1: Denominator (Total stated)
A2: =G2&"|"&I2&"|"&M2 -> 2018|Northland Region|$20,000 or less | B2: DATAFLOW | C2: STATSNZ:CEN23_HOU_001(1.0) | D2: Access to basic amenities, total household income, and tenure of household for households in occupied private dwellings, (RC, TALB, SA2, Health), 2018 and 2023 Censuses | E2: I | F2: 2018 | G2: 2018 | H2: 1 | I2: Northland Region | J2: 99 | K2: Total - access to basic amenities | L2: 1 | M2: $20,000 or less | N2: 1 | O2: Dwelling owned or partly owned | P2: 2991 | T2: =IF(AND(R2<>"_U",R2<>"c",N2<>999,N2<>9999,L2<>"Median"),IFERROR((ROUND(P2/U2*100,2)),"."),".") -> 41.3 | U2: =IF(AND(R2<>"_U",N2<>9999,N2<>999,L2<>"Median"),IFERROR(VLOOKUP(A2,'Region Total'!A:P,16,0),"."),".") -> 7242
A3: =G3&"|"&I3&"|"&M3 -> 2018|Northland Region|$20,000 or less | B3: DATAFLOW | C3: STATSNZ:CEN23_HOU_001(1.0) | D3: Access to basic amenities, total household income, and tenure of household for households in occupied private dwellings, (RC, TALB, SA2, Health), 2018 and 2023 Censuses | E3: I | F3: 2018 | G3: 2018 | H3: 1 | I3: Northland Region | J3: 99 | K3: Total - access to basic amenities | L3: 1 | M3: $20,000 or less | N3: 2 | O3: Dwelling not owned and not held in a family trust | P3: 3609 | T3: =IF(AND(R3<>"_U",R3<>"c",N3<>999,N3<>9999,L3<>"Median"),IFERROR((ROUND(P3/U3*100,2)),"."),".") -> 49.83 | U3: =IF(AND(R3<>"_U",N3<>9999,N3<>999,L3<>"Median"),IFERROR(VLOOKUP(A3,'Region Total'!A:P,16,0),"."),".") -> 7242
A4: =G4&"|"&I4&"|"&M4 -> 2018|Northland Region|$20,000 or less | B4: DATAFLOW | C4: STATSNZ:CEN23_HOU_001(1.0) | D4: Access to basic amenities, total household income, and tenure of household for households in occupied private dwellings, (RC, TALB, SA2, Health), 2018 and 2023 Censuses | E4: I | F4: 2018 | G4: 2018 | H4: 1 | I4: Northland Region | J4: 99 | K4: Total - access to basic amenities | L4: 1 | M4: $20,000 or less | N4: 9999 | O4: Total - tenure of household | P4: 7248 | T4: =IF(AND(R4<>"_U",R4<>"c",N4<>999,N4<>9999,L4<>"Median"),IFERROR((ROUND(P4/U4*100,2)),"."),".") -> . | U4: =IF(AND(R4<>"_U",N4<>9999,N4<>999,L4<>"Median"),IFERROR(VLOOKUP(A4,'Region Total'!A:P,16,0),"."),".") -> .
A5: =G5&"|"&I5&"|"&M5 -> 2018|Northland Region|$20,000 or less | B5: DATAFLOW | C5: STATSNZ:CEN23_HOU_001(1.0) | D5: Access to basic amenities, total household income, and tenure of household for households in occupied private dwellings, (RC, TALB, SA2, Health), 2018 and 2023 Censuses | E5: I | F5: 2018 | G5: 2018 | H5: 1 | I5: Northland Region | J5: 99 | K5: Total - access to basic amenities | L5: 1 | M5: $20,000 or less | N5: 3 | O5: Dwelling held in a family trust | P5: 639 | T5: =IF(AND(R5<>"_U",R5<>"c",N5<>999,N5<>9999,L5<>"Median"),IFERROR((ROUND(P5/U5*100,2)),"."),".") -> 8.82 | U5: =IF(AND(R5<>"_U",N5<>9999,N5<>999,L5<>"Median"),IFERROR(VLOOKUP(A5,'Region Total'!A:P,16,0),"."),".") -> 7242
A6: =G6&"|"&I6&"|"&M6 -> 2018|Northland Region|$20,000 or less | B6: DATAFLOW | C6: STATSNZ:CEN23_HOU_001(1.0) | D6: Access to basic amenities, total household income, and tenure of household for households in occupied private dwellings, (RC, TALB, SA2, Health), 2018 and 2023 Censuses | E6: I | F6: 2018 | G6: 2018 | H6: 1 | I6: Northland Region | J6: 99 | K6: Total - access to basic amenities | L6: 1 | M6: $20,000 or less | N6: 7777 | O6: Total stated - tenure of household | P6: 7242 | T6: =IF(AND(R6<>"_U",R6<>"c",N6<>999,N6<>9999,L6<>"Median"),IFERROR((ROUND(P6/U6*100,2)),"."),".") -> 100 | U6: =IF(AND(R6<>"_U",N6<>9999,N6<>999,L6<>"Median"),IFERROR(VLOOKUP(A6,'Region Total'!A:P,16,0),"."),".") -> 7242
A7: =G7&"|"&I7&"|"&M7 -> 2018|Northland Region|$20,000 or less | B7: DATAFLOW | C7: STATSNZ:CEN23_HOU_001(1.0) | D7: Access to basic amenities, total household income, and tenure of household for households in occupied private dwellings, (RC, TALB, SA2, Health), 2018 and 2023 Censuses | E7: I | F7: 2018 | G7: 2018 | H7: 1 | I7: Northland Region | J7: 99 | K7: Total - access to basic amenities | L7: 1 | M7: $20,000 or less | N7: 999 | O7: Not elsewhere included | P7: 3 | T7: =IF(AND(R7<>"_U",R7<>"c",N7<>999,N7<>9999,L7<>"Median"),IFERROR((ROUND(P7/U7*100,2)),"."),".") -> . | U7: =IF(AND(R7<>"_U",N7<>9999,N7<>999,L7<>"Median"),IFERROR(VLOOKUP(A7,'Region Total'!A:P,16,0),"."),".") -> .
A8: =G8&"|"&I8&"|"&M8 -> 2018|Northland Region|$20,001-$30,000 | B8: DATAFLOW | C8: STATSNZ:CEN23_HOU_001(1.0) | D8: Access to basic amenities, total household income, and tenure of household for households in occupied private dwellings, (RC, TALB, SA2, Health), 2018 and 2023 Censuses | E8: I | F8: 2018 | G8: 2018 | H8: 1 | I8: Northland Region | J8: 99 | K8: Total - access to basic amenities | L8: 2 | M8: $20,001-$30,000 | N8: 1 | O8: Dwelling owned or partly owned | P8: 3951 | T8: =IF(AND(R8<>"_U",R8<>"c",N8<>999,N8<>9999,L8<>"Median"),IFERROR((ROUND(P8/U8*100,2)),"."),".") -> 51.87 | U8: =IF(AND(R8<>"_U",N8<>9999,N8<>999,L8<>"Median"),IFERROR(VLOOKUP(A8,'Region Total'!A:P,16,0),"."),".") -> 7617
A9: =G9&"|"&I9&"|"&M9 -> 2018|Northland Region|$20,001-$30,000 | B9: DATAFLOW | C9: STATSNZ:CEN23_HOU_001(1.0) | D9: Access to basic amenities, total household income, and tenure of household for households in occupied private dwellings, (RC, TALB, SA2, Health), 2018 and 2023 Censuses | E9: I | F9: 2018 | G9: 2018 | H9: 1 | I9: Northland Region | J9: 99 | K9: Total - access to basic amenities | L9: 2 | M9: $20,001-$30,000 | N9: 9999 | O9: Total - tenure of household | P9: 7617 | T9: =IF(AND(R9<>"_U",R9<>"c",N9<>999,N9<>9999,L9<>"Median"),IFERROR((ROUND(P9/U9*100,2)),"."),".") -> . | U9: =IF(AND(R9<>"_U",N9<>9999,N9<>999,L9<>"Median"),IFERROR(VLOOKUP(A9,'Region Total'!A:P,16,0),"."),".") -> .
A10: =G10&"|"&I10&"|"&M10 -> 2018|Northland Region|$20,001-$30,000 | B10: DATAFLOW | C10: STATSNZ:CEN23_HOU_001(1.0) | D10: Access to basic amenities, total household income, and tenure of household for households in occupied private dwellings, (RC, TALB, SA2, Health), 2018 and 2023 Censuses | E10: I | F10: 2018 | G10: 2018 | H10: 1 | I10: Northland Region | J10: 99 | K10: Total - access to basic amenities | L10: 2 | M10: $20,001-$30,000 | N10: 3 | O10: Dwelling held in a family trust | P10: 801 | T10: =IF(AND(R10<>"_U",R10<>"c",N10<>999,N10<>9999,L10<>"Median"),IFERROR((ROUND(P10/U10*100,2)),"."),".") -> 10.52 | U10: =IF(AND(R10<>"_U",N10<>9999,N10<>999,L10<>"Median"),IFERROR(VLOOKUP(A10,'Region Total'!A:P,16,0),"."),".") -> 7617
A11: =G11&"|"&I11&"|"&M11 -> 2018|Northland Region|$20,001-$30,000 | B11: DATAFLOW | C11: STATSNZ:CEN23_HOU_001(1.0) | D11: Access to basic amenities, total household income, and tenure of household for households in occupied private dwellings, (RC, TALB, SA2, Health), 2018 and 2023 Censuses | E11: I | F11: 2018 | G11: 2018 | H11: 1 | I11: Northland Region | J11: 99 | K11: Total - access to basic amenities | L11: 2 | M11: $20,001-$30,000 | N11: 7777 | O11: Total stated - tenure of household | P11: 7617 | T11: =IF(AND(R11<>"_U",R11<>"c",N11<>999,N11<>9999,L11<>"Median"),IFERROR((ROUND(P11/U11*100,2)),"."),".") -> 100 | U11: =IF(AND(R11<>"_U",N11<>9999,N11<>999,L11<>"Median"),IFERROR(VLOOKUP(A11,'Region Total'!A:P,16,0),"."),".") -> 7617
A12: =G12&"|"&I12&"|"&M12 -> 2018|Northland Region|$20,001-$30,000 | B12: DATAFLOW | C12: STATSNZ:CEN23_HOU_001(1.0) | D12: Access to basic amenities, total household income, and tenure of household for households in occupied private dwellings, (RC, TALB, SA2, Health), 2018 and 2023 Censuses | E12: I | F12: 2018 | G12: 2018 | H12: 1 | I12: Northland Region | J12: 99 | K12: Total - access to basic amenities | L12: 2 | M12: $20,001-$30,000 | N12: 999 | O12: Not elsewhere included | P12: 0 | T12: =IF(AND(R12<>"_U",R12<>"c",N12<>999,N12<>9999,L12<>"Median"),IFERROR((ROUND(P12/U12*100,2)),"."),".") -> . | U12: =IF(AND(R12<>"_U",N12<>9999,N12<>999,L12<>"Median"),IFERROR(VLOOKUP(A12,'Region Total'!A:P,16,0),"."),".") -> .
A13: =G13&"|"&I13&"|"&M13 -> 2018|Northland Region|$20,001-$30,000 | B13: DATAFLOW | C13: STATSNZ:CEN23_HOU_001(1.0) | D13: Access to basic amenities, total household income, and tenure of household for households in occupied private dwellings, (RC, TALB, SA2, Health), 2018 and 2023 Censuses | E13: I | F13: 2018 | G13: 2018 | H13: 1 | I13: Northland Region | J13: 99 | K13: Total - access to basic amenities | L13: 2 | M13: $20,001-$30,000 | N13: 2 | O13: Dwelling not owned and not held in a family trust | P13: 2865 | T13: =IF(AND(R13<>"_U",R13<>"c",N13<>999,N13<>9999,L13<>"Median"),IFERROR((ROUND(P13/U13*100,2)),"."),".") -> 37.61 | U13: =IF(AND(R13<>"_U",N13<>9999,N13<>999,L13<>"Median"),IFERROR(VLOOKUP(A13,'Region Total'!A:P,16,0),"."),".") -> 7617
... A43: =G43&"|"&I43&"|"&M43 -> 2018|Northland Region|$150,001-$200,000 | B43: DATAFLOW | C43: STATSNZ:CEN23_HOU_001(1.0) | D43: Access to basic amenities, total household income, and tenure of household for households in occupied private dwellings, (RC, TALB, SA2, Health), 2018 and 2023 Censuses | E43: I | F43: 2018 | G43: 2018 | H43: 1 | I43: Northland Region | J43: 99 | K43: Total - access to basic amenities | L43: 7 | M43: $150,001-$200,000 | N43: 2 | O43: Dwelling not owned and not held in a family trust | P43: 783 | T43: =IF(AND(R43<>"_U",R43<>"c",N43<>999,N43<>9999,L43<>"Median"),IFERROR((ROUND(P43/U43*100,2)),"."),".") -> 13.79 | U43: =IF(AND(R43<>"_U",N43<>9999,N43<>999,L43<>"Median"),IFERROR(VLOOKUP(A43,'Region Total'!A:P,16,0),"."),".") -> 5679
A44: =G44&"|"&I44&"|"&M44 -> 2018|Northland Region|$200,001 or more | B44: DATAFLOW | C44: STATSNZ:CEN23_HOU_001(1.0) | D44: Access to basic amenities, total household income, and tenure of household for households in occupied private dwellings, (RC, TALB, SA2, Health), 2018 and 2023 Censuses | E44: I | F44: 2018 | G44: 2018 | H44: 1 | I44: Northland Region | J44: 99 | K44: Total - access to basic amenities | L44: 8 | M44: $200,001 or more | N44: 1 | O44: Dwelling owned or partly owned | R44: _U | S44: Not available | T44: =IF(AND(R44<>"_U",R44<>"c",N44<>999,N44<>9999,L44<>"Median"),IFERROR((ROUND(P44/U44*100,2)),"."),".") -> . | U44: =IF(AND(R44<>"_U",N44<>9999,N44<>999,L44<>"Median"),IFERROR(VLOOKUP(A44,'Region Total'!A:P,16,0),"."),".") -> .
A45: =G45&"|"&I45&"|"&M45 -> 2018|Northland Region|$200,001 or more | B45: DATAFLOW | C45: STATSNZ:CEN23_HOU_001(1.0) | D45: Access to basic amenities, total household income, and tenure of household for households in occupied private dwellings, (RC, TALB, SA2, Health), 2018 and 2023 Censuses | E45: I | F45: 2018 | G45: 2018 | H45: 1 | I45: Northland Region | J45: 99 | K45: Total - access to basic amenities | L45: 8 | M45: $200,001 or more | N45: 2 | O45: Dwelling not owned and not held in a family trust | R45: _U | S45: Not available | T45: =IF(AND(R45<>"_U",R45<>"c",N45<>999,N45<>9999,L45<>"Median"),IFERROR((ROUND(P45/U45*100,2)),"."),".") -> . | U45: =IF(AND(R45<>"_U",N45<>9999,N45<>999,L45<>"Median"),IFERROR(VLOOKUP(A45,'Region Total'!A:P,16,0),"."),".") -> .
A46: =G46&"|"&I46&"|"&M46 -> 2018|Northland Region|$200,001 or more | B46: DATAFLOW | C46: STATSNZ:CEN23_HOU_001(1.0) | D46: Access to basic amenities, total household income, and tenure of household for households in occupied private dwellings, (RC, TALB, SA2, Health), 2018 and 2023 Censuses | E46: I | F46: 2018 | G46: 2018 | H46: 1 | I46: Northland Region | J46: 99 | K46: Total - access to basic amenities | L46: 8 | M46: $200,001 or more | N46: 9999 | O46: Total - tenure of household | R46: _U | S46: Not available | T46: =IF(AND(R46<>"_U",R46<>"c",N46<>999,N46<>9999,L46<>"Median"),IFERROR((ROUND(P46/U46*100,2)),"."),".") -> . | U46: =IF(AND(R46<>"_U",N46<>9999,N46<>999,L46<>"Median"),IFERROR(VLOOKUP(A46,'Region Total'!A:P,16,0),"."),".") -> .
A47: =G47&"|"&I47&"|"&M47 -> 2018|Northland Region|$200,001 or more | B47: DATAFLOW | C47: STATSNZ:CEN23_HOU_001(1.0) | D47: Access to basic amenities, total household income, and tenure of household for households in occupied private dwellings, (RC, TALB, SA2, Health), 2018 and 2023 Censuses | E47: I | F47: 2018 | G47: 2018 | H47: 1 | I47: Northland Region | J47: 99 | K47: Total - access to basic amenities | L47: 8 | M47: $200,001 or more | N47: 7777 | O47: Total stated - tenure of household | R47: _U | S47: Not available | T47: =IF(AND(R47<>"_U",R47<>"c",N47<>999,N47<>9999,L47<>"Median"),IFERROR((ROUND(P47/U47*100,2)),"."),".") -> . | U47: =IF(AND(R47<>"_U",N47<>9999,N47<>999,L47<>"Median"),IFERROR(VLOOKUP(A47,'Region Total'!A:P,16,0),"."),".") -> .
A48: =G48&"|"&I48&"|"&M48 -> 2018|Northland Region|$200,001 or more | B48: DATAFLOW | C48: STATSNZ:CEN23_HOU_001(1.0) | D48: Access to basic amenities, total household income, and tenure of household for households in occupied private dwellings, (RC, TALB, SA2, Health), 2018 and 2023 Censuses | E48: I | F48: 2018 | G48: 2018 | H48: 1 | I48: Northland Region | J48: 99 | K48: Total - access to basic amenities | L48: 8 | M48: $200,001 or more | N48: 3 | O48: Dwelling held in a family trust | R48: _U | S48: Not available | T48: =IF(AND(R48<>"_U",R48<>"c",N48<>999,N48<>9999,L48<>"Median"),IFERROR((ROUND(P48/U48*100,2)),"."),".") -> . | U48: =IF(AND(R48<>"_U",N48<>9999,N48<>999,L48<>"Median"),IFERROR(VLOOKUP(A48,'Region Total'!A:P,16,0),"."),".") -> .
A49: =G49&"|"&I49&"|"&M49 -> 2018|Northland Region|$200,001 or more | B49: DATAFLOW | C49: STATSNZ:CEN23_HOU_001(1.0) | D49: Access to basic amenities, total household income, and tenure of household for households in occupied private dwellings, (RC, TALB, SA2, Health), 2018 and 2023 Censuses | E49: I | F49: 2018 | G49: 2018 | H49: 1 | I49: Northland Region | J49: 99 | K49: Total - access to basic amenities | L49: 8 | M49: $200,001 or more | N49: 999 | O49: Not elsewhere included | R49: _U | S49: Not available | T49: =IF(AND(R49<>"_U",R49<>"c",N49<>999,N49<>9999,L49<>"Median"),IFERROR((ROUND(P49/U49*100,2)),"."),".") -> . | U49: =IF(AND(R49<>"_U",N49<>9999,N49<>999,L49<>"Median"),IFERROR(VLOOKUP(A49,'Region Total'!A:P,16,0),"."),".") -> .
A50: =G50&"|"&I50&"|"&M50 -> 2018|Northland Region|Total stated - total household income | B50: DATAFLOW | C50: STATSNZ:CEN23_HOU_001(1.0) | D50: Access to basic amenities, total household income, and tenure of household for households in occupied private dwellings, (RC, TALB, SA2, Health), 2018 and 2023 Censuses | E50: I | F50: 2018 | G50: 2018 | H50: 1 | I50: Northland Region | J50: 99 | K50: Total - access to basic amenities | L50: 77 | M50: Total stated - total household income | N50: 9999 | O50: Total - tenure of household | P50: 58182 | T50: =IF(AND(R50<>"_U",R50<>"c",N50<>999,N50<>9999,L50<>"Median"),IFERROR((ROUND(P50/U50*100,2)),"."),".") -> . | U50: =IF(AND(R50<>"_U",N50<>9999,N50<>999,L50<>"Median"),IFERROR(VLOOKUP(A50,'Region Total'!A:P,16,0),"."),".") -> .
A51: =G51&"|"&I51&"|"&M51 -> 2018|Northland Region|Total stated - total household income | B51: DATAFLOW | C51: STATSNZ:CEN23_HOU_001(1.0) | D51: Access to basic amenities, total household income, and tenure of household for households in occupied private dwellings, (RC, TALB, SA2, Health), 2018 and 2023 Censuses | E51: I | F51: 2018 | G51: 2018 | H51: 1 | I51: Northland Region | J51: 99 | K51: Total - access to basic amenities | L51: 77 | M51: Total stated - total household income | N51: 2 | O51: Dwelling not owned and not held in a family trust | P51: 18402 | T51: =IF(AND(R51<>"_U",R51<>"c",N51<>999,N51<>9999,L51<>"Median"),IFERROR((ROUND(P51/U51*100,2)),"."),".") -> 31.63 | U51: =IF(AND(R51<>"_U",N51<>9999,N51<>999,L51<>"Median"),IFERROR(VLOOKUP(A51,'Region Total'!A:P,16,0),"."),".") -> 58179
A52: =G52&"|"&I52&"|"&M52 -> 2018|Northland Region|Total stated - total household income | B52: DATAFLOW | C52: STATSNZ:CEN23_HOU_001(1.0) | D52: Access to basic amenities, total household income, and tenure of household for households in occupied private dwellings, (RC, TALB, SA2, Health), 2018 and 2023 Censuses | E52: I | F52: 2018 | G52: 2018 | H52: 1 | I52: Northland Region | J52: 99 | K52: Total - access to basic amenities | L52: 77 | M52: Total stated - total household income | N52: 1 | O52: Dwelling owned or partly owned | P52: 32292 | T52: =IF(AND(R52<>"_U",R52<>"c",N52<>999,N52<>9999,L52<>"Median"),IFERROR((ROUND(P52/U52*100,2)),"."),".") -> 55.5 | U52: =IF(AND(R52<>"_U",N52<>9999,N52<>999,L52<>"Median"),IFERROR(VLOOKUP(A52,'Region Total'!A:P,16,0),"."),".") -> 58179
A53: =G53&"|"&I53&"|"&M53 -> 2018|Northland Region|Total stated - total household income | B53: DATAFLOW | C53: STATSNZ:CEN23_HOU_001(1.0) | D53: Access to basic amenities, total household income, and tenure of household for households in occupied private dwellings, (RC, TALB, SA2, Health), 2018 and 2023 Censuses | E53: I | F53: 2018 | G53: 2018 | H53: 1 | I53: Northland Region | J53: 99 | K53: Total - access to basic amenities | L53: 77 | M53: Total stated - total household income | N53: 999 | O53: Not elsewhere included | P53: 3 | T53: =IF(AND(R53<>"_U",R53<>"c",N53<>999,N53<>9999,L53<>"Median"),IFERROR((ROUND(P53/U53*100,2)),"."),".") -> . | U53: =IF(AND(R53<>"_U",N53<>9999,N53<>999,L53<>"Median"),IFERROR(VLOOKUP(A53,'Region Total'!A:P,16,0),"."),".") -> .
A54: =G54&"|"&I54&"|"&M54 -> 2018|Northland Region|Total stated - total household income | B54: DATAFLOW | C54: STATSNZ:CEN23_HOU_001(1.0) | D54: Access to basic amenities, total household income, and tenure of household for households in occupied private dwellings, (RC, TALB, SA2, Health), 2018 and 2023 Censuses | E54: I | F54: 2018 | G54: 2018 | H54: 1 | I54: Northland Region | J54: 99 | K54: Total - access to basic amenities | L54: 77 | M54: Total stated - total household income | N54: 3 | O54: Dwelling held in a family trust | P54: 7485 | T54: =IF(AND(R54<>"_U",R54<>"c",N54<>999,N54<>9999,L54<>"Median"),IFERROR((ROUND(P54/U54*100,2)),"."),".") -> 12.87 | U54: =IF(AND(R54<>"_U",N54<>9999,N54<>999,L54<>"Median"),IFERROR(VLOOKUP(A54,'Region Total'!A:P,16,0),"."),".") -> 58179
A55: =G55&"|"&I55&"|"&M55 -> 2018|Northland Region|Total stated - total household income | B55: DATAFLOW | C55: STATSNZ:CEN23_HOU_001(1.0) | D55: Access to basic amenities, total household income, and tenure of household for households in occupied private dwellings, (RC, TALB, SA2, Health), 2018 and 2023 Censuses | E55: I | F55: 2018 | G55: 2018 | H55: 1 | I55: Northland Region | J55: 99 | K55: Total - access to basic amenities | L55: 77 | M55: Total stated - total household income | N55: 7777 | O55: Total stated - tenure of household | P55: 58179 | T55: =IF(AND(R55<>"_U",R55<>"c",N55<>999,N55<>9999,L55<>"Median"),IFERROR((ROUND(P55/U55*100,2)),"."),".") -> 100 | U55: =IF(AND(R55<>"_U",N55<>9999,N55<>999,L55<>"Median"),IFERROR(VLOOKUP(A55,'Region Total'!A:P,16,0),"."),".") -> 58179
A56: =G56&"|"&I56&"|"&M56 -> 2018|Northland Region|Total - total household income | B56: DATAFLOW | C56: STATSNZ:CEN23_HOU_001(1.0) | D56: Access to basic amenities, total household income, and tenure of household for households in occupied private dwellings, (RC, TALB, SA2, Health), 2018 and 2023 Censuses | E56: I | F56: 2018 | G56: 2018 | H56: 1 | I56: Northland Region | J56: 99 | K56: Total - access to basic amenities | L56: 99 | M56: Total - total household income | N56: 9999 | O56: Total - tenure of household | P56: 64257 | T56: =IF(AND(R56<>"_U",R56<>"c",N56<>999,N56<>9999,L56<>"Median"),IFERROR((ROUND(P56/U56*100,2)),"."),".") -> . | U56: =IF(AND(R56<>"_U",N56<>9999,N56<>999,L56<>"Median"),IFERROR(VLOOKUP(A56,'Region Total'!A:P,16,0),"."),".") -> .
A57: =G57&"|"&I57&"|"&M57 -> 2018|Northland Region|Total - total household income | B57: DATAFLOW | C57: STATSNZ:CEN23_HOU_001(1.0) | D57: Access to basic amenities, total household income, and tenure of household for households in occupied private dwellings, (RC, TALB, SA2, Health), 2018 and 2023 Censuses | E57: I | F57: 2018 | G57: 2018 | H57: 1 | I57: Northland Region | J57: 99 | K57: Total - access to basic amenities | L57: 99 | M57: Total - total household income | N57: 999 | O57: Not elsewhere included | P57: 42 | T57: =IF(AND(R57<>"_U",R57<>"c",N57<>999,N57<>9999,L57<>"Median"),IFERROR((ROUND(P57/U57*100,2)),"."),".") -> . | U57: =IF(AND(R57<>"_U",N57<>9999,N57<>999,L57<>"Median"),IFERROR(VLOOKUP(A57,'Region Total'!A:P,16,0),"."),".") -> .
A58: =G58&"|"&I58&"|"&M58 -> 2018|Northland Region|Total - total household income | B58: DATAFLOW | C58: STATSNZ:CEN23_HOU_001(1.0) | D58: Access to basic amenities, total household income, and tenure of household for households in occupied private dwellings, (RC, TALB, SA2, Health), 2018 and 2023 Censuses | E58: I | F58: 2018 | G58: 2018 | H58: 1 | I58: Northland Region | J58: 99 | K58: Total - access to basic amenities | L58: 99 | M58: Total - total household income | N58: 1 | O58: Dwelling owned or partly owned | P58: 35379 | T58: =IF(AND(R58<>"_U",R58<>"c",N58<>999,N58<>9999,L58<>"Median"),IFERROR((ROUND(P58/U58*100,2)),"."),".") -> 55.09 | U58: =IF(AND(R58<>"_U",N58<>9999,N58<>999,L58<>"Median"),IFERROR(VLOOKUP(A58,'Region Total'!A:P,16,0),"."),".") -> 64215
A59: =G59&"|"&I59&"|"&M59 -> 2018|Northland Region|Total - total household income | B59: DATAFLOW | C59: STATSNZ:CEN23_HOU_001(1.0) | D59: Access to basic amenities, total household income, and tenure of household for households in occupied private dwellings, (RC, TALB, SA2, Health), 2018 and 2023 Censuses | E59: I | F59: 2018 | G59: 2018 | H59: 1 | I59: Northland Region | J59: 99 | K59: Total - access to basic amenities | L59: 99 | M59: Total - total household income | N59: 7777 | O59: Total stated - tenure of household | P59: 64215 | T59: =IF(AND(R59<>"_U",R59<>"c",N59<>999,N59<>9999,L59<>"Median"),IFERROR((ROUND(P59/U59*100,2)),"."),".") -> 100 | U59: =IF(AND(R59<>"_U",N59<>9999,N59<>999,L59<>"Median"),IFERROR(VLOOKUP(A59,'Region Total'!A:P,16,0),"."),".") -> 64215
A60: =G60&"|"&I60&"|"&M60 -> 2018|Northland Region|Total - total household income | B60: DATAFLOW | C60: STATSNZ:CEN23_HOU_001(1.0) | D60: Access to basic amenities, total household income, and tenure of household for households in occupied private dwellings, (RC, TALB, SA2, Health), 2018 and 2023 Censuses | E60: I | F60: 2018 | G60: 2018 | H60: 1 | I60: Northland Region | J60: 99 | K60: Total - access to basic amenities | L60: 99 | M60: Total - total household income | N60: 3 | O60: Dwelling held in a family trust | P60: 8226 | T60: =IF(AND(R60<>"_U",R60<>"c",N60<>999,N60<>9999,L60<>"Median"),IFERROR((ROUND(P60/U60*100,2)),"."),".") -> 12.81 | U60: =IF(AND(R60<>"_U",N60<>9999,N60<>999,L60<>"Median"),IFERROR(VLOOKUP(A60,'Region Total'!A:P,16,0),"."),".") -> 64215
A61: =G61&"|"&I61&"|"&M61 -> 2018|Northland Region|Total - total household income | B61: DATAFLOW | C61: STATSNZ:CEN23_HOU_001(1.0) | D61: Access to basic amenities, total household income, and tenure of household for households in occupied private dwellings, (RC, TALB, SA2, Health), 2018 and 2023 Censuses | E61: I | F61: 2018 | G61: 2018 | H61: 1 | I61: Northland Region | J61: 99 | K61: Total - access to basic amenities | L61: 99 | M61: Total - total household income | N61: 2 | O61: Dwelling not owned and not held in a family trust | P61: 20610 | T61: =IF(AND(R61<>"_U",R61<>"c",N61<>999,N61<>9999,L61<>"Median"),IFERROR((ROUND(P61/U61*100,2)),"."),".") -> 32.1 | U61: =IF(AND(R61<>"_U",N61<>9999,N61<>999,L61<>"Median"),IFERROR(VLOOKUP(A61,'Region Total'!A:P,16,0),"."),".") -> 64215
A62: =G62&"|"&I62&"|"&M62 -> 2018|Northland Region|Median ($) - total household income | B62: DATAFLOW | C62: STATSNZ:CEN23_HOU_001(1.0) | D62: Access to basic amenities, total household income, and tenure of household for households in occupied private dwellings, (RC, TALB, SA2, Health), 2018 and 2023 Censuses | E62: I | F62: 2018 | G62: 2018 | H62: 1 | I62: Northland Region | J62: 99 | K62: Total - access to basic amenities | L62: Median | M62: Median ($) - total household income | N62: 7777 | O62: Total stated - tenure of household | P62: 57000 | T62: =IF(AND(R62<>"_U",R62<>"c",N62<>999,N62<>9999,L62<>"Median"),IFERROR((ROUND(P62/U62*100,2)),"."),".") -> . | U62: =IF(AND(R62<>"_U",N62<>9999,N62<>999,L62<>"Median"),IFERROR(VLOOKUP(A62,'Region Total'!A:P,16,0),"."),".") -> .
A63: =G63&"|"&I63&"|"&M63 -> 2018|Northland Region|Median ($) - total household income | B63: DATAFLOW | C63: STATSNZ:CEN23_HOU_001(1.0) | D63: Access to basic amenities, total household income, and tenure of household for households in occupied private dwellings, (RC, TALB, SA2, Health), 2018 and 2023 Censuses | E63: I | F63: 2018 | G63: 2018 | H63: 1 | I63: Northland Region | J63: 99 | K63: Total - access to basic amenities | L63: Median | M63: Median ($) - total household income | N63: 1 | O63: Dwelling owned or partly owned | P63: 62900 | T63: =IF(AND(R63<>"_U",R63<>"c",N63<>999,N63<>9999,L63<>"Median"),IFERROR((ROUND(P63/U63*100,2)),"."),".") -> . | U63: =IF(AND(R63<>"_U",N63<>9999,N63<>999,L63<>"Median"),IFERROR(VLOOKUP(A63,'Region Total'!A:P,16,0),"."),".") -> .
A64: =G64&"|"&I64&"|"&M64 -> 2018|Northland Region|Median ($) - total household income | B64: DATAFLOW | C64: STATSNZ:CEN23_HOU_001(1.0) | D64: Access to basic amenities, total household income, and tenure of household for households in occupied private dwellings, (RC, TALB, SA2, Health), 2018 and 2023 Censuses | E64: I | F64: 2018 | G64: 2018 | H64: 1 | I64: Northland Region | J64: 99 | K64: Total - access to basic amenities | L64: Median | M64: Median ($) - total household income | N64: 3 | O64: Dwelling held in a family trust | P64: 67300 | T64: =IF(AND(R64<>"_U",R64<>"c",N64<>999,N64<>9999,L64<>"Median"),IFERROR((ROUND(P64/U64*100,2)),"."),".") -> . | U64: =IF(AND(R64<>"_U",N64<>9999,N64<>999,L64<>"Median"),IFERROR(VLOOKUP(A64,'Region Total'!A:P,16,0),"."),".") -> .
A65: =G65&"|"&I65&"|"&M65 -> 2018|Northland Region|Median ($) - total household income | B65: DATAFLOW | C65: STATSNZ:CEN23_HOU_001(1.0) | D65: Access to basic amenities, total household income, and tenure of household for households in occupied private dwellings, (RC, TALB, SA2, Health), 2018 and 2023 Censuses | E65: I | F65: 2018 | G65: 2018 | H65: 1 | I65: Northland Region | J65: 99 | K65: Total - access to basic amenities | L65: Median | M65: Median ($) - total household income | N65: 999 | O65: Not elsewhere included | P65: 17900 | T65: =IF(AND(R65<>"_U",R65<>"c",N65<>999,N65<>9999,L65<>"Median"),IFERROR((ROUND(P65/U65*100,2)),"."),".") -> . | U65: =IF(AND(R65<>"_U",N65<>9999,N65<>999,L65<>"Median"),IFERROR(VLOOKUP(A65,'Region Total'!A:P,16,0),"."),".") -> .
A66: =G66&"|"&I66&"|"&M66 -> 2018|Northland Region|Median ($) - total household income | B66: DATAFLOW | C66: STATSNZ:CEN23_HOU_001(1.0) | D66: Access to basic amenities, total household income, and tenure of household for households in occupied private dwellings, (RC, TALB, SA2, Health), 2018 and 2023 Censuses | E66: I | F66: 2018 | G66: 2018 | H66: 1 | I66: Northland Region | J66: 99 | K66: Total - access to basic amenities | L66: Median | M66: Median ($) - total household income | N66: 9999 | O66: Total - tenure of household | P66: 57000 | T66: =IF(AND(R66<>"_U",R66<>"c",N66<>999,N66<>9999,L66<>"Median"),IFERROR((ROUND(P66/U66*100,2)),"."),".") -> . | U66: =IF(AND(R66<>"_U",N66<>9999,N66<>999,L66<>"Median"),IFERROR(VLOOKUP(A66,'Region Total'!A:P,16,0),"."),".") -> .
A67: =G67&"|"&I67&"|"&M67 -> 2018|Northland Region|Median ($) - total household income | B67: DATAFLOW | C67: STATSNZ:CEN23_HOU_001(1.0) | D67: Access to basic amenities, total household income, and tenure of household for households in occupied private dwellings, (RC, TALB, SA2, Health), 2018 and 2023 Censuses | E67: I | F67: 2018 | G67: 2018 | H67: 1 | I67: Northland Region | J67: 99 | K67: Total - access to basic amenities | L67: Median | M67: Median ($) - total household income | N67: 2 | O67: Dwelling not owned and not held in a family trust | P67: 43900 | T67: =IF(AND(R67<>"_U",R67<>"c",N67<>999,N67<>9999,L67<>"Median"),IFERROR((ROUND(P67/U67*100,2)),"."),".") -> . | U67: =IF(AND(R67<>"_U",N67<>9999,N67<>999,L67<>"Median"),IFERROR(VLOOKUP(A67,'Region Total'!A:P,16,0),"."),".") -> .
A68: =G68&"|"&I68&"|"&M68 -> 2018|Auckland Region|$20,000 or less | B68: DATAFLOW | C68: STATSNZ:CEN23_HOU_001(1.0) | D68: Access to basic amenities, total household income, and tenure of household for households in occupied private dwellings, (RC, TALB, SA2, Health), 2018 and 2023 Censuses | E68: I | F68: 2018 | G68: 2018 | H68: 2 | I68: Auckland Region | J68: 99 | K68: Total - access to basic amenities | L68: 1 | M68: $20,000 or less | N68: 7777 | O68: Total stated - tenure of household | P68: 36933 | T68: =IF(AND(R68<>"_U",R68<>"c",N68<>999,N68<>9999,L68<>"Median"),IFERROR((ROUND(P68/U68*100,2)),"."),".") -> 100 | U68: =IF(AND(R68<>"_U",N68<>9999,N68<>999,L68<>"Median"),IFERROR(VLOOKUP(A68,'Region Total'!A:P,16,0),"."),".") -> 36933
A69: =G69&"|"&I69&"|"&M69 -> 2018|Auckland Region|$20,000 or less | B69: DATAFLOW | C69: STATSNZ:CEN23_HOU_001(1.0) | D69: Access to basic amenities, total household income, and tenure of household for households in occupied private dwellings, (RC, TALB, SA2, Health), 2018 and 2023 Censuses | E69: I | F69: 2018 | G69: 2018 | H69: 2 | I69: Auckland Region | J69: 99 | K69: Total - access to basic amenities | L69: 1 | M69: $20,000 or less | N69: 999 | O69: Not elsewhere included | P69: 0 | T69: =IF(AND(R69<>"_U",R69<>"c",N69<>999,N69<>9999,L69<>"Median"),IFERROR((ROUND(P69/U69*100,2)),"."),".") -> . | U69: =IF(AND(R69<>"_U",N69<>9999,N69<>999,L69<>"Median"),IFERROR(VLOOKUP(A69,'Region Total'!A:P,16,0),"."),".") -> .
A70: =G70&"|"&I70&"|"&M70 -> 2018|Auckland Region|$20,000 or less | B70: DATAFLOW | C70: STATSNZ:CEN23_HOU_001(1.0) | D70: Access to basic amenities, total household income, and tenure of household for households in occupied private dwellings, (RC, TALB, SA2, Health), 2018 and 2023 Censuses | E70: I | F70: 2018 | G70: 2018 | H70: 2 | I70: Auckland Region | J70: 99 | K70: Total - access to basic amenities | L70: 1 | M70: $20,000 or less | N70: 9999 | O70: Total - tenure of household | P70: 36933 | T70: =IF(AND(R70<>"_U",R70<>"c",N70<>999,N70<>9999,L70<>"Median"),IFERROR((ROUND(P70/U70*100,2)),"."),".") -> . | U70: =IF(AND(R70<>"_U",N70<>9999,N70<>999,L70<>"Median"),IFERROR(VLOOKUP(A70,'Region Total'!A:P,16,0),"."),".") -> .
A71: =G71&"|"&I71&"|"&M71 -> 2018|Auckland Region|$20,000 or less | B71: DATAFLOW | C71: STATSNZ:CEN23_HOU_001(1.0) | D71: Access to basic amenities, total household income, and tenure of household for households in occupied private dwellings, (RC, TALB, SA2, Health), 2018 and 2023 Censuses | E71: I | F71: 2018 | G71: 2018 | H71: 2 | I71: Auckland Region | J71: 99 | K71: Total - access to basic amenities | L71: 1 | M71: $20,000 or less | N71: 3 | O71: Dwelling held in a family trust | P71: 3084 | T71: =IF(AND(R71<>"_U",R71<>"c",N71<>999,N71<>9999,L71<>"Median"),IFERROR((ROUND(P71/U71*100,2)),"."),".") -> 8.35 | U71: =IF(AND(R71<>"_U",N71<>9999,N71<>999,L71<>"Median"),IFERROR(VLOOKUP(A71,'Region Total'!A:P,16,0),"."),".") -> 36933
A72: =G72&"|"&I72&"|"&M72 -> 2018|Auckland Region|$20,000 or less | B72: DATAFLOW | C72: STATSNZ:CEN23_HOU_001(1.0) | D72: Access to basic amenities, total household income, and tenure of household for households in occupied private dwellings, (RC, TALB, SA2, Health), 2018 and 2023 Censuses | E72: I | F72: 2018 | G72: 2018 | H72: 2 | I72: Auckland Region | J72: 99 | K72: Total - access to basic amenities | L72: 1 | M72: $20,000 or less | N72: 2 | O72: Dwelling not owned and not held in a family trust | P72: 23280 | T72: =IF(AND(R72<>"_U",R72<>"c",N72<>999,N72<>9999,L72<>"Median"),IFERROR((ROUND(P72/U72*100,2)),"."),".") -> 63.03 | U72: =IF(AND(R72<>"_U",N72<>9999,N72<>999,L72<>"Median"),IFERROR(VLOOKUP(A72,'Region Total'!A:P,16,0),"."),".") -> 36933
A73: =G73&"|"&I73&"|"&M73 -> 2018|Auckland Region|$20,000 or less | B73: DATAFLOW | C73: STATSNZ:CEN23_HOU_001(1.0) | D73: Access to basic amenities, total household income, and tenure of household for households in occupied private dwellings, (RC, TALB, SA2, Health), 2018 and 2023 Censuses | E73: I | F73: 2018 | G73: 2018 | H73: 2 | I73: Auckland Region | J73: 99 | K73: Total - access to basic amenities | L73: 1 | M73: $20,000 or less | N73: 1 | O73: Dwelling owned or partly owned | P73: 10569 | T73: =IF(AND(R73<>"_U",R73<>"c",N73<>999,N73<>9999,L73<>"Median"),IFERROR((ROUND(P73/U73*100,2)),"."),".") -> 28.62 | U73: =IF(AND(R73<>"_U",N73<>9999,N73<>999,L73<>"Median"),IFERROR(VLOOKUP(A73,'Region Total'!A:P,16,0),"."),".") -> 36933
A74: =G74&"|"&I74&"|"&M74 -> 2018|Auckland Region|$20,001-$30,000 | B74: DATAFLOW | C74: STATSNZ:CEN23_HOU_001(1.0) | D74: Access to basic amenities, total household income, and tenure of household for households in occupied private dwellings, (RC, TALB, SA2, Health), 2018 and 2023 Censuses | E74: I | F74: 2018 | G74: 2018 | H74: 2 | I74: Auckland Region | J74: 99 | K74: Total - access to basic amenities | L74: 2 | M74: $20,001-$30,000 | N74: 3 | O74: Dwelling held in a family trust | P74: 3420 | T74: =IF(AND(R74<>"_U",R74<>"c",N74<>999,N74<>9999,L74<>"Median"),IFERROR((ROUND(P74/U74*100,2)),"."),".") -> 10.36 | U74: =IF(AND(R74<>"_U",N74<>9999,N74<>999,L74<>"Median"),IFERROR(VLOOKUP(A74,'Region Total'!A:P,16,0),"."),".") -> 33021
A75: =G75&"|"&I75&"|"&M75 -> 2018|Auckland Region|$20,001-$30,000 | B75: DATAFLOW | C75: STATSNZ:CEN23_HOU_001(1.0) | D75: Access to basic amenities, total household income, and tenure of household for households in occupied private dwellings, (RC, TALB, SA2, Health), 2018 and 2023 Censuses | E75: I | F75: 2018 | G75: 2018 | H75: 2 | I75: Auckland Region | J75: 99 | K75: Total - access to basic amenities | L75: 2 | M75: $20,001-$30,000 | N75: 999 | O75: Not elsewhere included | P75: 0 | T75: =IF(AND(R75<>"_U",R75<>"c",N75<>999,N75<>9999,L75<>"Median"),IFERROR((ROUND(P75/U75*100,2)),"."),".") -> . | U75: =IF(AND(R75<>"_U",N75<>9999,N75<>999,L75<>"Median"),IFERROR(VLOOKUP(A75,'Region Total'!A:P,16,0),"."),".") -> .
A76: =G76&"|"&I76&"|"&M76 -> 2018|Auckland Region|$20,001-$30,000 | B76: DATAFLOW | C76: STATSNZ:CEN23_HOU_001(1.0) | D76: Access to basic amenities, total household income, and tenure of household for households in occupied private dwellings, (RC, TALB, SA2, Health), 2018 and 2023 Censuses | E76: I | F76: 2018 | G76: 2018 | H76: 2 | I76: Auckland Region | J76: 99 | K76: Total - access to basic amenities | L76: 2 | M76: $20,001-$30,000 | N76: 9999 | O76: Total - tenure of household | P76: 33021 | T76: =IF(AND(R76<>"_U",R76<>"c",N76<>999,N76<>9999,L76<>"Median"),IFERROR((ROUND(P76/U76*100,2)),"."),".") -> . | U76: =IF(AND(R76<>"_U",N76<>9999,N76<>999,L76<>"Median"),IFERROR(VLOOKUP(A76,'Region Total'!A:P,16,0),"."),".") -> .
A77: =G77&"|"&I77&"|"&M77 -> 2018|Auckland Region|$20,001-$30,000 | B77: DATAFLOW | C77: STATSNZ:CEN23_HOU_001(1.0) | D77: Access to basic amenities, total household income, and tenure of household for households in occupied private dwellings, (RC, TALB, SA2, Health), 2018 and 2023 Censuses | E77: I | F77: 2018 | G77: 2018 | H77: 2 | I77: Auckland Region | J77: 99 | K77: Total - access to basic amenities | L77: 2 | M77: $20,001-$30,000 | N77: 1 | O77: Dwelling owned or partly owned | P77: 14199 | T77: =IF(AND(R77<>"_U",R77<>"c",N77<>999,N77<>9999,L77<>"Median"),IFERROR((ROUND(P77/U77*100,2)),"."),".") -> 43 | U77: =IF(AND(R77<>"_U",N77<>9999,N77<>999,L77<>"Median"),IFERROR(VLOOKUP(A77,'Region Total'!A:P,16,0),"."),".") -> 33021
A78: =G78&"|"&I78&"|"&M78 -> 2018|Auckland Region|$20,001-$30,000 | B78: DATAFLOW | C78: STATSNZ:CEN23_HOU_001(1.0) | D78: Access to basic amenities, total household income, and tenure of household for households in occupied private dwellings, (RC, TALB, SA2, Health), 2018 and 2023 Censuses | E78: I | F78: 2018 | G78: 2018 | H78: 2 | I78: Auckland Region | J78: 99 | K78: Total - access to basic amenities | L78: 2 | M78: $20,001-$30,000 | N78: 2 | O78: Dwelling not owned and not held in a family trust | P78: 15402 | T78: =IF(AND(R78<>"_U",R78<>"c",N78<>999,N78<>9999,L78<>"Median"),IFERROR((ROUND(P78/U78*100,2)),"."),".") -> 46.64 | U78: =IF(AND(R78<>"_U",N78<>9999,N78<>999,L78<>"Median"),IFERROR(VLOOKUP(A78,'Region Total'!A:P,16,0),"."),".") -> 33021
A79: =G79&"|"&I79&"|"&M79 -> 2018|Auckland Region|$20,001-$30,000 | B79: DATAFLOW | C79: STATSNZ:CEN23_HOU_001(1.0) | D79: Access to basic amenities, total household income, and tenure of household for households in occupied private dwellings, (RC, TALB, SA2, Health), 2018 and 2023 Censuses | E79: I | F79: 2018 | G79: 2018 | H79: 2 | I79: Auckland Region | J79: 99 | K79: Total - access to basic amenities | L79: 2 | M79: $20,001-$30,000 | N79: 7777 | O79: Total stated - tenure of household | P79: 33021 | T79: =IF(AND(R79<>"_U",R79<>"c",N79<>999,N79<>9999,L79<>"Median"),IFERROR((ROUND(P79/U79*100,2)),"."),".") -> 100 | U79: =IF(AND(R79<>"_U",N79<>9999,N79<>999,L79<>"Median"),IFERROR(VLOOKUP(A79,'Region Total'!A:P,16,0),"."),".") -> 33021
... A109: =G109&"|"&I109&"|"&M109 -> 2018|Auckland Region|$150,001-$200,000 | B109: DATAFLOW | C109: STATSNZ:CEN23_HOU_001(1.0) | D109: Access to basic amenities, total household income, and tenure of household for households in occupied private dwellings, (RC, TALB, SA2, Health), 2018 and 2023 Censuses | E109: I | F109: 2018 | G109: 2018 | H109: 2 | I109: Auckland Region | J109: 99 | K109: Total - access to basic amenities | L109: 7 | M109: $150,001-$200,000 | N109: 3 | O109: Dwelling held in a family trust | P109: 27066 | T109: =IF(AND(R109<>"_U",R109<>"c",N109<>999,N109<>9999,L109<>"Median"),IFERROR((ROUND(P109/U109*100,2)),"."),".") -> 22.98 | U109: =IF(AND(R109<>"_U",N109<>9999,N109<>999,L109<>"Median"),IFERROR(VLOOKUP(A109,'Region Total'!A:P,16,0),"."),".") -> 117759
A110: =G110&"|"&I110&"|"&M110 -> 2018|Auckland Region|$200,001 or more | B110: DATAFLOW | C110: STATSNZ:CEN23_HOU_001(1.0) | D110: Access to basic amenities, total household income, and tenure of household for households in occupied private dwellings, (RC, TALB, SA2, Health), 2018 and 2023 Censuses | E110: I | F110: 2018 | G110: 2018 | H110: 2 | I110: Auckland Region | J110: 99 | K110: Total - access to basic amenities | L110: 8 | M110: $200,001 or more | N110: 1 | O110: Dwelling owned or partly owned | R110: _U | S110: Not available | T110: =IF(AND(R110<>"_U",R110<>"c",N110<>999,N110<>9999,L110<>"Median"),IFERROR((ROUND(P110/U110*100,2)),"."),".") -> . | U110: =IF(AND(R110<>"_U",N110<>9999,N110<>999,L110<>"Median"),IFERROR(VLOOKUP(A110,'Region Total'!A:P,16,0),"."),".") -> .
A111: =G111&"|"&I111&"|"&M111 -> 2018|Auckland Region|$200,001 or more | B111: DATAFLOW | C111: STATSNZ:CEN23_HOU_001(1.0) | D111: Access to basic amenities, total household income, and tenure of household for households in occupied private dwellings, (RC, TALB, SA2, Health), 2018 and 2023 Censuses | E111: I | F111: 2018 | G111: 2018 | H111: 2 | I111: Auckland Region | J111: 99 | K111: Total - access to basic amenities | L111: 8 | M111: $200,001 or more | N111: 9999 | O111: Total - tenure of household | R111: _U | S111: Not available | T111: =IF(AND(R111<>"_U",R111<>"c",N111<>999,N111<>9999,L111<>"Median"),IFERROR((ROUND(P111/U111*100,2)),"."),".") -> . | U111: =IF(AND(R111<>"_U",N111<>9999,N111<>999,L111<>"Median"),IFERROR(VLOOKUP(A111,'Region Total'!A:P,16,0),"."),".") -> .
A112: =G112&"|"&I112&"|"&M112 -> 2018|Auckland Region|$200,001 or more | B112: DATAFLOW | C112: STATSNZ:CEN23_HOU_001(1.0) | D112: Access to basic amenities, total household income, and tenure of household for households in occupied private dwellings, (RC, TALB, SA2, Health), 2018 and 2023 Censuses | E112: I | F112: 2018 | G112: 2018 | H112: 2 | I112: Auckland Region | J112: 99 | K112: Total - access to basic amenities | L112: 8 | M112: $200,001 or more | N112: 3 | O112: Dwelling held in a family trust | R112: _U | S112: Not available | T112: =IF(AND(R112<>"_U",R112<>"c",N112<>999,N112<>9999,L112<>"Median"),IFERROR((ROUND(P112/U112*100,2)),"."),".") -> . | U112: =IF(AND(R112<>"_U",N112<>9999,N112<>999,L112<>"Median"),IFERROR(VLOOKUP(A112,'Region Total'!A:P,16,0),"."),".") -> .
A113: =G113&"|"&I113&"|"&M113 -> 2018|Auckland Region|$200,001 or more | B113: DATAFLOW | C113: STATSNZ:CEN23_HOU_001(1.0) | D113: Access to basic amenities, total household income, and tenure of household for households in occupied private dwellings, (RC, TALB, SA2, Health), 2018 and 2023 Censuses | E113: I | F113: 2018 | G113: 2018 | H113: 2 | I113: Auckland Region | J113: 99 | K113: Total - access to basic amenities | L113: 8 | M113: $200,001 or more | N113: 2 | O113: Dwelling not owned and not held in a family trust | R113: _U | S113: Not available | T113: =IF(AND(R113<>"_U",R113<>"c",N113<>999,N113<>9999,L113<>"Median"),IFERROR((ROUND(P113/U113*100,2)),"."),".") -> . | U113: =IF(AND(R113<>"_U",N113<>9999,N113<>999,L113<>"Median"),IFERROR(VLOOKUP(A113,'Region Total'!A:P,16,0),"."),".") -> .
A114: =G114&"|"&I114&"|"&M114 -> 2018|Auckland Region|$200,001 or more | B114: DATAFLOW | C114: STATSNZ:CEN23_HOU_001(1.0) | D114: Access to basic amenities, total household income, and tenure of household for households in occupied private dwellings, (RC, TALB, SA2, Health), 2018 and 2023 Censuses | E114: I | F114: 2018 | G114: 2018 | H114: 2 | I114: Auckland Region | J114: 99 | K114: Total - access to basic amenities | L114: 8 | M114: $200,001 or more | N114: 7777 | O114: Total stated - tenure of household | R114: _U | S114: Not available | T114: =IF(AND(R114<>"_U",R114<>"c",N114<>999,N114<>9999,L114<>"Median"),IFERROR((ROUND(P114/U114*100,2)),"."),".") -> . | U114: =IF(AND(R114<>"_U",N114<>9999,N114<>999,L114<>"Median"),IFERROR(VLOOKUP(A114,'Region Total'!A:P,16,0),"."),".") -> .
A115: =G115&"|"&I115&"|"&M115 -> 2018|Auckland Region|$200,001 or more | B115: DATAFLOW | C115: STATSNZ:CEN23_HOU_001(1.0) | D115: Access to basic amenities, total household income, and tenure of household for households in occupied private dwellings, (RC, TALB, SA2, Health), 2018 and 2023 Censuses | E115: I | F115: 2018 | G115: 2018 | H115: 2 | I115: Auckland Region | J115: 99 | K115: Total - access to basic amenities | L115: 8 | M115: $200,001 or more | N115: 999 | O115: Not elsewhere included | R115: _U | S115: Not available | T115: =IF(AND(R115<>"_U",R115<>"c",N115<>999,N115<>9999,L115<>"Median"),IFERROR((ROUND(P115/U115*100,2)),"."),".") -> . | U115: =IF(AND(R115<>"_U",N115<>9999,N115<>999,L115<>"Median"),IFERROR(VLOOKUP(A115,'Region Total'!A:P,16,0),"."),".") -> .
A116: =G116&"|"&I116&"|"&M116 -> 2018|Auckland Region|Total stated - total household income | B116: DATAFLOW | C116: STATSNZ:CEN23_HOU_001(1.0) | D116: Access to basic amenities, total household income, and tenure of household for households in occupied private dwellings, (RC, TALB, SA2, Health), 2018 and 2023 Censuses | E116: I | F116: 2018 | G116: 2018 | H116: 2 | I116: Auckland Region | J116: 99 | K116: Total - access to basic amenities | L116: 77 | M116: Total stated - total household income | N116: 2 | O116: Dwelling not owned and not held in a family trust | P116: 179814 | T116: =IF(AND(R116<>"_U",R116<>"c",N116<>999,N116<>9999,L116<>"Median"),IFERROR((ROUND(P116/U116*100,2)),"."),".") -> 39.63 | U116: =IF(AND(R116<>"_U",N116<>9999,N116<>999,L116<>"Median"),IFERROR(VLOOKUP(A116,'Region Total'!A:P,16,0),"."),".") -> 453705
A117: =G117&"|"&I117&"|"&M117 -> 2018|Auckland Region|Total stated - total household income | B117: DATAFLOW | C117: STATSNZ:CEN23_HOU_001(1.0) | D117: Access to basic amenities, total household income, and tenure of household for households in occupied private dwellings, (RC, TALB, SA2, Health), 2018 and 2023 Censuses | E117: I | F117: 2018 | G117: 2018 | H117: 2 | I117: Auckland Region | J117: 99 | K117: Total - access to basic amenities | L117: 77 | M117: Total stated - total household income | N117: 1 | O117: Dwelling owned or partly owned | P117: 209211 | T117: =IF(AND(R117<>"_U",R117<>"c",N117<>999,N117<>9999,L117<>"Median"),IFERROR((ROUND(P117/U117*100,2)),"."),".") -> 46.11 | U117: =IF(AND(R117<>"_U",N117<>9999,N117<>999,L117<>"Median"),IFERROR(VLOOKUP(A117,'Region Total'!A:P,16,0),"."),".") -> 453705
A118: =G118&"|"&I118&"|"&M118 -> 2018|Auckland Region|Total stated - total household income | B118: DATAFLOW | C118: STATSNZ:CEN23_HOU_001(1.0) | D118: Access to basic amenities, total household income, and tenure of household for households in occupied private dwellings, (RC, TALB, SA2, Health), 2018 and 2023 Censuses | E118: I | F118: 2018 | G118: 2018 | H118: 2 | I118: Auckland Region | J118: 99 | K118: Total - access to basic amenities | L118: 77 | M118: Total stated - total household income | N118: 9999 | O118: Total - tenure of household | P118: 453705 | T118: =IF(AND(R118<>"_U",R118<>"c",N118<>999,N118<>9999,L118<>"Median"),IFERROR((ROUND(P118/U118*100,2)),"."),".") -> . | U118: =IF(AND(R118<>"_U",N118<>9999,N118<>999,L118<>"Median"),IFERROR(VLOOKUP(A118,'Region Total'!A:P,16,0),"."),".") -> .
A119: =G119&"|"&I119&"|"&M119 -> 2018|Auckland Region|Total stated - total household income | B119: DATAFLOW | C119: STATSNZ:CEN23_HOU_001(1.0) | D119: Access to basic amenities, total household income, and tenure of household for households in occupied private dwellings, (RC, TALB, SA2, Health), 2018 and 2023 Censuses | E119: I | F119: 2018 | G119: 2018 | H119: 2 | I119: Auckland Region | J119: 99 | K119: Total - access to basic amenities | L119: 77 | M119: Total stated - total household income | N119: 999 | O119: Not elsewhere included | P119: 0 | T119: =IF(AND(R119<>"_U",R119<>"c",N119<>999,N119<>9999,L119<>"Median"),IFERROR((ROUND(P119/U119*100,2)),"."),".") -> . | U119: =IF(AND(R119<>"_U",N119<>9999,N119<>999,L119<>"Median"),IFERROR(VLOOKUP(A119,'Region Total'!A:P,16,0),"."),".") -> .
A120: =G120&"|"&I120&"|"&M120 -> 2018|Auckland Region|Total stated - total household income | B120: DATAFLOW | C120: STATSNZ:CEN23_HOU_001(1.0) | D120: Access to basic amenities, total household income, and tenure of household for households in occupied private dwellings, (RC, TALB, SA2, Health), 2018 and 2023 Censuses | E120: I | F120: 2018 | G120: 2018 | H120: 2 | I120: Auckland Region | J120: 99 | K120: Total - access to basic amenities | L120: 77 | M120: Total stated - total household income | N120: 3 | O120: Dwelling held in a family trust | P120: 64683 | T120: =IF(AND(R120<>"_U",R120<>"c",N120<>999,N120<>9999,L120<>"Median"),IFERROR((ROUND(P120/U120*100,2)),"."),".") -> 14.26 | U120: =IF(AND(R120<>"_U",N120<>9999,N120<>999,L120<>"Median"),IFERROR(VLOOKUP(A120,'Region Total'!A:P,16,0),"."),".") -> 453705
A121: =G121&"|"&I121&"|"&M121 -> 2018|Auckland Region|Total stated - total household income | B121: DATAFLOW | C121: STATSNZ:CEN23_HOU_001(1.0) | D121: Access to basic amenities, total household income, and tenure of household for households in occupied private dwellings, (RC, TALB, SA2, Health), 2018 and 2023 Censuses | E121: I | F121: 2018 | G121: 2018 | H121: 2 | I121: Auckland Region | J121: 99 | K121: Total - access to basic amenities | L121: 77 | M121: Total stated - total household income | N121: 7777 | O121: Total stated - tenure of household | P121: 453705 | T121: =IF(AND(R121<>"_U",R121<>"c",N121<>999,N121<>9999,L121<>"Median"),IFERROR((ROUND(P121/U121*100,2)),"."),".") -> 100 | U121: =IF(AND(R121<>"_U",N121<>9999,N121<>999,L121<>"Median"),IFERROR(VLOOKUP(A121,'Region Total'!A:P,16,0),"."),".") -> 453705
A122: =G122&"|"&I122&"|"&M122 -> 2018|Auckland Region|Total - total household income | B122: DATAFLOW | C122: STATSNZ:CEN23_HOU_001(1.0) | D122: Access to basic amenities, total household income, and tenure of household for households in occupied private dwellings, (RC, TALB, SA2, Health), 2018 and 2023 Censuses | E122: I | F122: 2018 | G122: 2018 | H122: 2 | I122: Auckland Region | J122: 99 | K122: Total - access to basic amenities | L122: 99 | M122: Total - total household income | N122: 9999 | O122: Total - tenure of household | P122: 496458 | T122: =IF(AND(R122<>"_U",R122<>"c",N122<>999,N122<>9999,L122<>"Median"),IFERROR((ROUND(P122/U122*100,2)),"."),".") -> . | U122: =IF(AND(R122<>"_U",N122<>9999,N122<>999,L122<>"Median"),IFERROR(VLOOKUP(A122,'Region Total'!A:P,16,0),"."),".") -> .
A123: =G123&"|"&I123&"|"&M123 -> 2018|Auckland Region|Total - total household income | B123: DATAFLOW | C123: STATSNZ:CEN23_HOU_001(1.0) | D123: Access to basic amenities, total household income, and tenure of household for households in occupied private dwellings, (RC, TALB, SA2, Health), 2018 and 2023 Censuses | E123: I | F123: 2018 | G123: 2018 | H123: 2 | I123: Auckland Region | J123: 99 | K123: Total - access to basic amenities | L123: 99 | M123: Total - total household income | N123: 3 | O123: Dwelling held in a family trust | P123: 69642 | T123: =IF(AND(R123<>"_U",R123<>"c",N123<>999,N123<>9999,L123<>"Median"),IFERROR((ROUND(P123/U123*100,2)),"."),".") -> 14.03 | U123: =IF(AND(R123<>"_U",N123<>9999,N123<>999,L123<>"Median"),IFERROR(VLOOKUP(A123,'Region Total'!A:P,16,0),"."),".") -> 496428
A124: =G124&"|"&I124&"|"&M124 -> 2018|Auckland Region|Total - total household income | B124: DATAFLOW | C124: STATSNZ:CEN23_HOU_001(1.0) | D124: Access to basic amenities, total household income, and tenure of household for households in occupied private dwellings, (RC, TALB, SA2, Health), 2018 and 2023 Censuses | E124: I | F124: 2018 | G124: 2018 | H124: 2 | I124: Auckland Region | J124: 99 | K124: Total - access to basic amenities | L124: 99 | M124: Total - total household income | N124: 1 | O124: Dwelling owned or partly owned | P124: 225456 | T124: =IF(AND(R124<>"_U",R124<>"c",N124<>999,N124<>9999,L124<>"Median"),IFERROR((ROUND(P124/U124*100,2)),"."),".") -> 45.42 | U124: =IF(AND(R124<>"_U",N124<>9999,N124<>999,L124<>"Median"),IFERROR(VLOOKUP(A124,'Region Total'!A:P,16,0),"."),".") -> 496428
A125: =G125&"|"&I125&"|"&M125 -> 2018|Auckland Region|Total - total household income | B125: DATAFLOW | C125: STATSNZ:CEN23_HOU_001(1.0) | D125: Access to basic amenities, total household income, and tenure of household for households in occupied private dwellings, (RC, TALB, SA2, Health), 2018 and 2023 Censuses | E125: I | F125: 2018 | G125: 2018 | H125: 2 | I125: Auckland Region | J125: 99 | K125: Total - access to basic amenities | L125: 99 | M125: Total - total household income | N125: 7777 | O125: Total stated - tenure of household | P125: 496428 | T125: =IF(AND(R125<>"_U",R125<>"c",N125<>999,N125<>9999,L125<>"Median"),IFERROR((ROUND(P125/U125*100,2)),"."),".") -> 100 | U125: =IF(AND(R125<>"_U",N125<>9999,N125<>999,L125<>"Median"),IFERROR(VLOOKUP(A125,'Region Total'!A:P,16,0),"."),".") -> 496428
A126: =G126&"|"&I126&"|"&M126 -> 2018|Auckland Region|Total - total household income | B126: DATAFLOW | C126: STATSNZ:CEN23_HOU_001(1.0) | D126: Access to basic amenities, total household income, and tenure of household for households in occupied private dwellings, (RC, TALB, SA2, Health), 2018 and 2023 Censuses | E126: I | F126: 2018 | G126: 2018 | H126: 2 | I126: Auckland Region | J126: 99 | K126: Total - access to basic amenities | L126: 99 | M126: Total - total household income | N126: 2 | O126: Dwelling not owned and not held in a family trust | P126: 201330 | T126: =IF(AND(R126<>"_U",R126<>"c",N126<>999,N126<>9999,L126<>"Median"),IFERROR((ROUND(P126/U126*100,2)),"."),".") -> 40.56 | U126: =IF(AND(R126<>"_U",N126<>9999,N126<>999,L126<>"Median"),IFERROR(VLOOKUP(A126,'Region Total'!A:P,16,0),"."),".") -> 496428
A127: =G127&"|"&I127&"|"&M127 -> 2018|Auckland Region|Total - total household income | B127: DATAFLOW | C127: STATSNZ:CEN23_HOU_001(1.0) | D127: Access to basic amenities, total household income, and tenure of household for households in occupied private dwellings, (RC, TALB, SA2, Health), 2018 and 2023 Censuses | E127: I | F127: 2018 | G127: 2018 | H127: 2 | I127: Auckland Region | J127: 99 | K127: Total - access to basic amenities | L127: 99 | M127: Total - total household income | N127: 999 | O127: Not elsewhere included | P127: 30 | T127: =IF(AND(R127<>"_U",R127<>"c",N127<>999,N127<>9999,L127<>"Median"),IFERROR((ROUND(P127/U127*100,2)),"."),".") -> . | U127: =IF(AND(R127<>"_U",N127<>9999,N127<>999,L127<>"Median"),IFERROR(VLOOKUP(A127,'Region Total'!A:P,16,0),"."),".") -> .
A128: =G128&"|"&I128&"|"&M128 -> 2018|Auckland Region|Median ($) - total household income | B128: DATAFLOW | C128: STATSNZ:CEN23_HOU_001(1.0) | D128: Access to basic amenities, total household income, and tenure of household for households in occupied private dwellings, (RC, TALB, SA2, Health), 2018 and 2023 Censuses | E128: I | F128: 2018 | G128: 2018 | H128: 2 | I128: Auckland Region | J128: 99 | K128: Total - access to basic amenities | L128: Median | M128: Median ($) - total household income | N128: 999 | O128: Not elsewhere included | R128: c | S128: Confidential | T128: =IF(AND(R128<>"_U",R128<>"c",N128<>999,N128<>9999,L128<>"Median"),IFERROR((ROUND(P128/U128*100,2)),"."),".") -> . | U128: =IF(AND(R128<>"_U",N128<>9999,N128<>999,L128<>"Median"),IFERROR(VLOOKUP(A128,'Region Total'!A:P,16,0),"."),".") -> .
A129: =G129&"|"&I129&"|"&M129 -> 2018|Auckland Region|Median ($) - total household income | B129: DATAFLOW | C129: STATSNZ:CEN23_HOU_001(1.0) | D129: Access to basic amenities, total household income, and tenure of household for households in occupied private dwellings, (RC, TALB, SA2, Health), 2018 and 2023 Censuses | E129: I | F129: 2018 | G129: 2018 | H129: 2 | I129: Auckland Region | J129: 99 | K129: Total - access to basic amenities | L129: Median | M129: Median ($) - total household income | N129: 1 | O129: Dwelling owned or partly owned | P129: 106500 | T129: =IF(AND(R129<>"_U",R129<>"c",N129<>999,N129<>9999,L129<>"Median"),IFERROR((ROUND(P129/U129*100,2)),"."),".") -> . | U129: =IF(AND(R129<>"_U",N129<>9999,N129<>999,L129<>"Median"),IFERROR(VLOOKUP(A129,'Region Total'!A:P,16,0),"."),".") -> .
A130: =G130&"|"&I130&"|"&M130 -> 2018|Auckland Region|Median ($) - total household income | B130: DATAFLOW | C130: STATSNZ:CEN23_HOU_001(1.0) | D130: Access to basic amenities, total household income, and tenure of household for households in occupied private dwellings, (RC, TALB, SA2, Health), 2018 and 2023 Censuses | E130: I | F130: 2018 | G130: 2018 | H130: 2 | I130: Auckland Region | J130: 99 | K130: Total - access to basic amenities | L130: Median | M130: Median ($) - total household income | N130: 7777 | O130: Total stated - tenure of household | P130: 93900 | T130: =IF(AND(R130<>"_U",R130<>"c",N130<>999,N130<>9999,L130<>"Median"),IFERROR((ROUND(P130/U130*100,2)),"."),".") -> . | U130: =IF(AND(R130<>"_U",N130<>9999,N130<>999,L130<>"Median"),IFERROR(VLOOKUP(A130,'Region Total'!A:P,16,0),"."),".") -> .
A131: =G131&"|"&I131&"|"&M131 -> 2018|Auckland Region|Median ($) - total household income | B131: DATAFLOW | C131: STATSNZ:CEN23_HOU_001(1.0) | D131: Access to basic amenities, total household income, and tenure of household for households in occupied private dwellings, (RC, TALB, SA2, Health), 2018 and 2023 Censuses | E131: I | F131: 2018 | G131: 2018 | H131: 2 | I131: Auckland Region | J131: 99 | K131: Total - access to basic amenities | L131: Median | M131: Median ($) - total household income | N131: 9999 | O131: Total - tenure of household | P131: 93900 | T131: =IF(AND(R131<>"_U",R131<>"c",N131<>999,N131<>9999,L131<>"Median"),IFERROR((ROUND(P131/U131*100,2)),"."),".") -> . | U131: =IF(AND(R131<>"_U",N131<>9999,N131<>999,L131<>"Median"),IFERROR(VLOOKUP(A131,'Region Total'!A:P,16,0),"."),".") -> .
A132: =G132&"|"&I132&"|"&M132 -> 2018|Auckland Region|Median ($) - total household income | B132: DATAFLOW | C132: STATSNZ:CEN23_HOU_001(1.0) | D132: Access to basic amenities, total household income, and tenure of household for households in occupied private dwellings, (RC, TALB, SA2, Health), 2018 and 2023 Censuses | E132: I | F132: 2018 | G132: 2018 | H132: 2 | I132: Auckland Region | J132: 99 | K132: Total - access to basic amenities | L132: Median | M132: Median ($) - total household income | N132: 2 | O132: Dwelling not owned and not held in a family trust | P132: 72700 | T132: =IF(AND(R132<>"_U",R132<>"c",N132<>999,N132<>9999,L132<>"Median"),IFERROR((ROUND(P132/U132*100,2)),"."),".") -> . | U132: =IF(AND(R132<>"_U",N132<>9999,N132<>999,L132<>"Median"),IFERROR(VLOOKUP(A132,'Region Total'!A:P,16,0),"."),".") -> .
A133: =G133&"|"&I133&"|"&M133 -> 2018|Auckland Region|Median ($) - total household income | B133: DATAFLOW | C133: STATSNZ:CEN23_HOU_001(1.0) | D133: Access to basic amenities, total household income, and tenure of household for households in occupied private dwellings, (RC, TALB, SA2, Health), 2018 and 2023 Censuses | E133: I | F133: 2018 | G133: 2018 | H133: 2 | I133: Auckland Region | J133: 99 | K133: Total - access to basic amenities | L133: Median | M133: Median ($) - total household income | N133: 3 | O133: Dwelling held in a family trust | P133: 127600 | T133: =IF(AND(R133<>"_U",R133<>"c",N133<>999,N133<>9999,L133<>"Median"),IFERROR((ROUND(P133/U133*100,2)),"."),".") -> . | U133: =IF(AND(R133<>"_U",N133<>9999,N133<>999,L133<>"Median"),IFERROR(VLOOKUP(A133,'Region Total'!A:P,16,0),"."),".") -> .
A134: =G134&"|"&I134&"|"&M134 -> 2018|Waikato Region|$20,000 or less | B134: DATAFLOW | C134: STATSNZ:CEN23_HOU_001(1.0) | D134: Access to basic amenities, total household income, and tenure of household for households in occupied private dwellings, (RC, TALB, SA2, Health), 2018 and 2023 Censuses | E134: I | F134: 2018 | G134: 2018 | H134: 3 | I134: Waikato Region | J134: 99 | K134: Total - access to basic amenities | L134: 1 | M134: $20,000 or less | N134: 7777 | O134: Total stated - tenure of household | P134: 14001 | T134: =IF(AND(R134<>"_U",R134<>"c",N134<>999,N134<>9999,L134<>"Median"),IFERROR((ROUND(P134/U134*100,2)),"."),".") -> 100 | U134: =IF(AND(R134<>"_U",N134<>9999,N134<>999,L134<>"Median"),IFERROR(VLOOKUP(A134,'Region Total'!A:P,16,0),"."),".") -> 14001
A135: =G135&"|"&I135&"|"&M135 -> 2018|Waikato Region|$20,000 or less | B135: DATAFLOW | C135: STATSNZ:CEN23_HOU_001(1.0) | D135: Access to basic amenities, total household income, and tenure of household for households in occupied private dwellings, (RC, TALB, SA2, Health), 2018 and 2023 Censuses | E135: I | F135: 2018 | G135: 2018 | H135: 3 | I135: Waikato Region | J135: 99 | K135: Total - access to basic amenities | L135: 1 | M135: $20,000 or less | N135: 2 | O135: Dwelling not owned and not held in a family trust | P135: 8100 | T135: =IF(AND(R135<>"_U",R135<>"c",N135<>999,N135<>9999,L135<>"Median"),IFERROR((ROUND(P135/U135*100,2)),"."),".") -> 57.85 | U135: =IF(AND(R135<>"_U",N135<>9999,N135<>999,L135<>"Median"),IFERROR(VLOOKUP(A135,'Region Total'!A:P,16,0),"."),".") -> 14001
A136: =G136&"|"&I136&"|"&M136 -> 2018|Waikato Region|$20,000 or less | B136: DATAFLOW | C136: STATSNZ:CEN23_HOU_001(1.0) | D136: Access to basic amenities, total household income, and tenure of household for households in occupied private dwellings, (RC, TALB, SA2, Health), 2018 and 2023 Censuses | E136: I | F136: 2018 | G136: 2018 | H136: 3 | I136: Waikato Region | J136: 99 | K136: Total - access to basic amenities | L136: 1 | M136: $20,000 or less | N136: 9999 | O136: Total - tenure of household | P136: 14001 | T136: =IF(AND(R136<>"_U",R136<>"c",N136<>999,N136<>9999,L136<>"Median"),IFERROR((ROUND(P136/U136*100,2)),"."),".") -> . | U136: =IF(AND(R136<>"_U",N136<>9999,N136<>999,L136<>"Median"),IFERROR(VLOOKUP(A136,'Region Total'!A:P,16,0),"."),".") -> .
A137: =G137&"|"&I137&"|"&M137 -> 2018|Waikato Region|$20,000 or less | B137: DATAFLOW | C137: STATSNZ:CEN23_HOU_001(1.0) | D137: Access to basic amenities, total household income, and tenure of household for households in occupied private dwellings, (RC, TALB, SA2, Health), 2018 and 2023 Censuses | E137: I | F137: 2018 | G137: 2018 | H137: 3 | I137: Waikato Region | J137: 99 | K137: Total - access to basic amenities | L137: 1 | M137: $20,000 or less | N137: 3 | O137: Dwelling held in a family trust | P137: 1137 | T137: =IF(AND(R137<>"_U",R137<>"c",N137<>999,N137<>9999,L137<>"Median"),IFERROR((ROUND(P137/U137*100,2)),"."),".") -> 8.12 | U137: =IF(AND(R137<>"_U",N137<>9999,N137<>999,L137<>"Median"),IFERROR(VLOOKUP(A137,'Region Total'!A:P,16,0),"."),".") -> 14001
A138: =G138&"|"&I138&"|"&M138 -> 2018|Waikato Region|$20,000 or less | B138: DATAFLOW | C138: STATSNZ:CEN23_HOU_001(1.0) | D138: Access to basic amenities, total household income, and tenure of household for households in occupied private dwellings, (RC, TALB, SA2, Health), 2018 and 2023 Censuses | E138: I | F138: 2018 | G138: 2018 | H138: 3 | I138: Waikato Region | J138: 99 | K138: Total - access to basic amenities | L138: 1 | M138: $20,000 or less | N138: 1 | O138: Dwelling owned or partly owned | P138: 4767 | T138: =IF(AND(R138<>"_U",R138<>"c",N138<>999,N138<>9999,L138<>"Median"),IFERROR((ROUND(P138/U138*100,2)),"."),".") -> 34.05 | U138: =IF(AND(R138<>"_U",N138<>9999,N138<>999,L138<>"Median"),IFERROR(VLOOKUP(A138,'Region Total'!A:P,16,0),"."),".") -> 14001
A139: =G139&"|"&I139&"|"&M139 -> 2018|Waikato Region|$20,000 or less | B139: DATAFLOW | C139: STATSNZ:CEN23_HOU_001(1.0) | D139: Access to basic amenities, total household income, and tenure of household for households in occupied private dwellings, (RC, TALB, SA2, Health), 2018 and 2023 Censuses | E139: I | F139: 2018 | G139: 2018 | H139: 3 | I139: Waikato Region | J139: 99 | K139: Total - access to basic amenities | L139: 1 | M139: $20,000 or less | N139: 999 | O139: Not elsewhere included | P139: 0 | T139: =IF(AND(R139<>"_U",R139<>"c",N139<>999,N139<>9999,L139<>"Median"),IFERROR((ROUND(P139/U139*100,2)),"."),".") -> . | U139: =IF(AND(R139<>"_U",N139<>9999,N139<>999,L139<>"Median"),IFERROR(VLOOKUP(A139,'Region Total'!A:P,16,0),"."),".") -> .
A140: =G140&"|"&I140&"|"&M140 -> 2018|Waikato Region|$20,001-$30,000 | B140: DATAFLOW | C140: STATSNZ:CEN23_HOU_001(1.0) | D140: Access to basic amenities, total household income, and tenure of household for households in occupied private dwellings, (RC, TALB, SA2, Health), 2018 and 2023 Censuses | E140: I | F140: 2018 | G140: 2018 | H140: 3 | I140: Waikato Region | J140: 99 | K140: Total - access to basic amenities | L140: 2 | M140: $20,001-$30,000 | N140: 999 | O140: Not elsewhere included | P140: 0 | T140: =IF(AND(R140<>"_U",R140<>"c",N140<>999,N140<>9999,L140<>"Median"),IFERROR((ROUND(P140/U140*100,2)),"."),".") -> . | U140: =IF(AND(R140<>"_U",N140<>9999,N140<>999,L140<>"Median"),IFERROR(VLOOKUP(A140,'Region Total'!A:P,16,0),"."),".") -> .
A141: =G141&"|"&I141&"|"&M141 -> 2018|Waikato Region|$20,001-$30,000 | B141: DATAFLOW | C141: STATSNZ:CEN23_HOU_001(1.0) | D141: Access to basic amenities, total household income, and tenure of household for households in occupied private dwellings, (RC, TALB, SA2, Health), 2018 and 2023 Censuses | E141: I | F141: 2018 | G141: 2018 | H141: 3 | I141: Waikato Region | J141: 99 | K141: Total - access to basic amenities | L141: 2 | M141: $20,001-$30,000 | N141: 1 | O141: Dwelling owned or partly owned | P141: 7347 | T141: =IF(AND(R141<>"_U",R141<>"c",N141<>999,N141<>9999,L141<>"Median"),IFERROR((ROUND(P141/U141*100,2)),"."),".") -> 47.27 | U141: =IF(AND(R141<>"_U",N141<>9999,N141<>999,L141<>"Median"),IFERROR(VLOOKUP(A141,'Region Total'!A:P,16,0),"."),".") -> 15543
A142: =G142&"|"&I142&"|"&M142 -> 2018|Waikato Region|$20,001-$30,000 | B142: DATAFLOW | C142: STATSNZ:CEN23_HOU_001(1.0) | D142: Access to basic amenities, total household income, and tenure of household for households in occupied private dwellings, (RC, TALB, SA2, Health), 2018 and 2023 Censuses | E142: I | F142: 2018 | G142: 2018 | H142: 3 | I142: Waikato Region | J142: 99 | K142: Total - access to basic amenities | L142: 2 | M142: $20,001-$30,000 | N142: 3 | O142: Dwelling held in a family trust | P142: 1578 | T142: =IF(AND(R142<>"_U",R142<>"c",N142<>999,N142<>9999,L142<>"Median"),IFERROR((ROUND(P142/U142*100,2)),"."),".") -> 10.15 | U142: =IF(AND(R142<>"_U",N142<>9999,N142<>999,L142<>"Median"),IFERROR(VLOOKUP(A142,'Region Total'!A:P,16,0),"."),".") -> 15543
A143: =G143&"|"&I143&"|"&M143 -> 2018|Waikato Region|$20,001-$30,000 | B143: DATAFLOW | C143: STATSNZ:CEN23_HOU_001(1.0) | D143: Access to basic amenities, total household income, and tenure of household for households in occupied private dwellings, (RC, TALB, SA2, Health), 2018 and 2023 Censuses | E143: I | F143: 2018 | G143: 2018 | H143: 3 | I143: Waikato Region | J143: 99 | K143: Total - access to basic amenities | L143: 2 | M143: $20,001-$30,000 | N143: 2 | O143: Dwelling not owned and not held in a family trust | P143: 6618 | T143: =IF(AND(R143<>"_U",R143<>"c",N143<>999,N143<>9999,L143<>"Median"),IFERROR((ROUND(P143/U143*100,2)),"."),".") -> 42.58 | U143: =IF(AND(R143<>"_U",N143<>9999,N143<>999,L143<>"Median"),IFERROR(VLOOKUP(A143,'Region Total'!A:P,16,0),"."),".") -> 15543
A144: =G144&"|"&I144&"|"&M144 -> 2018|Waikato Region|$20,001-$30,000 | B144: DATAFLOW | C144: STATSNZ:CEN23_HOU_001(1.0) | D144: Access to basic amenities, total household income, and tenure of household for households in occupied private dwellings, (RC, TALB, SA2, Health), 2018 and 2023 Censuses | E144: I | F144: 2018 | G144: 2018 | H144: 3 | I144: Waikato Region | J144: 99 | K144: Total - access to basic amenities | L144: 2 | M144: $20,001-$30,000 | N144: 7777 | O144: Total stated - tenure of household | P144: 15543 | T144: =IF(AND(R144<>"_U",R144<>"c",N144<>999,N144<>9999,L144<>"Median"),IFERROR((ROUND(P144/U144*100,2)),"."),".") -> 100 | U144: =IF(AND(R144<>"_U",N144<>9999,N144<>999,L144<>"Median"),IFERROR(VLOOKUP(A144,'Region Total'!A:P,16,0),"."),".") -> 15543
A145: =G145&"|"&I145&"|"&M145 -> 2018|Waikato Region|$20,001-$30,000 | B145: DATAFLOW | C145: STATSNZ:CEN23_HOU_001(1.0) | D145: Access to basic amenities, total household income, and tenure of household for households in occupied private dwellings, (RC, TALB, SA2, Health), 2018 and 2023 Censuses | E145: I | F145: 2018 | G145: 2018 | H145: 3 | I145: Waikato Region | J145: 99 | K145: Total - access to basic amenities | L145: 2 | M145: $20,001-$30,000 | N145: 9999 | O145: Total - tenure of household | P145: 15543 | T145: =IF(AND(R145<>"_U",R145<>"c",N145<>999,N145<>9999,L145<>"Median"),IFERROR((ROUND(P145/U145*100,2)),"."),".") -> . | U145: =IF(AND(R145<>"_U",N145<>9999,N145<>999,L145<>"Median"),IFERROR(VLOOKUP(A145,'Region Total'!A:P,16,0),"."),".") -> .
... A175: =G175&"|"&I175&"|"&M175 -> 2018|Waikato Region|$150,001-$200,000 | B175: DATAFLOW | C175: STATSNZ:CEN23_HOU_001(1.0) | D175: Access to basic amenities, total household income, and tenure of household for households in occupied private dwellings, (RC, TALB, SA2, Health), 2018 and 2023 Censuses | E175: I | F175: 2018 | G175: 2018 | H175: 3 | I175: Waikato Region | J175: 99 | K175: Total - access to basic amenities | L175: 7 | M175: $150,001-$200,000 | N175: 7777 | O175: Total stated - tenure of household | P175: 21291 | T175: =IF(AND(R175<>"_U",R175<>"c",N175<>999,N175<>9999,L175<>"Median"),IFERROR((ROUND(P175/U175*100,2)),"."),".") -> 100 | U175: =IF(AND(R175<>"_U",N175<>9999,N175<>999,L175<>"Median"),IFERROR(VLOOKUP(A175,'Region Total'!A:P,16,0),"."),".") -> 21291
A176: =G176&"|"&I176&"|"&M176 -> 2018|Waikato Region|$200,001 or more | B176: DATAFLOW | C176: STATSNZ:CEN23_HOU_001(1.0) | D176: Access to basic amenities, total household income, and tenure of household for households in occupied private dwellings, (RC, TALB, SA2, Health), 2018 and 2023 Censuses | E176: I | F176: 2018 | G176: 2018 | H176: 3 | I176: Waikato Region | J176: 99 | K176: Total - access to basic amenities | L176: 8 | M176: $200,001 or more | N176: 3 | O176: Dwelling held in a family trust | R176: _U | S176: Not available | T176: =IF(AND(R176<>"_U",R176<>"c",N176<>999,N176<>9999,L176<>"Median"),IFERROR((ROUND(P176/U176*100,2)),"."),".") -> . | U176: =IF(AND(R176<>"_U",N176<>9999,N176<>999,L176<>"Median"),IFERROR(VLOOKUP(A176,'Region Total'!A:P,16,0),"."),".") -> .
A177: =G177&"|"&I177&"|"&M177 -> 2018|Waikato Region|$200,001 or more | B177: DATAFLOW | C177: STATSNZ:CEN23_HOU_001(1.0) | D177: Access to basic amenities, total household income, and tenure of household for households in occupied private dwellings, (RC, TALB, SA2, Health), 2018 and 2023 Censuses | E177: I | F177: 2018 | G177: 2018 | H177: 3 | I177: Waikato Region | J177: 99 | K177: Total - access to basic amenities | L177: 8 | M177: $200,001 or more | N177: 9999 | O177: Total - tenure of household | R177: _U | S177: Not available | T177: =IF(AND(R177<>"_U",R177<>"c",N177<>999,N177<>9999,L177<>"Median"),IFERROR((ROUND(P177/U177*100,2)),"."),".") -> . | U177: =IF(AND(R177<>"_U",N177<>9999,N177<>999,L177<>"Median"),IFERROR(VLOOKUP(A177,'Region Total'!A:P,16,0),"."),".") -> .
A178: =G178&"|"&I178&"|"&M178 -> 2018|Waikato Region|$200,001 or more | B178: DATAFLOW | C178: STATSNZ:CEN23_HOU_001(1.0) | D178: Access to basic amenities, total household income, and tenure of household for households in occupied private dwellings, (RC, TALB, SA2, Health), 2018 and 2023 Censuses | E178: I | F178: 2018 | G178: 2018 | H178: 3 | I178: Waikato Region | J178: 99 | K178: Total - access to basic amenities | L178: 8 | M178: $200,001 or more | N178: 999 | O178: Not elsewhere included | R178: _U | S178: Not available | T178: =IF(AND(R178<>"_U",R178<>"c",N178<>999,N178<>9999,L178<>"Median"),IFERROR((ROUND(P178/U178*100,2)),"."),".") -> . | U178: =IF(AND(R178<>"_U",N178<>9999,N178<>999,L178<>"Median"),IFERROR(VLOOKUP(A178,'Region Total'!A:P,16,0),"."),".") -> .
A179: =G179&"|"&I179&"|"&M179 -> 2018|Waikato Region|$200,001 or more | B179: DATAFLOW | C179: STATSNZ:CEN23_HOU_001(1.0) | D179: Access to basic amenities, total household income, and tenure of household for households in occupied private dwellings, (RC, TALB, SA2, Health), 2018 and 2023 Censuses | E179: I | F179: 2018 | G179: 2018 | H179: 3 | I179: Waikato Region | J179: 99 | K179: Total - access to basic amenities | L179: 8 | M179: $200,001 or more | N179: 1 | O179: Dwelling owned or partly owned | R179: _U | S179: Not available | T179: =IF(AND(R179<>"_U",R179<>"c",N179<>999,N179<>9999,L179<>"Median"),IFERROR((ROUND(P179/U179*100,2)),"."),".") -> . | U179: =IF(AND(R179<>"_U",N179<>9999,N179<>999,L179<>"Median"),IFERROR(VLOOKUP(A179,'Region Total'!A:P,16,0),"."),".") -> .
A180: =G180&"|"&I180&"|"&M180 -> 2018|Waikato Region|$200,001 or more | B180: DATAFLOW | C180: STATSNZ:CEN23_HOU_001(1.0) | D180: Access to basic amenities, total household income, and tenure of household for households in occupied private dwellings, (RC, TALB, SA2, Health), 2018 and 2023 Censuses | E180: I | F180: 2018 | G180: 2018 | H180: 3 | I180: Waikato Region | J180: 99 | K180: Total - access to basic amenities | L180: 8 | M180: $200,001 or more | N180: 7777 | O180: Total stated - tenure of household | R180: _U | S180: Not available | T180: =IF(AND(R180<>"_U",R180<>"c",N180<>999,N180<>9999,L180<>"Median"),IFERROR((ROUND(P180/U180*100,2)),"."),".") -> . | U180: =IF(AND(R180<>"_U",N180<>9999,N180<>999,L180<>"Median"),IFERROR(VLOOKUP(A180,'Region Total'!A:P,16,0),"."),".") -> .
A181: =G181&"|"&I181&"|"&M181 -> 2018|Waikato Region|$200,001 or more | B181: DATAFLOW | C181: STATSNZ:CEN23_HOU_001(1.0) | D181: Access to basic amenities, total household income, and tenure of household for households in occupied private dwellings, (RC, TALB, SA2, Health), 2018 and 2023 Censuses | E181: I | F181: 2018 | G181: 2018 | H181: 3 | I181: Waikato Region | J181: 99 | K181: Total - access to basic amenities | L181: 8 | M181: $200,001 or more | N181: 2 | O181: Dwelling not owned and not held in a family trust | R181: _U | S181: Not available | T181: =IF(AND(R181<>"_U",R181<>"c",N181<>999,N181<>9999,L181<>"Median"),IFERROR((ROUND(P181/U181*100,2)),"."),".") -> . | U181: =IF(AND(R181<>"_U",N181<>9999,N181<>999,L181<>"Median"),IFERROR(VLOOKUP(A181,'Region Total'!A:P,16,0),"."),".") -> .
A182: =G182&"|"&I182&"|"&M182 -> 2018|Waikato Region|Total stated - total household income | B182: DATAFLOW | C182: STATSNZ:CEN23_HOU_001(1.0) | D182: Access to basic amenities, total household income, and tenure of household for households in occupied private dwellings, (RC, TALB, SA2, Health), 2018 and 2023 Censuses | E182: I | F182: 2018 | G182: 2018 | H182: 3 | I182: Waikato Region | J182: 99 | K182: Total - access to basic amenities | L182: 77 | M182: Total stated - total household income | N182: 999 | O182: Not elsewhere included | P182: 3 | T182: =IF(AND(R182<>"_U",R182<>"c",N182<>999,N182<>9999,L182<>"Median"),IFERROR((ROUND(P182/U182*100,2)),"."),".") -> . | U182: =IF(AND(R182<>"_U",N182<>9999,N182<>999,L182<>"Median"),IFERROR(VLOOKUP(A182,'Region Total'!A:P,16,0),"."),".") -> .
A183: =G183&"|"&I183&"|"&M183 -> 2018|Waikato Region|Total stated - total household income | B183: DATAFLOW | C183: STATSNZ:CEN23_HOU_001(1.0) | D183: Access to basic amenities, total household income, and tenure of household for households in occupied private dwellings, (RC, TALB, SA2, Health), 2018 and 2023 Censuses | E183: I | F183: 2018 | G183: 2018 | H183: 3 | I183: Waikato Region | J183: 99 | K183: Total - access to basic amenities | L183: 77 | M183: Total stated - total household income | N183: 1 | O183: Dwelling owned or partly owned | P183: 77421 | T183: =IF(AND(R183<>"_U",R183<>"c",N183<>999,N183<>9999,L183<>"Median"),IFERROR((ROUND(P183/U183*100,2)),"."),".") -> 51.56 | U183: =IF(AND(R183<>"_U",N183<>9999,N183<>999,L183<>"Median"),IFERROR(VLOOKUP(A183,'Region Total'!A:P,16,0),"."),".") -> 150159
A184: =G184&"|"&I184&"|"&M184 -> 2018|Waikato Region|Total stated - total household income | B184: DATAFLOW | C184: STATSNZ:CEN23_HOU_001(1.0) | D184: Access to basic amenities, total household income, and tenure of household for households in occupied private dwellings, (RC, TALB, SA2, Health), 2018 and 2023 Censuses | E184: I | F184: 2018 | G184: 2018 | H184: 3 | I184: Waikato Region | J184: 99 | K184: Total - access to basic amenities | L184: 77 | M184: Total stated - total household income | N184: 2 | O184: Dwelling not owned and not held in a family trust | P184: 53589 | T184: =IF(AND(R184<>"_U",R184<>"c",N184<>999,N184<>9999,L184<>"Median"),IFERROR((ROUND(P184/U184*100,2)),"."),".") -> 35.69 | U184: =IF(AND(R184<>"_U",N184<>9999,N184<>999,L184<>"Median"),IFERROR(VLOOKUP(A184,'Region Total'!A:P,16,0),"."),".") -> 150159
A185: =G185&"|"&I185&"|"&M185 -> 2018|Waikato Region|Total stated - total household income | B185: DATAFLOW | C185: STATSNZ:CEN23_HOU_001(1.0) | D185: Access to basic amenities, total household income, and tenure of household for households in occupied private dwellings, (RC, TALB, SA2, Health), 2018 and 2023 Censuses | E185: I | F185: 2018 | G185: 2018 | H185: 3 | I185: Waikato Region | J185: 99 | K185: Total - access to basic amenities | L185: 77 | M185: Total stated - total household income | N185: 3 | O185: Dwelling held in a family trust | P185: 19152 | T185: =IF(AND(R185<>"_U",R185<>"c",N185<>999,N185<>9999,L185<>"Median"),IFERROR((ROUND(P185/U185*100,2)),"."),".") -> 12.75 | U185: =IF(AND(R185<>"_U",N185<>9999,N185<>999,L185<>"Median"),IFERROR(VLOOKUP(A185,'Region Total'!A:P,16,0),"."),".") -> 150159
A186: =G186&"|"&I186&"|"&M186 -> 2018|Waikato Region|Total stated - total household income | B186: DATAFLOW | C186: STATSNZ:CEN23_HOU_001(1.0) | D186: Access to basic amenities, total household income, and tenure of household for households in occupied private dwellings, (RC, TALB, SA2, Health), 2018 and 2023 Censuses | E186: I | F186: 2018 | G186: 2018 | H186: 3 | I186: Waikato Region | J186: 99 | K186: Total - access to basic amenities | L186: 77 | M186: Total stated - total household income | N186: 7777 | O186: Total stated - tenure of household | P186: 150159 | T186: =IF(AND(R186<>"_U",R186<>"c",N186<>999,N186<>9999,L186<>"Median"),IFERROR((ROUND(P186/U186*100,2)),"."),".") -> 100 | U186: =IF(AND(R186<>"_U",N186<>9999,N186<>999,L186<>"Median"),IFERROR(VLOOKUP(A186,'Region Total'!A:P,16,0),"."),".") -> 150159
A187: =G187&"|"&I187&"|"&M187 -> 2018|Waikato Region|Total stated - total household income | B187: DATAFLOW | C187: STATSNZ:CEN23_HOU_001(1.0) | D187: Access to basic amenities, total household income, and tenure of household for households in occupied private dwellings, (RC, TALB, SA2, Health), 2018 and 2023 Censuses | E187: I | F187: 2018 | G187: 2018 | H187: 3 | I187: Waikato Region | J187: 99 | K187: Total - access to basic amenities | L187: 77 | M187: Total stated - total household income | N187: 9999 | O187: Total - tenure of household | P187: 150162 | T187: =IF(AND(R187<>"_U",R187<>"c",N187<>999,N187<>9999,L187<>"Median"),IFERROR((ROUND(P187/U187*100,2)),"."),".") -> . | U187: =IF(AND(R187<>"_U",N187<>9999,N187<>999,L187<>"Median"),IFERROR(VLOOKUP(A187,'Region Total'!A:P,16,0),"."),".") -> .
...

Sheet Region Total
A1: HELPER COLUMN | B1: STRUCTURE | C1: STRUCTURE_ID | D1: STRUCTURE_NAME | E1: ACTION | F1: CEN23_YEAR_001 | G1: Census year | H1: CEN23_GEO_013 | I1: Area | J1: CEN23_HOD_002 | K1: Access to basic amenities | L1: CEN23_TIH_001 | M1: Total household income | N1: CEN23_THD_001 | O1: Tenure of household | P1: OBS_VALUE | Q1: Observation Value | R1: OBS_STATUS | S1: Observation Status
A2: 2018|Northland Region|$20,000 or less | B2: DATAFLOW | C2: STATSNZ:CEN23_HOU_001(1.0) | D2: Access to basic amenities, total household income, and tenure of household for households in occupied private dwellings, (RC, TALB, SA2, Health), 2018 and 2023 Censuses | E2: I | F2: 2018 | G2: 2018 | H2: 1 | I2: Northland Region | J2: 99 | K2: Total - access to basic amenities | L2: 1 | M2: $20,000 or less | N2: 7777 | O2: Total stated - tenure of household | P2: 7242
A3: 2018|Northland Region|$20,001-$30,000 | B3: DATAFLOW | C3: STATSNZ:CEN23_HOU_001(1.0) | D3: Access to basic amenities, total household income, and tenure of household for households in occupied private dwellings, (RC, TALB, SA2, Health), 2018 and 2023 Censuses | E3: I | F3: 2018 | G3: 2018 | H3: 1 | I3: Northland Region | J3: 99 | K3: Total - access to basic amenities | L3: 2 | M3: $20,001-$30,000 | N3: 7777 | O3: Total stated - tenure of household | P3: 7617
A4: 2018|Northland Region|$30,001-$50,000 | B4: DATAFLOW | C4: STATSNZ:CEN23_HOU_001(1.0) | D4: Access to basic amenities, total household income, and tenure of household for households in occupied private dwellings, (RC, TALB, SA2, Health), 2018 and 2023 Censuses | E4: I | F4: 2018 | G4: 2018 | H4: 1 | I4: Northland Region | J4: 99 | K4: Total - access to basic amenities | L4: 3 | M4: $30,001-$50,000 | N4: 7777 | O4: Total stated - tenure of household | P4: 10992
A5: 2018|Northland Region|$50,001-$70,000 | B5: DATAFLOW | C5: STATSNZ:CEN23_HOU_001(1.0) | D5: Access to basic amenities, total household income, and tenure of household for households in occupied private dwellings, (RC, TALB, SA2, Health), 2018 and 2023 Censuses | E5: I | F5: 2018 | G5: 2018 | H5: 1 | I5: Northland Region | J5: 99 | K5: Total - access to basic amenities | L5: 4 | M5: $50,001-$70,000 | N5: 7777 | O5: Total stated - tenure of household | P5: 8835
A6: 2018|Northland Region|$70,001-$100,000 | B6: DATAFLOW | C6: STATSNZ:CEN23_HOU_001(1.0) | D6: Access to basic amenities, total household income, and tenure of household for households in occupied private dwellings, (RC, TALB, SA2, Health), 2018 and 2023 Censuses | E6: I | F6: 2018 | G6: 2018 | H6: 1 | I6: Northland Region | J6: 99 | K6: Total - access to basic amenities | L6: 5 | M6: $70,001-$100,000 | N6: 7777 | O6: Total stated - tenure of household | P6: 8895
A7: 2018|Northland Region|$100,001-$150,000 | B7: DATAFLOW | C7: STATSNZ:CEN23_HOU_001(1.0) | D7: Access to basic amenities, total household income, and tenure of household for households in occupied private dwellings, (RC, TALB, SA2, Health), 2018 and 2023 Censuses | E7: I | F7: 2018 | G7: 2018 | H7: 1 | I7: Northland Region | J7: 99 | K7: Total - access to basic amenities | L7: 6 | M7: $100,001-$150,000 | N7: 7777 | O7: Total stated - tenure of household | P7: 8919
A8: 2018|Northland Region|$150,001-$200,000 | B8: DATAFLOW | C8: STATSNZ:CEN23_HOU_001(1.0) | D8: Access to basic amenities, total household income, and tenure of household for households in occupied private dwellings, (RC, TALB, SA2, Health), 2018 and 2023 Censuses | E8: I | F8: 2018 | G8: 2018 | H8: 1 | I8: Northland Region | J8: 99 | K8: Total - access to basic amenities | L8: 7 | M8: $150,001-$200,000 | N8: 7777 | O8: Total stated - tenure of household | P8: 5679
A9: 2018|Northland Region|$200,001 or more | B9: DATAFLOW | C9: STATSNZ:CEN23_HOU_001(1.0) | D9: Access to basic amenities, total household income, and tenure of household for households in occupied private dwellings, (RC, TALB, SA2, Health), 2018 and 2023 Censuses | E9: I | F9: 2018 | G9: 2018 | H9: 1 | I9: Northland Region | J9: 99 | K9: Total - access to basic amenities | L9: 8 | M9: $200,001 or more | N9: 7777 | O9: Total stated - tenure of household | R9: _U | S9: Not available
A10: 2018|Northland Region|Total stated - total household income | B10: DATAFLOW | C10: STATSNZ:CEN23_HOU_001(1.0) | D10: Access to basic amenities, total household income, and tenure of household for households in occupied private dwellings, (RC, TALB, SA2, Health), 2018 and 2023 Censuses | E10: I | F10: 2018 | G10: 2018 | H10: 1 | I10: Northland Region | J10: 99 | K10: Total - access to basic amenities | L10: 77 | M10: Total stated - total household income | N10: 7777 | O10: Total stated - tenure of household | P10: 58179
A11: 2018|Northland Region|Total - total household income | B11: DATAFLOW | C11: STATSNZ:CEN23_HOU_001(1.0) | D11: Access to basic amenities, total household income, and tenure of household for households in occupied private dwellings, (RC, TALB, SA2, Health), 2018 and 2023 Censuses | E11: I | F11: 2018 | G11: 2018 | H11: 1 | I11: Northland Region | J11: 99 | K11: Total - access to basic amenities | L11: 99 | M11: Total - total household income | N11: 7777 | O11: Total stated - tenure of household | P11: 64215
A12: 2018|Northland Region|Median ($) - total household income | B12: DATAFLOW | C12: STATSNZ:CEN23_HOU_001(1.0) | D12: Access to basic amenities, total household income, and tenure of household for households in occupied private dwellings, (RC, TALB, SA2, Health), 2018 and 2023 Censuses | E12: I | F12: 2018 | G12: 2018 | H12: 1 | I12: Northland Region | J12: 99 | K12: Total - access to basic amenities | L12: Median | M12: Median ($) - total household income | N12: 7777 | O12: Total stated - tenure of household | P12: 57000
A13: 2018|Auckland Region|$20,000 or less | B13: DATAFLOW | C13: STATSNZ:CEN23_HOU_001(1.0) | D13: Access to basic amenities, total household income, and tenure of household for households in occupied private dwellings, (RC, TALB, SA2, Health), 2018 and 2023 Censuses | E13: I | F13: 2018 | G13: 2018 | H13: 2 | I13: Auckland Region | J13: 99 | K13: Total - access to basic amenities | L13: 1 | M13: $20,000 or less | N13: 7777 | O13: Total stated - tenure of household | P13: 36933
A14: 2018|Auckland Region|$20,001-$30,000 | B14: DATAFLOW | C14: STATSNZ:CEN23_HOU_001(1.0) | D14: Access to basic amenities, total household income, and tenure of household for households in occupied private dwellings, (RC, TALB, SA2, Health), 2018 and 2023 Censuses | E14: I | F14: 2018 | G14: 2018 | H14: 2 | I14: Auckland Region | J14: 99 | K14: Total - access to basic amenities | L14: 2 | M14: $20,001-$30,000 | N14: 7777 | O14: Total stated - tenure of household | P14: 33021
A15: 2018|Auckland Region|$30,001-$50,000 | B15: DATAFLOW | C15: STATSNZ:CEN23_HOU_001(1.0) | D15: Access to basic amenities, total household income, and tenure of household for households in occupied private dwellings, (RC, TALB, SA2, Health), 2018 and 2023 Censuses | E15: I | F15: 2018 | G15: 2018 | H15: 2 | I15: Auckland Region | J15: 99 | K15: Total - access to basic amenities | L15: 3 | M15: $30,001-$50,000 | N15: 7777 | O15: Total stated - tenure of household | P15: 52188
A16: 2018|Auckland Region|$50,001-$70,000 | B16: DATAFLOW | C16: STATSNZ:CEN23_HOU_001(1.0) | D16: Access to basic amenities, total household income, and tenure of household for households in occupied private dwellings, (RC, TALB, SA2, Health), 2018 and 2023 Censuses | E16: I | F16: 2018 | G16: 2018 | H16: 2 | I16: Auckland Region | J16: 99 | K16: Total - access to basic amenities | L16: 4 | M16: $50,001-$70,000 | N16: 7777 | O16: Total stated - tenure of household | P16: 51492
A17: 2018|Auckland Region|$70,001-$100,000 | B17: DATAFLOW | C17: STATSNZ:CEN23_HOU_001(1.0) | D17: Access to basic amenities, total household income, and tenure of household for households in occupied private dwellings, (RC, TALB, SA2, Health), 2018 and 2023 Censuses | E17: I | F17: 2018 | G17: 2018 | H17: 2 | I17: Auckland Region | J17: 99 | K17: Total - access to basic amenities | L17: 5 | M17: $70,001-$100,000 | N17: 7777 | O17: Total stated - tenure of household | P17: 66759
A18: 2018|Auckland Region|$100,001-$150,000 | B18: DATAFLOW | C18: STATSNZ:CEN23_HOU_001(1.0) | D18: Access to basic amenities, total household income, and tenure of household for households in occupied private dwellings, (RC, TALB, SA2, Health), 2018 and 2023 Censuses | E18: I | F18: 2018 | G18: 2018 | H18: 2 | I18: Auckland Region | J18: 99 | K18: Total - access to basic amenities | L18: 6 | M18: $100,001-$150,000 | N18: 7777 | O18: Total stated - tenure of household | P18: 95559
A19: 2018|Auckland Region|$150,001-$200,000 | B19: DATAFLOW | C19: STATSNZ:CEN23_HOU_001(1.0) | D19: Access to basic amenities, total household income, and tenure of household for households in occupied private dwellings, (RC, TALB, SA2, Health), 2018 and 2023 Censuses | E19: I | F19: 2018 | G19: 2018 | H19: 2 | I19: Auckland Region | J19: 99 | K19: Total - access to basic amenities | L19: 7 | M19: $150,001-$200,000 | N19: 7777 | O19: Total stated - tenure of household | P19: 117759
A20: 2018|Auckland Region|$200,001 or more | B20: DATAFLOW | C20: STATSNZ:CEN23_HOU_001(1.0) | D20: Access to basic amenities, total household income, and tenure of household for households in occupied private dwellings, (RC, TALB, SA2, Health), 2018 and 2023 Censuses | E20: I | F20: 2018 | G20: 2018 | H20: 2 | I20: Auckland Region | J20: 99 | K20: Total - access to basic amenities | L20: 8 | M20: $200,001 or more | N20: 7777 | O20: Total stated - tenure of household | R20: _U | S20: Not available
A21: 2018|Auckland Region|Total stated - total household income | B21: DATAFLOW | C21: STATSNZ:CEN23_HOU_001(1.0) | D21: Access to basic amenities, total household income, and tenure of household for households in occupied private dwellings, (RC, TALB, SA2, Health), 2018 and 2023 Censuses | E21: I | F21: 2018 | G21: 2018 | H21: 2 | I21: Auckland Region | J21: 99 | K21: Total - access to basic amenities | L21: 77 | M21: Total stated - total household income | N21: 7777 | O21: Total stated - tenure of household | P21: 453705
A22: 2018|Auckland Region|Total - total household income | B22: DATAFLOW | C22: STATSNZ:CEN23_HOU_001(1.0) | D22: Access to basic amenities, total household income, and tenure of household for households in occupied private dwellings, (RC, TALB, SA2, Health), 2018 and 2023 Censuses | E22: I | F22: 2018 | G22: 2018 | H22: 2 | I22: Auckland Region | J22: 99 | K22: Total - access to basic amenities | L22: 99 | M22: Total - total household income | N22: 7777 | O22: Total stated - tenure of household | P22: 496428
A23: 2018|Auckland Region|Median ($) - total household income | B23: DATAFLOW | C23: STATSNZ:CEN23_HOU_001(1.0) | D23: Access to basic amenities, total household income, and tenure of household for households in occupied private dwellings, (RC, TALB, SA2, Health), 2018 and 2023 Censuses | E23: I | F23: 2018 | G23: 2018 | H23: 2 | I23: Auckland Region | J23: 99 | K23: Total - access to basic amenities | L23: Median | M23: Median ($) - total household income | N23: 7777 | O23: Total stated - tenure of household | P23: 93900
A24: 2018|Waikato Region|$20,000 or less | B24: DATAFLOW | C24: STATSNZ:CEN23_HOU_001(1.0) | D24: Access to basic amenities, total household income, and tenure of household for households in occupied private dwellings, (RC, TALB, SA2, Health), 2018 and 2023 Censuses | E24: I | F24: 2018 | G24: 2018 | H24: 3 | I24: Waikato Region | J24: 99 | K24: Total - access to basic amenities | L24: 1 | M24: $20,000 or less | N24: 7777 | O24: Total stated - tenure of household | P24: 14001
A25: 2018|Waikato Region|$20,001-$30,000 | B25: DATAFLOW | C25: STATSNZ:CEN23_HOU_001(1.0) | D25: Access to basic amenities, total household income, and tenure of household for households in occupied private dwellings, (RC, TALB, SA2, Health), 2018 and 2023 Censuses | E25: I | F25: 2018 | G25: 2018 | H25: 3 | I25: Waikato Region | J25: 99 | K25: Total - access to basic amenities | L25: 2 | M25: $20,001-$30,000 | N25: 7777 | O25: Total stated - tenure of household | P25: 15543
A26: 2018|Waikato Region|$30,001-$50,000 | B26: DATAFLOW | C26: STATSNZ:CEN23_HOU_001(1.0) | D26: Access to basic amenities, total household income, and tenure of household for households in occupied private dwellings, (RC, TALB, SA2, Health), 2018 and 2023 Censuses | E26: I | F26: 2018 | G26: 2018 | H26: 3 | I26: Waikato Region | J26: 99 | K26: Total - access to basic amenities | L26: 3 | M26: $30,001-$50,000 | N26: 7777 | O26: Total stated - tenure of household | P26: 23982
A27: 2018|Waikato Region|$50,001-$70,000 | B27: DATAFLOW | C27: STATSNZ:CEN23_HOU_001(1.0) | D27: Access to basic amenities, total household income, and tenure of household for households in occupied private dwellings, (RC, TALB, SA2, Health), 2018 and 2023 Censuses | E27: I | F27: 2018 | G27: 2018 | H27: 3 | I27: Waikato Region | J27: 99 | K27: Total - access to basic amenities | L27: 4 | M27: $50,001-$70,000 | N27: 7777 | O27: Total stated - tenure of household | P27: 21921
A28: 2018|Waikato Region|$70,001-$100,000 | B28: DATAFLOW | C28: STATSNZ:CEN23_HOU_001(1.0) | D28: Access to basic amenities, total household income, and tenure of household for households in occupied private dwellings, (RC, TALB, SA2, Health), 2018 and 2023 Censuses | E28: I | F28: 2018 | G28: 2018 | H28: 3 | I28: Waikato Region | J28: 99 | K28: Total - access to basic amenities | L28: 5 | M28: $70,001-$100,000 | N28: 7777 | O28: Total stated - tenure of household | P28: 24798
A29: 2018|Waikato Region|$100,001-$150,000 | B29: DATAFLOW | C29: STATSNZ:CEN23_HOU_001(1.0) | D29: Access to basic amenities, total household income, and tenure of household for households in occupied private dwellings, (RC, TALB, SA2, Health), 2018 and 2023 Censuses | E29: I | F29: 2018 | G29: 2018 | H29: 3 | I29: Waikato Region | J29: 99 | K29: Total - access to basic amenities | L29: 6 | M29: $100,001-$150,000 | N29: 7777 | O29: Total stated - tenure of household | P29: 28617
A30: 2018|Waikato Region|$150,001-$200,000 | B30: DATAFLOW | C30: STATSNZ:CEN23_HOU_001(1.0) | D30: Access to basic amenities, total household income, and tenure of household for households in occupied private dwellings, (RC, TALB, SA2, Health), 2018 and 2023 Censuses | E30: I | F30: 2018 | G30: 2018 | H30: 3 | I30: Waikato Region | J30: 99 | K30: Total - access to basic amenities | L30: 7 | M30: $150,001-$200,000 | N30: 7777 | O30: Total stated - tenure of household | P30: 21291
A31: 2018|Waikato Region|$200,001 or more | B31: DATAFLOW | C31: STATSNZ:CEN23_HOU_001(1.0) | D31: Access to basic amenities, total household income, and tenure of household for households in occupied private dwellings, (RC, TALB, SA2, Health), 2018 and 2023 Censuses | E31: I | F31: 2018 | G31: 2018 | H31: 3 | I31: Waikato Region | J31: 99 | K31: Total - access to basic amenities | L31: 8 | M31: $200,001 or more | N31: 7777 | O31: Total stated - tenure of household | R31: _U | S31: Not available
A32: 2018|Waikato Region|Total stated - total household income | B32: DATAFLOW | C32: STATSNZ:CEN23_HOU_001(1.0) | D32: Access to basic amenities, total household income, and tenure of household for households in occupied private dwellings, (RC, TALB, SA2, Health), 2018 and 2023 Censuses | E32: I | F32: 2018 | G32: 2018 | H32: 3 | I32: Waikato Region | J32: 99 | K32: Total - access to basic amenities | L32: 77 | M32: Total stated - total household income | N32: 7777 | O32: Total stated - tenure of household | P32: 150159
A33: 2018|Waikato Region|Total - total household income | B33: DATAFLOW | C33: STATSNZ:CEN23_HOU_001(1.0) | D33: Access to basic amenities, total household income, and tenure of household for households in occupied private dwellings, (RC, TALB, SA2, Health), 2018 and 2023 Censuses | E33: I | F33: 2018 | G33: 2018 | H33: 3 | I33: Waikato Region | J33: 99 | K33: Total - access to basic amenities | L33: 99 | M33: Total - total household income | N33: 7777 | O33: Total stated - tenure of household | P33: 162804
A34: 2018|Waikato Region|Median ($) - total household income | B34: DATAFLOW | C34: STATSNZ:CEN23_HOU_001(1.0) | D34: Access to basic amenities, total household income, and tenure of household for households in occupied private dwellings, (RC, TALB, SA2, Health), 2018 and 2023 Censuses | E34: I | F34: 2018 | G34: 2018 | H34: 3 | I34: Waikato Region | J34: 99 | K34: Total - access to basic amenities | L34: Median | M34: Median ($) - total household income | N34: 7777 | O34: Total stated - tenure of household | P34: 69600
A35: 2018|Bay of Plenty Region|$20,000 or less | B35: DATAFLOW | C35: STATSNZ:CEN23_HOU_001(1.0) | D35: Access to basic amenities, total household income, and tenure of household for households in occupied private dwellings, (RC, TALB, SA2, Health), 2018 and 2023 Censuses | E35: I | F35: 2018 | G35: 2018 | H35: 4 | I35: Bay of Plenty Region | J35: 99 | K35: Total - access to basic amenities | L35: 1 | M35: $20,000 or less | N35: 7777 | O35: Total stated - tenure of household | P35: 8991
A36: 2018|Bay of Plenty Region|$20,001-$30,000 | B36: DATAFLOW | C36: STATSNZ:CEN23_HOU_001(1.0) | D36: Access to basic amenities, total household income, and tenure of household for households in occupied private dwellings, (RC, TALB, SA2, Health), 2018 and 2023 Censuses | E36: I | F36: 2018 | G36: 2018 | H36: 4 | I36: Bay of Plenty Region | J36: 99 | K36: Total - access to basic amenities | L36: 2 | M36: $20,001-$30,000 | N36: 7777 | O36: Total stated - tenure of household | P36: 11589
A37: 2018|Bay of Plenty Region|$30,001-$50,000 | B37: DATAFLOW | C37: STATSNZ:CEN23_HOU_001(1.0) | D37: Access to basic amenities, total household income, and tenure of household for households in occupied private dwellings, (RC, TALB, SA2, Health), 2018 and 2023 Censuses | E37: I | F37: 2018 | G37: 2018 | H37: 4 | I37: Bay of Plenty Region | J37: 99 | K37: Total - access to basic amenities | L37: 3 | M37: $30,001-$50,000 | N37: 7777 | O37: Total stated - tenure of household | P37: 17427
A38: 2018|Bay of Plenty Region|$50,001-$70,000 | B38: DATAFLOW | C38: STATSNZ:CEN23_HOU_001(1.0) | D38: Access to basic amenities, total household income, and tenure of household for households in occupied private dwellings, (RC, TALB, SA2, Health), 2018 and 2023 Censuses | E38: I | F38: 2018 | G38: 2018 | H38: 4 | I38: Bay of Plenty Region | J38: 99 | K38: Total - access to basic amenities | L38: 4 | M38: $50,001-$70,000 | N38: 7777 | O38: Total stated - tenure of household | P38: 14772
A39: 2018|Bay of Plenty Region|$70,001-$100,000 | B39: DATAFLOW | C39: STATSNZ:CEN23_HOU_001(1.0) | D39: Access to basic amenities, total household income, and tenure of household for households in occupied private dwellings, (RC, TALB, SA2, Health), 2018 and 2023 Censuses | E39: I | F39: 2018 | G39: 2018 | H39: 4 | I39: Bay of Plenty Region | J39: 99 | K39: Total - access to basic amenities | L39: 5 | M39: $70,001-$100,000 | N39: 7777 | O39: Total stated - tenure of household | P39: 16425
A40: 2018|Bay of Plenty Region|$100,001-$150,000 | B40: DATAFLOW | C40: STATSNZ:CEN23_HOU_001(1.0) | D40: Access to basic amenities, total household income, and tenure of household for households in occupied private dwellings, (RC, TALB, SA2, Health), 2018 and 2023 Censuses | E40: I | F40: 2018 | G40: 2018 | H40: 4 | I40: Bay of Plenty Region | J40: 99 | K40: Total - access to basic amenities | L40: 6 | M40: $100,001-$150,000 | N40: 7777 | O40: Total stated - tenure of household | P40: 18405
A41: 2018|Bay of Plenty Region|$150,001-$200,000 | B41: DATAFLOW | C41: STATSNZ:CEN23_HOU_001(1.0) | D41: Access to basic amenities, total household income, and tenure of household for households in occupied private dwellings, (RC, TALB, SA2, Health), 2018 and 2023 Censuses | E41: I | F41: 2018 | G41: 2018 | H41: 4 | I41: Bay of Plenty Region | J41: 99 | K41: Total - access to basic amenities | L41: 7 | M41: $150,001-$200,000 | N41: 7777 | O41: Total stated - tenure of household | P41: 13272
A42: 2018|Bay of Plenty Region|$200,001 or more | B42: DATAFLOW | C42: STATSNZ:CEN23_HOU_001(1.0) | D42: Access to basic amenities, total household income, and tenure of household for households in occupied private dwellings, (RC, TALB, SA2, Health), 2018 and 2023 Censuses | E42: I | F42: 2018 | G42: 2018 | H42: 4 | I42: Bay of Plenty Region | J42: 99 | K42: Total - access to basic amenities | L42: 8 | M42: $200,001 or more | N42: 7777 | O42: Total stated - tenure of household | R42: _U | S42: Not available
A43: 2018|Bay of Plenty Region|Total stated - total household income | B43: DATAFLOW | C43: STATSNZ:CEN23_HOU_001(1.0) | D43: Access to basic amenities, total household income, and tenure of household for households in occupied private dwellings, (RC, TALB, SA2, Health), 2018 and 2023 Censuses | E43: I | F43: 2018 | G43: 2018 | H43: 4 | I43: Bay of Plenty Region | J43: 99 | K43: Total - access to basic amenities | L43: 77 | M43: Total stated - total household income | N43: 7777 | O43: Total stated - tenure of household | P43: 100881
A44: 2018|Bay of Plenty Region|Total - total household income | B44: DATAFLOW | C44: STATSNZ:CEN23_HOU_001(1.0) | D44: Access to basic amenities, total household income, and tenure of household for households in occupied private dwellings, (RC, TALB, SA2, Health), 2018 and 2023 Censuses | E44: I | F44: 2018 | G44: 2018 | H44: 4 | I44: Bay of Plenty Region | J44: 99 | K44: Total - access to basic amenities | L44: 99 | M44: Total - total household income | N44: 7777 | O44: Total stated - tenure of household | P44: 110862
A45: 2018|Bay of Plenty Region|Median ($) - total household income | B45: DATAFLOW | C45: STATSNZ:CEN23_HOU_001(1.0) | D45: Access to basic amenities, total household income, and tenure of household for households in occupied private dwellings, (RC, TALB, SA2, Health), 2018 and 2023 Censuses | E45: I | F45: 2018 | G45: 2018 | H45: 4 | I45: Bay of Plenty Region | J45: 99 | K45: Total - access to basic amenities | L45: Median | M45: Median ($) - total household income | N45: 7777 | O45: Total stated - tenure of household | P45: 66600
A46: 2018|Gisborne Region|$20,000 or less | B46: DATAFLOW | C46: STATSNZ:CEN23_HOU_001(1.0) | D46: Access to basic amenities, total household income, and tenure of household for households in occupied private dwellings, (RC, TALB, SA2, Health), 2018 and 2023 Censuses | E46: I | F46: 2018 | G46: 2018 | H46: 5 | I46: Gisborne Region | J46: 99 | K46: Total - access to basic amenities | L46: 1 | M46: $20,000 or less | N46: 7777 | O46: Total stated - tenure of household | P46: 1812
A47: 2018|Gisborne Region|$20,001-$30,000 | B47: DATAFLOW | C47: STATSNZ:CEN23_HOU_001(1.0) | D47: Access to basic amenities, total household income, and tenure of household for households in occupied private dwellings, (RC, TALB, SA2, Health), 2018 and 2023 Censuses | E47: I | F47: 2018 | G47: 2018 | H47: 5 | I47: Gisborne Region | J47: 99 | K47: Total - access to basic amenities | L47: 2 | M47: $20,001-$30,000 | N47: 7777 | O47: Total stated - tenure of household | P47: 1947
A48: 2018|Gisborne Region|$30,001-$50,000 | B48: DATAFLOW | C48: STATSNZ:CEN23_HOU_001(1.0) | D48: Access to basic amenities, total household income, and tenure of household for households in occupied private dwellings, (RC, TALB, SA2, Health), 2018 and 2023 Censuses | E48: I | F48: 2018 | G48: 2018 | H48: 5 | I48: Gisborne Region | J48: 99 | K48: Total - access to basic amenities | L48: 3 | M48: $30,001-$50,000 | N48: 7777 | O48: Total stated - tenure of household | P48: 2712
A49: 2018|Gisborne Region|$50,001-$70,000 | B49: DATAFLOW | C49: STATSNZ:CEN23_HOU_001(1.0) | D49: Access to basic amenities, total household income, and tenure of household for households in occupied private dwellings, (RC, TALB, SA2, Health), 2018 and 2023 Censuses | E49: I | F49: 2018 | G49: 2018 | H49: 5 | I49: Gisborne Region | J49: 99 | K49: Total - access to basic amenities | L49: 4 | M49: $50,001-$70,000 | N49: 7777 | O49: Total stated - tenure of household | P49: 2364
A50: 2018|Gisborne Region|$70,001-$100,000 | B50: DATAFLOW | C50: STATSNZ:CEN23_HOU_001(1.0) | D50: Access to basic amenities, total household income, and tenure of household for households in occupied private dwellings, (RC, TALB, SA2, Health), 2018 and 2023 Censuses | E50: I | F50: 2018 | G50: 2018 | H50: 5 | I50: Gisborne Region | J50: 99 | K50: Total - access to basic amenities | L50: 5 | M50: $70,001-$100,000 | N50: 7777 | O50: Total stated - tenure of household | P50: 2412
A51: 2018|Gisborne Region|$100,001-$150,000 | B51: DATAFLOW | C51: STATSNZ:CEN23_HOU_001(1.0) | D51: Access to basic amenities, total household income, and tenure of household for households in occupied private dwellings, (RC, TALB, SA2, Health), 2018 and 2023 Censuses | E51: I | F51: 2018 | G51: 2018 | H51: 5 | I51: Gisborne Region | J51: 99 | K51: Total - access to basic amenities | L51: 6 | M51: $100,001-$150,000 | N51: 7777 | O51: Total stated - tenure of household | P51: 2334
A52: 2018|Gisborne Region|$150,001-$200,000 | B52: DATAFLOW | C52: STATSNZ:CEN23_HOU_001(1.0) | D52: Access to basic amenities, total household income, and tenure of household for households in occupied private dwellings, (RC, TALB, SA2, Health), 2018 and 2023 Censuses | E52: I | F52: 2018 | G52: 2018 | H52: 5 | I52: Gisborne Region | J52: 99 | K52: Total - access to basic amenities | L52: 7 | M52: $150,001-$200,000 | N52: 7777 | O52: Total stated - tenure of household | P52: 1350
A53: 2018|Gisborne Region|$200,001 or more | B53: DATAFLOW | C53: STATSNZ:CEN23_HOU_001(1.0) | D53: Access to basic amenities, total household income, and tenure of household for households in occupied private dwellings, (RC, TALB, SA2, Health), 2018 and 2023 Censuses | E53: I | F53: 2018 | G53: 2018 | H53: 5 | I53: Gisborne Region | J53: 99 | K53: Total - access to basic amenities | L53: 8 | M53: $200,001 or more | N53: 7777 | O53: Total stated - tenure of household | R53: _U | S53: Not available
A54: 2018|Gisborne Region|Total stated - total household income | B54: DATAFLOW | C54: STATSNZ:CEN23_HOU_001(1.0) | D54: Access to basic amenities, total household income, and tenure of household for households in occupied private dwellings, (RC, TALB, SA2, Health), 2018 and 2023 Censuses | E54: I | F54: 2018 | G54: 2018 | H54: 5 | I54: Gisborne Region | J54: 99 | K54: Total - access to basic amenities | L54: 77 | M54: Total stated - total household income | N54: 7777 | O54: Total stated - tenure of household | P54: 14928
A55: 2018|Gisborne Region|Total - total household income | B55: DATAFLOW | C55: STATSNZ:CEN23_HOU_001(1.0) | D55: Access to basic amenities, total household income, and tenure of household for households in occupied private dwellings, (RC, TALB, SA2, Health), 2018 and 2023 Censuses | E55: I | F55: 2018 | G55: 2018 | H55: 5 | I55: Gisborne Region | J55: 99 | K55: Total - access to basic amenities | L55: 99 | M55: Total - total household income | N55: 7777 | O55: Total stated - tenure of household | P55: 16410
A56: 2018|Gisborne Region|Median ($) - total household income | B56: DATAFLOW | C56: STATSNZ:CEN23_HOU_001(1.0) | D56: Access to basic amenities, total household income, and tenure of household for households in occupied private dwellings, (RC, TALB, SA2, Health), 2018 and 2023 Censuses | E56: I | F56: 2018 | G56: 2018 | H56: 5 | I56: Gisborne Region | J56: 99 | K56: Total - access to basic amenities | L56: Median | M56: Median ($) - total household income | N56: 7777 | O56: Total stated - tenure of household | P56: 57900
A57: 2018|Hawke's Bay Region|$20,000 or less | B57: DATAFLOW | C57: STATSNZ:CEN23_HOU_001(1.0) | D57: Access to basic amenities, total household income, and tenure of household for households in occupied private dwellings, (RC, TALB, SA2, Health), 2018 and 2023 Censuses | E57: I | F57: 2018 | G57: 2018 | H57: 6 | I57: Hawke's Bay Region | J57: 99 | K57: Total - access to basic amenities | L57: 1 | M57: $20,000 or less | N57: 7777 | O57: Total stated - tenure of household | P57: 5460
A58: 2018|Hawke's Bay Region|$20,001-$30,000 | B58: DATAFLOW | C58: STATSNZ:CEN23_HOU_001(1.0) | D58: Access to basic amenities, total household income, and tenure of household for households in occupied private dwellings, (RC, TALB, SA2, Health), 2018 and 2023 Censuses | E58: I | F58: 2018 | G58: 2018 | H58: 6 | I58: Hawke's Bay Region | J58: 99 | K58: Total - access to basic amenities | L58: 2 | M58: $20,001-$30,000 | N58: 7777 | O58: Total stated - tenure of household | P58: 6921
A59: 2018|Hawke's Bay Region|$30,001-$50,000 | B59: DATAFLOW | C59: STATSNZ:CEN23_HOU_001(1.0) | D59: Access to basic amenities, total household income, and tenure of household for households in occupied private dwellings, (RC, TALB, SA2, Health), 2018 and 2023 Censuses | E59: I | F59: 2018 | G59: 2018 | H59: 6 | I59: Hawke's Bay Region | J59: 99 | K59: Total - access to basic amenities | L59: 3 | M59: $30,001-$50,000 | N59: 7777 | O59: Total stated - tenure of household | P59: 9936
A60: 2018|Hawke's Bay Region|$50,001-$70,000 | B60: DATAFLOW | C60: STATSNZ:CEN23_HOU_001(1.0) | D60: Access to basic amenities, total household income, and tenure of household for households in occupied private dwellings, (RC, TALB, SA2, Health), 2018 and 2023 Censuses | E60: I | F60: 2018 | G60: 2018 | H60: 6 | I60: Hawke's Bay Region | J60: 99 | K60: Total - access to basic amenities | L60: 4 | M60: $50,001-$70,000 | N60: 7777 | O60: Total stated - tenure of household | P60: 8445
A61: 2018|Hawke's Bay Region|$70,001-$100,000 | B61: DATAFLOW | C61: STATSNZ:CEN23_HOU_001(1.0) | D61: Access to basic amenities, total household income, and tenure of household for households in occupied private dwellings, (RC, TALB, SA2, Health), 2018 and 2023 Censuses | E61: I | F61: 2018 | G61: 2018 | H61: 6 | I61: Hawke's Bay Region | J61: 99 | K61: Total - access to basic amenities | L61: 5 | M61: $70,001-$100,000 | N61: 7777 | O61: Total stated - tenure of household | P61: 9372
A62: 2018|Hawke's Bay Region|$100,001-$150,000 | B62: DATAFLOW | C62: STATSNZ:CEN23_HOU_001(1.0) | D62: Access to basic amenities, total household income, and tenure of household for households in occupied private dwellings, (RC, TALB, SA2, Health), 2018 and 2023 Censuses | E62: I | F62: 2018 | G62: 2018 | H62: 6 | I62: Hawke's Bay Region | J62: 99 | K62: Total - access to basic amenities | L62: 6 | M62: $100,001-$150,000 | N62: 7777 | O62: Total stated - tenure of household | P62: 9645
A63: 2018|Hawke's Bay Region|$150,001-$200,000 | B63: DATAFLOW | C63: STATSNZ:CEN23_HOU_001(1.0) | D63: Access to basic amenities, total household income, and tenure of household for households in occupied private dwellings, (RC, TALB, SA2, Health), 2018 and 2023 Censuses | E63: I | F63: 2018 | G63: 2018 | H63: 6 | I63: Hawke's Bay Region | J63: 99 | K63: Total - access to basic amenities | L63: 7 | M63: $150,001-$200,000 | N63: 7777 | O63: Total stated - tenure of household | P63: 6009
A64: 2018|Hawke's Bay Region|$200,001 or more | B64: DATAFLOW | C64: STATSNZ:CEN23_HOU_001(1.0) | D64: Access to basic amenities, total household income, and tenure of household for households in occupied private dwellings, (RC, TALB, SA2, Health), 2018 and 2023 Censuses | E64: I | F64: 2018 | G64: 2018 | H64: 6 | I64: Hawke's Bay Region | J64: 99 | K64: Total - access to basic amenities | L64: 8 | M64: $200,001 or more | N64: 7777 | O64: Total stated - tenure of household | R64: _U | S64: Not available
A65: 2018|Hawke's Bay Region|Total stated - total household income | B65: DATAFLOW | C65: STATSNZ:CEN23_HOU_001(1.0) | D65: Access to basic amenities, total household income, and tenure of household for households in occupied private dwellings, (RC, TALB, SA2, Health), 2018 and 2023 Censuses | E65: I | F65: 2018 | G65: 2018 | H65: 6 | I65: Hawke's Bay Region | J65: 99 | K65: Total - access to basic amenities | L65: 77 | M65: Total stated - total household income | N65: 7777 | O65: Total stated - tenure of household | P65: 55782
A66: 2018|Hawke's Bay Region|Total - total household income | B66: DATAFLOW | C66: STATSNZ:CEN23_HOU_001(1.0) | D66: Access to basic amenities, total household income, and tenure of household for households in occupied private dwellings, (RC, TALB, SA2, Health), 2018 and 2023 Censuses | E66: I | F66: 2018 | G66: 2018 | H66: 6 | I66: Hawke's Bay Region | J66: 99 | K66: Total - access to basic amenities | L66: 99 | M66: Total - total household income | N66: 7777 | O66: Total stated - tenure of household | P66: 60228
A67: 2018|Hawke's Bay Region|Median ($) - total household income | B67: DATAFLOW | C67: STATSNZ:CEN23_HOU_001(1.0) | D67: Access to basic amenities, total household income, and tenure of household for households in occupied private dwellings, (RC, TALB, SA2, Health), 2018 and 2023 Censuses | E67: I | F67: 2018 | G67: 2018 | H67: 6 | I67: Hawke's Bay Region | J67: 99 | K67: Total - access to basic amenities | L67: Median | M67: Median ($) - total household income | N67: 7777 | O67: Total stated - tenure of household | P67: 62800
A68: 2018|Taranaki Region|$20,000 or less | B68: DATAFLOW | C68: STATSNZ:CEN23_HOU_001(1.0) | D68: Access to basic amenities, total household income, and tenure of household for households in occupied private dwellings, (RC, TALB, SA2, Health), 2018 and 2023 Censuses | E68: I | F68: 2018 | G68: 2018 | H68: 7 | I68: Taranaki Region | J68: 99 | K68: Total - access to basic amenities | L68: 1 | M68: $20,000 or less | N68: 7777 | O68: Total stated - tenure of household | P68: 4314
A69: 2018|Taranaki Region|$20,001-$30,000 | B69: DATAFLOW | C69: STATSNZ:CEN23_HOU_001(1.0) | D69: Access to basic amenities, total household income, and tenure of household for households in occupied private dwellings, (RC, TALB, SA2, Health), 2018 and 2023 Censuses | E69: I | F69: 2018 | G69: 2018 | H69: 7 | I69: Taranaki Region | J69: 99 | K69: Total - access to basic amenities | L69: 2 | M69: $20,001-$30,000 | N69: 7777 | O69: Total stated - tenure of household | P69: 5067
A70: 2018|Taranaki Region|$30,001-$50,000 | B70: DATAFLOW | C70: STATSNZ:CEN23_HOU_001(1.0) | D70: Access to basic amenities, total household income, and tenure of household for households in occupied private dwellings, (RC, TALB, SA2, Health), 2018 and 2023 Censuses | E70: I | F70: 2018 | G70: 2018 | H70: 7 | I70: Taranaki Region | J70: 99 | K70: Total - access to basic amenities | L70: 3 | M70: $30,001-$50,000 | N70: 7777 | O70: Total stated - tenure of household | P70: 7344
A71: 2018|Taranaki Region|$50,001-$70,000 | B71: DATAFLOW | C71: STATSNZ:CEN23_HOU_001(1.0) | D71: Access to basic amenities, total household income, and tenure of household for households in occupied private dwellings, (RC, TALB, SA2, Health), 2018 and 2023 Censuses | E71: I | F71: 2018 | G71: 2018 | H71: 7 | I71: Taranaki Region | J71: 99 | K71: Total - access to basic amenities | L71: 4 | M71: $50,001-$70,000 | N71: 7777 | O71: Total stated - tenure of household | P71: 6303
A72: 2018|Taranaki Region|$70,001-$100,000 | B72: DATAFLOW | C72: STATSNZ:CEN23_HOU_001(1.0) | D72: Access to basic amenities, total household income, and tenure of household for households in occupied private dwellings, (RC, TALB, SA2, Health), 2018 and 2023 Censuses | E72: I | F72: 2018 | G72: 2018 | H72: 7 | I72: Taranaki Region | J72: 99 | K72: Total - access to basic amenities | L72: 5 | M72: $70,001-$100,000 | N72: 7777 | O72: Total stated - tenure of household | P72: 6879
A73: 2018|Taranaki Region|$100,001-$150,000 | B73: DATAFLOW | C73: STATSNZ:CEN23_HOU_001(1.0) | D73: Access to basic amenities, total household income, and tenure of household for households in occupied private dwellings, (RC, TALB, SA2, Health), 2018 and 2023 Censuses | E73: I | F73: 2018 | G73: 2018 | H73: 7 | I73: Taranaki Region | J73: 99 | K73: Total - access to basic amenities | L73: 6 | M73: $100,001-$150,000 | N73: 7777 | O73: Total stated - tenure of household | P73: 7224
A74: 2018|Taranaki Region|$150,001-$200,000 | B74: DATAFLOW | C74: STATSNZ:CEN23_HOU_001(1.0) | D74: Access to basic amenities, total household income, and tenure of household for households in occupied private dwellings, (RC, TALB, SA2, Health), 2018 and 2023 Censuses | E74: I | F74: 2018 | G74: 2018 | H74: 7 | I74: Taranaki Region | J74: 99 | K74: Total - access to basic amenities | L74: 7 | M74: $150,001-$200,000 | N74: 7777 | O74: Total stated - tenure of household | P74: 5142
A75: 2018|Taranaki Region|$200,001 or more | B75: DATAFLOW | C75: STATSNZ:CEN23_HOU_001(1.0) | D75: Access to basic amenities, total household income, and tenure of household for households in occupied private dwellings, (RC, TALB, SA2, Health), 2018 and 2023 Censuses | E75: I | F75: 2018 | G75: 2018 | H75: 7 | I75: Taranaki Region | J75: 99 | K75: Total - access to basic amenities | L75: 8 | M75: $200,001 or more | N75: 7777 | O75: Total stated - tenure of household | R75: _U | S75: Not available
A76: 2018|Taranaki Region|Total stated - total household income | B76: DATAFLOW | C76: STATSNZ:CEN23_HOU_001(1.0) | D76: Access to basic amenities, total household income, and tenure of household for households in occupied private dwellings, (RC, TALB, SA2, Health), 2018 and 2023 Censuses | E76: I | F76: 2018 | G76: 2018 | H76: 7 | I76: Taranaki Region | J76: 99 | K76: Total - access to basic amenities | L76: 77 | M76: Total stated - total household income | N76: 7777 | O76: Total stated - tenure of household | P76: 42279
A77: 2018|Taranaki Region|Total - total household income | B77: DATAFLOW | C77: STATSNZ:CEN23_HOU_001(1.0) | D77: Access to basic amenities, total household income, and tenure of household for households in occupied private dwellings, (RC, TALB, SA2, Health), 2018 and 2023 Censuses | E77: I | F77: 2018 | G77: 2018 | H77: 7 | I77: Taranaki Region | J77: 99 | K77: Total - access to basic amenities | L77: 99 | M77: Total - total household income | N77: 7777 | O77: Total stated - tenure of household | P77: 45249
A78: 2018|Taranaki Region|Median ($) - total household income | B78: DATAFLOW | C78: STATSNZ:CEN23_HOU_001(1.0) | D78: Access to basic amenities, total household income, and tenure of household for households in occupied private dwellings, (RC, TALB, SA2, Health), 2018 and 2023 Censuses | E78: I | F78: 2018 | G78: 2018 | H78: 7 | I78: Taranaki Region | J78: 99 | K78: Total - access to basic amenities | L78: Median | M78: Median ($) - total household income | N78: 7777 | O78: Total stated - tenure of household | P78: 63600
A79: 2018|ManawatÅ«-Whanganui Region|$20,000 or less | B79: DATAFLOW | C79: STATSNZ:CEN23_HOU_001(1.0) | D79: Access to basic amenities, total household income, and tenure of household for households in occupied private dwellings, (RC, TALB, SA2, Health), 2018 and 2023 Censuses | E79: I | F79: 2018 | G79: 2018 | H79: 8 | I79: ManawatÅ«-Whanganui Region | J79: 99 | K79: Total - access to basic amenities | L79: 1 | M79: $20,000 or less | N79: 7777 | O79: Total stated - tenure of household | P79: 9501
A80: 2018|ManawatÅ«-Whanganui Region|$20,001-$30,000 | B80: DATAFLOW | C80: STATSNZ:CEN23_HOU_001(1.0) | D80: Access to basic amenities, total household income, and tenure of household for households in occupied private dwellings, (RC, TALB, SA2, Health), 2018 and 2023 Censuses | E80: I | F80: 2018 | G80: 2018 | H80: 8 | I80: ManawatÅ«-Whanganui Region | J80: 99 | K80: Total - access to basic amenities | L80: 2 | M80: $20,001-$30,000 | N80: 7777 | O80: Total stated - tenure of household | P80: 11292
A81: 2018|ManawatÅ«-Whanganui Region|$30,001-$50,000 | B81: DATAFLOW | C81: STATSNZ:CEN23_HOU_001(1.0) | D81: Access to basic amenities, total household income, and tenure of household for households in occupied private dwellings, (RC, TALB, SA2, Health), 2018 and 2023 Censuses | E81: I | F81: 2018 | G81: 2018 | H81: 8 | I81: ManawatÅ«-Whanganui Region | J81: 99 | K81: Total - access to basic amenities | L81: 3 | M81: $30,001-$50,000 | N81: 7777 | O81: Total stated - tenure of household | P81: 15795
A82: 2018|ManawatÅ«-Whanganui Region|$50,001-$70,000 | B82: DATAFLOW | C82: STATSNZ:CEN23_HOU_001(1.0) | D82: Access to basic amenities, total household income, and tenure of household for households in occupied private dwellings, (RC, TALB, SA2, Health), 2018 and 2023 Censuses | E82: I | F82: 2018 | G82: 2018 | H82: 8 | I82: ManawatÅ«-Whanganui Region | J82: 99 | K82: Total - access to basic amenities | L82: 4 | M82: $50,001-$70,000 | N82: 7777 | O82: Total stated - tenure of household | P82: 13026
A83: 2018|ManawatÅ«-Whanganui Region|$70,001-$100,000 | B83: DATAFLOW | C83: STATSNZ:CEN23_HOU_001(1.0) | D83: Access to basic amenities, total household income, and tenure of household for households in occupied private dwellings, (RC, TALB, SA2, Health), 2018 and 2023 Censuses | E83: I | F83: 2018 | G83: 2018 | H83: 8 | I83: ManawatÅ«-Whanganui Region | J83: 99 | K83: Total - access to basic amenities | L83: 5 | M83: $70,001-$100,000 | N83: 7777 | O83: Total stated - tenure of household | P83: 13455
A84: 2018|ManawatÅ«-Whanganui Region|$100,001-$150,000 | B84: DATAFLOW | C84: STATSNZ:CEN23_HOU_001(1.0) | D84: Access to basic amenities, total household income, and tenure of household for households in occupied private dwellings, (RC, TALB, SA2, Health), 2018 and 2023 Censuses | E84: I | F84: 2018 | G84: 2018 | H84: 8 | I84: ManawatÅ«-Whanganui Region | J84: 99 | K84: Total - access to basic amenities | L84: 6 | M84: $100,001-$150,000 | N84: 7777 | O84: Total stated - tenure of household | P84: 13293
A85: 2018|ManawatÅ«-Whanganui Region|$150,001-$200,000 | B85: DATAFLOW | C85: STATSNZ:CEN23_HOU_001(1.0) | D85: Access to basic amenities, total household income, and tenure of household for households in occupied private dwellings, (RC, TALB, SA2, Health), 2018 and 2023 Censuses | E85: I | F85: 2018 | G85: 2018 | H85: 8 | I85: ManawatÅ«-Whanganui Region | J85: 99 | K85: Total - access to basic amenities | L85: 7 | M85: $150,001-$200,000 | N85: 7777 | O85: Total stated - tenure of household | P85: 7740
A86: 2018|ManawatÅ«-Whanganui Region|$200,001 or more | B86: DATAFLOW | C86: STATSNZ:CEN23_HOU_001(1.0) | D86: Access to basic amenities, total household income, and tenure of household for households in occupied private dwellings, (RC, TALB, SA2, Health), 2018 and 2023 Censuses | E86: I | F86: 2018 | G86: 2018 | H86: 8 | I86: ManawatÅ«-Whanganui Region | J86: 99 | K86: Total - access to basic amenities | L86: 8 | M86: $200,001 or more | N86: 7777 | O86: Total stated - tenure of household | R86: _U | S86: Not available
A87: 2018|ManawatÅ«-Whanganui Region|Total stated - total household income | B87: DATAFLOW | C87: STATSNZ:CEN23_HOU_001(1.0) | D87: Access to basic amenities, total household income, and tenure of household for households in occupied private dwellings, (RC, TALB, SA2, Health), 2018 and 2023 Censuses | E87: I | F87: 2018 | G87: 2018 | H87: 8 | I87: ManawatÅ«-Whanganui Region | J87: 99 | K87: Total - access to basic amenities | L87: 77 | M87: Total stated - total household income | N87: 7777 | O87: Total stated - tenure of household | P87: 84108
A88: 2018|ManawatÅ«-Whanganui Region|Total - total household income | B88: DATAFLOW | C88: STATSNZ:CEN23_HOU_001(1.0) | D88: Access to basic amenities, total household income, and tenure of household for households in occupied private dwellings, (RC, TALB, SA2, Health), 2018 and 2023 Censuses | E88: I | F88: 2018 | G88: 2018 | H88: 8 | I88: ManawatÅ«-Whanganui Region | J88: 99 | K88: Total - access to basic amenities | L88: 99 | M88: Total - total household income | N88: 7777 | O88: Total stated - tenure of household | P88: 90405
A89: 2018|ManawatÅ«-Whanganui Region|Median ($) - total household income | B89: DATAFLOW | C89: STATSNZ:CEN23_HOU_001(1.0) | D89: Access to basic amenities, total household income, and tenure of household for households in occupied private dwellings, (RC, TALB, SA2, Health), 2018 and 2023 Censuses | E89: I | F89: 2018 | G89: 2018 | H89: 8 | I89: ManawatÅ«-Whanganui Region | J89: 99 | K89: Total - access to basic amenities | L89: Median | M89: Median ($) - total household income | N89: 7777 | O89: Total stated - tenure of household | P89: 57800
A90: 2018|Wellington Region|$20,000 or less | B90: DATAFLOW | C90: STATSNZ:CEN23_HOU_001(1.0) | D90: Access to basic amenities, total household income, and tenure of household for households in occupied private dwellings, (RC, TALB, SA2, Health), 2018 and 2023 Censuses | E90: I | F90: 2018 | G90: 2018 | H90: 9 | I90: Wellington Region | J90: 99 | K90: Total - access to basic amenities | L90: 1 | M90: $20,000 or less | N90: 7777 | O90: Total stated - tenure of household | P90: 13206
A91: 2018|Wellington Region|$20,001-$30,000 | B91: DATAFLOW | C91: STATSNZ:CEN23_HOU_001(1.0) | D91: Access to basic amenities, total household income, and tenure of household for households in occupied private dwellings, (RC, TALB, SA2, Health), 2018 and 2023 Censuses | E91: I | F91: 2018 | G91: 2018 | H91: 9 | I91: Wellington Region | J91: 99 | K91: Total - access to basic amenities | L91: 2 | M91: $20,001-$30,000 | N91: 7777 | O91: Total stated - tenure of household | P91: 15222
A92: 2018|Wellington Region|$30,001-$50,000 | B92: DATAFLOW | C92: STATSNZ:CEN23_HOU_001(1.0) | D92: Access to basic amenities, total household income, and tenure of household for households in occupied private dwellings, (RC, TALB, SA2, Health), 2018 and 2023 Censuses | E92: I | F92: 2018 | G92: 2018 | H92: 9 | I92: Wellington Region | J92: 99 | K92: Total - access to basic amenities | L92: 3 | M92: $30,001-$50,000 | N92: 7777 | O92: Total stated - tenure of household | P92: 21822
A93: 2018|Wellington Region|$50,001-$70,000 | B93: DATAFLOW | C93: STATSNZ:CEN23_HOU_001(1.0) | D93: Access to basic amenities, total household income, and tenure of household for households in occupied private dwellings, (RC, TALB, SA2, Health), 2018 and 2023 Censuses | E93: I | F93: 2018 | G93: 2018 | H93: 9 | I93: Wellington Region | J93: 99 | K93: Total - access to basic amenities | L93: 4 | M93: $50,001-$70,000 | N93: 7777 | O93: Total stated - tenure of household | P93: 20610
A94: 2018|Wellington Region|$70,001-$100,000 | B94: DATAFLOW | C94: STATSNZ:CEN23_HOU_001(1.0) | D94: Access to basic amenities, total household income, and tenure of household for households in occupied private dwellings, (RC, TALB, SA2, Health), 2018 and 2023 Censuses | E94: I | F94: 2018 | G94: 2018 | H94: 9 | I94: Wellington Region | J94: 99 | K94: Total - access to basic amenities | L94: 5 | M94: $70,001-$100,000 | N94: 7777 | O94: Total stated - tenure of household | P94: 25977
A95: 2018|Wellington Region|$100,001-$150,000 | B95: DATAFLOW | C95: STATSNZ:CEN23_HOU_001(1.0) | D95: Access to basic amenities, total household income, and tenure of household for households in occupied private dwellings, (RC, TALB, SA2, Health), 2018 and 2023 Censuses | E95: I | F95: 2018 | G95: 2018 | H95: 9 | I95: Wellington Region | J95: 99 | K95: Total - access to basic amenities | L95: 6 | M95: $100,001-$150,000 | N95: 7777 | O95: Total stated - tenure of household | P95: 35424
A96: 2018|Wellington Region|$150,001-$200,000 | B96: DATAFLOW | C96: STATSNZ:CEN23_HOU_001(1.0) | D96: Access to basic amenities, total household income, and tenure of household for households in occupied private dwellings, (RC, TALB, SA2, Health), 2018 and 2023 Censuses | E96: I | F96: 2018 | G96: 2018 | H96: 9 | I96: Wellington Region | J96: 99 | K96: Total - access to basic amenities | L96: 7 | M96: $150,001-$200,000 | N96: 7777 | O96: Total stated - tenure of household | P96: 41163
A97: 2018|Wellington Region|$200,001 or more | B97: DATAFLOW | C97: STATSNZ:CEN23_HOU_001(1.0) | D97: Access to basic amenities, total household income, and tenure of household for households in occupied private dwellings, (RC, TALB, SA2, Health), 2018 and 2023 Censuses | E97: I | F97: 2018 | G97: 2018 | H97: 9 | I97: Wellington Region | J97: 99 | K97: Total - access to basic amenities | L97: 8 | M97: $200,001 or more | N97: 7777 | O97: Total stated - tenure of household | R97: _U | S97: Not available
A98: 2018|Wellington Region|Total stated - total household income | B98: DATAFLOW | C98: STATSNZ:CEN23_HOU_001(1.0) | D98: Access to basic amenities, total household income, and tenure of household for households in occupied private dwellings, (RC, TALB, SA2, Health), 2018 and 2023 Censuses | E98: I | F98: 2018 | G98: 2018 | H98: 9 | I98: Wellington Region | J98: 99 | K98: Total - access to basic amenities | L98: 77 | M98: Total stated - total household income | N98: 7777 | O98: Total stated - tenure of household | P98: 173427
A99: 2018|Wellington Region|Total - total household income | B99: DATAFLOW | C99: STATSNZ:CEN23_HOU_001(1.0) | D99: Access to basic amenities, total household income, and tenure of household for households in occupied private dwellings, (RC, TALB, SA2, Health), 2018 and 2023 Censuses | E99: I | F99: 2018 | G99: 2018 | H99: 9 | I99: Wellington Region | J99: 99 | K99: Total - access to basic amenities | L99: 99 | M99: Total - total household income | N99: 7777 | O99: Total stated - tenure of household | P99: 185331
A100: 2018|Wellington Region|Median ($) - total household income | B100: DATAFLOW | C100: STATSNZ:CEN23_HOU_001(1.0) | D100: Access to basic amenities, total household income, and tenure of household for households in occupied private dwellings, (RC, TALB, SA2, Health), 2018 and 2023 Censuses | E100: I | F100: 2018 | G100: 2018 | H100: 9 | I100: Wellington Region | J100: 99 | K100: Total - access to basic amenities | L100: Median | M100: Median ($) - total household income | N100: 7777 | O100: Total stated - tenure of household | P100: 88300
...

Sheet TA
A1: HELPER COLUMN | B1: STRUCTURE | C1: STRUCTURE_ID | D1: STRUCTURE_NAME | E1: ACTION | F1: CEN23_YEAR_001 | G1: Census year | H1: CEN23_GEO_013 | I1: Area | J1: CEN23_HOD_002 | K1: Access to basic amenities | L1: CEN23_TIH_001 | M1: Total household income | N1: CEN23_THD_001 | O1: Tenure of household | P1: OBS_VALUE | Q1: Observation Value | R1: OBS_STATUS | S1: Observation Status | T1: Percentage | U1: Denominator (Total stated)
A2: =G2&"|"&I2&"|"&M2 -> 2018|Far North District|$20,000 or less | B2: DATAFLOW | C2: STATSNZ:CEN23_HOU_001(1.0) | D2: Access to basic amenities, total household income, and tenure of household for households in occupied private dwellings, (RC, TALB, SA2, Health), 2018 and 2023 Censuses | E2: I | F2: 2018 | G2: 2018 | H2: 1 | I2: Far North District | J2: 99 | K2: Total - access to basic amenities | L2: 1 | M2: $20,000 or less | N2: 9999 | O2: Total - tenure of household | P2: 2853 | T2: =IF(AND(R2<>"_U",R2<>"c",N2<>999,N2<>9999,L2<>"Median"),IFERROR((ROUND(P2/U2*100,2)),"."),".") -> . | U2: =IF(AND(R2<>"_U",N2<>9999,N2<>999,L2<>"Median"),IFERROR(VLOOKUP(A2,'TA Total'!A:P,16,0),"."),".") -> .
A3: =G3&"|"&I3&"|"&M3 -> 2018|Far North District|$20,000 or less | B3: DATAFLOW | C3: STATSNZ:CEN23_HOU_001(1.0) | D3: Access to basic amenities, total household income, and tenure of household for households in occupied private dwellings, (RC, TALB, SA2, Health), 2018 and 2023 Censuses | E3: I | F3: 2018 | G3: 2018 | H3: 1 | I3: Far North District | J3: 99 | K3: Total - access to basic amenities | L3: 1 | M3: $20,000 or less | N3: 1 | O3: Dwelling owned or partly owned | P3: 1245 | T3: =IF(AND(R3<>"_U",R3<>"c",N3<>999,N3<>9999,L3<>"Median"),IFERROR((ROUND(P3/U3*100,2)),"."),".") -> 43.64 | U3: =IF(AND(R3<>"_U",N3<>9999,N3<>999,L3<>"Median"),IFERROR(VLOOKUP(A3,'TA Total'!A:P,16,0),"."),".") -> 2853
A4: =G4&"|"&I4&"|"&M4 -> 2018|Far North District|$20,000 or less | B4: DATAFLOW | C4: STATSNZ:CEN23_HOU_001(1.0) | D4: Access to basic amenities, total household income, and tenure of household for households in occupied private dwellings, (RC, TALB, SA2, Health), 2018 and 2023 Censuses | E4: I | F4: 2018 | G4: 2018 | H4: 1 | I4: Far North District | J4: 99 | K4: Total - access to basic amenities | L4: 1 | M4: $20,000 or less | N4: 2 | O4: Dwelling not owned and not held in a family trust | P4: 1374 | T4: =IF(AND(R4<>"_U",R4<>"c",N4<>999,N4<>9999,L4<>"Median"),IFERROR((ROUND(P4/U4*100,2)),"."),".") -> 48.16 | U4: =IF(AND(R4<>"_U",N4<>9999,N4<>999,L4<>"Median"),IFERROR(VLOOKUP(A4,'TA Total'!A:P,16,0),"."),".") -> 2853
A5: =G5&"|"&I5&"|"&M5 -> 2018|Far North District|$20,000 or less | B5: DATAFLOW | C5: STATSNZ:CEN23_HOU_001(1.0) | D5: Access to basic amenities, total household income, and tenure of household for households in occupied private dwellings, (RC, TALB, SA2, Health), 2018 and 2023 Censuses | E5: I | F5: 2018 | G5: 2018 | H5: 1 | I5: Far North District | J5: 99 | K5: Total - access to basic amenities | L5: 1 | M5: $20,000 or less | N5: 3 | O5: Dwelling held in a family trust | P5: 234 | T5: =IF(AND(R5<>"_U",R5<>"c",N5<>999,N5<>9999,L5<>"Median"),IFERROR((ROUND(P5/U5*100,2)),"."),".") -> 8.2 | U5: =IF(AND(R5<>"_U",N5<>9999,N5<>999,L5<>"Median"),IFERROR(VLOOKUP(A5,'TA Total'!A:P,16,0),"."),".") -> 2853
A6: =G6&"|"&I6&"|"&M6 -> 2018|Far North District|$20,000 or less | B6: DATAFLOW | C6: STATSNZ:CEN23_HOU_001(1.0) | D6: Access to basic amenities, total household income, and tenure of household for households in occupied private dwellings, (RC, TALB, SA2, Health), 2018 and 2023 Censuses | E6: I | F6: 2018 | G6: 2018 | H6: 1 | I6: Far North District | J6: 99 | K6: Total - access to basic amenities | L6: 1 | M6: $20,000 or less | N6: 999 | O6: Not elsewhere included | P6: 0 | T6: =IF(AND(R6<>"_U",R6<>"c",N6<>999,N6<>9999,L6<>"Median"),IFERROR((ROUND(P6/U6*100,2)),"."),".") -> . | U6: =IF(AND(R6<>"_U",N6<>9999,N6<>999,L6<>"Median"),IFERROR(VLOOKUP(A6,'TA Total'!A:P,16,0),"."),".") -> .
A7: =G7&"|"&I7&"|"&M7 -> 2018|Far North District|$20,000 or less | B7: DATAFLOW | C7: STATSNZ:CEN23_HOU_001(1.0) | D7: Access to basic amenities, total household income, and tenure of household for households in occupied private dwellings, (RC, TALB, SA2, Health), 2018 and 2023 Censuses | E7: I | F7: 2018 | G7: 2018 | H7: 1 | I7: Far North District | J7: 99 | K7: Total - access to basic amenities | L7: 1 | M7: $20,000 or less | N7: 7777 | O7: Total stated - tenure of household | P7: 2853 | T7: =IF(AND(R7<>"_U",R7<>"c",N7<>999,N7<>9999,L7<>"Median"),IFERROR((ROUND(P7/U7*100,2)),"."),".") -> 100 | U7: =IF(AND(R7<>"_U",N7<>9999,N7<>999,L7<>"Median"),IFERROR(VLOOKUP(A7,'TA Total'!A:P,16,0),"."),".") -> 2853
A8: =G8&"|"&I8&"|"&M8 -> 2018|Far North District|$20,001-$30,000 | B8: DATAFLOW | C8: STATSNZ:CEN23_HOU_001(1.0) | D8: Access to basic amenities, total household income, and tenure of household for households in occupied private dwellings, (RC, TALB, SA2, Health), 2018 and 2023 Censuses | E8: I | F8: 2018 | G8: 2018 | H8: 1 | I8: Far North District | J8: 99 | K8: Total - access to basic amenities | L8: 2 | M8: $20,001-$30,000 | N8: 999 | O8: Not elsewhere included | P8: 0 | T8: =IF(AND(R8<>"_U",R8<>"c",N8<>999,N8<>9999,L8<>"Median"),IFERROR((ROUND(P8/U8*100,2)),"."),".") -> . | U8: =IF(AND(R8<>"_U",N8<>9999,N8<>999,L8<>"Median"),IFERROR(VLOOKUP(A8,'TA Total'!A:P,16,0),"."),".") -> .
A9: =G9&"|"&I9&"|"&M9 -> 2018|Far North District|$20,001-$30,000 | B9: DATAFLOW | C9: STATSNZ:CEN23_HOU_001(1.0) | D9: Access to basic amenities, total household income, and tenure of household for households in occupied private dwellings, (RC, TALB, SA2, Health), 2018 and 2023 Censuses | E9: I | F9: 2018 | G9: 2018 | H9: 1 | I9: Far North District | J9: 99 | K9: Total - access to basic amenities | L9: 2 | M9: $20,001-$30,000 | N9: 1 | O9: Dwelling owned or partly owned | P9: 1488 | T9: =IF(AND(R9<>"_U",R9<>"c",N9<>999,N9<>9999,L9<>"Median"),IFERROR((ROUND(P9/U9*100,2)),"."),".") -> 52.71 | U9: =IF(AND(R9<>"_U",N9<>9999,N9<>999,L9<>"Median"),IFERROR(VLOOKUP(A9,'TA Total'!A:P,16,0),"."),".") -> 2823
A10: =G10&"|"&I10&"|"&M10 -> 2018|Far North District|$20,001-$30,000 | B10: DATAFLOW | C10: STATSNZ:CEN23_HOU_001(1.0) | D10: Access to basic amenities, total household income, and tenure of household for households in occupied private dwellings, (RC, TALB, SA2, Health), 2018 and 2023 Censuses | E10: I | F10: 2018 | G10: 2018 | H10: 1 | I10: Far North District | J10: 99 | K10: Total - access to basic amenities | L10: 2 | M10: $20,001-$30,000 | N10: 2 | O10: Dwelling not owned and not held in a family trust | P10: 1077 | T10: =IF(AND(R10<>"_U",R10<>"c",N10<>999,N10<>9999,L10<>"Median"),IFERROR((ROUND(P10/U10*100,2)),"."),".") -> 38.15 | U10: =IF(AND(R10<>"_U",N10<>9999,N10<>999,L10<>"Median"),IFERROR(VLOOKUP(A10,'TA Total'!A:P,16,0),"."),".") -> 2823
A11: =G11&"|"&I11&"|"&M11 -> 2018|Far North District|$20,001-$30,000 | B11: DATAFLOW | C11: STATSNZ:CEN23_HOU_001(1.0) | D11: Access to basic amenities, total household income, and tenure of household for households in occupied private dwellings, (RC, TALB, SA2, Health), 2018 and 2023 Censuses | E11: I | F11: 2018 | G11: 2018 | H11: 1 | I11: Far North District | J11: 99 | K11: Total - access to basic amenities | L11: 2 | M11: $20,001-$30,000 | N11: 9999 | O11: Total - tenure of household | P11: 2823 | T11: =IF(AND(R11<>"_U",R11<>"c",N11<>999,N11<>9999,L11<>"Median"),IFERROR((ROUND(P11/U11*100,2)),"."),".") -> . | U11: =IF(AND(R11<>"_U",N11<>9999,N11<>999,L11<>"Median"),IFERROR(VLOOKUP(A11,'TA Total'!A:P,16,0),"."),".") -> .
A12: =G12&"|"&I12&"|"&M12 -> 2018|Far North District|$20,001-$30,000 | B12: DATAFLOW | C12: STATSNZ:CEN23_HOU_001(1.0) | D12: Access to basic amenities, total household income, and tenure of household for households in occupied private dwellings, (RC, TALB, SA2, Health), 2018 and 2023 Censuses | E12: I | F12: 2018 | G12: 2018 | H12: 1 | I12: Far North District | J12: 99 | K12: Total - access to basic amenities | L12: 2 | M12: $20,001-$30,000 | N12: 3 | O12: Dwelling held in a family trust | P12: 255 | T12: =IF(AND(R12<>"_U",R12<>"c",N12<>999,N12<>9999,L12<>"Median"),IFERROR((ROUND(P12/U12*100,2)),"."),".") -> 9.03 | U12: =IF(AND(R12<>"_U",N12<>9999,N12<>999,L12<>"Median"),IFERROR(VLOOKUP(A12,'TA Total'!A:P,16,0),"."),".") -> 2823
A13: =G13&"|"&I13&"|"&M13 -> 2018|Far North District|$20,001-$30,000 | B13: DATAFLOW | C13: STATSNZ:CEN23_HOU_001(1.0) | D13: Access to basic amenities, total household income, and tenure of household for households in occupied private dwellings, (RC, TALB, SA2, Health), 2018 and 2023 Censuses | E13: I | F13: 2018 | G13: 2018 | H13: 1 | I13: Far North District | J13: 99 | K13: Total - access to basic amenities | L13: 2 | M13: $20,001-$30,000 | N13: 7777 | O13: Total stated - tenure of household | P13: 2823 | T13: =IF(AND(R13<>"_U",R13<>"c",N13<>999,N13<>9999,L13<>"Median"),IFERROR((ROUND(P13/U13*100,2)),"."),".") -> 100 | U13: =IF(AND(R13<>"_U",N13<>9999,N13<>999,L13<>"Median"),IFERROR(VLOOKUP(A13,'TA Total'!A:P,16,0),"."),".") -> 2823
... A43: =G43&"|"&I43&"|"&M43 -> 2018|Far North District|$150,001-$200,000 | B43: DATAFLOW | C43: STATSNZ:CEN23_HOU_001(1.0) | D43: Access to basic amenities, total household income, and tenure of household for households in occupied private dwellings, (RC, TALB, SA2, Health), 2018 and 2023 Censuses | E43: I | F43: 2018 | G43: 2018 | H43: 1 | I43: Far North District | J43: 99 | K43: Total - access to basic amenities | L43: 7 | M43: $150,001-$200,000 | N43: 9999 | O43: Total - tenure of household | P43: 1542 | T43: =IF(AND(R43<>"_U",R43<>"c",N43<>999,N43<>9999,L43<>"Median"),IFERROR((ROUND(P43/U43*100,2)),"."),".") -> . | U43: =IF(AND(R43<>"_U",N43<>9999,N43<>999,L43<>"Median"),IFERROR(VLOOKUP(A43,'TA Total'!A:P,16,0),"."),".") -> .
A44: =G44&"|"&I44&"|"&M44 -> 2018|Far North District|$200,001 or more | B44: DATAFLOW | C44: STATSNZ:CEN23_HOU_001(1.0) | D44: Access to basic amenities, total household income, and tenure of household for households in occupied private dwellings, (RC, TALB, SA2, Health), 2018 and 2023 Censuses | E44: I | F44: 2018 | G44: 2018 | H44: 1 | I44: Far North District | J44: 99 | K44: Total - access to basic amenities | L44: 8 | M44: $200,001 or more | N44: 2 | O44: Dwelling not owned and not held in a family trust | R44: _U | S44: Not available | T44: =IF(AND(R44<>"_U",R44<>"c",N44<>999,N44<>9999,L44<>"Median"),IFERROR((ROUND(P44/U44*100,2)),"."),".") -> . | U44: =IF(AND(R44<>"_U",N44<>9999,N44<>999,L44<>"Median"),IFERROR(VLOOKUP(A44,'TA Total'!A:P,16,0),"."),".") -> .
A45: =G45&"|"&I45&"|"&M45 -> 2018|Far North District|$200,001 or more | B45: DATAFLOW | C45: STATSNZ:CEN23_HOU_001(1.0) | D45: Access to basic amenities, total household income, and tenure of household for households in occupied private dwellings, (RC, TALB, SA2, Health), 2018 and 2023 Censuses | E45: I | F45: 2018 | G45: 2018 | H45: 1 | I45: Far North District | J45: 99 | K45: Total - access to basic amenities | L45: 8 | M45: $200,001 or more | N45: 7777 | O45: Total stated - tenure of household | R45: _U | S45: Not available | T45: =IF(AND(R45<>"_U",R45<>"c",N45<>999,N45<>9999,L45<>"Median"),IFERROR((ROUND(P45/U45*100,2)),"."),".") -> . | U45: =IF(AND(R45<>"_U",N45<>9999,N45<>999,L45<>"Median"),IFERROR(VLOOKUP(A45,'TA Total'!A:P,16,0),"."),".") -> .
A46: =G46&"|"&I46&"|"&M46 -> 2018|Far North District|$200,001 or more | B46: DATAFLOW | C46: STATSNZ:CEN23_HOU_001(1.0) | D46: Access to basic amenities, total household income, and tenure of household for households in occupied private dwellings, (RC, TALB, SA2, Health), 2018 and 2023 Censuses | E46: I | F46: 2018 | G46: 2018 | H46: 1 | I46: Far North District | J46: 99 | K46: Total - access to basic amenities | L46: 8 | M46: $200,001 or more | N46: 9999 | O46: Total - tenure of household | R46: _U | S46: Not available | T46: =IF(AND(R46<>"_U",R46<>"c",N46<>999,N46<>9999,L46<>"Median"),IFERROR((ROUND(P46/U46*100,2)),"."),".") -> . | U46: =IF(AND(R46<>"_U",N46<>9999,N46<>999,L46<>"Median"),IFERROR(VLOOKUP(A46,'TA Total'!A:P,16,0),"."),".") -> .
A47: =G47&"|"&I47&"|"&M47 -> 2018|Far North District|$200,001 or more | B47: DATAFLOW | C47: STATSNZ:CEN23_HOU_001(1.0) | D47: Access to basic amenities, total household income, and tenure of household for households in occupied private dwellings, (RC, TALB, SA2, Health), 2018 and 2023 Censuses | E47: I | F47: 2018 | G47: 2018 | H47: 1 | I47: Far North District | J47: 99 | K47: Total - access to basic amenities | L47: 8 | M47: $200,001 or more | N47: 1 | O47: Dwelling owned or partly owned | R47: _U | S47: Not available | T47: =IF(AND(R47<>"_U",R47<>"c",N47<>999,N47<>9999,L47<>"Median"),IFERROR((ROUND(P47/U47*100,2)),"."),".") -> . | U47: =IF(AND(R47<>"_U",N47<>9999,N47<>999,L47<>"Median"),IFERROR(VLOOKUP(A47,'TA Total'!A:P,16,0),"."),".") -> .
A48: =G48&"|"&I48&"|"&M48 -> 2018|Far North District|$200,001 or more | B48: DATAFLOW | C48: STATSNZ:CEN23_HOU_001(1.0) | D48: Access to basic amenities, total household income, and tenure of household for households in occupied private dwellings, (RC, TALB, SA2, Health), 2018 and 2023 Censuses | E48: I | F48: 2018 | G48: 2018 | H48: 1 | I48: Far North District | J48: 99 | K48: Total - access to basic amenities | L48: 8 | M48: $200,001 or more | N48: 999 | O48: Not elsewhere included | R48: _U | S48: Not available | T48: =IF(AND(R48<>"_U",R48<>"c",N48<>999,N48<>9999,L48<>"Median"),IFERROR((ROUND(P48/U48*100,2)),"."),".") -> . | U48: =IF(AND(R48<>"_U",N48<>9999,N48<>999,L48<>"Median"),IFERROR(VLOOKUP(A48,'TA Total'!A:P,16,0),"."),".") -> .
A49: =G49&"|"&I49&"|"&M49 -> 2018|Far North District|$200,001 or more | B49: DATAFLOW | C49: STATSNZ:CEN23_HOU_001(1.0) | D49: Access to basic amenities, total household income, and tenure of household for households in occupied private dwellings, (RC, TALB, SA2, Health), 2018 and 2023 Censuses | E49: I | F49: 2018 | G49: 2018 | H49: 1 | I49: Far North District | J49: 99 | K49: Total - access to basic amenities | L49: 8 | M49: $200,001 or more | N49: 3 | O49: Dwelling held in a family trust | R49: _U | S49: Not available | T49: =IF(AND(R49<>"_U",R49<>"c",N49<>999,N49<>9999,L49<>"Median"),IFERROR((ROUND(P49/U49*100,2)),"."),".") -> . | U49: =IF(AND(R49<>"_U",N49<>9999,N49<>999,L49<>"Median"),IFERROR(VLOOKUP(A49,'TA Total'!A:P,16,0),"."),".") -> .
A50: =G50&"|"&I50&"|"&M50 -> 2018|Far North District|Total stated - total household income | B50: DATAFLOW | C50: STATSNZ:CEN23_HOU_001(1.0) | D50: Access to basic amenities, total household income, and tenure of household for households in occupied private dwellings, (RC, TALB, SA2, Health), 2018 and 2023 Censuses | E50: I | F50: 2018 | G50: 2018 | H50: 1 | I50: Far North District | J50: 99 | K50: Total - access to basic amenities | L50: 77 | M50: Total stated - total household income | N50: 9999 | O50: Total - tenure of household | P50: 19896 | T50: =IF(AND(R50<>"_U",R50<>"c",N50<>999,N50<>9999,L50<>"Median"),IFERROR((ROUND(P50/U50*100,2)),"."),".") -> . | U50: =IF(AND(R50<>"_U",N50<>9999,N50<>999,L50<>"Median"),IFERROR(VLOOKUP(A50,'TA Total'!A:P,16,0),"."),".") -> .
A51: =G51&"|"&I51&"|"&M51 -> 2018|Far North District|Total stated - total household income | B51: DATAFLOW | C51: STATSNZ:CEN23_HOU_001(1.0) | D51: Access to basic amenities, total household income, and tenure of household for households in occupied private dwellings, (RC, TALB, SA2, Health), 2018 and 2023 Censuses | E51: I | F51: 2018 | G51: 2018 | H51: 1 | I51: Far North District | J51: 99 | K51: Total - access to basic amenities | L51: 77 | M51: Total stated - total household income | N51: 7777 | O51: Total stated - tenure of household | P51: 19896 | T51: =IF(AND(R51<>"_U",R51<>"c",N51<>999,N51<>9999,L51<>"Median"),IFERROR((ROUND(P51/U51*100,2)),"."),".") -> 100 | U51: =IF(AND(R51<>"_U",N51<>9999,N51<>999,L51<>"Median"),IFERROR(VLOOKUP(A51,'TA Total'!A:P,16,0),"."),".") -> 19896
A52: =G52&"|"&I52&"|"&M52 -> 2018|Far North District|Total stated - total household income | B52: DATAFLOW | C52: STATSNZ:CEN23_HOU_001(1.0) | D52: Access to basic amenities, total household income, and tenure of household for households in occupied private dwellings, (RC, TALB, SA2, Health), 2018 and 2023 Censuses | E52: I | F52: 2018 | G52: 2018 | H52: 1 | I52: Far North District | J52: 99 | K52: Total - access to basic amenities | L52: 77 | M52: Total stated - total household income | N52: 3 | O52: Dwelling held in a family trust | P52: 2301 | T52: =IF(AND(R52<>"_U",R52<>"c",N52<>999,N52<>9999,L52<>"Median"),IFERROR((ROUND(P52/U52*100,2)),"."),".") -> 11.57 | U52: =IF(AND(R52<>"_U",N52<>9999,N52<>999,L52<>"Median"),IFERROR(VLOOKUP(A52,'TA Total'!A:P,16,0),"."),".") -> 19896
A53: =G53&"|"&I53&"|"&M53 -> 2018|Far North District|Total stated - total household income | B53: DATAFLOW | C53: STATSNZ:CEN23_HOU_001(1.0) | D53: Access to basic amenities, total household income, and tenure of household for households in occupied private dwellings, (RC, TALB, SA2, Health), 2018 and 2023 Censuses | E53: I | F53: 2018 | G53: 2018 | H53: 1 | I53: Far North District | J53: 99 | K53: Total - access to basic amenities | L53: 77 | M53: Total stated - total household income | N53: 2 | O53: Dwelling not owned and not held in a family trust | P53: 6438 | T53: =IF(AND(R53<>"_U",R53<>"c",N53<>999,N53<>9999,L53<>"Median"),IFERROR((ROUND(P53/U53*100,2)),"."),".") -> 32.36 | U53: =IF(AND(R53<>"_U",N53<>9999,N53<>999,L53<>"Median"),IFERROR(VLOOKUP(A53,'TA Total'!A:P,16,0),"."),".") -> 19896
A54: =G54&"|"&I54&"|"&M54 -> 2018|Far North District|Total stated - total household income | B54: DATAFLOW | C54: STATSNZ:CEN23_HOU_001(1.0) | D54: Access to basic amenities, total household income, and tenure of household for households in occupied private dwellings, (RC, TALB, SA2, Health), 2018 and 2023 Censuses | E54: I | F54: 2018 | G54: 2018 | H54: 1 | I54: Far North District | J54: 99 | K54: Total - access to basic amenities | L54: 77 | M54: Total stated - total household income | N54: 999 | O54: Not elsewhere included | P54: 0 | T54: =IF(AND(R54<>"_U",R54<>"c",N54<>999,N54<>9999,L54<>"Median"),IFERROR((ROUND(P54/U54*100,2)),"."),".") -> . | U54: =IF(AND(R54<>"_U",N54<>9999,N54<>999,L54<>"Median"),IFERROR(VLOOKUP(A54,'TA Total'!A:P,16,0),"."),".") -> .
A55: =G55&"|"&I55&"|"&M55 -> 2018|Far North District|Total stated - total household income | B55: DATAFLOW | C55: STATSNZ:CEN23_HOU_001(1.0) | D55: Access to basic amenities, total household income, and tenure of household for households in occupied private dwellings, (RC, TALB, SA2, Health), 2018 and 2023 Censuses | E55: I | F55: 2018 | G55: 2018 | H55: 1 | I55: Far North District | J55: 99 | K55: Total - access to basic amenities | L55: 77 | M55: Total stated - total household income | N55: 1 | O55: Dwelling owned or partly owned | P55: 11157 | T55: =IF(AND(R55<>"_U",R55<>"c",N55<>999,N55<>9999,L55<>"Median"),IFERROR((ROUND(P55/U55*100,2)),"."),".") -> 56.08 | U55: =IF(AND(R55<>"_U",N55<>9999,N55<>999,L55<>"Median"),IFERROR(VLOOKUP(A55,'TA Total'!A:P,16,0),"."),".") -> 19896
A56: =G56&"|"&I56&"|"&M56 -> 2018|Far North District|Total - total household income | B56: DATAFLOW | C56: STATSNZ:CEN23_HOU_001(1.0) | D56: Access to basic amenities, total household income, and tenure of household for households in occupied private dwellings, (RC, TALB, SA2, Health), 2018 and 2023 Censuses | E56: I | F56: 2018 | G56: 2018 | H56: 1 | I56: Far North District | J56: 99 | K56: Total - access to basic amenities | L56: 99 | M56: Total - total household income | N56: 999 | O56: Not elsewhere included | P56: 6 | T56: =IF(AND(R56<>"_U",R56<>"c",N56<>999,N56<>9999,L56<>"Median"),IFERROR((ROUND(P56/U56*100,2)),"."),".") -> . | U56: =IF(AND(R56<>"_U",N56<>9999,N56<>999,L56<>"Median"),IFERROR(VLOOKUP(A56,'TA Total'!A:P,16,0),"."),".") -> .
A57: =G57&"|"&I57&"|"&M57 -> 2018|Far North District|Total - total household income | B57: DATAFLOW | C57: STATSNZ:CEN23_HOU_001(1.0) | D57: Access to basic amenities, total household income, and tenure of household for households in occupied private dwellings, (RC, TALB, SA2, Health), 2018 and 2023 Censuses | E57: I | F57: 2018 | G57: 2018 | H57: 1 | I57: Far North District | J57: 99 | K57: Total - access to basic amenities | L57: 99 | M57: Total - total household income | N57: 7777 | O57: Total stated - tenure of household | P57: 22755 | T57: =IF(AND(R57<>"_U",R57<>"c",N57<>999,N57<>9999,L57<>"Median"),IFERROR((ROUND(P57/U57*100,2)),"."),".") -> 100 | U57: =IF(AND(R57<>"_U",N57<>9999,N57<>999,L57<>"Median"),IFERROR(VLOOKUP(A57,'TA Total'!A:P,16,0),"."),".") -> 22755
A58: =G58&"|"&I58&"|"&M58 -> 2018|Far North District|Total - total household income | B58: DATAFLOW | C58: STATSNZ:CEN23_HOU_001(1.0) | D58: Access to basic amenities, total household income, and tenure of household for households in occupied private dwellings, (RC, TALB, SA2, Health), 2018 and 2023 Censuses | E58: I | F58: 2018 | G58: 2018 | H58: 1 | I58: Far North District | J58: 99 | K58: Total - access to basic amenities | L58: 99 | M58: Total - total household income | N58: 9999 | O58: Total - tenure of household | P58: 22761 | T58: =IF(AND(R58<>"_U",R58<>"c",N58<>999,N58<>9999,L58<>"Median"),IFERROR((ROUND(P58/U58*100,2)),"."),".") -> . | U58: =IF(AND(R58<>"_U",N58<>9999,N58<>999,L58<>"Median"),IFERROR(VLOOKUP(A58,'TA Total'!A:P,16,0),"."),".") -> .
A59: =G59&"|"&I59&"|"&M59 -> 2018|Far North District|Total - total household income | B59: DATAFLOW | C59: STATSNZ:CEN23_HOU_001(1.0) | D59: Access to basic amenities, total household income, and tenure of household for households in occupied private dwellings, (RC, TALB, SA2, Health), 2018 and 2023 Censuses | E59: I | F59: 2018 | G59: 2018 | H59: 1 | I59: Far North District | J59: 99 | K59: Total - access to basic amenities | L59: 99 | M59: Total - total household income | N59: 2 | O59: Dwelling not owned and not held in a family trust | P59: 7440 | T59: =IF(AND(R59<>"_U",R59<>"c",N59<>999,N59<>9999,L59<>"Median"),IFERROR((ROUND(P59/U59*100,2)),"."),".") -> 32.7 | U59: =IF(AND(R59<>"_U",N59<>9999,N59<>999,L59<>"Median"),IFERROR(VLOOKUP(A59,'TA Total'!A:P,16,0),"."),".") -> 22755
A60: =G60&"|"&I60&"|"&M60 -> 2018|Far North District|Total - total household income | B60: DATAFLOW | C60: STATSNZ:CEN23_HOU_001(1.0) | D60: Access to basic amenities, total household income, and tenure of household for households in occupied private dwellings, (RC, TALB, SA2, Health), 2018 and 2023 Censuses | E60: I | F60: 2018 | G60: 2018 | H60: 1 | I60: Far North District | J60: 99 | K60: Total - access to basic amenities | L60: 99 | M60: Total - total household income | N60: 1 | O60: Dwelling owned or partly owned | P60: 12678 | T60: =IF(AND(R60<>"_U",R60<>"c",N60<>999,N60<>9999,L60<>"Median"),IFERROR((ROUND(P60/U60*100,2)),"."),".") -> 55.72 | U60: =IF(AND(R60<>"_U",N60<>9999,N60<>999,L60<>"Median"),IFERROR(VLOOKUP(A60,'TA Total'!A:P,16,0),"."),".") -> 22755
A61: =G61&"|"&I61&"|"&M61 -> 2018|Far North District|Total - total household income | B61: DATAFLOW | C61: STATSNZ:CEN23_HOU_001(1.0) | D61: Access to basic amenities, total household income, and tenure of household for households in occupied private dwellings, (RC, TALB, SA2, Health), 2018 and 2023 Censuses | E61: I | F61: 2018 | G61: 2018 | H61: 1 | I61: Far North District | J61: 99 | K61: Total - access to basic amenities | L61: 99 | M61: Total - total household income | N61: 3 | O61: Dwelling held in a family trust | P61: 2637 | T61: =IF(AND(R61<>"_U",R61<>"c",N61<>999,N61<>9999,L61<>"Median"),IFERROR((ROUND(P61/U61*100,2)),"."),".") -> 11.59 | U61: =IF(AND(R61<>"_U",N61<>9999,N61<>999,L61<>"Median"),IFERROR(VLOOKUP(A61,'TA Total'!A:P,16,0),"."),".") -> 22755
A62: =G62&"|"&I62&"|"&M62 -> 2018|Far North District|Median ($) - total household income | B62: DATAFLOW | C62: STATSNZ:CEN23_HOU_001(1.0) | D62: Access to basic amenities, total household income, and tenure of household for households in occupied private dwellings, (RC, TALB, SA2, Health), 2018 and 2023 Censuses | E62: I | F62: 2018 | G62: 2018 | H62: 1 | I62: Far North District | J62: 99 | K62: Total - access to basic amenities | L62: Median | M62: Median ($) - total household income | N62: 1 | O62: Dwelling owned or partly owned | P62: 56200 | T62: =IF(AND(R62<>"_U",R62<>"c",N62<>999,N62<>9999,L62<>"Median"),IFERROR((ROUND(P62/U62*100,2)),"."),".") -> . | U62: =IF(AND(R62<>"_U",N62<>9999,N62<>999,L62<>"Median"),IFERROR(VLOOKUP(A62,'TA Total'!A:P,16,0),"."),".") -> .
A63: =G63&"|"&I63&"|"&M63 -> 2018|Far North District|Median ($) - total household income | B63: DATAFLOW | C63: STATSNZ:CEN23_HOU_001(1.0) | D63: Access to basic amenities, total household income, and tenure of household for households in occupied private dwellings, (RC, TALB, SA2, Health), 2018 and 2023 Censuses | E63: I | F63: 2018 | G63: 2018 | H63: 1 | I63: Far North District | J63: 99 | K63: Total - access to basic amenities | L63: Median | M63: Median ($) - total household income | N63: 9999 | O63: Total - tenure of household | P63: 51400 | T63: =IF(AND(R63<>"_U",R63<>"c",N63<>999,N63<>9999,L63<>"Median"),IFERROR((ROUND(P63/U63*100,2)),"."),".") -> . | U63: =IF(AND(R63<>"_U",N63<>9999,N63<>999,L63<>"Median"),IFERROR(VLOOKUP(A63,'TA Total'!A:P,16,0),"."),".") -> .
A64: =G64&"|"&I64&"|"&M64 -> 2018|Far North District|Median ($) - total household income | B64: DATAFLOW | C64: STATSNZ:CEN23_HOU_001(1.0) | D64: Access to basic amenities, total household income, and tenure of household for households in occupied private dwellings, (RC, TALB, SA2, Health), 2018 and 2023 Censuses | E64: I | F64: 2018 | G64: 2018 | H64: 1 | I64: Far North District | J64: 99 | K64: Total - access to basic amenities | L64: Median | M64: Median ($) - total household income | N64: 7777 | O64: Total stated - tenure of household | P64: 51400 | T64: =IF(AND(R64<>"_U",R64<>"c",N64<>999,N64<>9999,L64<>"Median"),IFERROR((ROUND(P64/U64*100,2)),"."),".") -> . | U64: =IF(AND(R64<>"_U",N64<>9999,N64<>999,L64<>"Median"),IFERROR(VLOOKUP(A64,'TA Total'!A:P,16,0),"."),".") -> .
A65: =G65&"|"&I65&"|"&M65 -> 2018|Far North District|Median ($) - total household income | B65: DATAFLOW | C65: STATSNZ:CEN23_HOU_001(1.0) | D65: Access to basic amenities, total household income, and tenure of household for households in occupied private dwellings, (RC, TALB, SA2, Health), 2018 and 2023 Censuses | E65: I | F65: 2018 | G65: 2018 | H65: 1 | I65: Far North District | J65: 99 | K65: Total - access to basic amenities | L65: Median | M65: Median ($) - total household income | N65: 999 | O65: Not elsewhere included | R65: c | S65: Confidential | T65: =IF(AND(R65<>"_U",R65<>"c",N65<>999,N65<>9999,L65<>"Median"),IFERROR((ROUND(P65/U65*100,2)),"."),".") -> . | U65: =IF(AND(R65<>"_U",N65<>9999,N65<>999,L65<>"Median"),IFERROR(VLOOKUP(A65,'TA Total'!A:P,16,0),"."),".") -> .
A66: =G66&"|"&I66&"|"&M66 -> 2018|Far North District|Median ($) - total household income | B66: DATAFLOW | C66: STATSNZ:CEN23_HOU_001(1.0) | D66: Access to basic amenities, total household income, and tenure of household for households in occupied private dwellings, (RC, TALB, SA2, Health), 2018 and 2023 Censuses | E66: I | F66: 2018 | G66: 2018 | H66: 1 | I66: Far North District | J66: 99 | K66: Total - access to basic amenities | L66: Median | M66: Median ($) - total household income | N66: 3 | O66: Dwelling held in a family trust | P66: 62200 | T66: =IF(AND(R66<>"_U",R66<>"c",N66<>999,N66<>9999,L66<>"Median"),IFERROR((ROUND(P66/U66*100,2)),"."),".") -> . | U66: =IF(AND(R66<>"_U",N66<>9999,N66<>999,L66<>"Median"),IFERROR(VLOOKUP(A66,'TA Total'!A:P,16,0),"."),".") -> .
A67: =G67&"|"&I67&"|"&M67 -> 2018|Far North District|Median ($) - total household income | B67: DATAFLOW | C67: STATSNZ:CEN23_HOU_001(1.0) | D67: Access to basic amenities, total household income, and tenure of household for households in occupied private dwellings, (RC, TALB, SA2, Health), 2018 and 2023 Censuses | E67: I | F67: 2018 | G67: 2018 | H67: 1 | I67: Far North District | J67: 99 | K67: Total - access to basic amenities | L67: Median | M67: Median ($) - total household income | N67: 2 | O67: Dwelling not owned and not held in a family trust | P67: 39900 | T67: =IF(AND(R67<>"_U",R67<>"c",N67<>999,N67<>9999,L67<>"Median"),IFERROR((ROUND(P67/U67*100,2)),"."),".") -> . | U67: =IF(AND(R67<>"_U",N67<>9999,N67<>999,L67<>"Median"),IFERROR(VLOOKUP(A67,'TA Total'!A:P,16,0),"."),".") -> .
A68: =G68&"|"&I68&"|"&M68 -> 2018|Whangarei District|$20,000 or less | B68: DATAFLOW | C68: STATSNZ:CEN23_HOU_001(1.0) | D68: Access to basic amenities, total household income, and tenure of household for households in occupied private dwellings, (RC, TALB, SA2, Health), 2018 and 2023 Censuses | E68: I | F68: 2018 | G68: 2018 | H68: 2 | I68: Whangarei District | J68: 99 | K68: Total - access to basic amenities | L68: 1 | M68: $20,000 or less | N68: 7777 | O68: Total stated - tenure of household | P68: 3312 | T68: =IF(AND(R68<>"_U",R68<>"c",N68<>999,N68<>9999,L68<>"Median"),IFERROR((ROUND(P68/U68*100,2)),"."),".") -> 100 | U68: =IF(AND(R68<>"_U",N68<>9999,N68<>999,L68<>"Median"),IFERROR(VLOOKUP(A68,'TA Total'!A:P,16,0),"."),".") -> 3312
A69: =G69&"|"&I69&"|"&M69 -> 2018|Whangarei District|$20,000 or less | B69: DATAFLOW | C69: STATSNZ:CEN23_HOU_001(1.0) | D69: Access to basic amenities, total household income, and tenure of household for households in occupied private dwellings, (RC, TALB, SA2, Health), 2018 and 2023 Censuses | E69: I | F69: 2018 | G69: 2018 | H69: 2 | I69: Whangarei District | J69: 99 | K69: Total - access to basic amenities | L69: 1 | M69: $20,000 or less | N69: 3 | O69: Dwelling held in a family trust | P69: 285 | T69: =IF(AND(R69<>"_U",R69<>"c",N69<>999,N69<>9999,L69<>"Median"),IFERROR((ROUND(P69/U69*100,2)),"."),".") -> 8.61 | U69: =IF(AND(R69<>"_U",N69<>9999,N69<>999,L69<>"Median"),IFERROR(VLOOKUP(A69,'TA Total'!A:P,16,0),"."),".") -> 3312
A70: =G70&"|"&I70&"|"&M70 -> 2018|Whangarei District|$20,000 or less | B70: DATAFLOW | C70: STATSNZ:CEN23_HOU_001(1.0) | D70: Access to basic amenities, total household income, and tenure of household for households in occupied private dwellings, (RC, TALB, SA2, Health), 2018 and 2023 Censuses | E70: I | F70: 2018 | G70: 2018 | H70: 2 | I70: Whangarei District | J70: 99 | K70: Total - access to basic amenities | L70: 1 | M70: $20,000 or less | N70: 999 | O70: Not elsewhere included | P70: 3 | T70: =IF(AND(R70<>"_U",R70<>"c",N70<>999,N70<>9999,L70<>"Median"),IFERROR((ROUND(P70/U70*100,2)),"."),".") -> . | U70: =IF(AND(R70<>"_U",N70<>9999,N70<>999,L70<>"Median"),IFERROR(VLOOKUP(A70,'TA Total'!A:P,16,0),"."),".") -> .
A71: =G71&"|"&I71&"|"&M71 -> 2018|Whangarei District|$20,000 or less | B71: DATAFLOW | C71: STATSNZ:CEN23_HOU_001(1.0) | D71: Access to basic amenities, total household income, and tenure of household for households in occupied private dwellings, (RC, TALB, SA2, Health), 2018 and 2023 Censuses | E71: I | F71: 2018 | G71: 2018 | H71: 2 | I71: Whangarei District | J71: 99 | K71: Total - access to basic amenities | L71: 1 | M71: $20,000 or less | N71: 9999 | O71: Total - tenure of household | P71: 3312 | T71: =IF(AND(R71<>"_U",R71<>"c",N71<>999,N71<>9999,L71<>"Median"),IFERROR((ROUND(P71/U71*100,2)),"."),".") -> . | U71: =IF(AND(R71<>"_U",N71<>9999,N71<>999,L71<>"Median"),IFERROR(VLOOKUP(A71,'TA Total'!A:P,16,0),"."),".") -> .
A72: =G72&"|"&I72&"|"&M72 -> 2018|Whangarei District|$20,000 or less | B72: DATAFLOW | C72: STATSNZ:CEN23_HOU_001(1.0) | D72: Access to basic amenities, total household income, and tenure of household for households in occupied private dwellings, (RC, TALB, SA2, Health), 2018 and 2023 Censuses | E72: I | F72: 2018 | G72: 2018 | H72: 2 | I72: Whangarei District | J72: 99 | K72: Total - access to basic amenities | L72: 1 | M72: $20,000 or less | N72: 1 | O72: Dwelling owned or partly owned | P72: 1230 | T72: =IF(AND(R72<>"_U",R72<>"c",N72<>999,N72<>9999,L72<>"Median"),IFERROR((ROUND(P72/U72*100,2)),"."),".") -> 37.14 | U72: =IF(AND(R72<>"_U",N72<>9999,N72<>999,L72<>"Median"),IFERROR(VLOOKUP(A72,'TA Total'!A:P,16,0),"."),".") -> 3312
A73: =G73&"|"&I73&"|"&M73 -> 2018|Whangarei District|$20,000 or less | B73: DATAFLOW | C73: STATSNZ:CEN23_HOU_001(1.0) | D73: Access to basic amenities, total household income, and tenure of household for households in occupied private dwellings, (RC, TALB, SA2, Health), 2018 and 2023 Censuses | E73: I | F73: 2018 | G73: 2018 | H73: 2 | I73: Whangarei District | J73: 99 | K73: Total - access to basic amenities | L73: 1 | M73: $20,000 or less | N73: 2 | O73: Dwelling not owned and not held in a family trust | P73: 1797 | T73: =IF(AND(R73<>"_U",R73<>"c",N73<>999,N73<>9999,L73<>"Median"),IFERROR((ROUND(P73/U73*100,2)),"."),".") -> 54.26 | U73: =IF(AND(R73<>"_U",N73<>9999,N73<>999,L73<>"Median"),IFERROR(VLOOKUP(A73,'TA Total'!A:P,16,0),"."),".") -> 3312
A74: =G74&"|"&I74&"|"&M74 -> 2018|Whangarei District|$20,001-$30,000 | B74: DATAFLOW | C74: STATSNZ:CEN23_HOU_001(1.0) | D74: Access to basic amenities, total household income, and tenure of household for households in occupied private dwellings, (RC, TALB, SA2, Health), 2018 and 2023 Censuses | E74: I | F74: 2018 | G74: 2018 | H74: 2 | I74: Whangarei District | J74: 99 | K74: Total - access to basic amenities | L74: 2 | M74: $20,001-$30,000 | N74: 2 | O74: Dwelling not owned and not held in a family trust | P74: 1431 | T74: =IF(AND(R74<>"_U",R74<>"c",N74<>999,N74<>9999,L74<>"Median"),IFERROR((ROUND(P74/U74*100,2)),"."),".") -> 38.31 | U74: =IF(AND(R74<>"_U",N74<>9999,N74<>999,L74<>"Median"),IFERROR(VLOOKUP(A74,'TA Total'!A:P,16,0),"."),".") -> 3735
A75: =G75&"|"&I75&"|"&M75 -> 2018|Whangarei District|$20,001-$30,000 | B75: DATAFLOW | C75: STATSNZ:CEN23_HOU_001(1.0) | D75: Access to basic amenities, total household income, and tenure of household for households in occupied private dwellings, (RC, TALB, SA2, Health), 2018 and 2023 Censuses | E75: I | F75: 2018 | G75: 2018 | H75: 2 | I75: Whangarei District | J75: 99 | K75: Total - access to basic amenities | L75: 2 | M75: $20,001-$30,000 | N75: 3 | O75: Dwelling held in a family trust | P75: 417 | T75: =IF(AND(R75<>"_U",R75<>"c",N75<>999,N75<>9999,L75<>"Median"),IFERROR((ROUND(P75/U75*100,2)),"."),".") -> 11.16 | U75: =IF(AND(R75<>"_U",N75<>9999,N75<>999,L75<>"Median"),IFERROR(VLOOKUP(A75,'TA Total'!A:P,16,0),"."),".") -> 3735
A76: =G76&"|"&I76&"|"&M76 -> 2018|Whangarei District|$20,001-$30,000 | B76: DATAFLOW | C76: STATSNZ:CEN23_HOU_001(1.0) | D76: Access to basic amenities, total household income, and tenure of household for households in occupied private dwellings, (RC, TALB, SA2, Health), 2018 and 2023 Censuses | E76: I | F76: 2018 | G76: 2018 | H76: 2 | I76: Whangarei District | J76: 99 | K76: Total - access to basic amenities | L76: 2 | M76: $20,001-$30,000 | N76: 7777 | O76: Total stated - tenure of household | P76: 3735 | T76: =IF(AND(R76<>"_U",R76<>"c",N76<>999,N76<>9999,L76<>"Median"),IFERROR((ROUND(P76/U76*100,2)),"."),".") -> 100 | U76: =IF(AND(R76<>"_U",N76<>9999,N76<>999,L76<>"Median"),IFERROR(VLOOKUP(A76,'TA Total'!A:P,16,0),"."),".") -> 3735
A77: =G77&"|"&I77&"|"&M77 -> 2018|Whangarei District|$20,001-$30,000 | B77: DATAFLOW | C77: STATSNZ:CEN23_HOU_001(1.0) | D77: Access to basic amenities, total household income, and tenure of household for households in occupied private dwellings, (RC, TALB, SA2, Health), 2018 and 2023 Censuses | E77: I | F77: 2018 | G77: 2018 | H77: 2 | I77: Whangarei District | J77: 99 | K77: Total - access to basic amenities | L77: 2 | M77: $20,001-$30,000 | N77: 999 | O77: Not elsewhere included | P77: 0 | T77: =IF(AND(R77<>"_U",R77<>"c",N77<>999,N77<>9999,L77<>"Median"),IFERROR((ROUND(P77/U77*100,2)),"."),".") -> . | U77: =IF(AND(R77<>"_U",N77<>9999,N77<>999,L77<>"Median"),IFERROR(VLOOKUP(A77,'TA Total'!A:P,16,0),"."),".") -> .
A78: =G78&"|"&I78&"|"&M78 -> 2018|Whangarei District|$20,001-$30,000 | B78: DATAFLOW | C78: STATSNZ:CEN23_HOU_001(1.0) | D78: Access to basic amenities, total household income, and tenure of household for households in occupied private dwellings, (RC, TALB, SA2, Health), 2018 and 2023 Censuses | E78: I | F78: 2018 | G78: 2018 | H78: 2 | I78: Whangarei District | J78: 99 | K78: Total - access to basic amenities | L78: 2 | M78: $20,001-$30,000 | N78: 9999 | O78: Total - tenure of household | P78: 3735 | T78: =IF(AND(R78<>"_U",R78<>"c",N78<>999,N78<>9999,L78<>"Median"),IFERROR((ROUND(P78/U78*100,2)),"."),".") -> . | U78: =IF(AND(R78<>"_U",N78<>9999,N78<>999,L78<>"Median"),IFERROR(VLOOKUP(A78,'TA Total'!A:P,16,0),"."),".") -> .
A79: =G79&"|"&I79&"|"&M79 -> 2018|Whangarei District|$20,001-$30,000 | B79: DATAFLOW | C79: STATSNZ:CEN23_HOU_001(1.0) | D79: Access to basic amenities, total household income, and tenure of household for households in occupied private dwellings, (RC, TALB, SA2, Health), 2018 and 2023 Censuses | E79: I | F79: 2018 | G79: 2018 | H79: 2 | I79: Whangarei District | J79: 99 | K79: Total - access to basic amenities | L79: 2 | M79: $20,001-$30,000 | N79: 1 | O79: Dwelling owned or partly owned | P79: 1887 | T79: =IF(AND(R79<>"_U",R79<>"c",N79<>999,N79<>9999,L79<>"Median"),IFERROR((ROUND(P79/U79*100,2)),"."),".") -> 50.52 | U79: =IF(AND(R79<>"_U",N79<>9999,N79<>999,L79<>"Median"),IFERROR(VLOOKUP(A79,'TA Total'!A:P,16,0),"."),".") -> 3735
... A109: =G109&"|"&I109&"|"&M109 -> 2018|Whangarei District|$150,001-$200,000 | B109: DATAFLOW | C109: STATSNZ:CEN23_HOU_001(1.0) | D109: Access to basic amenities, total household income, and tenure of household for households in occupied private dwellings, (RC, TALB, SA2, Health), 2018 and 2023 Censuses | E109: I | F109: 2018 | G109: 2018 | H109: 2 | I109: Whangarei District | J109: 99 | K109: Total - access to basic amenities | L109: 7 | M109: $150,001-$200,000 | N109: 2 | O109: Dwelling not owned and not held in a family trust | P109: 474 | T109: =IF(AND(R109<>"_U",R109<>"c",N109<>999,N109<>9999,L109<>"Median"),IFERROR((ROUND(P109/U109*100,2)),"."),".") -> 13.55 | U109: =IF(AND(R109<>"_U",N109<>9999,N109<>999,L109<>"Median"),IFERROR(VLOOKUP(A109,'TA Total'!A:P,16,0),"."),".") -> 3498
A110: =G110&"|"&I110&"|"&M110 -> 2018|Whangarei District|$200,001 or more | B110: DATAFLOW | C110: STATSNZ:CEN23_HOU_001(1.0) | D110: Access to basic amenities, total household income, and tenure of household for households in occupied private dwellings, (RC, TALB, SA2, Health), 2018 and 2023 Censuses | E110: I | F110: 2018 | G110: 2018 | H110: 2 | I110: Whangarei District | J110: 99 | K110: Total - access to basic amenities | L110: 8 | M110: $200,001 or more | N110: 9999 | O110: Total - tenure of household | R110: _U | S110: Not available | T110: =IF(AND(R110<>"_U",R110<>"c",N110<>999,N110<>9999,L110<>"Median"),IFERROR((ROUND(P110/U110*100,2)),"."),".") -> . | U110: =IF(AND(R110<>"_U",N110<>9999,N110<>999,L110<>"Median"),IFERROR(VLOOKUP(A110,'TA Total'!A:P,16,0),"."),".") -> .
A111: =G111&"|"&I111&"|"&M111 -> 2018|Whangarei District|$200,001 or more | B111: DATAFLOW | C111: STATSNZ:CEN23_HOU_001(1.0) | D111: Access to basic amenities, total household income, and tenure of household for households in occupied private dwellings, (RC, TALB, SA2, Health), 2018 and 2023 Censuses | E111: I | F111: 2018 | G111: 2018 | H111: 2 | I111: Whangarei District | J111: 99 | K111: Total - access to basic amenities | L111: 8 | M111: $200,001 or more | N111: 3 | O111: Dwelling held in a family trust | R111: _U | S111: Not available | T111: =IF(AND(R111<>"_U",R111<>"c",N111<>999,N111<>9999,L111<>"Median"),IFERROR((ROUND(P111/U111*100,2)),"."),".") -> . | U111: =IF(AND(R111<>"_U",N111<>9999,N111<>999,L111<>"Median"),IFERROR(VLOOKUP(A111,'TA Total'!A:P,16,0),"."),".") -> .
A112: =G112&"|"&I112&"|"&M112 -> 2018|Whangarei District|$200,001 or more | B112: DATAFLOW | C112: STATSNZ:CEN23_HOU_001(1.0) | D112: Access to basic amenities, total household income, and tenure of household for households in occupied private dwellings, (RC, TALB, SA2, Health), 2018 and 2023 Censuses | E112: I | F112: 2018 | G112: 2018 | H112: 2 | I112: Whangarei District | J112: 99 | K112: Total - access to basic amenities | L112: 8 | M112: $200,001 or more | N112: 2 | O112: Dwelling not owned and not held in a family trust | R112: _U | S112: Not available | T112: =IF(AND(R112<>"_U",R112<>"c",N112<>999,N112<>9999,L112<>"Median"),IFERROR((ROUND(P112/U112*100,2)),"."),".") -> . | U112: =IF(AND(R112<>"_U",N112<>9999,N112<>999,L112<>"Median"),IFERROR(VLOOKUP(A112,'TA Total'!A:P,16,0),"."),".") -> .
A113: =G113&"|"&I113&"|"&M113 -> 2018|Whangarei District|$200,001 or more | B113: DATAFLOW | C113: STATSNZ:CEN23_HOU_001(1.0) | D113: Access to basic amenities, total household income, and tenure of household for households in occupied private dwellings, (RC, TALB, SA2, Health), 2018 and 2023 Censuses | E113: I | F113: 2018 | G113: 2018 | H113: 2 | I113: Whangarei District | J113: 99 | K113: Total - access to basic amenities | L113: 8 | M113: $200,001 or more | N113: 7777 | O113: Total stated - tenure of household | R113: _U | S113: Not available | T113: =IF(AND(R113<>"_U",R113<>"c",N113<>999,N113<>9999,L113<>"Median"),IFERROR((ROUND(P113/U113*100,2)),"."),".") -> . | U113: =IF(AND(R113<>"_U",N113<>9999,N113<>999,L113<>"Median"),IFERROR(VLOOKUP(A113,'TA Total'!A:P,16,0),"."),".") -> .
A114: =G114&"|"&I114&"|"&M114 -> 2018|Whangarei District|$200,001 or more | B114: DATAFLOW | C114: STATSNZ:CEN23_HOU_001(1.0) | D114: Access to basic amenities, total household income, and tenure of household for households in occupied private dwellings, (RC, TALB, SA2, Health), 2018 and 2023 Censuses | E114: I | F114: 2018 | G114: 2018 | H114: 2 | I114: Whangarei District | J114: 99 | K114: Total - access to basic amenities | L114: 8 | M114: $200,001 or more | N114: 1 | O114: Dwelling owned or partly owned | R114: _U | S114: Not available | T114: =IF(AND(R114<>"_U",R114<>"c",N114<>999,N114<>9999,L114<>"Median"),IFERROR((ROUND(P114/U114*100,2)),"."),".") -> . | U114: =IF(AND(R114<>"_U",N114<>9999,N114<>999,L114<>"Median"),IFERROR(VLOOKUP(A114,'TA Total'!A:P,16,0),"."),".") -> .
A115: =G115&"|"&I115&"|"&M115 -> 2018|Whangarei District|$200,001 or more | B115: DATAFLOW | C115: STATSNZ:CEN23_HOU_001(1.0) | D115: Access to basic amenities, total household income, and tenure of household for households in occupied private dwellings, (RC, TALB, SA2, Health), 2018 and 2023 Censuses | E115: I | F115: 2018 | G115: 2018 | H115: 2 | I115: Whangarei District | J115: 99 | K115: Total - access to basic amenities | L115: 8 | M115: $200,001 or more | N115: 999 | O115: Not elsewhere included | R115: _U | S115: Not available | T115: =IF(AND(R115<>"_U",R115<>"c",N115<>999,N115<>9999,L115<>"Median"),IFERROR((ROUND(P115/U115*100,2)),"."),".") -> . | U115: =IF(AND(R115<>"_U",N115<>9999,N115<>999,L115<>"Median"),IFERROR(VLOOKUP(A115,'TA Total'!A:P,16,0),"."),".") -> .
A116: =G116&"|"&I116&"|"&M116 -> 2018|Whangarei District|Total stated - total household income | B116: DATAFLOW | C116: STATSNZ:CEN23_HOU_001(1.0) | D116: Access to basic amenities, total household income, and tenure of household for households in occupied private dwellings, (RC, TALB, SA2, Health), 2018 and 2023 Censuses | E116: I | F116: 2018 | G116: 2018 | H116: 2 | I116: Whangarei District | J116: 99 | K116: Total - access to basic amenities | L116: 77 | M116: Total stated - total household income | N116: 3 | O116: Dwelling held in a family trust | P116: 4050 | T116: =IF(AND(R116<>"_U",R116<>"c",N116<>999,N116<>9999,L116<>"Median"),IFERROR((ROUND(P116/U116*100,2)),"."),".") -> 13.36 | U116: =IF(AND(R116<>"_U",N116<>9999,N116<>999,L116<>"Median"),IFERROR(VLOOKUP(A116,'TA Total'!A:P,16,0),"."),".") -> 30309
A117: =G117&"|"&I117&"|"&M117 -> 2018|Whangarei District|Total stated - total household income | B117: DATAFLOW | C117: STATSNZ:CEN23_HOU_001(1.0) | D117: Access to basic amenities, total household income, and tenure of household for households in occupied private dwellings, (RC, TALB, SA2, Health), 2018 and 2023 Censuses | E117: I | F117: 2018 | G117: 2018 | H117: 2 | I117: Whangarei District | J117: 99 | K117: Total - access to basic amenities | L117: 77 | M117: Total stated - total household income | N117: 7777 | O117: Total stated - tenure of household | P117: 30309 | T117: =IF(AND(R117<>"_U",R117<>"c",N117<>999,N117<>9999,L117<>"Median"),IFERROR((ROUND(P117/U117*100,2)),"."),".") -> 100 | U117: =IF(AND(R117<>"_U",N117<>9999,N117<>999,L117<>"Median"),IFERROR(VLOOKUP(A117,'TA Total'!A:P,16,0),"."),".") -> 30309
A118: =G118&"|"&I118&"|"&M118 -> 2018|Whangarei District|Total stated - total household income | B118: DATAFLOW | C118: STATSNZ:CEN23_HOU_001(1.0) | D118: Access to basic amenities, total household income, and tenure of household for households in occupied private dwellings, (RC, TALB, SA2, Health), 2018 and 2023 Censuses | E118: I | F118: 2018 | G118: 2018 | H118: 2 | I118: Whangarei District | J118: 99 | K118: Total - access to basic amenities | L118: 77 | M118: Total stated - total household income | N118: 2 | O118: Dwelling not owned and not held in a family trust | P118: 9648 | T118: =IF(AND(R118<>"_U",R118<>"c",N118<>999,N118<>9999,L118<>"Median"),IFERROR((ROUND(P118/U118*100,2)),"."),".") -> 31.83 | U118: =IF(AND(R118<>"_U",N118<>9999,N118<>999,L118<>"Median"),IFERROR(VLOOKUP(A118,'TA Total'!A:P,16,0),"."),".") -> 30309
A119: =G119&"|"&I119&"|"&M119 -> 2018|Whangarei District|Total stated - total household income | B119: DATAFLOW | C119: STATSNZ:CEN23_HOU_001(1.0) | D119: Access to basic amenities, total household income, and tenure of household for households in occupied private dwellings, (RC, TALB, SA2, Health), 2018 and 2023 Censuses | E119: I | F119: 2018 | G119: 2018 | H119: 2 | I119: Whangarei District | J119: 99 | K119: Total - access to basic amenities | L119: 77 | M119: Total stated - total household income | N119: 999 | O119: Not elsewhere included | P119: 3 | T119: =IF(AND(R119<>"_U",R119<>"c",N119<>999,N119<>9999,L119<>"Median"),IFERROR((ROUND(P119/U119*100,2)),"."),".") -> . | U119: =IF(AND(R119<>"_U",N119<>9999,N119<>999,L119<>"Median"),IFERROR(VLOOKUP(A119,'TA Total'!A:P,16,0),"."),".") -> .
A120: =G120&"|"&I120&"|"&M120 -> 2018|Whangarei District|Total stated - total household income | B120: DATAFLOW | C120: STATSNZ:CEN23_HOU_001(1.0) | D120: Access to basic amenities, total household income, and tenure of household for households in occupied private dwellings, (RC, TALB, SA2, Health), 2018 and 2023 Censuses | E120: I | F120: 2018 | G120: 2018 | H120: 2 | I120: Whangarei District | J120: 99 | K120: Total - access to basic amenities | L120: 77 | M120: Total stated - total household income | N120: 1 | O120: Dwelling owned or partly owned | P120: 16611 | T120: =IF(AND(R120<>"_U",R120<>"c",N120<>999,N120<>9999,L120<>"Median"),IFERROR((ROUND(P120/U120*100,2)),"."),".") -> 54.81 | U120: =IF(AND(R120<>"_U",N120<>9999,N120<>999,L120<>"Median"),IFERROR(VLOOKUP(A120,'TA Total'!A:P,16,0),"."),".") -> 30309
A121: =G121&"|"&I121&"|"&M121 -> 2018|Whangarei District|Total stated - total household income | B121: DATAFLOW | C121: STATSNZ:CEN23_HOU_001(1.0) | D121: Access to basic amenities, total household income, and tenure of household for households in occupied private dwellings, (RC, TALB, SA2, Health), 2018 and 2023 Censuses | E121: I | F121: 2018 | G121: 2018 | H121: 2 | I121: Whangarei District | J121: 99 | K121: Total - access to basic amenities | L121: 77 | M121: Total stated - total household income | N121: 9999 | O121: Total - tenure of household | P121: 30309 | T121: =IF(AND(R121<>"_U",R121<>"c",N121<>999,N121<>9999,L121<>"Median"),IFERROR((ROUND(P121/U121*100,2)),"."),".") -> . | U121: =IF(AND(R121<>"_U",N121<>9999,N121<>999,L121<>"Median"),IFERROR(VLOOKUP(A121,'TA Total'!A:P,16,0),"."),".") -> .
A122: =G122&"|"&I122&"|"&M122 -> 2018|Whangarei District|Total - total household income | B122: DATAFLOW | C122: STATSNZ:CEN23_HOU_001(1.0) | D122: Access to basic amenities, total household income, and tenure of household for households in occupied private dwellings, (RC, TALB, SA2, Health), 2018 and 2023 Censuses | E122: I | F122: 2018 | G122: 2018 | H122: 2 | I122: Whangarei District | J122: 99 | K122: Total - access to basic amenities | L122: 99 | M122: Total - total household income | N122: 2 | O122: Dwelling not owned and not held in a family trust | P122: 10617 | T122: =IF(AND(R122<>"_U",R122<>"c",N122<>999,N122<>9999,L122<>"Median"),IFERROR((ROUND(P122/U122*100,2)),"."),".") -> 32.46 | U122: =IF(AND(R122<>"_U",N122<>9999,N122<>999,L122<>"Median"),IFERROR(VLOOKUP(A122,'TA Total'!A:P,16,0),"."),".") -> 32709
A123: =G123&"|"&I123&"|"&M123 -> 2018|Whangarei District|Total - total household income | B123: DATAFLOW | C123: STATSNZ:CEN23_HOU_001(1.0) | D123: Access to basic amenities, total household income, and tenure of household for households in occupied private dwellings, (RC, TALB, SA2, Health), 2018 and 2023 Censuses | E123: I | F123: 2018 | G123: 2018 | H123: 2 | I123: Whangarei District | J123: 99 | K123: Total - access to basic amenities | L123: 99 | M123: Total - total household income | N123: 7777 | O123: Total stated - tenure of household | P123: 32709 | T123: =IF(AND(R123<>"_U",R123<>"c",N123<>999,N123<>9999,L123<>"Median"),IFERROR((ROUND(P123/U123*100,2)),"."),".") -> 100 | U123: =IF(AND(R123<>"_U",N123<>9999,N123<>999,L123<>"Median"),IFERROR(VLOOKUP(A123,'TA Total'!A:P,16,0),"."),".") -> 32709
A124: =G124&"|"&I124&"|"&M124 -> 2018|Whangarei District|Total - total household income | B124: DATAFLOW | C124: STATSNZ:CEN23_HOU_001(1.0) | D124: Access to basic amenities, total household income, and tenure of household for households in occupied private dwellings, (RC, TALB, SA2, Health), 2018 and 2023 Censuses | E124: I | F124: 2018 | G124: 2018 | H124: 2 | I124: Whangarei District | J124: 99 | K124: Total - access to basic amenities | L124: 99 | M124: Total - total household income | N124: 3 | O124: Dwelling held in a family trust | P124: 4344 | T124: =IF(AND(R124<>"_U",R124<>"c",N124<>999,N124<>9999,L124<>"Median"),IFERROR((ROUND(P124/U124*100,2)),"."),".") -> 13.28 | U124: =IF(AND(R124<>"_U",N124<>9999,N124<>999,L124<>"Median"),IFERROR(VLOOKUP(A124,'TA Total'!A:P,16,0),"."),".") -> 32709
A125: =G125&"|"&I125&"|"&M125 -> 2018|Whangarei District|Total - total household income | B125: DATAFLOW | C125: STATSNZ:CEN23_HOU_001(1.0) | D125: Access to basic amenities, total household income, and tenure of household for households in occupied private dwellings, (RC, TALB, SA2, Health), 2018 and 2023 Censuses | E125: I | F125: 2018 | G125: 2018 | H125: 2 | I125: Whangarei District | J125: 99 | K125: Total - access to basic amenities | L125: 99 | M125: Total - total household income | N125: 9999 | O125: Total - tenure of household | P125: 32745 | T125: =IF(AND(R125<>"_U",R125<>"c",N125<>999,N125<>9999,L125<>"Median"),IFERROR((ROUND(P125/U125*100,2)),"."),".") -> . | U125: =IF(AND(R125<>"_U",N125<>9999,N125<>999,L125<>"Median"),IFERROR(VLOOKUP(A125,'TA Total'!A:P,16,0),"."),".") -> .
A126: =G126&"|"&I126&"|"&M126 -> 2018|Whangarei District|Total - total household income | B126: DATAFLOW | C126: STATSNZ:CEN23_HOU_001(1.0) | D126: Access to basic amenities, total household income, and tenure of household for households in occupied private dwellings, (RC, TALB, SA2, Health), 2018 and 2023 Censuses | E126: I | F126: 2018 | G126: 2018 | H126: 2 | I126: Whangarei District | J126: 99 | K126: Total - access to basic amenities | L126: 99 | M126: Total - total household income | N126: 1 | O126: Dwelling owned or partly owned | P126: 17748 | T126: =IF(AND(R126<>"_U",R126<>"c",N126<>999,N126<>9999,L126<>"Median"),IFERROR((ROUND(P126/U126*100,2)),"."),".") -> 54.26 | U126: =IF(AND(R126<>"_U",N126<>9999,N126<>999,L126<>"Median"),IFERROR(VLOOKUP(A126,'TA Total'!A:P,16,0),"."),".") -> 32709
A127: =G127&"|"&I127&"|"&M127 -> 2018|Whangarei District|Total - total household income | B127: DATAFLOW | C127: STATSNZ:CEN23_HOU_001(1.0) | D127: Access to basic amenities, total household income, and tenure of household for households in occupied private dwellings, (RC, TALB, SA2, Health), 2018 and 2023 Censuses | E127: I | F127: 2018 | G127: 2018 | H127: 2 | I127: Whangarei District | J127: 99 | K127: Total - access to basic amenities | L127: 99 | M127: Total - total household income | N127: 999 | O127: Not elsewhere included | P127: 36 | T127: =IF(AND(R127<>"_U",R127<>"c",N127<>999,N127<>9999,L127<>"Median"),IFERROR((ROUND(P127/U127*100,2)),"."),".") -> . | U127: =IF(AND(R127<>"_U",N127<>9999,N127<>999,L127<>"Median"),IFERROR(VLOOKUP(A127,'TA Total'!A:P,16,0),"."),".") -> .
A128: =G128&"|"&I128&"|"&M128 -> 2018|Whangarei District|Median ($) - total household income | B128: DATAFLOW | C128: STATSNZ:CEN23_HOU_001(1.0) | D128: Access to basic amenities, total household income, and tenure of household for households in occupied private dwellings, (RC, TALB, SA2, Health), 2018 and 2023 Censuses | E128: I | F128: 2018 | G128: 2018 | H128: 2 | I128: Whangarei District | J128: 99 | K128: Total - access to basic amenities | L128: Median | M128: Median ($) - total household income | N128: 999 | O128: Not elsewhere included | P128: 17900 | T128: =IF(AND(R128<>"_U",R128<>"c",N128<>999,N128<>9999,L128<>"Median"),IFERROR((ROUND(P128/U128*100,2)),"."),".") -> . | U128: =IF(AND(R128<>"_U",N128<>9999,N128<>999,L128<>"Median"),IFERROR(VLOOKUP(A128,'TA Total'!A:P,16,0),"."),".") -> .
A129: =G129&"|"&I129&"|"&M129 -> 2018|Whangarei District|Median ($) - total household income | B129: DATAFLOW | C129: STATSNZ:CEN23_HOU_001(1.0) | D129: Access to basic amenities, total household income, and tenure of household for households in occupied private dwellings, (RC, TALB, SA2, Health), 2018 and 2023 Censuses | E129: I | F129: 2018 | G129: 2018 | H129: 2 | I129: Whangarei District | J129: 99 | K129: Total - access to basic amenities | L129: Median | M129: Median ($) - total household income | N129: 3 | O129: Dwelling held in a family trust | P129: 73000 | T129: =IF(AND(R129<>"_U",R129<>"c",N129<>999,N129<>9999,L129<>"Median"),IFERROR((ROUND(P129/U129*100,2)),"."),".") -> . | U129: =IF(AND(R129<>"_U",N129<>9999,N129<>999,L129<>"Median"),IFERROR(VLOOKUP(A129,'TA Total'!A:P,16,0),"."),".") -> .
A130: =G130&"|"&I130&"|"&M130 -> 2018|Whangarei District|Median ($) - total household income | B130: DATAFLOW | C130: STATSNZ:CEN23_HOU_001(1.0) | D130: Access to basic amenities, total household income, and tenure of household for households in occupied private dwellings, (RC, TALB, SA2, Health), 2018 and 2023 Censuses | E130: I | F130: 2018 | G130: 2018 | H130: 2 | I130: Whangarei District | J130: 99 | K130: Total - access to basic amenities | L130: Median | M130: Median ($) - total household income | N130: 2 | O130: Dwelling not owned and not held in a family trust | P130: 46500 | T130: =IF(AND(R130<>"_U",R130<>"c",N130<>999,N130<>9999,L130<>"Median"),IFERROR((ROUND(P130/U130*100,2)),"."),".") -> . | U130: =IF(AND(R130<>"_U",N130<>9999,N130<>999,L130<>"Median"),IFERROR(VLOOKUP(A130,'TA Total'!A:P,16,0),"."),".") -> .
A131: =G131&"|"&I131&"|"&M131 -> 2018|Whangarei District|Median ($) - total household income | B131: DATAFLOW | C131: STATSNZ:CEN23_HOU_001(1.0) | D131: Access to basic amenities, total household income, and tenure of household for households in occupied private dwellings, (RC, TALB, SA2, Health), 2018 and 2023 Censuses | E131: I | F131: 2018 | G131: 2018 | H131: 2 | I131: Whangarei District | J131: 99 | K131: Total - access to basic amenities | L131: Median | M131: Median ($) - total household income | N131: 1 | O131: Dwelling owned or partly owned | P131: 70000 | T131: =IF(AND(R131<>"_U",R131<>"c",N131<>999,N131<>9999,L131<>"Median"),IFERROR((ROUND(P131/U131*100,2)),"."),".") -> . | U131: =IF(AND(R131<>"_U",N131<>9999,N131<>999,L131<>"Median"),IFERROR(VLOOKUP(A131,'TA Total'!A:P,16,0),"."),".") -> .
A132: =G132&"|"&I132&"|"&M132 -> 2018|Whangarei District|Median ($) - total household income | B132: DATAFLOW | C132: STATSNZ:CEN23_HOU_001(1.0) | D132: Access to basic amenities, total household income, and tenure of household for households in occupied private dwellings, (RC, TALB, SA2, Health), 2018 and 2023 Censuses | E132: I | F132: 2018 | G132: 2018 | H132: 2 | I132: Whangarei District | J132: 99 | K132: Total - access to basic amenities | L132: Median | M132: Median ($) - total household income | N132: 7777 | O132: Total stated - tenure of household | P132: 62200 | T132: =IF(AND(R132<>"_U",R132<>"c",N132<>999,N132<>9999,L132<>"Median"),IFERROR((ROUND(P132/U132*100,2)),"."),".") -> . | U132: =IF(AND(R132<>"_U",N132<>9999,N132<>999,L132<>"Median"),IFERROR(VLOOKUP(A132,'TA Total'!A:P,16,0),"."),".") -> .
A133: =G133&"|"&I133&"|"&M133 -> 2018|Whangarei District|Median ($) - total household income | B133: DATAFLOW | C133: STATSNZ:CEN23_HOU_001(1.0) | D133: Access to basic amenities, total household income, and tenure of household for households in occupied private dwellings, (RC, TALB, SA2, Health), 2018 and 2023 Censuses | E133: I | F133: 2018 | G133: 2018 | H133: 2 | I133: Whangarei District | J133: 99 | K133: Total - access to basic amenities | L133: Median | M133: Median ($) - total household income | N133: 9999 | O133: Total - tenure of household | P133: 62100 | T133: =IF(AND(R133<>"_U",R133<>"c",N133<>999,N133<>9999,L133<>"Median"),IFERROR((ROUND(P133/U133*100,2)),"."),".") -> . | U133: =IF(AND(R133<>"_U",N133<>9999,N133<>999,L133<>"Median"),IFERROR(VLOOKUP(A133,'TA Total'!A:P,16,0),"."),".") -> .
A134: =G134&"|"&I134&"|"&M134 -> 2018|Kaipara District|$20,000 or less | B134: DATAFLOW | C134: STATSNZ:CEN23_HOU_001(1.0) | D134: Access to basic amenities, total household income, and tenure of household for households in occupied private dwellings, (RC, TALB, SA2, Health), 2018 and 2023 Censuses | E134: I | F134: 2018 | G134: 2018 | H134: 3 | I134: Kaipara District | J134: 99 | K134: Total - access to basic amenities | L134: 1 | M134: $20,000 or less | N134: 7777 | O134: Total stated - tenure of household | P134: 1077 | T134: =IF(AND(R134<>"_U",R134<>"c",N134<>999,N134<>9999,L134<>"Median"),IFERROR((ROUND(P134/U134*100,2)),"."),".") -> 100 | U134: =IF(AND(R134<>"_U",N134<>9999,N134<>999,L134<>"Median"),IFERROR(VLOOKUP(A134,'TA Total'!A:P,16,0),"."),".") -> 1077
A135: =G135&"|"&I135&"|"&M135 -> 2018|Kaipara District|$20,000 or less | B135: DATAFLOW | C135: STATSNZ:CEN23_HOU_001(1.0) | D135: Access to basic amenities, total household income, and tenure of household for households in occupied private dwellings, (RC, TALB, SA2, Health), 2018 and 2023 Censuses | E135: I | F135: 2018 | G135: 2018 | H135: 3 | I135: Kaipara District | J135: 99 | K135: Total - access to basic amenities | L135: 1 | M135: $20,000 or less | N135: 3 | O135: Dwelling held in a family trust | P135: 123 | T135: =IF(AND(R135<>"_U",R135<>"c",N135<>999,N135<>9999,L135<>"Median"),IFERROR((ROUND(P135/U135*100,2)),"."),".") -> 11.42 | U135: =IF(AND(R135<>"_U",N135<>9999,N135<>999,L135<>"Median"),IFERROR(VLOOKUP(A135,'TA Total'!A:P,16,0),"."),".") -> 1077
A136: =G136&"|"&I136&"|"&M136 -> 2018|Kaipara District|$20,000 or less | B136: DATAFLOW | C136: STATSNZ:CEN23_HOU_001(1.0) | D136: Access to basic amenities, total household income, and tenure of household for households in occupied private dwellings, (RC, TALB, SA2, Health), 2018 and 2023 Censuses | E136: I | F136: 2018 | G136: 2018 | H136: 3 | I136: Kaipara District | J136: 99 | K136: Total - access to basic amenities | L136: 1 | M136: $20,000 or less | N136: 1 | O136: Dwelling owned or partly owned | P136: 516 | T136: =IF(AND(R136<>"_U",R136<>"c",N136<>999,N136<>9999,L136<>"Median"),IFERROR((ROUND(P136/U136*100,2)),"."),".") -> 47.91 | U136: =IF(AND(R136<>"_U",N136<>9999,N136<>999,L136<>"Median"),IFERROR(VLOOKUP(A136,'TA Total'!A:P,16,0),"."),".") -> 1077
A137: =G137&"|"&I137&"|"&M137 -> 2018|Kaipara District|$20,000 or less | B137: DATAFLOW | C137: STATSNZ:CEN23_HOU_001(1.0) | D137: Access to basic amenities, total household income, and tenure of household for households in occupied private dwellings, (RC, TALB, SA2, Health), 2018 and 2023 Censuses | E137: I | F137: 2018 | G137: 2018 | H137: 3 | I137: Kaipara District | J137: 99 | K137: Total - access to basic amenities | L137: 1 | M137: $20,000 or less | N137: 2 | O137: Dwelling not owned and not held in a family trust | P137: 441 | T137: =IF(AND(R137<>"_U",R137<>"c",N137<>999,N137<>9999,L137<>"Median"),IFERROR((ROUND(P137/U137*100,2)),"."),".") -> 40.95 | U137: =IF(AND(R137<>"_U",N137<>9999,N137<>999,L137<>"Median"),IFERROR(VLOOKUP(A137,'TA Total'!A:P,16,0),"."),".") -> 1077
A138: =G138&"|"&I138&"|"&M138 -> 2018|Kaipara District|$20,000 or less | B138: DATAFLOW | C138: STATSNZ:CEN23_HOU_001(1.0) | D138: Access to basic amenities, total household income, and tenure of household for households in occupied private dwellings, (RC, TALB, SA2, Health), 2018 and 2023 Censuses | E138: I | F138: 2018 | G138: 2018 | H138: 3 | I138: Kaipara District | J138: 99 | K138: Total - access to basic amenities | L138: 1 | M138: $20,000 or less | N138: 9999 | O138: Total - tenure of household | P138: 1077 | T138: =IF(AND(R138<>"_U",R138<>"c",N138<>999,N138<>9999,L138<>"Median"),IFERROR((ROUND(P138/U138*100,2)),"."),".") -> . | U138: =IF(AND(R138<>"_U",N138<>9999,N138<>999,L138<>"Median"),IFERROR(VLOOKUP(A138,'TA Total'!A:P,16,0),"."),".") -> .
A139: =G139&"|"&I139&"|"&M139 -> 2018|Kaipara District|$20,000 or less | B139: DATAFLOW | C139: STATSNZ:CEN23_HOU_001(1.0) | D139: Access to basic amenities, total household income, and tenure of household for households in occupied private dwellings, (RC, TALB, SA2, Health), 2018 and 2023 Censuses | E139: I | F139: 2018 | G139: 2018 | H139: 3 | I139: Kaipara District | J139: 99 | K139: Total - access to basic amenities | L139: 1 | M139: $20,000 or less | N139: 999 | O139: Not elsewhere included | P139: 0 | T139: =IF(AND(R139<>"_U",R139<>"c",N139<>999,N139<>9999,L139<>"Median"),IFERROR((ROUND(P139/U139*100,2)),"."),".") -> . | U139: =IF(AND(R139<>"_U",N139<>9999,N139<>999,L139<>"Median"),IFERROR(VLOOKUP(A139,'TA Total'!A:P,16,0),"."),".") -> .
A140: =G140&"|"&I140&"|"&M140 -> 2018|Kaipara District|$20,001-$30,000 | B140: DATAFLOW | C140: STATSNZ:CEN23_HOU_001(1.0) | D140: Access to basic amenities, total household income, and tenure of household for households in occupied private dwellings, (RC, TALB, SA2, Health), 2018 and 2023 Censuses | E140: I | F140: 2018 | G140: 2018 | H140: 3 | I140: Kaipara District | J140: 99 | K140: Total - access to basic amenities | L140: 2 | M140: $20,001-$30,000 | N140: 999 | O140: Not elsewhere included | P140: 0 | T140: =IF(AND(R140<>"_U",R140<>"c",N140<>999,N140<>9999,L140<>"Median"),IFERROR((ROUND(P140/U140*100,2)),"."),".") -> . | U140: =IF(AND(R140<>"_U",N140<>9999,N140<>999,L140<>"Median"),IFERROR(VLOOKUP(A140,'TA Total'!A:P,16,0),"."),".") -> .
A141: =G141&"|"&I141&"|"&M141 -> 2018|Kaipara District|$20,001-$30,000 | B141: DATAFLOW | C141: STATSNZ:CEN23_HOU_001(1.0) | D141: Access to basic amenities, total household income, and tenure of household for households in occupied private dwellings, (RC, TALB, SA2, Health), 2018 and 2023 Censuses | E141: I | F141: 2018 | G141: 2018 | H141: 3 | I141: Kaipara District | J141: 99 | K141: Total - access to basic amenities | L141: 2 | M141: $20,001-$30,000 | N141: 3 | O141: Dwelling held in a family trust | P141: 126 | T141: =IF(AND(R141<>"_U",R141<>"c",N141<>999,N141<>9999,L141<>"Median"),IFERROR((ROUND(P141/U141*100,2)),"."),".") -> 11.9 | U141: =IF(AND(R141<>"_U",N141<>9999,N141<>999,L141<>"Median"),IFERROR(VLOOKUP(A141,'TA Total'!A:P,16,0),"."),".") -> 1059
A142: =G142&"|"&I142&"|"&M142 -> 2018|Kaipara District|$20,001-$30,000 | B142: DATAFLOW | C142: STATSNZ:CEN23_HOU_001(1.0) | D142: Access to basic amenities, total household income, and tenure of household for households in occupied private dwellings, (RC, TALB, SA2, Health), 2018 and 2023 Censuses | E142: I | F142: 2018 | G142: 2018 | H142: 3 | I142: Kaipara District | J142: 99 | K142: Total - access to basic amenities | L142: 2 | M142: $20,001-$30,000 | N142: 2 | O142: Dwelling not owned and not held in a family trust | P142: 357 | T142: =IF(AND(R142<>"_U",R142<>"c",N142<>999,N142<>9999,L142<>"Median"),IFERROR((ROUND(P142/U142*100,2)),"."),".") -> 33.71 | U142: =IF(AND(R142<>"_U",N142<>9999,N142<>999,L142<>"Median"),IFERROR(VLOOKUP(A142,'TA Total'!A:P,16,0),"."),".") -> 1059
A143: =G143&"|"&I143&"|"&M143 -> 2018|Kaipara District|$20,001-$30,000 | B143: DATAFLOW | C143: STATSNZ:CEN23_HOU_001(1.0) | D143: Access to basic amenities, total household income, and tenure of household for households in occupied private dwellings, (RC, TALB, SA2, Health), 2018 and 2023 Censuses | E143: I | F143: 2018 | G143: 2018 | H143: 3 | I143: Kaipara District | J143: 99 | K143: Total - access to basic amenities | L143: 2 | M143: $20,001-$30,000 | N143: 9999 | O143: Total - tenure of household | P143: 1059 | T143: =IF(AND(R143<>"_U",R143<>"c",N143<>999,N143<>9999,L143<>"Median"),IFERROR((ROUND(P143/U143*100,2)),"."),".") -> . | U143: =IF(AND(R143<>"_U",N143<>9999,N143<>999,L143<>"Median"),IFERROR(VLOOKUP(A143,'TA Total'!A:P,16,0),"."),".") -> .
A144: =G144&"|"&I144&"|"&M144 -> 2018|Kaipara District|$20,001-$30,000 | B144: DATAFLOW | C144: STATSNZ:CEN23_HOU_001(1.0) | D144: Access to basic amenities, total household income, and tenure of household for households in occupied private dwellings, (RC, TALB, SA2, Health), 2018 and 2023 Censuses | E144: I | F144: 2018 | G144: 2018 | H144: 3 | I144: Kaipara District | J144: 99 | K144: Total - access to basic amenities | L144: 2 | M144: $20,001-$30,000 | N144: 1 | O144: Dwelling owned or partly owned | P144: 579 | T144: =IF(AND(R144<>"_U",R144<>"c",N144<>999,N144<>9999,L144<>"Median"),IFERROR((ROUND(P144/U144*100,2)),"."),".") -> 54.67 | U144: =IF(AND(R144<>"_U",N144<>9999,N144<>999,L144<>"Median"),IFERROR(VLOOKUP(A144,'TA Total'!A:P,16,0),"."),".") -> 1059
A145: =G145&"|"&I145&"|"&M145 -> 2018|Kaipara District|$20,001-$30,000 | B145: DATAFLOW | C145: STATSNZ:CEN23_HOU_001(1.0) | D145: Access to basic amenities, total household income, and tenure of household for households in occupied private dwellings, (RC, TALB, SA2, Health), 2018 and 2023 Censuses | E145: I | F145: 2018 | G145: 2018 | H145: 3 | I145: Kaipara District | J145: 99 | K145: Total - access to basic amenities | L145: 2 | M145: $20,001-$30,000 | N145: 7777 | O145: Total stated - tenure of household | P145: 1059 | T145: =IF(AND(R145<>"_U",R145<>"c",N145<>999,N145<>9999,L145<>"Median"),IFERROR((ROUND(P145/U145*100,2)),"."),".") -> 100 | U145: =IF(AND(R145<>"_U",N145<>9999,N145<>999,L145<>"Median"),IFERROR(VLOOKUP(A145,'TA Total'!A:P,16,0),"."),".") -> 1059
... A175: =G175&"|"&I175&"|"&M175 -> 2018|Kaipara District|$150,001-$200,000 | B175: DATAFLOW | C175: STATSNZ:CEN23_HOU_001(1.0) | D175: Access to basic amenities, total household income, and tenure of household for households in occupied private dwellings, (RC, TALB, SA2, Health), 2018 and 2023 Censuses | E175: I | F175: 2018 | G175: 2018 | H175: 3 | I175: Kaipara District | J175: 99 | K175: Total - access to basic amenities | L175: 7 | M175: $150,001-$200,000 | N175: 9999 | O175: Total - tenure of household | P175: 639 | T175: =IF(AND(R175<>"_U",R175<>"c",N175<>999,N175<>9999,L175<>"Median"),IFERROR((ROUND(P175/U175*100,2)),"."),".") -> . | U175: =IF(AND(R175<>"_U",N175<>9999,N175<>999,L175<>"Median"),IFERROR(VLOOKUP(A175,'TA Total'!A:P,16,0),"."),".") -> .
A176: =G176&"|"&I176&"|"&M176 -> 2018|Kaipara District|$200,001 or more | B176: DATAFLOW | C176: STATSNZ:CEN23_HOU_001(1.0) | D176: Access to basic amenities, total household income, and tenure of household for households in occupied private dwellings, (RC, TALB, SA2, Health), 2018 and 2023 Censuses | E176: I | F176: 2018 | G176: 2018 | H176: 3 | I176: Kaipara District | J176: 99 | K176: Total - access to basic amenities | L176: 8 | M176: $200,001 or more | N176: 2 | O176: Dwelling not owned and not held in a family trust | R176: _U | S176: Not available | T176: =IF(AND(R176<>"_U",R176<>"c",N176<>999,N176<>9999,L176<>"Median"),IFERROR((ROUND(P176/U176*100,2)),"."),".") -> . | U176: =IF(AND(R176<>"_U",N176<>9999,N176<>999,L176<>"Median"),IFERROR(VLOOKUP(A176,'TA Total'!A:P,16,0),"."),".") -> .
A177: =G177&"|"&I177&"|"&M177 -> 2018|Kaipara District|$200,001 or more | B177: DATAFLOW | C177: STATSNZ:CEN23_HOU_001(1.0) | D177: Access to basic amenities, total household income, and tenure of household for households in occupied private dwellings, (RC, TALB, SA2, Health), 2018 and 2023 Censuses | E177: I | F177: 2018 | G177: 2018 | H177: 3 | I177: Kaipara District | J177: 99 | K177: Total - access to basic amenities | L177: 8 | M177: $200,001 or more | N177: 9999 | O177: Total - tenure of household | R177: _U | S177: Not available | T177: =IF(AND(R177<>"_U",R177<>"c",N177<>999,N177<>9999,L177<>"Median"),IFERROR((ROUND(P177/U177*100,2)),"."),".") -> . | U177: =IF(AND(R177<>"_U",N177<>9999,N177<>999,L177<>"Median"),IFERROR(VLOOKUP(A177,'TA Total'!A:P,16,0),"."),".") -> .
A178: =G178&"|"&I178&"|"&M178 -> 2018|Kaipara District|$200,001 or more | B178: DATAFLOW | C178: STATSNZ:CEN23_HOU_001(1.0) | D178: Access to basic amenities, total household income, and tenure of household for households in occupied private dwellings, (RC, TALB, SA2, Health), 2018 and 2023 Censuses | E178: I | F178: 2018 | G178: 2018 | H178: 3 | I178: Kaipara District | J178: 99 | K178: Total - access to basic amenities | L178: 8 | M178: $200,001 or more | N178: 1 | O178: Dwelling owned or partly owned | R178: _U | S178: Not available | T178: =IF(AND(R178<>"_U",R178<>"c",N178<>999,N178<>9999,L178<>"Median"),IFERROR((ROUND(P178/U178*100,2)),"."),".") -> . | U178: =IF(AND(R178<>"_U",N178<>9999,N178<>999,L178<>"Median"),IFERROR(VLOOKUP(A178,'TA Total'!A:P,16,0),"."),".") -> .
A179: =G179&"|"&I179&"|"&M179 -> 2018|Kaipara District|$200,001 or more | B179: DATAFLOW | C179: STATSNZ:CEN23_HOU_001(1.0) | D179: Access to basic amenities, total household income, and tenure of household for households in occupied private dwellings, (RC, TALB, SA2, Health), 2018 and 2023 Censuses | E179: I | F179: 2018 | G179: 2018 | H179: 3 | I179: Kaipara District | J179: 99 | K179: Total - access to basic amenities | L179: 8 | M179: $200,001 or more | N179: 7777 | O179: Total stated - tenure of household | R179: _U | S179: Not available | T179: =IF(AND(R179<>"_U",R179<>"c",N179<>999,N179<>9999,L179<>"Median"),IFERROR((ROUND(P179/U179*100,2)),"."),".") -> . | U179: =IF(AND(R179<>"_U",N179<>9999,N179<>999,L179<>"Median"),IFERROR(VLOOKUP(A179,'TA Total'!A:P,16,0),"."),".") -> .
A180: =G180&"|"&I180&"|"&M180 -> 2018|Kaipara District|$200,001 or more | B180: DATAFLOW | C180: STATSNZ:CEN23_HOU_001(1.0) | D180: Access to basic amenities, total household income, and tenure of household for households in occupied private dwellings, (RC, TALB, SA2, Health), 2018 and 2023 Censuses | E180: I | F180: 2018 | G180: 2018 | H180: 3 | I180: Kaipara District | J180: 99 | K180: Total - access to basic amenities | L180: 8 | M180: $200,001 or more | N180: 999 | O180: Not elsewhere included | R180: _U | S180: Not available | T180: =IF(AND(R180<>"_U",R180<>"c",N180<>999,N180<>9999,L180<>"Median"),IFERROR((ROUND(P180/U180*100,2)),"."),".") -> . | U180: =IF(AND(R180<>"_U",N180<>9999,N180<>999,L180<>"Median"),IFERROR(VLOOKUP(A180,'TA Total'!A:P,16,0),"."),".") -> .
A181: =G181&"|"&I181&"|"&M181 -> 2018|Kaipara District|$200,001 or more | B181: DATAFLOW | C181: STATSNZ:CEN23_HOU_001(1.0) | D181: Access to basic amenities, total household income, and tenure of household for households in occupied private dwellings, (RC, TALB, SA2, Health), 2018 and 2023 Censuses | E181: I | F181: 2018 | G181: 2018 | H181: 3 | I181: Kaipara District | J181: 99 | K181: Total - access to basic amenities | L181: 8 | M181: $200,001 or more | N181: 3 | O181: Dwelling held in a family trust | R181: _U | S181: Not available | T181: =IF(AND(R181<>"_U",R181<>"c",N181<>999,N181<>9999,L181<>"Median"),IFERROR((ROUND(P181/U181*100,2)),"."),".") -> . | U181: =IF(AND(R181<>"_U",N181<>9999,N181<>999,L181<>"Median"),IFERROR(VLOOKUP(A181,'TA Total'!A:P,16,0),"."),".") -> .
