Workbook

Sheet Contents
B1: Energy in New Zealand: Energy Overview data tables
B2: Produced by Data Service Delivery unit – Data, Insights and Intelligence branch Ministry of Business, Innovation & Employment
B3: energyinfo@mbie.govt.nz
B5: Annual_PJ
B6: The amount of primary energy supply, energy transformation, and energy consumption in gross petajoules for calendar years (1990 onwards)
B8: Quarterly_PJ
B9: The amount of primary energy supply, energy transformation, and energy consumption in gross petajoules for each quarter (March quarter 1990 onwards)

Sheet Annual_PJ
A1: Return to contents
A8: Primary Energy Supply, Energy Transformation, and Energy Consumption
A9: Gross petajoules (PJ)
A10: Calendar Year | B10: 1990 | C10: 1991 | D10: 1992 | E10: 1993 | F10: 1994 | G10: 1995 | H10: 1996 | I10: 1997 | J10: 1998 | K10: 1999 | L10: 2000 | M10: 2001 | N10: 2002 | O10: 2003 | P10: 2004 | Q10: 2005 | R10: 2006 | S10: 2007 | T10: 2008 | U10: 2009 | V10: 2010 | W10: 2011 | X10: 2012 | Y10: 2013 | Z10: 2014 | AA10: 2015 | AB10: 2016 | AC10: 2017 | AD10: 2018 | AE10: 2019 | AF10: 2020 | AG10: 2021 | AH10: 2022 | AI10: 2023 | AJ10: 2024
A12: Primary Energy Supply | B12: =B21+B30-B39-B48-B57 -> 583.67988 | C12: =C21+C30-C39-C48-C57 -> 600.0215 | D12: =D21+D30-D39-D48-D57 -> 610.46876 | E12: =E21+E30-E39-E48-E57 -> 640.82793 | F12: =F21+F30-F39-F48-F57 -> 648.51192 | G12: =G21+G30-G39-G48-G57 -> 651.09851 | H12: =H21+H30-H39-H48-H57 -> 676.82879 | I12: =I21+I30-I39-I48-I57 -> 704.5524 | ... AJ12: =AJ21+AJ30-AJ39-AJ48-AJ57 -> 834.74852
A13: Coal | B13: =B22+B31-B40-B49-B58 -> 52.216108 | C13: =C22+C31-C40-C49-C58 -> 46.705989 | D13: =D22+D31-D40-D49-D58 -> 40.038672 | E13: =E22+E31-E40-E49-E58 -> 60.078757 | F13: =F22+F31-F40-F49-F58 -> 54.824517 | G13: =G22+G31-G40-G49-G58 -> 49.550942 | H13: =H22+H31-H40-H49-H58 -> 39.490839 | I13: =I22+I31-I40-I49-I58 -> 49.304901 | ... AJ13: =AJ22+AJ31-AJ40-AJ49-AJ58 -> 52.261838
A14: Oil | B14: =B23+B32-B41-B50-B59 -> 158.50974 | C14: =C23+C32-C41-C50-C59 -> 162.15976 | D14: =D23+D32-D41-D50-D59 -> 174.25029 | E14: =E23+E32-E41-E50-E59 -> 175.35951 | F14: =F23+F32-F41-F50-F59 -> 196.02255 | G14: =G23+G32-G41-G50-G59 -> 207.72578 | H14: =H23+H32-H41-H50-H59 -> 222.93834 | I14: =I23+I32-I41-I50-I59 -> 232.81643 | ... AJ14: =AJ23+AJ32-AJ41-AJ50-AJ59 -> 284.70869
A15: Natural gas | B15: =B24+B33-B42-B51-B60 -> 180.60259 | C15: =C24+C33-C42-C51-C60 -> 196.50311 | D15: =D24+D33-D42-D51-D60 -> 208.5514 | E15: =E24+E33-E42-E51-E60 -> 203.00615 | F15: =F24+F33-F42-F51-F60 -> 189.50836 | G15: =G24+G33-G42-G51-G60 -> 179.01406 | H15: =H24+H33-H42-H51-H60 -> 204.41191 | I15: =I24+I33-I42-I51-I60 -> 219.08645 | ... AJ15: =AJ24+AJ33-AJ42-AJ51-AJ60 -> 117.89203
A16: Hydro | B16: =B25+B34-B43-B52-B61 -> 83.458743 | C16: =C25+C34-C43-C52-C61 -> 82.411828 | D16: =D25+D34-D43-D52-D61 -> 75.926019 | E16: =E25+E34-E43-E52-E61 -> 84.565957 | F16: =F25+F34-F43-F52-F61 -> 93.004188 | G16: =G25+G34-G43-G52-G61 -> 99.115221 | H16: =H25+H34-H43-H52-H61 -> 94.24912 | I16: =I25+I34-I43-I52-I61 -> 83.721023 | ... AJ16: =AJ25+AJ34-AJ43-AJ52-AJ61 -> 85.411372
A17: Geothermal | B17: =B26+B35-B44-B53-B62 -> 62.486243 | C17: =C26+C35-C44-C53-C62 -> 65.601306 | D17: =D26+D35-D44-D53-D62 -> 65.099269 | E17: =E26+E35-E44-E53-E62 -> 68.428351 | F17: =F26+F35-F44-F53-F62 -> 63.986718 | G17: =G26+G35-G44-G53-G62 -> 63.070181 | H17: =H26+H35-H44-H53-H62 -> 64.137192 | I17: =I26+I35-I44-I53-I62 -> 66.618628 | ... AJ17: =AJ26+AJ35-AJ44-AJ53-AJ62 -> 226.05486
A18: Other renewables | B18: =B27+B36-B45-B54-B63 -> 44.796602 | C18: =C27+C36-C45-C54-C63 -> 45.030634 | D18: =D27+D36-D45-D54-D63 -> 44.992384 | E18: =E27+E36-E45-E54-E63 -> 47.778604 | F18: =F27+F36-F45-F54-F63 -> 49.554325 | G18: =G27+G36-G45-G54-G63 -> 51.012215 | H18: =H27+H36-H45-H54-H63 -> 49.982927 | I18: =I27+I36-I45-I54-I63 -> 51.394859 | ... AJ18: =AJ27+AJ36-AJ45-AJ54-AJ63 -> 67.738888
A19: Electricity | B19: =B28+B37-B46-B55-B64 -> 0 | C19: =C28+C37-C46-C55-C64 -> 0 | D19: =D28+D37-D46-D55-D64 -> 0 | E19: =E28+E37-E46-E55-E64 -> 0 | F19: =F28+F37-F46-F55-F64 -> 0 | G19: =G28+G37-G46-G55-G64 -> 0 | H19: =H28+H37-H46-H55-H64 -> 0 | I19: =I28+I37-I46-I55-I64 -> 0 | ... AJ19: =AJ28+AJ37-AJ46-AJ55-AJ64 -> 0
A20: Waste heat | B20: =B29+B38-B47-B56-B65 -> 1.6098535 | C20: =C29+C38-C47-C56-C65 -> 1.6088777 | D20: =D29+D38-D47-D56-D65 -> 1.6107266 | E20: =E29+E38-E47-E56-E65 -> 1.6105982 | F20: =F29+F38-F47-F56-F65 -> 1.6112659 | G20: =G29+G38-G47-G56-G65 -> 1.6101103 | H20: =H29+H38-H47-H56-H65 -> 1.6184627 | I20: =I29+I38-I47-I56-I65 -> 1.6101103 | ... AJ20: =AJ29+AJ38-AJ47-AJ56-AJ65 -> 0.68083875
A21: Indigenous Production | B21: =SUM(B22:B29) -> 523.24203 | C21: =SUM(C22:C29) -> 549.34168 | D21: =SUM(D22:D29) -> 559.18948 | E21: =SUM(E22:E29) -> 582.62499 | F21: =SUM(F22:F29) -> 564.97509 | G21: =SUM(G22:G29) -> 564.97554 | H21: =SUM(H22:H29) -> 611.35774 | I21: =SUM(I22:I29) -> 644.25545 | ... AJ21: =SUM(AJ22:AJ29) -> 601.88811
A22: Coal | B22: =SUMPRODUCT(--(B$10=YEAR(Quarterly_PJ!$B$10:$SM$10)),Quarterly_PJ!$B22:$SM22) -> 62.725447 | C22: =SUMPRODUCT(--(C$10=YEAR(Quarterly_PJ!$B$10:$SM$10)),Quarterly_PJ!$B22:$SM22) -> 65.804899 | D22: =SUMPRODUCT(--(D$10=YEAR(Quarterly_PJ!$B$10:$SM$10)),Quarterly_PJ!$B22:$SM22) -> 74.933182 | E22: =SUMPRODUCT(--(E$10=YEAR(Quarterly_PJ!$B$10:$SM$10)),Quarterly_PJ!$B22:$SM22) -> 84.559537 | F22: =SUMPRODUCT(--(F$10=YEAR(Quarterly_PJ!$B$10:$SM$10)),Quarterly_PJ!$B22:$SM22) -> 77.644752 | G22: =SUMPRODUCT(--(G$10=YEAR(Quarterly_PJ!$B$10:$SM$10)),Quarterly_PJ!$B22:$SM22) -> 95.211778 | H22: =SUMPRODUCT(--(H$10=YEAR(Quarterly_PJ!$B$10:$SM$10)),Quarterly_PJ!$B22:$SM22) -> 97.212809 | I22: =SUMPRODUCT(--(I$10=YEAR(Quarterly_PJ!$B$10:$SM$10)),Quarterly_PJ!$B22:$SM22) -> 91.468069 | ... AJ22: =SUMPRODUCT(--(AJ$10=YEAR(Quarterly_PJ!$B$10:$SM$10)),Quarterly_PJ!$B22:$SM22) -> 63.382128
A23: Oil | B23: =SUMPRODUCT(--(B$10=YEAR(Quarterly_PJ!$B$10:$SM$10)),Quarterly_PJ!$B23:$SM23) -> 87.583157 | C23: =SUMPRODUCT(--(C$10=YEAR(Quarterly_PJ!$B$10:$SM$10)),Quarterly_PJ!$B23:$SM23) -> 92.382659 | D23: =SUMPRODUCT(--(D$10=YEAR(Quarterly_PJ!$B$10:$SM$10)),Quarterly_PJ!$B23:$SM23) -> 88.078821 | E23: =SUMPRODUCT(--(E$10=YEAR(Quarterly_PJ!$B$10:$SM$10)),Quarterly_PJ!$B23:$SM23) -> 92.701995 | F23: =SUMPRODUCT(--(F$10=YEAR(Quarterly_PJ!$B$10:$SM$10)),Quarterly_PJ!$B23:$SM23) -> 89.67842 | G23: =SUMPRODUCT(--(G$10=YEAR(Quarterly_PJ!$B$10:$SM$10)),Quarterly_PJ!$B23:$SM23) -> 75.962225 | H23: =SUMPRODUCT(--(H$10=YEAR(Quarterly_PJ!$B$10:$SM$10)),Quarterly_PJ!$B23:$SM23) -> 99.706299 | I23: =SUMPRODUCT(--(I$10=YEAR(Quarterly_PJ!$B$10:$SM$10)),Quarterly_PJ!$B23:$SM23) -> 130.38642 | ... AJ23: =SUMPRODUCT(--(AJ$10=YEAR(Quarterly_PJ!$B$10:$SM$10)),Quarterly_PJ!$B23:$SM23) -> 39.109047
A24: Natural gas | B24: =SUMPRODUCT(--(B$10=YEAR(Quarterly_PJ!$B$10:$SM$10)),Quarterly_PJ!$B24:$SM24) -> 180.58357 | C24: =SUMPRODUCT(--(C$10=YEAR(Quarterly_PJ!$B$10:$SM$10)),Quarterly_PJ!$B24:$SM24) -> 196.50353 | D24: =SUMPRODUCT(--(D$10=YEAR(Quarterly_PJ!$B$10:$SM$10)),Quarterly_PJ!$B24:$SM24) -> 208.55167 | E24: =SUMPRODUCT(--(E$10=YEAR(Quarterly_PJ!$B$10:$SM$10)),Quarterly_PJ!$B24:$SM24) -> 202.98315 | F24: =SUMPRODUCT(--(F$10=YEAR(Quarterly_PJ!$B$10:$SM$10)),Quarterly_PJ!$B24:$SM24) -> 189.49836 | G24: =SUMPRODUCT(--(G$10=YEAR(Quarterly_PJ!$B$10:$SM$10)),Quarterly_PJ!$B24:$SM24) -> 179.00306 | H24: =SUMPRODUCT(--(H$10=YEAR(Quarterly_PJ!$B$10:$SM$10)),Quarterly_PJ!$B24:$SM24) -> 204.45491 | I24: =SUMPRODUCT(--(I$10=YEAR(Quarterly_PJ!$B$10:$SM$10)),Quarterly_PJ!$B24:$SM24) -> 219.06345 | ... AJ24: =SUMPRODUCT(--(AJ$10=YEAR(Quarterly_PJ!$B$10:$SM$10)),Quarterly_PJ!$B24:$SM24) -> 119.63543
A25: Hydro | B25: =SUMPRODUCT(--(B$10=YEAR(Quarterly_PJ!$B$10:$SM$10)),Quarterly_PJ!$B25:$SM25) -> 83.458743 | C25: =SUMPRODUCT(--(C$10=YEAR(Quarterly_PJ!$B$10:$SM$10)),Quarterly_PJ!$B25:$SM25) -> 82.411828 | D25: =SUMPRODUCT(--(D$10=YEAR(Quarterly_PJ!$B$10:$SM$10)),Quarterly_PJ!$B25:$SM25) -> 75.926019 | E25: =SUMPRODUCT(--(E$10=YEAR(Quarterly_PJ!$B$10:$SM$10)),Quarterly_PJ!$B25:$SM25) -> 84.565957 | F25: =SUMPRODUCT(--(F$10=YEAR(Quarterly_PJ!$B$10:$SM$10)),Quarterly_PJ!$B25:$SM25) -> 93.004188 | G25: =SUMPRODUCT(--(G$10=YEAR(Quarterly_PJ!$B$10:$SM$10)),Quarterly_PJ!$B25:$SM25) -> 99.115221 | H25: =SUMPRODUCT(--(H$10=YEAR(Quarterly_PJ!$B$10:$SM$10)),Quarterly_PJ!$B25:$SM25) -> 94.24912 | I25: =SUMPRODUCT(--(I$10=YEAR(Quarterly_PJ!$B$10:$SM$10)),Quarterly_PJ!$B25:$SM25) -> 83.721023 | ... AJ25: =SUMPRODUCT(--(AJ$10=YEAR(Quarterly_PJ!$B$10:$SM$10)),Quarterly_PJ!$B25:$SM25) -> 85.411372
A26: Geothermal | B26: =SUMPRODUCT(--(B$10=YEAR(Quarterly_PJ!$B$10:$SM$10)),Quarterly_PJ!$B26:$SM26) -> 62.486243 | C26: =SUMPRODUCT(--(C$10=YEAR(Quarterly_PJ!$B$10:$SM$10)),Quarterly_PJ!$B26:$SM26) -> 65.601306 | D26: =SUMPRODUCT(--(D$10=YEAR(Quarterly_PJ!$B$10:$SM$10)),Quarterly_PJ!$B26:$SM26) -> 65.099269 | E26: =SUMPRODUCT(--(E$10=YEAR(Quarterly_PJ!$B$10:$SM$10)),Quarterly_PJ!$B26:$SM26) -> 68.428351 | F26: =SUMPRODUCT(--(F$10=YEAR(Quarterly_PJ!$B$10:$SM$10)),Quarterly_PJ!$B26:$SM26) -> 63.986718 | G26: =SUMPRODUCT(--(G$10=YEAR(Quarterly_PJ!$B$10:$SM$10)),Quarterly_PJ!$B26:$SM26) -> 63.070181 | H26: =SUMPRODUCT(--(H$10=YEAR(Quarterly_PJ!$B$10:$SM$10)),Quarterly_PJ!$B26:$SM26) -> 64.137192 | I26: =SUMPRODUCT(--(I$10=YEAR(Quarterly_PJ!$B$10:$SM$10)),Quarterly_PJ!$B26:$SM26) -> 66.618628 | ... AJ26: =SUMPRODUCT(--(AJ$10=YEAR(Quarterly_PJ!$B$10:$SM$10)),Quarterly_PJ!$B26:$SM26) -> 226.05486
A27: Other renewables | B27: =SUMPRODUCT(--(B$10=YEAR(Quarterly_PJ!$B$10:$SM$10)),Quarterly_PJ!$B27:$SM27) -> 44.795018 | C27: =SUMPRODUCT(--(C$10=YEAR(Quarterly_PJ!$B$10:$SM$10)),Quarterly_PJ!$B27:$SM27) -> 45.028586 | D27: =SUMPRODUCT(--(D$10=YEAR(Quarterly_PJ!$B$10:$SM$10)),Quarterly_PJ!$B27:$SM27) -> 44.989799 | E27: =SUMPRODUCT(--(E$10=YEAR(Quarterly_PJ!$B$10:$SM$10)),Quarterly_PJ!$B27:$SM27) -> 47.775399 | F27: =SUMPRODUCT(--(F$10=YEAR(Quarterly_PJ!$B$10:$SM$10)),Quarterly_PJ!$B27:$SM27) -> 49.551387 | G27: =SUMPRODUCT(--(G$10=YEAR(Quarterly_PJ!$B$10:$SM$10)),Quarterly_PJ!$B27:$SM27) -> 51.002962 | H27: =SUMPRODUCT(--(H$10=YEAR(Quarterly_PJ!$B$10:$SM$10)),Quarterly_PJ!$B27:$SM27) -> 49.97894 | I27: =SUMPRODUCT(--(I$10=YEAR(Quarterly_PJ!$B$10:$SM$10)),Quarterly_PJ!$B27:$SM27) -> 51.387749 | ... AJ27: =SUMPRODUCT(--(AJ$10=YEAR(Quarterly_PJ!$B$10:$SM$10)),Quarterly_PJ!$B27:$SM27) -> 67.614428
A28: Electricity | B28: =SUMPRODUCT(--(B$10=YEAR(Quarterly_PJ!$B$10:$SM$10)),Quarterly_PJ!$B28:$SM28) -> 0 | C28: =SUMPRODUCT(--(C$10=YEAR(Quarterly_PJ!$B$10:$SM$10)),Quarterly_PJ!$B28:$SM28) -> 0 | D28: =SUMPRODUCT(--(D$10=YEAR(Quarterly_PJ!$B$10:$SM$10)),Quarterly_PJ!$B28:$SM28) -> 0 | E28: =SUMPRODUCT(--(E$10=YEAR(Quarterly_PJ!$B$10:$SM$10)),Quarterly_PJ!$B28:$SM28) -> 0 | F28: =SUMPRODUCT(--(F$10=YEAR(Quarterly_PJ!$B$10:$SM$10)),Quarterly_PJ!$B28:$SM28) -> 0 | G28: =SUMPRODUCT(--(G$10=YEAR(Quarterly_PJ!$B$10:$SM$10)),Quarterly_PJ!$B28:$SM28) -> 0 | H28: =SUMPRODUCT(--(H$10=YEAR(Quarterly_PJ!$B$10:$SM$10)),Quarterly_PJ!$B28:$SM28) -> 0 | I28: =SUMPRODUCT(--(I$10=YEAR(Quarterly_PJ!$B$10:$SM$10)),Quarterly_PJ!$B28:$SM28) -> 0 | ... AJ28: =SUMPRODUCT(--(AJ$10=YEAR(Quarterly_PJ!$B$10:$SM$10)),Quarterly_PJ!$B28:$SM28) -> 0
A29: Waste heat | B29: =SUMPRODUCT(--(B$10=YEAR(Quarterly_PJ!$B$10:$SM$10)),Quarterly_PJ!$B29:$SM29) -> 1.6098535 | C29: =SUMPRODUCT(--(C$10=YEAR(Quarterly_PJ!$B$10:$SM$10)),Quarterly_PJ!$B29:$SM29) -> 1.6088777 | D29: =SUMPRODUCT(--(D$10=YEAR(Quarterly_PJ!$B$10:$SM$10)),Quarterly_PJ!$B29:$SM29) -> 1.6107266 | E29: =SUMPRODUCT(--(E$10=YEAR(Quarterly_PJ!$B$10:$SM$10)),Quarterly_PJ!$B29:$SM29) -> 1.6105982 | F29: =SUMPRODUCT(--(F$10=YEAR(Quarterly_PJ!$B$10:$SM$10)),Quarterly_PJ!$B29:$SM29) -> 1.6112659 | G29: =SUMPRODUCT(--(G$10=YEAR(Quarterly_PJ!$B$10:$SM$10)),Quarterly_PJ!$B29:$SM29) -> 1.6101103 | H29: =SUMPRODUCT(--(H$10=YEAR(Quarterly_PJ!$B$10:$SM$10)),Quarterly_PJ!$B29:$SM29) -> 1.6184627 | I29: =SUMPRODUCT(--(I$10=YEAR(Quarterly_PJ!$B$10:$SM$10)),Quarterly_PJ!$B29:$SM29) -> 1.6101103 | ... AJ29: =SUMPRODUCT(--(AJ$10=YEAR(Quarterly_PJ!$B$10:$SM$10)),Quarterly_PJ!$B29:$SM29) -> 0.68083875
A30: Imports | B30: =SUM(B31:B38) -> 169.64447 | C30: =SUM(C31:C38) -> 176.39661 | D30: =SUM(D31:D38) -> 168.95382 | E30: =SUM(E31:E38) -> 185.56351 | F30: =SUM(F31:F38) -> 208.50895 | G30: =SUM(G31:G38) -> 217.05352 | H30: =SUM(H31:H38) -> 232.78494 | I30: =SUM(I31:I38) -> 239.90476 | ... AJ30: =SUM(AJ31:AJ38) -> 359.05618
A31: Coal | B31: =SUMPRODUCT(--(B$10=YEAR(Quarterly_PJ!$B$10:$SM$10)),Quarterly_PJ!$B31:$SM31) -> 0.018828195 | C31: =SUMPRODUCT(--(C$10=YEAR(Quarterly_PJ!$B$10:$SM$10)),Quarterly_PJ!$B31:$SM31) -> 0.018475557 | D31: =SUMPRODUCT(--(D$10=YEAR(Quarterly_PJ!$B$10:$SM$10)),Quarterly_PJ!$B31:$SM31) -> 0.020113199 | E31: =SUMPRODUCT(--(E$10=YEAR(Quarterly_PJ!$B$10:$SM$10)),Quarterly_PJ!$B31:$SM31) -> 0.015154614 | F31: =SUMPRODUCT(--(F$10=YEAR(Quarterly_PJ!$B$10:$SM$10)),Quarterly_PJ!$B31:$SM31) -> 0.013454701 | G31: =SUMPRODUCT(--(G$10=YEAR(Quarterly_PJ!$B$10:$SM$10)),Quarterly_PJ!$B31:$SM31) -> 0.0032340769 | H31: =SUMPRODUCT(--(H$10=YEAR(Quarterly_PJ!$B$10:$SM$10)),Quarterly_PJ!$B31:$SM31) -> 0.0019541117 | I31: =SUMPRODUCT(--(I$10=YEAR(Quarterly_PJ!$B$10:$SM$10)),Quarterly_PJ!$B31:$SM31) -> 0.00050285368 | ... AJ31: =SUMPRODUCT(--(AJ$10=YEAR(Quarterly_PJ!$B$10:$SM$10)),Quarterly_PJ!$B31:$SM31) -> 22.153572
A32: Oil | B32: =SUMPRODUCT(--(B$10=YEAR(Quarterly_PJ!$B$10:$SM$10)),Quarterly_PJ!$B32:$SM32) -> 169.62406 | C32: =SUMPRODUCT(--(C$10=YEAR(Quarterly_PJ!$B$10:$SM$10)),Quarterly_PJ!$B32:$SM32) -> 176.37609 | D32: =SUMPRODUCT(--(D$10=YEAR(Quarterly_PJ!$B$10:$SM$10)),Quarterly_PJ!$B32:$SM32) -> 168.93113 | E32: =SUMPRODUCT(--(E$10=YEAR(Quarterly_PJ!$B$10:$SM$10)),Quarterly_PJ!$B32:$SM32) -> 185.54515 | F32: =SUMPRODUCT(--(F$10=YEAR(Quarterly_PJ!$B$10:$SM$10)),Quarterly_PJ!$B32:$SM32) -> 208.49256 | G32: =SUMPRODUCT(--(G$10=YEAR(Quarterly_PJ!$B$10:$SM$10)),Quarterly_PJ!$B32:$SM32) -> 217.04103 | H32: =SUMPRODUCT(--(H$10=YEAR(Quarterly_PJ!$B$10:$SM$10)),Quarterly_PJ!$B32:$SM32) -> 232.779 | I32: =SUMPRODUCT(--(I$10=YEAR(Quarterly_PJ!$B$10:$SM$10)),Quarterly_PJ!$B32:$SM32) -> 239.89715 | ... AJ32: =SUMPRODUCT(--(AJ$10=YEAR(Quarterly_PJ!$B$10:$SM$10)),Quarterly_PJ!$B32:$SM32) -> 336.77815
A33: Natural gas | B33: =SUMPRODUCT(--(B$10=YEAR(Quarterly_PJ!$B$10:$SM$10)),Quarterly_PJ!$B33:$SM33) -> 0 | C33: =SUMPRODUCT(--(C$10=YEAR(Quarterly_PJ!$B$10:$SM$10)),Quarterly_PJ!$B33:$SM33) -> 0 | D33: =SUMPRODUCT(--(D$10=YEAR(Quarterly_PJ!$B$10:$SM$10)),Quarterly_PJ!$B33:$SM33) -> 0 | E33: =SUMPRODUCT(--(E$10=YEAR(Quarterly_PJ!$B$10:$SM$10)),Quarterly_PJ!$B33:$SM33) -> 0 | F33: =SUMPRODUCT(--(F$10=YEAR(Quarterly_PJ!$B$10:$SM$10)),Quarterly_PJ!$B33:$SM33) -> 0 | G33: =SUMPRODUCT(--(G$10=YEAR(Quarterly_PJ!$B$10:$SM$10)),Quarterly_PJ!$B33:$SM33) -> 0 | H33: =SUMPRODUCT(--(H$10=YEAR(Quarterly_PJ!$B$10:$SM$10)),Quarterly_PJ!$B33:$SM33) -> 0 | I33: =SUMPRODUCT(--(I$10=YEAR(Quarterly_PJ!$B$10:$SM$10)),Quarterly_PJ!$B33:$SM33) -> 0 | ... AJ33: =SUMPRODUCT(--(AJ$10=YEAR(Quarterly_PJ!$B$10:$SM$10)),Quarterly_PJ!$B33:$SM33) -> 0
A34: Hydro | B34: =SUMPRODUCT(--(B$10=YEAR(Quarterly_PJ!$B$10:$SM$10)),Quarterly_PJ!$B34:$SM34) -> 0 | C34: =SUMPRODUCT(--(C$10=YEAR(Quarterly_PJ!$B$10:$SM$10)),Quarterly_PJ!$B34:$SM34) -> 0 | D34: =SUMPRODUCT(--(D$10=YEAR(Quarterly_PJ!$B$10:$SM$10)),Quarterly_PJ!$B34:$SM34) -> 0 | E34: =SUMPRODUCT(--(E$10=YEAR(Quarterly_PJ!$B$10:$SM$10)),Quarterly_PJ!$B34:$SM34) -> 0 | F34: =SUMPRODUCT(--(F$10=YEAR(Quarterly_PJ!$B$10:$SM$10)),Quarterly_PJ!$B34:$SM34) -> 0 | G34: =SUMPRODUCT(--(G$10=YEAR(Quarterly_PJ!$B$10:$SM$10)),Quarterly_PJ!$B34:$SM34) -> 0 | H34: =SUMPRODUCT(--(H$10=YEAR(Quarterly_PJ!$B$10:$SM$10)),Quarterly_PJ!$B34:$SM34) -> 0 | I34: =SUMPRODUCT(--(I$10=YEAR(Quarterly_PJ!$B$10:$SM$10)),Quarterly_PJ!$B34:$SM34) -> 0 | ... AJ34: =SUMPRODUCT(--(AJ$10=YEAR(Quarterly_PJ!$B$10:$SM$10)),Quarterly_PJ!$B34:$SM34) -> 0
A35: Geothermal | B35: =SUMPRODUCT(--(B$10=YEAR(Quarterly_PJ!$B$10:$SM$10)),Quarterly_PJ!$B35:$SM35) -> 0 | C35: =SUMPRODUCT(--(C$10=YEAR(Quarterly_PJ!$B$10:$SM$10)),Quarterly_PJ!$B35:$SM35) -> 0 | D35: =SUMPRODUCT(--(D$10=YEAR(Quarterly_PJ!$B$10:$SM$10)),Quarterly_PJ!$B35:$SM35) -> 0 | E35: =SUMPRODUCT(--(E$10=YEAR(Quarterly_PJ!$B$10:$SM$10)),Quarterly_PJ!$B35:$SM35) -> 0 | F35: =SUMPRODUCT(--(F$10=YEAR(Quarterly_PJ!$B$10:$SM$10)),Quarterly_PJ!$B35:$SM35) -> 0 | G35: =SUMPRODUCT(--(G$10=YEAR(Quarterly_PJ!$B$10:$SM$10)),Quarterly_PJ!$B35:$SM35) -> 0 | H35: =SUMPRODUCT(--(H$10=YEAR(Quarterly_PJ!$B$10:$SM$10)),Quarterly_PJ!$B35:$SM35) -> 0 | I35: =SUMPRODUCT(--(I$10=YEAR(Quarterly_PJ!$B$10:$SM$10)),Quarterly_PJ!$B35:$SM35) -> 0 | ... AJ35: =SUMPRODUCT(--(AJ$10=YEAR(Quarterly_PJ!$B$10:$SM$10)),Quarterly_PJ!$B35:$SM35) -> 0
A36: Other renewables | B36: =SUMPRODUCT(--(B$10=YEAR(Quarterly_PJ!$B$10:$SM$10)),Quarterly_PJ!$B36:$SM36) -> 0.0015836 | C36: =SUMPRODUCT(--(C$10=YEAR(Quarterly_PJ!$B$10:$SM$10)),Quarterly_PJ!$B36:$SM36) -> 0.0020480536 | D36: =SUMPRODUCT(--(D$10=YEAR(Quarterly_PJ!$B$10:$SM$10)),Quarterly_PJ!$B36:$SM36) -> 0.0025850568 | E36: =SUMPRODUCT(--(E$10=YEAR(Quarterly_PJ!$B$10:$SM$10)),Quarterly_PJ!$B36:$SM36) -> 0.0032045848 | F36: =SUMPRODUCT(--(F$10=YEAR(Quarterly_PJ!$B$10:$SM$10)),Quarterly_PJ!$B36:$SM36) -> 0.00293854 | G36: =SUMPRODUCT(--(G$10=YEAR(Quarterly_PJ!$B$10:$SM$10)),Quarterly_PJ!$B36:$SM36) -> 0.009253404 | H36: =SUMPRODUCT(--(H$10=YEAR(Quarterly_PJ!$B$10:$SM$10)),Quarterly_PJ!$B36:$SM36) -> 0.0039873272 | I36: =SUMPRODUCT(--(I$10=YEAR(Quarterly_PJ!$B$10:$SM$10)),Quarterly_PJ!$B36:$SM36) -> 0.0071098312 | ... AJ36: =SUMPRODUCT(--(AJ$10=YEAR(Quarterly_PJ!$B$10:$SM$10)),Quarterly_PJ!$B36:$SM36) -> 0.12446045
A37: Electricity | B37: =SUMPRODUCT(--(B$10=YEAR(Quarterly_PJ!$B$10:$SM$10)),Quarterly_PJ!$B37:$SM37) -> 0 | C37: =SUMPRODUCT(--(C$10=YEAR(Quarterly_PJ!$B$10:$SM$10)),Quarterly_PJ!$B37:$SM37) -> 0 | D37: =SUMPRODUCT(--(D$10=YEAR(Quarterly_PJ!$B$10:$SM$10)),Quarterly_PJ!$B37:$SM37) -> 0 | E37: =SUMPRODUCT(--(E$10=YEAR(Quarterly_PJ!$B$10:$SM$10)),Quarterly_PJ!$B37:$SM37) -> 0 | F37: =SUMPRODUCT(--(F$10=YEAR(Quarterly_PJ!$B$10:$SM$10)),Quarterly_PJ!$B37:$SM37) -> 0 | G37: =SUMPRODUCT(--(G$10=YEAR(Quarterly_PJ!$B$10:$SM$10)),Quarterly_PJ!$B37:$SM37) -> 0 | H37: =SUMPRODUCT(--(H$10=YEAR(Quarterly_PJ!$B$10:$SM$10)),Quarterly_PJ!$B37:$SM37) -> 0 | I37: =SUMPRODUCT(--(I$10=YEAR(Quarterly_PJ!$B$10:$SM$10)),Quarterly_PJ!$B37:$SM37) -> 0 | ... AJ37: =SUMPRODUCT(--(AJ$10=YEAR(Quarterly_PJ!$B$10:$SM$10)),Quarterly_PJ!$B37:$SM37) -> 0
A38: Waste heat | B38: =SUMPRODUCT(--(B$10=YEAR(Quarterly_PJ!$B$10:$SM$10)),Quarterly_PJ!$B38:$SM38) -> 0 | C38: =SUMPRODUCT(--(C$10=YEAR(Quarterly_PJ!$B$10:$SM$10)),Quarterly_PJ!$B38:$SM38) -> 0 | D38: =SUMPRODUCT(--(D$10=YEAR(Quarterly_PJ!$B$10:$SM$10)),Quarterly_PJ!$B38:$SM38) -> 0 | E38: =SUMPRODUCT(--(E$10=YEAR(Quarterly_PJ!$B$10:$SM$10)),Quarterly_PJ!$B38:$SM38) -> 0 | F38: =SUMPRODUCT(--(F$10=YEAR(Quarterly_PJ!$B$10:$SM$10)),Quarterly_PJ!$B38:$SM38) -> 0 | G38: =SUMPRODUCT(--(G$10=YEAR(Quarterly_PJ!$B$10:$SM$10)),Quarterly_PJ!$B38:$SM38) -> 0 | H38: =SUMPRODUCT(--(H$10=YEAR(Quarterly_PJ!$B$10:$SM$10)),Quarterly_PJ!$B38:$SM38) -> 0 | I38: =SUMPRODUCT(--(I$10=YEAR(Quarterly_PJ!$B$10:$SM$10)),Quarterly_PJ!$B38:$SM38) -> 0 | ... AJ38: =SUMPRODUCT(--(AJ$10=YEAR(Quarterly_PJ!$B$10:$SM$10)),Quarterly_PJ!$B38:$SM38) -> 0
A39: Exports | B39: =SUM(B40:B47) -> 73.545332 | C39: =SUM(C40:C47) -> 93.507615 | D39: =SUM(D40:D47) -> 75.271075 | E39: =SUM(E40:E47) -> 86.277527 | F39: =SUM(F40:F47) -> 93.268624 | G39: =SUM(G40:G47) -> 88.154139 | H39: =SUM(H40:H47) -> 113.99237 | I39: =SUM(I40:I47) -> 128.15138 | ... AJ39: =SUM(AJ40:AJ47) -> 64.115976
A40: Coal | B40: =SUMPRODUCT(--(B$10=YEAR(Quarterly_PJ!$B$10:$SM$10)),Quarterly_PJ!$B40:$SM40) -> 10.528167 | C40: =SUMPRODUCT(--(C$10=YEAR(Quarterly_PJ!$B$10:$SM$10)),Quarterly_PJ!$B40:$SM40) -> 19.117385 | D40: =SUMPRODUCT(--(D$10=YEAR(Quarterly_PJ!$B$10:$SM$10)),Quarterly_PJ!$B40:$SM40) -> 24.146294 | E40: =SUMPRODUCT(--(E$10=YEAR(Quarterly_PJ!$B$10:$SM$10)),Quarterly_PJ!$B40:$SM40) -> 24.708076 | F40: =SUMPRODUCT(--(F$10=YEAR(Quarterly_PJ!$B$10:$SM$10)),Quarterly_PJ!$B40:$SM40) -> 32.737876 | G40: =SUMPRODUCT(--(G$10=YEAR(Quarterly_PJ!$B$10:$SM$10)),Quarterly_PJ!$B40:$SM40) -> 42.707365 | H40: =SUMPRODUCT(--(H$10=YEAR(Quarterly_PJ!$B$10:$SM$10)),Quarterly_PJ!$B40:$SM40) -> 50.897663 | I40: =SUMPRODUCT(--(I$10=YEAR(Quarterly_PJ!$B$10:$SM$10)),Quarterly_PJ!$B40:$SM40) -> 40.202842 | ... AJ40: =SUMPRODUCT(--(AJ$10=YEAR(Quarterly_PJ!$B$10:$SM$10)),Quarterly_PJ!$B40:$SM40) -> 33.147848
A41: Oil | B41: =SUMPRODUCT(--(B$10=YEAR(Quarterly_PJ!$B$10:$SM$10)),Quarterly_PJ!$B41:$SM41) -> 63.017165 | C41: =SUMPRODUCT(--(C$10=YEAR(Quarterly_PJ!$B$10:$SM$10)),Quarterly_PJ!$B41:$SM41) -> 74.39023 | D41: =SUMPRODUCT(--(D$10=YEAR(Quarterly_PJ!$B$10:$SM$10)),Quarterly_PJ!$B41:$SM41) -> 51.124781 | E41: =SUMPRODUCT(--(E$10=YEAR(Quarterly_PJ!$B$10:$SM$10)),Quarterly_PJ!$B41:$SM41) -> 61.569451 | F41: =SUMPRODUCT(--(F$10=YEAR(Quarterly_PJ!$B$10:$SM$10)),Quarterly_PJ!$B41:$SM41) -> 60.530748 | G41: =SUMPRODUCT(--(G$10=YEAR(Quarterly_PJ!$B$10:$SM$10)),Quarterly_PJ!$B41:$SM41) -> 45.446774 | H41: =SUMPRODUCT(--(H$10=YEAR(Quarterly_PJ!$B$10:$SM$10)),Quarterly_PJ!$B41:$SM41) -> 63.094712 | I41: =SUMPRODUCT(--(I$10=YEAR(Quarterly_PJ!$B$10:$SM$10)),Quarterly_PJ!$B41:$SM41) -> 87.948536 | ... AJ41: =SUMPRODUCT(--(AJ$10=YEAR(Quarterly_PJ!$B$10:$SM$10)),Quarterly_PJ!$B41:$SM41) -> 30.968129
A42: Natural gas | B42: =SUMPRODUCT(--(B$10=YEAR(Quarterly_PJ!$B$10:$SM$10)),Quarterly_PJ!$B42:$SM42) -> 0 | C42: =SUMPRODUCT(--(C$10=YEAR(Quarterly_PJ!$B$10:$SM$10)),Quarterly_PJ!$B42:$SM42) -> 0 | D42: =SUMPRODUCT(--(D$10=YEAR(Quarterly_PJ!$B$10:$SM$10)),Quarterly_PJ!$B42:$SM42) -> 0 | E42: =SUMPRODUCT(--(E$10=YEAR(Quarterly_PJ!$B$10:$SM$10)),Quarterly_PJ!$B42:$SM42) -> 0 | F42: =SUMPRODUCT(--(F$10=YEAR(Quarterly_PJ!$B$10:$SM$10)),Quarterly_PJ!$B42:$SM42) -> 0 | G42: =SUMPRODUCT(--(G$10=YEAR(Quarterly_PJ!$B$10:$SM$10)),Quarterly_PJ!$B42:$SM42) -> 0 | H42: =SUMPRODUCT(--(H$10=YEAR(Quarterly_PJ!$B$10:$SM$10)),Quarterly_PJ!$B42:$SM42) -> 0 | I42: =SUMPRODUCT(--(I$10=YEAR(Quarterly_PJ!$B$10:$SM$10)),Quarterly_PJ!$B42:$SM42) -> 0 | ... AJ42: =SUMPRODUCT(--(AJ$10=YEAR(Quarterly_PJ!$B$10:$SM$10)),Quarterly_PJ!$B42:$SM42) -> 0
A43: Hydro | B43: =SUMPRODUCT(--(B$10=YEAR(Quarterly_PJ!$B$10:$SM$10)),Quarterly_PJ!$B43:$SM43) -> 0 | C43: =SUMPRODUCT(--(C$10=YEAR(Quarterly_PJ!$B$10:$SM$10)),Quarterly_PJ!$B43:$SM43) -> 0 | D43: =SUMPRODUCT(--(D$10=YEAR(Quarterly_PJ!$B$10:$SM$10)),Quarterly_PJ!$B43:$SM43) -> 0 | E43: =SUMPRODUCT(--(E$10=YEAR(Quarterly_PJ!$B$10:$SM$10)),Quarterly_PJ!$B43:$SM43) -> 0 | F43: =SUMPRODUCT(--(F$10=YEAR(Quarterly_PJ!$B$10:$SM$10)),Quarterly_PJ!$B43:$SM43) -> 0 | G43: =SUMPRODUCT(--(G$10=YEAR(Quarterly_PJ!$B$10:$SM$10)),Quarterly_PJ!$B43:$SM43) -> 0 | H43: =SUMPRODUCT(--(H$10=YEAR(Quarterly_PJ!$B$10:$SM$10)),Quarterly_PJ!$B43:$SM43) -> 0 | I43: =SUMPRODUCT(--(I$10=YEAR(Quarterly_PJ!$B$10:$SM$10)),Quarterly_PJ!$B43:$SM43) -> 0 | ... AJ43: =SUMPRODUCT(--(AJ$10=YEAR(Quarterly_PJ!$B$10:$SM$10)),Quarterly_PJ!$B43:$SM43) -> 0
A44: Geothermal | B44: =SUMPRODUCT(--(B$10=YEAR(Quarterly_PJ!$B$10:$SM$10)),Quarterly_PJ!$B44:$SM44) -> 0 | C44: =SUMPRODUCT(--(C$10=YEAR(Quarterly_PJ!$B$10:$SM$10)),Quarterly_PJ!$B44:$SM44) -> 0 | D44: =SUMPRODUCT(--(D$10=YEAR(Quarterly_PJ!$B$10:$SM$10)),Quarterly_PJ!$B44:$SM44) -> 0 | E44: =SUMPRODUCT(--(E$10=YEAR(Quarterly_PJ!$B$10:$SM$10)),Quarterly_PJ!$B44:$SM44) -> 0 | F44: =SUMPRODUCT(--(F$10=YEAR(Quarterly_PJ!$B$10:$SM$10)),Quarterly_PJ!$B44:$SM44) -> 0 | G44: =SUMPRODUCT(--(G$10=YEAR(Quarterly_PJ!$B$10:$SM$10)),Quarterly_PJ!$B44:$SM44) -> 0 | H44: =SUMPRODUCT(--(H$10=YEAR(Quarterly_PJ!$B$10:$SM$10)),Quarterly_PJ!$B44:$SM44) -> 0 | I44: =SUMPRODUCT(--(I$10=YEAR(Quarterly_PJ!$B$10:$SM$10)),Quarterly_PJ!$B44:$SM44) -> 0 | ... AJ44: =SUMPRODUCT(--(AJ$10=YEAR(Quarterly_PJ!$B$10:$SM$10)),Quarterly_PJ!$B44:$SM44) -> 0
A45: Other renewables | B45: =SUMPRODUCT(--(B$10=YEAR(Quarterly_PJ!$B$10:$SM$10)),Quarterly_PJ!$B45:$SM45) -> 0 | C45: =SUMPRODUCT(--(C$10=YEAR(Quarterly_PJ!$B$10:$SM$10)),Quarterly_PJ!$B45:$SM45) -> 0 | D45: =SUMPRODUCT(--(D$10=YEAR(Quarterly_PJ!$B$10:$SM$10)),Quarterly_PJ!$B45:$SM45) -> 0 | E45: =SUMPRODUCT(--(E$10=YEAR(Quarterly_PJ!$B$10:$SM$10)),Quarterly_PJ!$B45:$SM45) -> 0 | F45: =SUMPRODUCT(--(F$10=YEAR(Quarterly_PJ!$B$10:$SM$10)),Quarterly_PJ!$B45:$SM45) -> 0 | G45: =SUMPRODUCT(--(G$10=YEAR(Quarterly_PJ!$B$10:$SM$10)),Quarterly_PJ!$B45:$SM45) -> 0 | H45: =SUMPRODUCT(--(H$10=YEAR(Quarterly_PJ!$B$10:$SM$10)),Quarterly_PJ!$B45:$SM45) -> 0 | I45: =SUMPRODUCT(--(I$10=YEAR(Quarterly_PJ!$B$10:$SM$10)),Quarterly_PJ!$B45:$SM45) -> 0 | ... AJ45: =SUMPRODUCT(--(AJ$10=YEAR(Quarterly_PJ!$B$10:$SM$10)),Quarterly_PJ!$B45:$SM45) -> 0
A46: Electricity | B46: =SUMPRODUCT(--(B$10=YEAR(Quarterly_PJ!$B$10:$SM$10)),Quarterly_PJ!$B46:$SM46) -> 0 | C46: =SUMPRODUCT(--(C$10=YEAR(Quarterly_PJ!$B$10:$SM$10)),Quarterly_PJ!$B46:$SM46) -> 0 | D46: =SUMPRODUCT(--(D$10=YEAR(Quarterly_PJ!$B$10:$SM$10)),Quarterly_PJ!$B46:$SM46) -> 0 | E46: =SUMPRODUCT(--(E$10=YEAR(Quarterly_PJ!$B$10:$SM$10)),Quarterly_PJ!$B46:$SM46) -> 0 | F46: =SUMPRODUCT(--(F$10=YEAR(Quarterly_PJ!$B$10:$SM$10)),Quarterly_PJ!$B46:$SM46) -> 0 | G46: =SUMPRODUCT(--(G$10=YEAR(Quarterly_PJ!$B$10:$SM$10)),Quarterly_PJ!$B46:$SM46) -> 0 | H46: =SUMPRODUCT(--(H$10=YEAR(Quarterly_PJ!$B$10:$SM$10)),Quarterly_PJ!$B46:$SM46) -> 0 | I46: =SUMPRODUCT(--(I$10=YEAR(Quarterly_PJ!$B$10:$SM$10)),Quarterly_PJ!$B46:$SM46) -> 0 | ... AJ46: =SUMPRODUCT(--(AJ$10=YEAR(Quarterly_PJ!$B$10:$SM$10)),Quarterly_PJ!$B46:$SM46) -> 0
A47: Waste heat | B47: =SUMPRODUCT(--(B$10=YEAR(Quarterly_PJ!$B$10:$SM$10)),Quarterly_PJ!$B47:$SM47) -> 0 | C47: =SUMPRODUCT(--(C$10=YEAR(Quarterly_PJ!$B$10:$SM$10)),Quarterly_PJ!$B47:$SM47) -> 0 | D47: =SUMPRODUCT(--(D$10=YEAR(Quarterly_PJ!$B$10:$SM$10)),Quarterly_PJ!$B47:$SM47) -> 0 | E47: =SUMPRODUCT(--(E$10=YEAR(Quarterly_PJ!$B$10:$SM$10)),Quarterly_PJ!$B47:$SM47) -> 0 | F47: =SUMPRODUCT(--(F$10=YEAR(Quarterly_PJ!$B$10:$SM$10)),Quarterly_PJ!$B47:$SM47) -> 0 | G47: =SUMPRODUCT(--(G$10=YEAR(Quarterly_PJ!$B$10:$SM$10)),Quarterly_PJ!$B47:$SM47) -> 0 | H47: =SUMPRODUCT(--(H$10=YEAR(Quarterly_PJ!$B$10:$SM$10)),Quarterly_PJ!$B47:$SM47) -> 0 | I47: =SUMPRODUCT(--(I$10=YEAR(Quarterly_PJ!$B$10:$SM$10)),Quarterly_PJ!$B47:$SM47) -> 0 | ... AJ47: =SUMPRODUCT(--(AJ$10=YEAR(Quarterly_PJ!$B$10:$SM$10)),Quarterly_PJ!$B47:$SM47) -> 0
...

Sheet Quarterly_PJ
A1: Return to contents
A8: Primary Energy Supply, Energy Transformation, and Energy Consumption
A9: Gross petajoules (PJ)
A10: Calendar year quarters | B10: 32933 | C10: 33025 | D10: 33117 | E10: 33208 | F10: 33298 | G10: 33390 | H10: 33482 | I10: 33573 | J10: 33664 | K10: 33756 | L10: 33848 | M10: 33939 | N10: 34029 | O10: 34121 | P10: 34213 | Q10: 34304 | R10: 34394 | S10: 34486 | T10: 34578 | U10: 34669 | V10: 34759 | W10: 34851 | X10: 34943 | Y10: 35034 | Z10: 35125 | AA10: 35217 | AB10: 35309 | AC10: 35400 | AD10: 35490 | AE10: 35582 | AF10: 35674 | AG10: 35765 | AH10: 35855 | AI10: 35947 | AJ10: 36039 | AK10: 36130 | AL10: 36220 | AM10: 36312 | AN10: 36404 | AO10: 36495 | AP10: 36586 | AQ10: 36678 | AR10: 36770 | AS10: 36861 | AT10: 36951 | AU10: 37043 | AV10: 37135 | AW10: 37226 | AX10: 37316 | AY10: 37408 | AZ10: 37500 | BA10: 37591 | BB10: 37681 | BC10: 37773 | BD10: 37865 | BE10: 37956 | BF10: 38047 | BG10: 38139 | BH10: 38231 | BI10: 38322 | BJ10: 38412 | BK10: 38504 | BL10: 38596 | BM10: 38687 | BN10: 38777 | BO10: 38869 | BP10: 38961 | BQ10: 39052 | BR10: 39142 | BS10: 39234 | BT10: 39326 | BU10: 39417 | BV10: 39508 | BW10: 39600 | BX10: 39692 | BY10: 39783 | BZ10: 39873 | CA10: 39965 | CB10: 40057 | CC10: 40148 | CD10: 40238 | CE10: 40330 | CF10: 40422 | CG10: 40513 | CH10: 40603 | CI10: 40695 | CJ10: 40787 | CK10: 40878 | CL10: 40969 | CM10: 41061 | CN10: 41153 | CO10: 41244 | CP10: 41334 | CQ10: 41426 | CR10: 41518 | CS10: 41609 | CT10: 41699 | CU10: 41791 | CV10: 41883 | CW10: 41974 | CX10: 42064 | CY10: 42156 | CZ10: 42248 | DA10: 42339 | DB10: 42430 | DC10: 42522 | DD10: 42614 | DE10: 42705 | DF10: 42795 | DG10: 42887 | DH10: 42979 | DI10: 43070 | DJ10: 43160 | DK10: 43252 | DL10: 43344 | DM10: 43435 | DN10: 43525 | DO10: 43617 | DP10: 43709 | DQ10: 43800 | DR10: 43891 | DS10: 43983 | DT10: 44075 | DU10: 44166 | DV10: 44256 | DW10: 44348 | DX10: 44440 | DY10: 44531 | DZ10: 44621 | EA10: 44713 | EB10: 44805 | EC10: 44896 | ED10: 44986 | EE10: 45078 | EF10: 45170 | EG10: 45261 | EH10: 45352 | EI10: 45444 | EJ10: 45536 | EK10: 45627
A12: Primary Energy Supply | B12: =B21+B30-B39-B48-B57 -> 141.60022 | C12: =C21+C30-C39-C48-C57 -> 146.8383 | D12: =D21+D30-D39-D48-D57 -> 153.16142 | E12: =E21+E30-E39-E48-E57 -> 142.07994 | F12: =F21+F30-F39-F48-F57 -> 141.91364 | G12: =G21+G30-G39-G48-G57 -> 158.66046 | H12: =H21+H30-H39-H48-H57 -> 150.91592 | I12: =I21+I30-I39-I48-I57 -> 148.53149 | ... EK12: =EK21+EK30-EK39-EK48-EK57 -> 201.39012
A13: Coal | B13: =B22+B31-B40-B49-B58 -> 15.420302 | C13: =C22+C31-C40-C49-C58 -> 11.929413 | D13: =D22+D31-D40-D49-D58 -> 13.559671 | E13: =E22+E31-E40-E49-E58 -> 11.306722 | F13: =F22+F31-F40-F49-F58 -> 10.773939 | G13: =G22+G31-G40-G49-G58 -> 11.432379 | H13: =H22+H31-H40-H49-H58 -> 12.659646 | I13: =I22+I31-I40-I49-I58 -> 11.840026 | ... EK13: =EK22+EK31-EK40-EK49-EK58 -> 10.341984
A14: Oil | B14: =B23+B32-B41-B50-B59 -> 40.379607 | C14: =C23+C32-C41-C50-C59 -> 36.397725 | D14: =D23+D32-D41-D50-D59 -> 40.591905 | E14: =E23+E32-E41-E50-E59 -> 41.1405 | F14: =F23+F32-F41-F50-F59 -> 43.762358 | G14: =G23+G32-G41-G50-G59 -> 43.395071 | H14: =H23+H32-H41-H50-H59 -> 32.301994 | I14: =I23+I32-I41-I50-I59 -> 42.700333 | ... EK14: =EK23+EK32-EK41-EK50-EK59 -> 70.032965
A15: Natural gas | B15: =B24+B33-B42-B51-B60 -> 40.785218 | C15: =C24+C33-C42-C51-C60 -> 50.548174 | D15: =D24+D33-D42-D51-D60 -> 46.177164 | E15: =E24+E33-E42-E51-E60 -> 43.092036 | F15: =F24+F33-F42-F51-F60 -> 40.674752 | G15: =G24+G33-G42-G51-G60 -> 56.166644 | H15: =H24+H33-H42-H51-H60 -> 56.163381 | I15: =I24+I33-I42-I51-I60 -> 43.498332 | ... EK15: =EK24+EK33-EK42-EK51-EK60 -> 23.961604
A16: Hydro | B16: =B25+B34-B43-B52-B61 -> 19.016809 | C16: =C25+C34-C43-C52-C61 -> 19.777261 | D16: =D25+D34-D43-D52-D61 -> 23.783986 | E16: =E25+E34-E43-E52-E61 -> 20.880686 | F16: =F25+F34-F43-F52-F61 -> 19.583922 | G16: =G25+G34-G43-G52-G61 -> 19.62322 | H16: =H25+H34-H43-H52-H61 -> 21.008824 | I16: =I25+I34-I43-I52-I61 -> 22.195862 | ... EK16: =EK25+EK34-EK43-EK52-EK61 -> 22.762844
A17: Geothermal | B17: =B26+B35-B44-B53-B62 -> 15.558188 | C17: =C26+C35-C44-C53-C62 -> 15.969771 | D17: =D26+D35-D44-D53-D62 -> 16.787485 | E17: =E26+E35-E44-E53-E62 -> 14.170799 | F17: =F26+F35-F44-F53-F62 -> 16.041627 | G17: =G26+G35-G44-G53-G62 -> 16.042426 | H17: =H26+H35-H44-H53-H62 -> 16.687203 | I17: =I26+I35-I44-I53-I62 -> 16.83005 | ... EK17: =EK26+EK35-EK44-EK53-EK62 -> 56.958294
A18: Other renewables | B18: =B27+B36-B45-B54-B63 -> 10.064401 | C18: =C27+C36-C45-C54-C63 -> 11.805459 | D18: =D27+D36-D45-D54-D63 -> 11.822595 | E18: =E27+E36-E45-E54-E63 -> 11.104148 | F18: =F27+F36-F45-F54-F63 -> 10.701341 | G18: =G27+G36-G45-G54-G63 -> 11.591919 | H18: =H27+H36-H45-H54-H63 -> 11.655927 | I18: =I27+I36-I45-I54-I63 -> 11.081612 | ... EK18: =EK27+EK36-EK45-EK54-EK63 -> 17.171532
A19: Electricity | B19: =B28+B37-B46-B55-B64 -> 0 | C19: =C28+C37-C46-C55-C64 -> 0 | D19: =D28+D37-D46-D55-D64 -> 0 | E19: =E28+E37-E46-E55-E64 -> 0 | F19: =F28+F37-F46-F55-F64 -> 0 | G19: =G28+G37-G46-G55-G64 -> 0 | H19: =H28+H37-H46-H55-H64 -> 0 | I19: =I28+I37-I46-I55-I64 -> 0 | ... EK19: =EK28+EK37-EK46-EK55-EK64 -> 0
A20: Waste heat | B20: =B29+B38-B47-B56-B65 -> 0.3756984 | C20: =C29+C38-C47-C56-C65 -> 0.4104948 | D20: =D29+D38-D47-D56-D65 -> 0.4386144 | E20: =E29+E38-E47-E56-E65 -> 0.38504592 | F20: =F29+F38-F47-F56-F65 -> 0.3756984 | G20: =G29+G38-G47-G56-G65 -> 0.40887696 | H20: =H29+H38-H47-H56-H65 -> 0.43902528 | I20: =I29+I38-I47-I56-I65 -> 0.38527704 | ... EK20: =EK29+EK38-EK47-EK56-EK65 -> 0.16089162
A21: Indigenous Production | B21: =SUM(B22:B29) -> 124.7779 | C21: =SUM(C22:C29) -> 134.50377 | D21: =SUM(D22:D29) -> 137.2562 | E21: =SUM(E22:E29) -> 126.70416 | F21: =SUM(F22:F29) -> 123.52509 | G21: =SUM(G22:G29) -> 144.32222 | H21: =SUM(H22:H29) -> 148.99386 | I21: =SUM(I22:I29) -> 132.50051 | ... EK21: =SUM(EK22:EK29) -> 147.30317
A22: Coal | B22: 19.318263 | C22: 13.525453 | D22: 15.41393 | E22: 14.467801 | F22: 14.542905 | G22: 15.682992 | H22: 18.303472 | I22: 17.275529 | J22: 21.676114 | K22: 16.888225 | L22: 18.576634 | M22: 17.792209 | N22: 14.421982 | O22: 20.371488 | P22: 27.674912 | Q22: 22.091155 | R22: 17.211216 | S22: 23.258352 | T22: 16.826888 | U22: 20.348297 | V22: 25.234272 | W22: 24.248093 | X22: 22.360578 | Y22: 23.368836 | Z22: 20.411104 | AA22: 27.305392 | AB22: 19.61951 | AC22: 29.876803 | AD22: 23.186443 | AE22: 25.222004 | AF22: 20.881443 | AG22: 22.178179 | AH22: 19.141837 | AI22: 25.20019 | AJ22: 17.470944 | AK22: 17.627259 | AL22: 19.165187 | AM22: 27.07963 | AN22: 22.102497 | AO22: 23.358692 | AP22: 15.380838 | AQ22: 23.575975 | AR22: 28.266361 | AS22: 24.12723 | AT22: 23.139233 | AU22: 28.307029 | AV22: 24.789941 | AW22: 27.552676 | AX22: 19.481645 | AY22: 35.289887 | AZ22: 33.000596 | BA22: 31.550049 | BB22: 30.528962 | BC22: 36.805424 | BD22: 36.221799 | BE22: 31.929936 | BF22: 27.442641 | BG22: 35.498295 | BH22: 37.711533 | BI22: 36.328891 | BJ22: 31.654027 | BK22: 35.894319 | BL22: 30.392032 | BM22: 41.490775 | BN22: 30.192278 | BO22: 40.974936 | BP22: 32.815543 | BQ22: 46.052034 | BR22: 38.124062 | BS22: 29.119972 | BT22: 28.442077 | BU22: 29.135502 | BV22: 33.277991 | BW22: 35.967531 | BX22: 30.82649 | BY22: 24.976292 | BZ22: 31.642707 | CA22: 33.184941 | CB22: 31.479294 | CC22: 20.024033 | CD22: 33.928012 | CE22: 38.623474 | CF22: 35.028186 | CG22: 31.301718 | CH22: 29.102983 | CI22: 32.827038 | CJ22: 31.579116 | CK22: 34.671883 | CL22: 36.277425 | CM22: 30.286023 | CN22: 31.215857 | CO22: 29.406476 | CP22: 31.387452 | CQ22: 31.920639 | CR22: 27.283249 | CS22: 30.108381 | CT22: 28.184347 | CU22: 27.08259 | CV22: 23.364575 | CW22: 24.677659 | CX22: 25.941187 | CY22: 22.056616 | CZ22: 19.008763 | DA22: 18.335768 | DB22: 19.010039 | DC22: 16.970779 | DD22: 18.183351 | DE22: 17.407861 | DF22: 13.869478 | DG22: 21.001714 | DH22: 18.170641 | DI22: 19.411826 | DJ22: 19.992167 | DK22: 19.525141 | DL22: 19.918935 | DM22: 20.15094 | DN22: 19.283864 | DO22: 18.70869 | DP22: 18.231443 | DQ22: 18.611468 | DR22: 19.397253 | DS22: 14.523843 | DT22: 16.288883 | DU22: 18.238447 | DV22: 18.736553 | DW22: 17.21569 | DX22: 16.380992 | DY22: 18.123505 | DZ22: 18.297055 | EA22: 15.188614 | EB22: 15.087985 | EC22: 17.407454 | ED22: 17.25665 | EE22: 18.470721 | EF22: 15.477489 | EG22: 14.57094 | EH22: 18.331808 | EI22: 16.146652 | EJ22: 14.042068 | EK22: 14.8616
A23: Oil | B23: 19.670104 | C23: 22.459466 | D23: 22.849663 | E23: 22.603924 | F23: 21.594736 | G23: 24.820316 | H23: 24.759212 | I23: 21.208395 | J23: 20.53131 | K23: 25.903506 | L23: 22.571386 | M23: 19.07262 | N23: 18.811787 | O23: 24.596557 | P23: 23.611493 | Q23: 25.682159 | R23: 22.935416 | S23: 25.760192 | T23: 22.767489 | U23: 18.215323 | V23: 16.921301 | W23: 18.282946 | X23: 22.247121 | Y23: 18.510857 | Z23: 17.336638 | AA23: 21.674168 | AB23: 27.140094 | AC23: 33.555399 | AD23: 33.520701 | AE23: 34.672672 | AF23: 34.093092 | AG23: 28.099956 | AH23: 22.107699 | AI23: 28.050534 | AJ23: 28.681463 | AK23: 26.417489 | AL23: 24.471809 | AM23: 23.930678 | AN23: 25.219848 | AO23: 20.795345 | AP23: 20.325118 | AQ23: 20.333601 | AR23: 22.008856 | AS23: 22.802885 | AT23: 19.464381 | AU23: 21.856514 | AV23: 21.884037 | AW23: 18.576841 | AX23: 15.601537 | AY23: 21.847769 | AZ23: 20.224196 | BA23: 17.339515 | BB23: 15.448417 | BC23: 15.392709 | BD23: 15.743422 | BE23: 11.812825 | BF23: 12.052326 | BG23: 12.724875 | BH23: 14.006295 | BI23: 12.8774 | BJ23: 10.562837 | BK23: 13.057892 | BL23: 13.509648 | BM23: 11.123007 | BN23: 11.608734 | BO23: 11.778759 | BP23: 11.574146 | BQ23: 10.834103 | BR23: 10.700463 | BS23: 14.811435 | BT23: 30.444309 | BU23: 37.265272 | BV23: 36.479557 | BW23: 36.591735 | BX23: 32.399441 | BY23: 26.361858 | BZ23: 26.451323 | CA23: 30.033829 | CB23: 35.870382 | CC23: 32.738644 | CD23: 30.630687 | CE23: 32.714037 | CF23: 32.345742 | CG23: 28.094914 | CH23: 27.371751 | CI23: 26.309643 | CJ23: 29.150917 | CK23: 24.445194 | CL23: 22.823138 | CM23: 26.527308 | CN23: 26.107433 | CO23: 21.00613 | CP23: 20.335476 | CQ23: 22.771764 | CR23: 19.070236 | CS23: 17.618262 | CT23: 24.064258 | CU23: 23.947661 | CV23: 25.08246 | CW23: 22.273732 | CX23: 21.11229 | CY23: 27.135548 | CZ23: 26.926486 | DA23: 23.09452 | DB23: 22.263635 | DC23: 20.976228 | DD23: 21.734336 | DE23: 17.689278 | DF23: 18.323501 | DG23: 19.178307 | DH23: 18.998937 | DI23: 18.694054 | DJ23: 16.166375 | DK23: 13.671923 | DL23: 16.141031 | DM23: 13.846744 | DN23: 14.446959 | DO23: 15.498418 | DP23: 16.498539 | DQ23: 14.848368 | DR23: 14.195946 | DS23: 13.099403 | DT23: 13.222921 | DU23: 12.542177 | DV23: 11.628166 | DW23: 11.841961 | DX23: 11.457028 | DY23: 11.605476 | DZ23: 11.273512 | EA23: 10.379175 | EB23: 10.376138 | EC23: 9.9333793 | ED23: 10.786837 | EE23: 11.486958 | EF23: 11.891091 | EG23: 10.639672 | EH23: 10.465512 | EI23: 9.5485003 | EJ23: 9.9585432 | EK23: 9.1364911
A24: Natural gas | B24: 40.774818 | C24: 50.555864 | D24: 46.160054 | E24: 43.092836 | F24: 40.685112 | G24: 56.152554 | H24: 56.140281 | I24: 43.525582 | J24: 42.143946 | K24: 66.169075 | L24: 55.86387 | M24: 44.374775 | N24: 45.309707 | O24: 55.427168 | P24: 50.18412 | Q24: 52.062155 | R24: 45.041805 | S24: 55.455492 | T24: 47.371218 | U24: 41.629843 | V24: 39.526384 | W24: 44.062611 | X24: 54.92386 | Y24: 40.490208 | Z24: 41.702521 | AA24: 55.623072 | AB24: 63.254572 | AC24: 43.874747 | AD24: 54.589793 | AE24: 62.18525 | AF24: 55.262893 | AG24: 47.025514 | AH24: 36.166925 | AI24: 49.595422 | AJ24: 52.606843 | AK24: 53.4012 | AL24: 54.235162 | AM24: 51.728165 | AN24: 62.712431 | AO24: 55.821214 | AP24: 55.424421 | AQ24: 59.820242 | AR24: 63.043968 | AS24: 57.757688 | AT24: 56.708338 | AU24: 63.74769 | AV24: 70.308565 | AW24: 57.661223 | AX24: 52.829574 | AY24: 67.530505 | AZ24: 61.805428 | BA24: 54.060951 | BB24: 47.978191 | BC24: 46.659517 | BD24: 50.372863 | BE24: 35.292717 | BF24: 38.866829 | BG24: 39.401077 | BH24: 42.957708 | BI24: 40.824769 | BJ24: 34.179408 | BK24: 39.481585 | BL24: 42.912151 | BM24: 34.398995 | BN24: 38.189604 | BO24: 41.578496 | BP24: 40.33438 | BQ24: 34.698602 | BR24: 35.753322 | BS24: 46.742458 | BT24: 47.942434 | BU24: 39.859468 | BV24: 36.764778 | BW24: 44.062122 | BX24: 42.549919 | BY24: 37.226796 | BZ24: 38.302027 | CA24: 42.322344 | CB24: 43.157412 | CC24: 43.458543 | CD24: 42.076863 | CE24: 45.26323 | CF24: 48.564455 | CG24: 43.43583 | CH24: 35.213776 | CI24: 40.160946 | CJ24: 46.867997 | CK24: 38.21151 | CL24: 37.64624 | CM24: 44.922185 | CN24: 48.732619 | CO24: 40.733796 | CP24: 42.88261 | CQ24: 48.429714 | CR24: 48.6396 | CS24: 43.201918 | CT24: 46.388764 | CU24: 51.794161 | CV24: 55.745141 | CW24: 50.079052 | CX24: 46.607404 | CY24: 48.81082 | CZ24: 50.407585 | DA24: 42.784007 | DB24: 46.106653 | DC24: 51.207144 | DD24: 52.498867 | DE24: 46.0359 | DF24: 44.583113 | DG24: 44.505942 | DH24: 53.908755 | DI24: 51.368683 | DJ24: 46.340066 | DK24: 37.423095 | DL24: 47.668339 | DM24: 40.855238 | DN24: 41.951626 | DO24: 44.612617 | DP24: 50.962898 | DQ24: 46.790683 | DR24: 43.963714 | DS24: 46.201883 | DT24: 46.572084 | DU24: 43.342077 | DV24: 38.962095 | DW24: 38.79978 | DX24: 39.134135 | DY24: 40.629156 | DZ24: 39.319254 | EA24: 34.876674 | EB24: 35.152941 | EC24: 33.871931 | ED24: 37.843303 | EE24: 38.14219 | EF24: 38.29762 | EG24: 33.814635 | EH24: 32.067993 | EI24: 31.043958 | EJ24: 30.225085 | EK24: 26.298396
A25: Hydro | B25: 19.016809 | C25: 19.777261 | D25: 23.783986 | E25: 20.880686 | F25: 19.583922 | G25: 19.62322 | H25: 21.008824 | I25: 22.195862 | J25: 20.416397 | K25: 16.715422 | L25: 16.443874 | M25: 22.350327 | N25: 21.839907 | O25: 19.249163 | P25: 24.332905 | Q25: 19.143982 | R25: 22.040175 | S25: 19.713471 | T25: 27.001597 | U25: 24.248945 | V25: 22.135378 | W25: 25.276979 | X25: 25.623678 | Y25: 26.079186 | Z25: 24.842806 | AA25: 23.180529 | AB25: 22.254087 | AC25: 23.971697 | AD25: 20.262239 | AE25: 19.255049 | AF25: 21.964196 | AG25: 22.239539 | AH25: 22.396855 | AI25: 22.631391 | AJ25: 24.119973 | AK25: 21.992241 | AL25: 19.526651 | AM25: 22.054351 | AN25: 21.161469 | AO25: 19.759577 | AP25: 19.418767 | AQ25: 21.314268 | AR25: 23.973995 | AS25: 23.250089 | AT25: 20.775791 | AU25: 19.407703 | AV25: 17.392079 | AW25: 20.468829 | AX25: 20.947116 | AY25: 19.295109 | AZ25: 25.055889 | BA25: 24.241927 | BB25: 20.358458 | BC25: 18.478234 | BD25: 21.982194 | BE25: 24.222816 | BF25: 24.561548 | BG25: 22.865428 | BH25: 27.913097 | BI25: 22.722572 | BJ25: 22.65063 | BK25: 20.755709 | BL25: 20.658379 | BM25: 19.914218 | BN25: 18.712832 | BO25: 20.825167 | BP25: 22.561335 | BQ25: 22.763907 | BR25: 22.028623 | BS25: 19.387865 | BT25: 22.595911 | BU25: 21.093027 | BV25: 19.162341 | BW25: 17.367206 | BX25: 22.33493 | BY25: 21.586033 | BZ25: 19.949462 | CA25: 21.650562 | CB25: 23.050917 | CC25: 22.531275 | CD25: 20.743523 | CE25: 21.706661 | CF25: 24.153017 | CG25: 22.411452 | CH25: 22.38714 | CI25: 23.647054 | CJ25: 22.725165 | CK25: 21.638143 | CL25: 18.946363 | CM25: 17.748424 | CN25: 22.827411 | CO25: 22.905664 | CP25: 19.101363 | CQ25: 18.521738 | CR25: 22.047176 | CS25: 23.339785 | CT25: 20.573788 | CU25: 21.236025 | CV25: 24.451827 | CW25: 21.457399 | CX25: 19.339429 | CY25: 22.237725 | CZ25: 24.810815 | DA25: 22.109694 | DB25: 21.124582 | DC25: 22.577625 | DD25: 26.053147 | DE25: 23.725195 | DF25: 22.295821 | DG25: 22.045512 | DH25: 23.898755 | DI25: 22.406453 | DJ25: 21.014595 | DK25: 24.862386 | DL25: 26.07475 | DM25: 22.739292 | DN25: 20.892288 | DO25: 23.511791 | DP25: 24.391457 | DQ25: 23.548881 | DR25: 21.384717 | DS25: 20.660531 | DT25: 22.692747 | DU25: 22.809775 | DV25: 19.375728 | DW25: 19.600717 | DX25: 24.310783 | DY25: 23.901063 | DZ25: 20.430556 | EA25: 21.066455 | EB25: 27.203631 | EC25: 26.095304 | ED25: 21.948214 | EE25: 26.370206 | EF25: 24.330002 | EG25: 22.958666 | EH25: 21.147313 | EI25: 21.259785 | EJ25: 20.241429 | EK25: 22.762844
A26: Geothermal | B26: 15.558188 | C26: 15.969771 | D26: 16.787485 | E26: 14.170799 | F26: 16.041627 | G26: 16.042426 | H26: 16.687203 | I26: 16.83005 | J26: 15.622112 | K26: 16.595112 | L26: 16.917112 | M26: 15.964935 | N26: 16.553753 | O26: 17.345062 | P26: 17.639872 | Q26: 16.889662 | R26: 15.563342 | S26: 16.471712 | T26: 16.343702 | U26: 15.607962 | V26: 15.67288 | W26: 15.914791 | X26: 16.115919 | Y26: 15.366591 | Z26: 14.97509 | AA26: 16.354402 | AB26: 16.8493 | AC26: 15.958401 | AD26: 14.908858 | AE26: 17.279115 | AF26: 18.308037 | AG26: 16.122618 | AH26: 15.846702 | AI26: 19.312336 | AJ26: 18.742015 | AK26: 16.640077 | AL26: 16.72302 | AM26: 19.544395 | AN26: 20.200813 | AO26: 18.370236 | AP26: 18.3185 | AQ26: 20.80935 | AR26: 22.042049 | AS26: 20.844106 | AT26: 19.171335 | AU26: 19.752569 | AV26: 19.312031 | AW26: 18.076243 | AX26: 17.213275 | AY26: 18.522433 | AZ26: 18.879998 | BA26: 18.54039 | BB26: 18.028049 | BC26: 18.553978 | BD26: 18.751197 | BE26: 18.074112 | BF26: 17.533213 | BG26: 18.605546 | BH26: 19.134355 | BI26: 18.846094 | BJ26: 18.829071 | BK26: 20.912823 | BL26: 20.836823 | BM26: 20.93917 | BN26: 20.581571 | BO26: 21.169872 | BP26: 22.380787 | BQ26: 20.68018 | BR26: 21.652272 | BS26: 21.080711 | BT26: 22.93834 | BU26: 23.137217 | BV26: 22.714187 | BW26: 23.644273 | BX26: 27.62788 | BY26: 28.438946 | BZ26: 27.797049 | CA26: 30.238743 | CB26: 31.086024 | CC26: 28.8627 | CD26: 29.539445 | CE26: 36.548194 | CF26: 36.303382 | CG26: 36.356589 | CH26: 35.292966 | CI26: 37.588263 | CJ26: 38.117675 | CK26: 37.465515 | CL26: 37.258217 | CM26: 38.270837 | CN26: 38.615915 | CO26: 38.403267 | CP26: 37.783586 | CQ26: 39.163239 | CR26: 41.739072 | CS26: 49.474172 | CT26: 41.771606 | CU26: 44.895572 | CV26: 47.115546 | CW26: 50.224043 | CX26: 48.07654 | CY26: 48.940452 | CZ26: 49.126551 | DA26: 47.361087 | DB26: 48.281935 | DC26: 47.723937 | DD26: 47.610066 | DE26: 45.463195 | DF26: 47.323458 | DG26: 47.685697 | DH26: 48.525285 | DI26: 47.050869 | DJ26: 47.006854 | DK26: 49.462252 | DL26: 50.77253 | DM26: 49.252227 | DN26: 49.705343 | DO26: 51.833199 | DP26: 52.002321 | DQ26: 47.548418 | DR26: 50.694955 | DS26: 50.626365 | DT26: 50.583659 | DU26: 48.894137 | DV26: 51.194267 | DW26: 49.932223 | DX26: 50.639037 | DY26: 52.02749 | DZ26: 50.941371 | EA26: 52.076945 | EB26: 52.697196 | EC26: 48.786997 | ED26: 49.701381 | EE26: 46.948729 | EF26: 53.238452 | EG26: 55.713951 | EH26: 53.49251 | EI26: 56.937043 | EJ26: 58.667016 | EK26: 56.958294
A27: Other renewables | B27: 10.064019 | C27: 11.805459 | D27: 11.822472 | E27: 11.103069 | F27: 10.701089 | G27: 11.59184 | H27: 11.655842 | I27: 11.079816 | J27: 10.755589 | K27: 11.516048 | L27: 11.520921 | M27: 11.197241 | N27: 10.938959 | O27: 12.501778 | P27: 12.543437 | Q27: 11.791225 | R27: 11.503067 | S27: 12.637588 | T27: 12.985169 | U27: 12.425563 | V27: 12.191152 | W27: 13.254074 | X27: 13.22402 | Y27: 12.333716 | Z27: 11.984298 | AA27: 12.705311 | AB27: 13.002355 | AC27: 12.286976 | AD27: 11.863547 | AE27: 13.481971 | AF27: 13.544524 | AG27: 12.497707 | AH27: 12.006635 | AI27: 12.58071 | AJ27: 12.616173 | AK27: 12.698078 | AL27: 12.852861 | AM27: 13.516395 | AN27: 14.207857 | AO27: 14.005976 | AP27: 14.355806 | AQ27: 14.447102 | AR27: 14.306116 | AS27: 14.090072 | AT27: 13.474833 | AU27: 14.389426 | AV27: 14.287412 | AW27: 14.360968 | AX27: 14.11755 | AY27: 15.444452 | AZ27: 15.216256 | BA27: 15.430073 | BB27: 14.53276 | BC27: 13.139568 | BD27: 15.914471 | BE27: 15.375461 | BF27: 15.536004 | BG27: 15.908057 | BH27: 16.619994 | BI27: 16.727747 | BJ27: 15.755863 | BK27: 16.782993 | BL27: 16.94553 | BM27: 16.310237 | BN27: 15.933075 | BO27: 16.497888 | BP27: 17.09063 | BQ27: 16.723091 | BR27: 16.055518 | BS27: 16.826457 | BT27: 17.430522 | BU27: 16.924782 | BV27: 15.834051 | BW27: 16.056648 | BX27: 16.461286 | BY27: 15.52461 | BZ27: 14.668526 | CA27: 15.114763 | CB27: 15.922122 | CC27: 16.668925 | CD27: 16.246545 | CE27: 16.722216 | CF27: 17.357108 | CG27: 16.889466 | CH27: 16.36514 | CI27: 17.378639 | CJ27: 17.621118 | CK27: 17.027374 | CL27: 16.614392 | CM27: 17.644811 | CN27: 17.455249 | CO27: 17.232976 | CP27: 16.111533 | CQ27: 16.483396 | CR27: 17.478177 | CS27: 16.840945 | CT27: 16.399391 | CU27: 16.723352 | CV27: 17.200963 | CW27: 17.027365 | CX27: 16.227473 | CY27: 17.468296 | CZ27: 17.746116 | DA27: 17.851963 | DB27: 16.947894 | DC27: 17.326785 | DD27: 17.852543 | DE27: 17.69034 | DF27: 17.398804 | DG27: 16.202817 | DH27: 17.459799 | DI27: 16.430227 | DJ27: 16.051352 | DK27: 16.698476 | DL27: 17.295426 | DM27: 16.444465 | DN27: 16.053754 | DO27: 16.218516 | DP27: 17.343262 | DQ27: 16.26673 | DR27: 15.671529 | DS27: 14.486474 | DT27: 16.473525 | DU27: 15.392526 | DV27: 16.134346 | DW27: 16.848217 | DX27: 16.71185 | DY27: 16.726383 | DZ27: 16.533984 | EA27: 16.440796 | EB27: 17.575683 | EC27: 16.106495 | ED27: 14.996453 | EE27: 14.836427 | EF27: 15.967782 | EG27: 16.034153 | EH27: 16.45011 | EI27: 16.200999 | EJ27: 17.838667 | EK27: 17.124652
A28: Electricity | B28: 0 | C28: 0 | D28: 0 | E28: 0 | F28: 0 | G28: 0 | H28: 0 | I28: 0 | J28: 0 | K28: 0 | L28: 0 | M28: 0 | N28: 0 | O28: 0 | P28: 0 | Q28: 0 | R28: 0 | S28: 0 | T28: 0 | U28: 0 | V28: 0 | W28: 0 | X28: 0 | Y28: 0 | Z28: 0 | AA28: 0 | AB28: 0 | AC28: 0 | AD28: 0 | AE28: 0 | AF28: 0 | AG28: 0 | AH28: 0 | AI28: 0 | AJ28: 0 | AK28: 0 | AL28: 0 | AM28: 0 | AN28: 0 | AO28: 0 | AP28: 0 | AQ28: 0 | AR28: 0 | AS28: 0 | AT28: 0 | AU28: 0 | AV28: 0 | AW28: 0 | AX28: 0 | AY28: 0 | AZ28: 0 | BA28: 0 | BB28: 0 | BC28: 0 | BD28: 0 | BE28: 0 | BF28: 0 | BG28: 0 | BH28: 0 | BI28: 0 | BJ28: 0 | BK28: 0 | BL28: 0 | BM28: 0 | BN28: 0 | BO28: 0 | BP28: 0 | BQ28: 0 | BR28: 0 | BS28: 0 | BT28: 0 | BU28: 0 | BV28: 0 | BW28: 0 | BX28: 0 | BY28: 0 | BZ28: 0 | CA28: 0 | CB28: 0 | CC28: 0 | CD28: 0 | CE28: 0 | CF28: 0 | CG28: 0 | CH28: 0 | CI28: 0 | CJ28: 0 | CK28: 0 | CL28: 0 | CM28: 0 | CN28: 0 | CO28: 0 | CP28: 0 | CQ28: 0 | CR28: 0 | CS28: 0 | CT28: 0 | CU28: 0 | CV28: 0 | CW28: 0 | CX28: 0 | CY28: 0 | CZ28: 0 | DA28: 0 | DB28: 0 | DC28: 0 | DD28: 0 | DE28: 0 | DF28: 0 | DG28: 0 | DH28: 0 | DI28: 0 | DJ28: 0 | DK28: 0 | DL28: 0 | DM28: 0 | DN28: 0 | DO28: 0 | DP28: 0 | DQ28: 0 | DR28: 0 | DS28: 0 | DT28: 0 | DU28: 0 | DV28: 0 | DW28: 0 | DX28: 0 | DY28: 0 | DZ28: 0 | EA28: 0 | EB28: 0 | EC28: 0 | ED28: 0 | EE28: 0 | EF28: 0 | EG28: 0 | EH28: 0 | EI28: 0 | EJ28: 0 | EK28: 0
A29: Waste heat | B29: 0.3756984 | C29: 0.4104948 | D29: 0.4386144 | E29: 0.38504592 | F29: 0.3756984 | G29: 0.40887696 | H29: 0.43902528 | I29: 0.38527704 | J29: 0.37592952 | K29: 0.4104948 | L29: 0.4392564 | M29: 0.38504592 | N29: 0.37580112 | O29: 0.4104948 | P29: 0.4392564 | Q29: 0.38504592 | R29: 0.3767256 | S29: 0.4104948 | T29: 0.4389996 | U29: 0.38504592 | V29: 0.3756984 | W29: 0.4104948 | X29: 0.4388712 | Y29: 0.38504592 | Z29: 0.41088 | AA29: 0.40252758 | AB29: 0.40252758 | AC29: 0.40252758 | AD29: 0.40252758 | AE29: 0.40252758 | AF29: 0.40252758 | AG29: 0.40252758 | AH29: 0.40252758 | AI29: 0.40252758 | AJ29: 0.40252758 | AK29: 0.40252758 | AL29: 0.40252758 | AM29: 0.40252758 | AN29: 0.40252758 | AO29: 0.40252758 | AP29: 0.40252758 | AQ29: 0.40252758 | AR29: 0.40252758 | AS29: 0.40252758 | AT29: 0.30322944 | AU29: 0.30322944 | AV29: 0.30322944 | AW29: 0.30322944 | AX29: 0.58809383 | AY29: 0.60121117 | AZ29: 0.60121117 | BA29: 0.60121117 | BB29: 0.60121117 | BC29: 0.52251353 | BD29: 0.52251353 | BE29: 0.52251353 | BF29: 0.52251353 | BG29: 0.5358851 | BH29: 0.5358851 | BI29: 0.5358851 | BJ29: 0.5358851 | BK29: 0.4702329 | BL29: 0.4702329 | BM29: 0.4702329 | BN29: 0.4702329 | BO29: 0.45345102 | BP29: 0.45345102 | BQ29: 0.45345102 | BR29: 0.45345102 | BS29: 0.30183437 | BT29: 0.30183437 | BU29: 0.30183437 | BV29: 0.30183437 | BW29: 0.37956838 | BX29: 0.37956838 | BY29: 0.37956838 | BZ29: 0.37956838 | CA29: 0.32936141 | CB29: 0.32936141 | CC29: 0.32936141 | CD29: 0.32936141 | CE29: 0.37946116 | CF29: 0.37946116 | CG29: 0.37946116 | CH29: 0.37946116 | CI29: 0.26962202 | CJ29: 0.26962202 | CK29: 0.26962202 | CL29: 0.26962202 | CM29: 0.21261213 | CN29: 0.21261213 | CO29: 0.21261213 | CP29: 0.21261213 | CQ29: 0.30787613 | CR29: 0.30787613 | CS29: 0.30787613 | CT29: 0.30787613 | CU29: 0.30302774 | CV29: 0.30302774 | CW29: 0.30302774 | CX29: 0.30302774 | CY29: 0.31852958 | CZ29: 0.31852958 | DA29: 0.31852958 | DB29: 0.31852958 | DC29: 0.33016134 | DD29: 0.33016134 | DE29: 0.33016134 | DF29: 0.33016134 | DG29: 0.28772514 | DH29: 0.28772514 | DI29: 0.28772514 | DJ29: 0.28772514 | DK29: 0.32647626 | DL29: 0.32647626 | DM29: 0.32647626 | DN29: 0.32647626 | DO29: 0.28016238 | DP29: 0.28016238 | DQ29: 0.28016238 | DR29: 0.28016238 | DS29: 0.24542376 | DT29: 0.24542376 | DU29: 0.24542376 | DV29: 0.24542376 | DW29: 0.28729854 | DX29: 0.28729854 | DY29: 0.28729854 | DZ29: 0.28729854 | EA29: 0.24419147 | EB29: 0.24419147 | EC29: 0.24419147 | ED29: 0.24419147 | EE29: 0.19816387 | EF29: 0.19816387 | EG29: 0.19816387 | EH29: 0.19816387 | EI29: 0.16089162 | EJ29: 0.16089162 | EK29: 0.16089162
A30: Imports | B30: =SUM(B31:B38) -> 42.029112 | C30: =SUM(C31:C38) -> 40.652674 | D30: =SUM(D31:D38) -> 42.911705 | E30: =SUM(E31:E38) -> 44.05098 | F30: =SUM(F31:F38) -> 43.791218 | G30: =SUM(G31:G38) -> 41.826085 | H30: =SUM(H31:H38) -> 47.8185 | I30: =SUM(I31:I38) -> 42.960808 | ... EK30: =SUM(EK31:EK38) -> 96.156377
A31: Coal | B31: 0.0040927913 | C31: 0.0035415995 | D31: 0.0022961496 | E31: 0.0088976548 | F31: 0.0043779409 | G31: 0.0038047468 | H31: 0.0079236376 | I31: 0.0023692318 | J31: 0.0028332909 | K31: 0.0086873023 | L31: 0.0047014792 | M31: 0.0038911267 | N31: 0.0056465274 | O31: 0.0040247043 | P31: 0.0029111151 | Q31: 0.0025722674 | R31: 0.0025095677 | S31: 0.0038821225 | T31: 0.0030288996 | U31: 0.0040341115 | V31: 0.0025616394 | W31: 0.00010906692 | X31: 0.00034951032 | Y31: 0.00021386018 | Z31: 0 | AA31: 0 | AB31: 0.0012814601 | AC31: 0.00067265157 | AD31: 0 | AE31: 4.56204379562044e-08 | AF31: 0.0002472936 | AG31: 0.00025556007 | AH31: 0.00023642198 | AI31: 0.00054716998 | AJ31: 0.00069159384 | AK31: 0.00059292337 | AL31: 0.000399672 | AM31: 0 | AN31: 0 | AO31: 0.00010902925 | AP31: 1.1275e-05 | AQ31: 0.00064315276 | AR31: 0.24127973 | AS31: 0.24212286 | AT31: 7.8757e-07 | AU31: 0.019029314 | AV31: 0.24932443 | AW31: 0.637083 | AX31: 0.75107778 | AY31: 5.00976e-05 | AZ31: 0.75377358 | BA31: 0.77846997 | BB31: 0.96853345 | BC31: 1.6948007 | BD31: 2.7320169 | BE31: 4.7383047 | BF31: 3.9895688 | BG31: 5.6265393 | BH31: 5.1380893 | BI31: 5.3016712 | BJ31: 5.5737997 | BK31: 4.7536629 | BL31: 7.7001111 | BM31: 6.722215 | BN31: 6.7704061 | BO31: 6.7022943 | BP31: 7.3599191 | BQ31: 7.2388226 | BR31: 4.2780351 | BS31: 5.5820274 | BT31: 4.1904498 | BU31: 2.8011072 | BV31: 1.3659764 | BW31: 3.4325837 | BX31: 4.8819648 | BY31: 4.1670734 | BZ31: 3.9963478 | CA31: 4.1291921 | CB31: 2.0019957 | CC31: 5.4403266 | CD31: 1.2332562 | CE31: 2.6361563 | CF31: 1.8630673 | CG31: 0.011888309 | CH31: 0.93107675 | CI31: 1.5507324 | CJ31: 0.66222324 | CK31: 0.66793763 | CL31: 0.036337943 | CM31: 0.0062445769 | CN31: 0.00030976021 | CO31: 2.77818728165587e-06 | CP31: 0.00030591381 | CQ31: 2.7804517 | CR31: 7.6228977 | CS31: 3.2550469 | CT31: 2.4238893 | CU31: 1.8196408 | CV31: 1.8215241 | CW31: 3.3313946 | CX31: 2.7836511 | CY31: 2.3617335 | CZ31: 1.7723904 | DA31: 2.6163898 | DB31: 3.3542918 | DC31: 1.9308778 | DD31: 2.9700491 | DE31: 1.814892 | DF31: 2.4992097 | DG31: 2.0552001 | DH31: 1.845974 | DI31: 3.9559581 | DJ31: 1.8464961 | DK31: 3.391917 | DL31: 3.2825913 | DM31: 5.7108042 | DN31: 6.4638715 | DO31: 8.1555987 | DP31: 2.9319613 | DQ31: 5.9918494 | DR31: 4.9759612 | DS31: 3.7756364 | DT31: 6.1284297 | DU31: 7.9493419 | DV31: 6.519103 | DW31: 13.090902 | DX31: 10.745679 | DY31: 8.2065322 | DZ31: 2.6563809 | EA31: 8.850117 | EB31: 3.3893398 | EC31: 0.76822865 | ED31: 0.71522881 | EE31: 0.75558164 | EF31: 2.4943386 | EG31: 1.4293062 | EH31: 2.5441218 | EI31: 1.5148944 | EJ31: 10.117074 | EK31: 7.9774824
A32: Oil | B32: 42.024637 | C32: 40.649133 | D32: 42.909286 | E32: 44.041004 | F32: 43.786588 | G32: 41.82228 | H32: 47.810577 | I32: 42.956643 | J32: 44.911693 | K32: 40.439368 | L32: 42.052653 | M32: 41.527413 | N32: 43.048058 | O32: 51.179341 | P32: 44.778373 | Q32: 46.539376 | R32: 49.320472 | S32: 55.802872 | T32: 52.153673 | U32: 51.215544 | V32: 55.109881 | W32: 54.86478 | X32: 55.964359 | Y32: 51.102007 | Z32: 65.05394 | AA32: 57.352249 | AB32: 60.084288 | AC32: 50.288523 | AD32: 69.797587 | AE32: 59.420589 | AF32: 55.786392 | AG32: 54.892577 | AH32: 69.947994 | AI32: 64.680076 | AJ32: 63.199385 | AK32: 64.267934 | AL32: 65.773654 | AM32: 71.725444 | AN32: 71.212835 | AO32: 67.168488 | AP32: 64.424685 | AQ32: 67.484091 | AR32: 71.62412 | AS32: 64.562407 | AT32: 68.93032 | AU32: 67.66742 | AV32: 73.990497 | AW32: 61.078167 | AX32: 72.073318 | AY32: 74.051282 | AZ32: 69.694733 | BA32: 71.391695 | BB32: 79.593079 | BC32: 74.49403 | BD32: 77.832795 | BE32: 72.568797 | BF32: 73.6114 | BG32: 84.733059 | BH32: 68.214807 | BI32: 84.4148 | BJ32: 82.536063 | BK32: 82.84689 | BL32: 67.144305 | BM32: 77.82771 | BN32: 82.814636 | BO32: 72.373748 | BP32: 73.378114 | BQ32: 81.187467 | BR32: 80.255931 | BS32: 82.562102 | BT32: 77.57178 | BU32: 82.541923 | BV32: 84.376349 | BW32: 80.494282 | BX32: 72.364942 | BY32: 88.579524 | BZ32: 87.199775 | CA32: 65.92504 | CB32: 82.393899 | CC32: 81.324242 | CD32: 79.796787 | CE32: 84.924999 | CF32: 65.444622 | CG32: 83.292553 | CH32: 83.425153 | CI32: 84.209866 | CJ32: 75.768153 | CK32: 82.855835 | CL32: 92.507974 | CM32: 74.625417 | CN32: 80.535966 | CO32: 83.10308 | CP32: 88.745211 | CQ32: 77.358572 | CR32: 79.687428 | CS32: 90.737402 | CT32: 85.792018 | CU32: 86.906861 | CV32: 78.106293 | CW32: 85.776003 | CX32: 95.23793 | CY32: 86.228745 | CZ32: 79.688063 | DA32: 79.866154 | DB32: 93.219221 | DC32: 95.830162 | DD32: 88.638468 | DE32: 93.063089 | DF32: 92.693367 | DG32: 94.931609 | DH32: 84.018292 | DI32: 106.41319 | DJ32: 95.139333 | DK32: 89.989244 | DL32: 89.143808 | DM32: 99.8158 | DN32: 84.862048 | DO32: 97.703527 | DP32: 81.910593 | DQ32: 97.664113 | DR32: 106.54286 | DS32: 52.971373 | DT32: 77.093314 | DU32: 93.287859 | DV32: 76.217869 | DW32: 72.833191 | DX32: 75.615142 | DY32: 70.351477 | DZ32: 80.768567 | EA32: 72.681964 | EB32: 73.48243 | EC32: 83.639962 | ED32: 89.452258 | EE32: 81.864022 | EF32: 79.737497 | EG32: 87.891587 | EH32: 86.274788 | EI32: 81.837686 | EJ32: 80.533657 | EK32: 88.132014
A33: Natural gas | B33: 0 | C33: 0 | D33: 0 | E33: 0 | F33: 0 | G33: 0 | H33: 0 | I33: 0 | J33: 0 | K33: 0 | L33: 0 | M33: 0 | N33: 0 | O33: 0 | P33: 0 | Q33: 0 | R33: 0 | S33: 0 | T33: 0 | U33: 0 | V33: 0 | W33: 0 | X33: 0 | Y33: 0 | Z33: 0 | AA33: 0 | AB33: 0 | AC33: 0 | AD33: 0 | AE33: 0 | AF33: 0 | AG33: 0 | AH33: 0 | AI33: 0 | AJ33: 0 | AK33: 0 | AL33: 0 | AM33: 0 | AN33: 0 | AO33: 0 | AP33: 0 | AQ33: 0 | AR33: 0 | AS33: 0 | AT33: 0 | AU33: 0 | AV33: 0 | AW33: 0 | AX33: 0 | AY33: 0 | AZ33: 0 | BA33: 0 | BB33: 0 | BC33: 0 | BD33: 0 | BE33: 0 | BF33: 0 | BG33: 0 | BH33: 0 | BI33: 0 | BJ33: 0 | BK33: 0 | BL33: 0 | BM33: 0 | BN33: 0 | BO33: 0 | BP33: 0 | BQ33: 0 | BR33: 0 | BS33: 0 | BT33: 0 | BU33: 0 | BV33: 0 | BW33: 0 | BX33: 0 | BY33: 0 | BZ33: 0 | CA33: 0 | CB33: 0 | CC33: 0 | CD33: 0 | CE33: 0 | CF33: 0 | CG33: 0 | CH33: 0 | CI33: 0 | CJ33: 0 | CK33: 0 | CL33: 0 | CM33: 0 | CN33: 0 | CO33: 0 | CP33: 0 | CQ33: 0 | CR33: 0 | CS33: 0 | CT33: 0 | CU33: 0 | CV33: 0 | CW33: 0 | CX33: 0 | CY33: 0 | CZ33: 0 | DA33: 0 | DB33: 0 | DC33: 0 | DD33: 0 | DE33: 0 | DF33: 0 | DG33: 0 | DH33: 0 | DI33: 0 | DJ33: 0 | DK33: 0 | DL33: 0 | DM33: 0 | DN33: 0 | DO33: 0 | DP33: 0 | DQ33: 0 | DR33: 0 | DS33: 0 | DT33: 0 | DU33: 0 | DV33: 0 | DW33: 0 | DX33: 0 | DY33: 0 | DZ33: 0 | EA33: 0 | EB33: 0 | EC33: 0 | ED33: 0 | EE33: 0 | EF33: 0 | EG33: 0 | EH33: 0 | EI33: 0 | EJ33: 0 | EK33: 0
A34: Hydro | B34: 0 | C34: 0 | D34: 0 | E34: 0 | F34: 0 | G34: 0 | H34: 0 | I34: 0 | J34: 0 | K34: 0 | L34: 0 | M34: 0 | N34: 0 | O34: 0 | P34: 0 | Q34: 0 | R34: 0 | S34: 0 | T34: 0 | U34: 0 | V34: 0 | W34: 0 | X34: 0 | Y34: 0 | Z34: 0 | AA34: 0 | AB34: 0 | AC34: 0 | AD34: 0 | AE34: 0 | AF34: 0 | AG34: 0 | AH34: 0 | AI34: 0 | AJ34: 0 | AK34: 0 | AL34: 0 | AM34: 0 | AN34: 0 | AO34: 0 | AP34: 0 | AQ34: 0 | AR34: 0 | AS34: 0 | AT34: 0 | AU34: 0 | AV34: 0 | AW34: 0 | AX34: 0 | AY34: 0 | AZ34: 0 | BA34: 0 | BB34: 0 | BC34: 0 | BD34: 0 | BE34: 0 | BF34: 0 | BG34: 0 | BH34: 0 | BI34: 0 | BJ34: 0 | BK34: 0 | BL34: 0 | BM34: 0 | BN34: 0 | BO34: 0 | BP34: 0 | BQ34: 0 | BR34: 0 | BS34: 0 | BT34: 0 | BU34: 0 | BV34: 0 | BW34: 0 | BX34: 0 | BY34: 0 | BZ34: 0 | CA34: 0 | CB34: 0 | CC34: 0 | CD34: 0 | CE34: 0 | CF34: 0 | CG34: 0 | CH34: 0 | CI34: 0 | CJ34: 0 | CK34: 0 | CL34: 0 | CM34: 0 | CN34: 0 | CO34: 0 | CP34: 0 | CQ34: 0 | CR34: 0 | CS34: 0 | CT34: 0 | CU34: 0 | CV34: 0 | CW34: 0 | CX34: 0 | CY34: 0 | CZ34: 0 | DA34: 0 | DB34: 0 | DC34: 0 | DD34: 0 | DE34: 0 | DF34: 0 | DG34: 0 | DH34: 0 | DI34: 0 | DJ34: 0 | DK34: 0 | DL34: 0 | DM34: 0 | DN34: 0 | DO34: 0 | DP34: 0 | DQ34: 0 | DR34: 0 | DS34: 0 | DT34: 0 | DU34: 0 | DV34: 0 | DW34: 0 | DX34: 0 | DY34: 0 | DZ34: 0 | EA34: 0 | EB34: 0 | EC34: 0 | ED34: 0 | EE34: 0 | EF34: 0 | EG34: 0 | EH34: 0 | EI34: 0 | EJ34: 0 | EK34: 0
