Workbook

Sheet Contents
B1: Energy in New Zealand: Energy Overview data tables
B2: Produced by Data Service Delivery unit – Data, Insights and Intelligence branch Ministry of Business, Innovation & Employment
B3: energyinfo@mbie.govt.nz
B5: Annual_PJ
B6: The amount of primary energy supply, energy transformation, and energy consumption in gross petajoules for calendar years (1990 onwards)
B8: Quarterly_PJ
B9: The amount of primary energy supply, energy transformation, and energy consumption in gross petajoules for each quarter (March quarter 1990 onwards)

Sheet Annual_PJ
A1: Return to contents
A8: Primary Energy Supply, Energy Transformation, and Energy Consumption
A9: Gross petajoules (PJ)
A10: Calendar Year | B10: 1990 | C10: 1991 | D10: 1992 | E10: 1993 | F10: 1994 | G10: 1995 | H10: 1996 | I10: 1997 | J10: 1998 | K10: 1999 | L10: 2000 | M10: 2001 | N10: 2002 | O10: 2003 | P10: 2004 | Q10: 2005 | R10: 2006 | S10: 2007 | T10: 2008 | U10: 2009 | V10: 2010 | W10: 2011 | X10: 2012 | Y10: 2013 | Z10: 2014 | AA10: 2015 | AB10: 2016 | AC10: 2017 | AD10: 2018 | AE10: 2019 | AF10: 2020 | AG10: 2021 | AH10: 2022 | AI10: 2023 | AJ10: 2024
A12: Primary Energy Supply | B12: =B21+B30-B39-B48-B57 -> 583.67988 | C12: =C21+C30-C39-C48-C57 -> 600.0215 | D12: =D21+D30-D39-D48-D57 -> 610.46876 | E12: =E21+E30-E39-E48-E57 -> 640.82793 | F12: =F21+F30-F39-F48-F57 -> 648.51192 | G12: =G21+G30-G39-G48-G57 -> 651.09851 | H12: =H21+H30-H39-H48-H57 -> 676.82879 | I12: =I21+I30-I39-I48-I57 -> 704.5524 | ... AJ12: =AJ21+AJ30-AJ39-AJ48-AJ57 -> 834.74852
A13: Coal | B13: =B22+B31-B40-B49-B58 -> 52.216108 | C13: =C22+C31-C40-C49-C58 -> 46.705989 | D13: =D22+D31-D40-D49-D58 -> 40.038672 | E13: =E22+E31-E40-E49-E58 -> 60.078757 | F13: =F22+F31-F40-F49-F58 -> 54.824517 | G13: =G22+G31-G40-G49-G58 -> 49.550942 | H13: =H22+H31-H40-H49-H58 -> 39.490839 | I13: =I22+I31-I40-I49-I58 -> 49.304901 | ... AJ13: =AJ22+AJ31-AJ40-AJ49-AJ58 -> 52.261838
A14: Oil | B14: =B23+B32-B41-B50-B59 -> 158.50974 | C14: =C23+C32-C41-C50-C59 -> 162.15976 | D14: =D23+D32-D41-D50-D59 -> 174.25029 | E14: =E23+E32-E41-E50-E59 -> 175.35951 | F14: =F23+F32-F41-F50-F59 -> 196.02255 | G14: =G23+G32-G41-G50-G59 -> 207.72578 | H14: =H23+H32-H41-H50-H59 -> 222.93834 | I14: =I23+I32-I41-I50-I59 -> 232.81643 | ... AJ14: =AJ23+AJ32-AJ41-AJ50-AJ59 -> 284.70869
A15: Natural gas | B15: =B24+B33-B42-B51-B60 -> 180.60259 | C15: =C24+C33-C42-C51-C60 -> 196.50311 | D15: =D24+D33-D42-D51-D60 -> 208.5514 | E15: =E24+E33-E42-E51-E60 -> 203.00615 | F15: =F24+F33-F42-F51-F60 -> 189.50836 | G15: =G24+G33-G42-G51-G60 -> 179.01406 | H15: =H24+H33-H42-H51-H60 -> 204.41191 | I15: =I24+I33-I42-I51-I60 -> 219.08645 | ... AJ15: =AJ24+AJ33-AJ42-AJ51-AJ60 -> 117.89203
A16: Hydro | B16: =B25+B34-B43-B52-B61 -> 83.458743 | C16: =C25+C34-C43-C52-C61 -> 82.411828 | D16: =D25+D34-D43-D52-D61 -> 75.926019 | E16: =E25+E34-E43-E52-E61 -> 84.565957 | F16: =F25+F34-F43-F52-F61 -> 93.004188 | G16: =G25+G34-G43-G52-G61 -> 99.115221 | H16: =H25+H34-H43-H52-H61 -> 94.24912 | I16: =I25+I34-I43-I52-I61 -> 83.721023 | ... AJ16: =AJ25+AJ34-AJ43-AJ52-AJ61 -> 85.411372
A17: Geothermal | B17: =B26+B35-B44-B53-B62 -> 62.486243 | C17: =C26+C35-C44-C53-C62 -> 65.601306 | D17: =D26+D35-D44-D53-D62 -> 65.099269 | E17: =E26+E35-E44-E53-E62 -> 68.428351 | F17: =F26+F35-F44-F53-F62 -> 63.986718 | G17: =G26+G35-G44-G53-G62 -> 63.070181 | H17: =H26+H35-H44-H53-H62 -> 64.137192 | I17: =I26+I35-I44-I53-I62 -> 66.618628 | ... AJ17: =AJ26+AJ35-AJ44-AJ53-AJ62 -> 226.05486
A18: Other renewables | B18: =B27+B36-B45-B54-B63 -> 44.796602 | C18: =C27+C36-C45-C54-C63 -> 45.030634 | D18: =D27+D36-D45-D54-D63 -> 44.992384 | E18: =E27+E36-E45-E54-E63 -> 47.778604 | F18: =F27+F36-F45-F54-F63 -> 49.554325 | G18: =G27+G36-G45-G54-G63 -> 51.012215 | H18: =H27+H36-H45-H54-H63 -> 49.982927 | I18: =I27+I36-I45-I54-I63 -> 51.394859 | ... AJ18: =AJ27+AJ36-AJ45-AJ54-AJ63 -> 67.738888
A19: Electricity | B19: =B28+B37-B46-B55-B64 -> 0 | C19: =C28+C37-C46-C55-C64 -> 0 | D19: =D28+D37-D46-D55-D64 -> 0 | E19: =E28+E37-E46-E55-E64 -> 0 | F19: =F28+F37-F46-F55-F64 -> 0 | G19: =G28+G37-G46-G55-G64 -> 0 | H19: =H28+H37-H46-H55-H64 -> 0 | I19: =I28+I37-I46-I55-I64 -> 0 | ... AJ19: =AJ28+AJ37-AJ46-AJ55-AJ64 -> 0
A20: Waste heat | B20: =B29+B38-B47-B56-B65 -> 1.6098535 | C20: =C29+C38-C47-C56-C65 -> 1.6088777 | D20: =D29+D38-D47-D56-D65 -> 1.6107266 | E20: =E29+E38-E47-E56-E65 -> 1.6105982 | F20: =F29+F38-F47-F56-F65 -> 1.6112659 | G20: =G29+G38-G47-G56-G65 -> 1.6101103 | H20: =H29+H38-H47-H56-H65 -> 1.6184627 | I20: =I29+I38-I47-I56-I65 -> 1.6101103 | ... AJ20: =AJ29+AJ38-AJ47-AJ56-AJ65 -> 0.68083875
A21: Indigenous Production | B21: =SUM(B22:B29) -> 523.24203 | C21: =SUM(C22:C29) -> 549.34168 | D21: =SUM(D22:D29) -> 559.18948 | E21: =SUM(E22:E29) -> 582.62499 | F21: =SUM(F22:F29) -> 564.97509 | G21: =SUM(G22:G29) -> 564.97554 | H21: =SUM(H22:H29) -> 611.35774 | I21: =SUM(I22:I29) -> 644.25545 | ... AJ21: =SUM(AJ22:AJ29) -> 601.88811
A22: Coal | B22: =SUMPRODUCT(--(B$10=YEAR(Quarterly_PJ!$B$10:$SM$10)),Quarterly_PJ!$B22:$SM22) -> 62.725447 | C22: =SUMPRODUCT(--(C$10=YEAR(Quarterly_PJ!$B$10:$SM$10)),Quarterly_PJ!$B22:$SM22) -> 65.804899 | D22: =SUMPRODUCT(--(D$10=YEAR(Quarterly_PJ!$B$10:$SM$10)),Quarterly_PJ!$B22:$SM22) -> 74.933182 | E22: =SUMPRODUCT(--(E$10=YEAR(Quarterly_PJ!$B$10:$SM$10)),Quarterly_PJ!$B22:$SM22) -> 84.559537 | F22: =SUMPRODUCT(--(F$10=YEAR(Quarterly_PJ!$B$10:$SM$10)),Quarterly_PJ!$B22:$SM22) -> 77.644752 | G22: =SUMPRODUCT(--(G$10=YEAR(Quarterly_PJ!$B$10:$SM$10)),Quarterly_PJ!$B22:$SM22) -> 95.211778 | H22: =SUMPRODUCT(--(H$10=YEAR(Quarterly_PJ!$B$10:$SM$10)),Quarterly_PJ!$B22:$SM22) -> 97.212809 | I22: =SUMPRODUCT(--(I$10=YEAR(Quarterly_PJ!$B$10:$SM$10)),Quarterly_PJ!$B22:$SM22) -> 91.468069 | ... AJ22: =SUMPRODUCT(--(AJ$10=YEAR(Quarterly_PJ!$B$10:$SM$10)),Quarterly_PJ!$B22:$SM22) -> 63.382128
A23: Oil | B23: =SUMPRODUCT(--(B$10=YEAR(Quarterly_PJ!$B$10:$SM$10)),Quarterly_PJ!$B23:$SM23) -> 87.583157 | C23: =SUMPRODUCT(--(C$10=YEAR(Quarterly_PJ!$B$10:$SM$10)),Quarterly_PJ!$B23:$SM23) -> 92.382659 | D23: =SUMPRODUCT(--(D$10=YEAR(Quarterly_PJ!$B$10:$SM$10)),Quarterly_PJ!$B23:$SM23) -> 88.078821 | E23: =SUMPRODUCT(--(E$10=YEAR(Quarterly_PJ!$B$10:$SM$10)),Quarterly_PJ!$B23:$SM23) -> 92.701995 | F23: =SUMPRODUCT(--(F$10=YEAR(Quarterly_PJ!$B$10:$SM$10)),Quarterly_PJ!$B23:$SM23) -> 89.67842 | G23: =SUMPRODUCT(--(G$10=YEAR(Quarterly_PJ!$B$10:$SM$10)),Quarterly_PJ!$B23:$SM23) -> 75.962225 | H23: =SUMPRODUCT(--(H$10=YEAR(Quarterly_PJ!$B$10:$SM$10)),Quarterly_PJ!$B23:$SM23) -> 99.706299 | I23: =SUMPRODUCT(--(I$10=YEAR(Quarterly_PJ!$B$10:$SM$10)),Quarterly_PJ!$B23:$SM23) -> 130.38642 | ... AJ23: =SUMPRODUCT(--(AJ$10=YEAR(Quarterly_PJ!$B$10:$SM$10)),Quarterly_PJ!$B23:$SM23) -> 39.109047
A24: Natural gas | B24: =SUMPRODUCT(--(B$10=YEAR(Quarterly_PJ!$B$10:$SM$10)),Quarterly_PJ!$B24:$SM24) -> 180.58357 | C24: =SUMPRODUCT(--(C$10=YEAR(Quarterly_PJ!$B$10:$SM$10)),Quarterly_PJ!$B24:$SM24) -> 196.50353 | D24: =SUMPRODUCT(--(D$10=YEAR(Quarterly_PJ!$B$10:$SM$10)),Quarterly_PJ!$B24:$SM24) -> 208.55167 | E24: =SUMPRODUCT(--(E$10=YEAR(Quarterly_PJ!$B$10:$SM$10)),Quarterly_PJ!$B24:$SM24) -> 202.98315 | F24: =SUMPRODUCT(--(F$10=YEAR(Quarterly_PJ!$B$10:$SM$10)),Quarterly_PJ!$B24:$SM24) -> 189.49836 | G24: =SUMPRODUCT(--(G$10=YEAR(Quarterly_PJ!$B$10:$SM$10)),Quarterly_PJ!$B24:$SM24) -> 179.00306 | H24: =SUMPRODUCT(--(H$10=YEAR(Quarterly_PJ!$B$10:$SM$10)),Quarterly_PJ!$B24:$SM24) -> 204.45491 | I24: =SUMPRODUCT(--(I$10=YEAR(Quarterly_PJ!$B$10:$SM$10)),Quarterly_PJ!$B24:$SM24) -> 219.06345 | ... AJ24: =SUMPRODUCT(--(AJ$10=YEAR(Quarterly_PJ!$B$10:$SM$10)),Quarterly_PJ!$B24:$SM24) -> 119.63543
A25: Hydro | B25: =SUMPRODUCT(--(B$10=YEAR(Quarterly_PJ!$B$10:$SM$10)),Quarterly_PJ!$B25:$SM25) -> 83.458743 | C25: =SUMPRODUCT(--(C$10=YEAR(Quarterly_PJ!$B$10:$SM$10)),Quarterly_PJ!$B25:$SM25) -> 82.411828 | D25: =SUMPRODUCT(--(D$10=YEAR(Quarterly_PJ!$B$10:$SM$10)),Quarterly_PJ!$B25:$SM25) -> 75.926019 | E25: =SUMPRODUCT(--(E$10=YEAR(Quarterly_PJ!$B$10:$SM$10)),Quarterly_PJ!$B25:$SM25) -> 84.565957 | F25: =SUMPRODUCT(--(F$10=YEAR(Quarterly_PJ!$B$10:$SM$10)),Quarterly_PJ!$B25:$SM25) -> 93.004188 | G25: =SUMPRODUCT(--(G$10=YEAR(Quarterly_PJ!$B$10:$SM$10)),Quarterly_PJ!$B25:$SM25) -> 99.115221 | H25: =SUMPRODUCT(--(H$10=YEAR(Quarterly_PJ!$B$10:$SM$10)),Quarterly_PJ!$B25:$SM25) -> 94.24912 | I25: =SUMPRODUCT(--(I$10=YEAR(Quarterly_PJ!$B$10:$SM$10)),Quarterly_PJ!$B25:$SM25) -> 83.721023 | ... AJ25: =SUMPRODUCT(--(AJ$10=YEAR(Quarterly_PJ!$B$10:$SM$10)),Quarterly_PJ!$B25:$SM25) -> 85.411372
A26: Geothermal | B26: =SUMPRODUCT(--(B$10=YEAR(Quarterly_PJ!$B$10:$SM$10)),Quarterly_PJ!$B26:$SM26) -> 62.486243 | C26: =SUMPRODUCT(--(C$10=YEAR(Quarterly_PJ!$B$10:$SM$10)),Quarterly_PJ!$B26:$SM26) -> 65.601306 | D26: =SUMPRODUCT(--(D$10=YEAR(Quarterly_PJ!$B$10:$SM$10)),Quarterly_PJ!$B26:$SM26) -> 65.099269 | E26: =SUMPRODUCT(--(E$10=YEAR(Quarterly_PJ!$B$10:$SM$10)),Quarterly_PJ!$B26:$SM26) -> 68.428351 | F26: =SUMPRODUCT(--(F$10=YEAR(Quarterly_PJ!$B$10:$SM$10)),Quarterly_PJ!$B26:$SM26) -> 63.986718 | G26: =SUMPRODUCT(--(G$10=YEAR(Quarterly_PJ!$B$10:$SM$10)),Quarterly_PJ!$B26:$SM26) -> 63.070181 | H26: =SUMPRODUCT(--(H$10=YEAR(Quarterly_PJ!$B$10:$SM$10)),Quarterly_PJ!$B26:$SM26) -> 64.137192 | I26: =SUMPRODUCT(--(I$10=YEAR(Quarterly_PJ!$B$10:$SM$10)),Quarterly_PJ!$B26:$SM26) -> 66.618628 | ... AJ26: =SUMPRODUCT(--(AJ$10=YEAR(Quarterly_PJ!$B$10:$SM$10)),Quarterly_PJ!$B26:$SM26) -> 226.05486
A27: Other renewables | B27: =SUMPRODUCT(--(B$10=YEAR(Quarterly_PJ!$B$10:$SM$10)),Quarterly_PJ!$B27:$SM27) -> 44.795018 | C27: =SUMPRODUCT(--(C$10=YEAR(Quarterly_PJ!$B$10:$SM$10)),Quarterly_PJ!$B27:$SM27) -> 45.028586 | D27: =SUMPRODUCT(--(D$10=YEAR(Quarterly_PJ!$B$10:$SM$10)),Quarterly_PJ!$B27:$SM27) -> 44.989799 | E27: =SUMPRODUCT(--(E$10=YEAR(Quarterly_PJ!$B$10:$SM$10)),Quarterly_PJ!$B27:$SM27) -> 47.775399 | F27: =SUMPRODUCT(--(F$10=YEAR(Quarterly_PJ!$B$10:$SM$10)),Quarterly_PJ!$B27:$SM27) -> 49.551387 | G27: =SUMPRODUCT(--(G$10=YEAR(Quarterly_PJ!$B$10:$SM$10)),Quarterly_PJ!$B27:$SM27) -> 51.002962 | H27: =SUMPRODUCT(--(H$10=YEAR(Quarterly_PJ!$B$10:$SM$10)),Quarterly_PJ!$B27:$SM27) -> 49.97894 | I27: =SUMPRODUCT(--(I$10=YEAR(Quarterly_PJ!$B$10:$SM$10)),Quarterly_PJ!$B27:$SM27) -> 51.387749 | ... AJ27: =SUMPRODUCT(--(AJ$10=YEAR(Quarterly_PJ!$B$10:$SM$10)),Quarterly_PJ!$B27:$SM27) -> 67.614428
A28: Electricity | B28: =SUMPRODUCT(--(B$10=YEAR(Quarterly_PJ!$B$10:$SM$10)),Quarterly_PJ!$B28:$SM28) -> 0 | C28: =SUMPRODUCT(--(C$10=YEAR(Quarterly_PJ!$B$10:$SM$10)),Quarterly_PJ!$B28:$SM28) -> 0 | D28: =SUMPRODUCT(--(D$10=YEAR(Quarterly_PJ!$B$10:$SM$10)),Quarterly_PJ!$B28:$SM28) -> 0 | E28: =SUMPRODUCT(--(E$10=YEAR(Quarterly_PJ!$B$10:$SM$10)),Quarterly_PJ!$B28:$SM28) -> 0 | F28: =SUMPRODUCT(--(F$10=YEAR(Quarterly_PJ!$B$10:$SM$10)),Quarterly_PJ!$B28:$SM28) -> 0 | G28: =SUMPRODUCT(--(G$10=YEAR(Quarterly_PJ!$B$10:$SM$10)),Quarterly_PJ!$B28:$SM28) -> 0 | H28: =SUMPRODUCT(--(H$10=YEAR(Quarterly_PJ!$B$10:$SM$10)),Quarterly_PJ!$B28:$SM28) -> 0 | I28: =SUMPRODUCT(--(I$10=YEAR(Quarterly_PJ!$B$10:$SM$10)),Quarterly_PJ!$B28:$SM28) -> 0 | ... AJ28: =SUMPRODUCT(--(AJ$10=YEAR(Quarterly_PJ!$B$10:$SM$10)),Quarterly_PJ!$B28:$SM28) -> 0
A29: Waste heat | B29: =SUMPRODUCT(--(B$10=YEAR(Quarterly_PJ!$B$10:$SM$10)),Quarterly_PJ!$B29:$SM29) -> 1.6098535 | C29: =SUMPRODUCT(--(C$10=YEAR(Quarterly_PJ!$B$10:$SM$10)),Quarterly_PJ!$B29:$SM29) -> 1.6088777 | D29: =SUMPRODUCT(--(D$10=YEAR(Quarterly_PJ!$B$10:$SM$10)),Quarterly_PJ!$B29:$SM29) -> 1.6107266 | E29: =SUMPRODUCT(--(E$10=YEAR(Quarterly_PJ!$B$10:$SM$10)),Quarterly_PJ!$B29:$SM29) -> 1.6105982 | F29: =SUMPRODUCT(--(F$10=YEAR(Quarterly_PJ!$B$10:$SM$10)),Quarterly_PJ!$B29:$SM29) -> 1.6112659 | G29: =SUMPRODUCT(--(G$10=YEAR(Quarterly_PJ!$B$10:$SM$10)),Quarterly_PJ!$B29:$SM29) -> 1.6101103 | H29: =SUMPRODUCT(--(H$10=YEAR(Quarterly_PJ!$B$10:$SM$10)),Quarterly_PJ!$B29:$SM29) -> 1.6184627 | I29: =SUMPRODUCT(--(I$10=YEAR(Quarterly_PJ!$B$10:$SM$10)),Quarterly_PJ!$B29:$SM29) -> 1.6101103 | ... AJ29: =SUMPRODUCT(--(AJ$10=YEAR(Quarterly_PJ!$B$10:$SM$10)),Quarterly_PJ!$B29:$SM29) -> 0.68083875
A30: Imports | B30: =SUM(B31:B38) -> 169.64447 | C30: =SUM(C31:C38) -> 176.39661 | D30: =SUM(D31:D38) -> 168.95382 | E30: =SUM(E31:E38) -> 185.56351 | F30: =SUM(F31:F38) -> 208.50895 | G30: =SUM(G31:G38) -> 217.05352 | H30: =SUM(H31:H38) -> 232.78494 | I30: =SUM(I31:I38) -> 239.90476 | ... AJ30: =SUM(AJ31:AJ38) -> 359.05618
A31: Coal | B31: =SUMPRODUCT(--(B$10=YEAR(Quarterly_PJ!$B$10:$SM$10)),Quarterly_PJ!$B31:$SM31) -> 0.018828195 | C31: =SUMPRODUCT(--(C$10=YEAR(Quarterly_PJ!$B$10:$SM$10)),Quarterly_PJ!$B31:$SM31) -> 0.018475557 | D31: =SUMPRODUCT(--(D$10=YEAR(Quarterly_PJ!$B$10:$SM$10)),Quarterly_PJ!$B31:$SM31) -> 0.020113199 | E31: =SUMPRODUCT(--(E$10=YEAR(Quarterly_PJ!$B$10:$SM$10)),Quarterly_PJ!$B31:$SM31) -> 0.015154614 | F31: =SUMPRODUCT(--(F$10=YEAR(Quarterly_PJ!$B$10:$SM$10)),Quarterly_PJ!$B31:$SM31) -> 0.013454701 | G31: =SUMPRODUCT(--(G$10=YEAR(Quarterly_PJ!$B$10:$SM$10)),Quarterly_PJ!$B31:$SM31) -> 0.0032340769 | H31: =SUMPRODUCT(--(H$10=YEAR(Quarterly_PJ!$B$10:$SM$10)),Quarterly_PJ!$B31:$SM31) -> 0.0019541117 | I31: =SUMPRODUCT(--(I$10=YEAR(Quarterly_PJ!$B$10:$SM$10)),Quarterly_PJ!$B31:$SM31) -> 0.00050285368 | ... AJ31: =SUMPRODUCT(--(AJ$10=YEAR(Quarterly_PJ!$B$10:$SM$10)),Quarterly_PJ!$B31:$SM31) -> 22.153572
A32: Oil | B32: =SUMPRODUCT(--(B$10=YEAR(Quarterly_PJ!$B$10:$SM$10)),Quarterly_PJ!$B32:$SM32) -> 169.62406 | C32: =SUMPRODUCT(--(C$10=YEAR(Quarterly_PJ!$B$10:$SM$10)),Quarterly_PJ!$B32:$SM32) -> 176.37609 | D32: =SUMPRODUCT(--(D$10=YEAR(Quarterly_PJ!$B$10:$SM$10)),Quarterly_PJ!$B32:$SM32) -> 168.93113 | E32: =SUMPRODUCT(--(E$10=YEAR(Quarterly_PJ!$B$10:$SM$10)),Quarterly_PJ!$B32:$SM32) -> 185.54515 | F32: =SUMPRODUCT(--(F$10=YEAR(Quarterly_PJ!$B$10:$SM$10)),Quarterly_PJ!$B32:$SM32) -> 208.49256 | G32: =SUMPRODUCT(--(G$10=YEAR(Quarterly_PJ!$B$10:$SM$10)),Quarterly_PJ!$B32:$SM32) -> 217.04103 | H32: =SUMPRODUCT(--(H$10=YEAR(Quarterly_PJ!$B$10:$SM$10)),Quarterly_PJ!$B32:$SM32) -> 232.779 | I32: =SUMPRODUCT(--(I$10=YEAR(Quarterly_PJ!$B$10:$SM$10)),Quarterly_PJ!$B32:$SM32) -> 239.89715 | ... AJ32: =SUMPRODUCT(--(AJ$10=YEAR(Quarterly_PJ!$B$10:$SM$10)),Quarterly_PJ!$B32:$SM32) -> 336.77815
A33: Natural gas | B33: =SUMPRODUCT(--(B$10=YEAR(Quarterly_PJ!$B$10:$SM$10)),Quarterly_PJ!$B33:$SM33) -> 0 | C33: =SUMPRODUCT(--(C$10=YEAR(Quarterly_PJ!$B$10:$SM$10)),Quarterly_PJ!$B33:$SM33) -> 0 | D33: =SUMPRODUCT(--(D$10=YEAR(Quarterly_PJ!$B$10:$SM$10)),Quarterly_PJ!$B33:$SM33) -> 0 | E33: =SUMPRODUCT(--(E$10=YEAR(Quarterly_PJ!$B$10:$SM$10)),Quarterly_PJ!$B33:$SM33) -> 0 | F33: =SUMPRODUCT(--(F$10=YEAR(Quarterly_PJ!$B$10:$SM$10)),Quarterly_PJ!$B33:$SM33) -> 0 | G33: =SUMPRODUCT(--(G$10=YEAR(Quarterly_PJ!$B$10:$SM$10)),Quarterly_PJ!$B33:$SM33) -> 0 | H33: =SUMPRODUCT(--(H$10=YEAR(Quarterly_PJ!$B$10:$SM$10)),Quarterly_PJ!$B33:$SM33) -> 0 | I33: =SUMPRODUCT(--(I$10=YEAR(Quarterly_PJ!$B$10:$SM$10)),Quarterly_PJ!$B33:$SM33) -> 0 | ... AJ33: =SUMPRODUCT(--(AJ$10=YEAR(Quarterly_PJ!$B$10:$SM$10)),Quarterly_PJ!$B33:$SM33) -> 0
A34: Hydro | B34: =SUMPRODUCT(--(B$10=YEAR(Quarterly_PJ!$B$10:$SM$10)),Quarterly_PJ!$B34:$SM34) -> 0 | C34: =SUMPRODUCT(--(C$10=YEAR(Quarterly_PJ!$B$10:$SM$10)),Quarterly_PJ!$B34:$SM34) -> 0 | D34: =SUMPRODUCT(--(D$10=YEAR(Quarterly_PJ!$B$10:$SM$10)),Quarterly_PJ!$B34:$SM34) -> 0 | E34: =SUMPRODUCT(--(E$10=YEAR(Quarterly_PJ!$B$10:$SM$10)),Quarterly_PJ!$B34:$SM34) -> 0 | F34: =SUMPRODUCT(--(F$10=YEAR(Quarterly_PJ!$B$10:$SM$10)),Quarterly_PJ!$B34:$SM34) -> 0 | G34: =SUMPRODUCT(--(G$10=YEAR(Quarterly_PJ!$B$10:$SM$10)),Quarterly_PJ!$B34:$SM34) -> 0 | H34: =SUMPRODUCT(--(H$10=YEAR(Quarterly_PJ!$B$10:$SM$10)),Quarterly_PJ!$B34:$SM34) -> 0 | I34: =SUMPRODUCT(--(I$10=YEAR(Quarterly_PJ!$B$10:$SM$10)),Quarterly_PJ!$B34:$SM34) -> 0 | ... AJ34: =SUMPRODUCT(--(AJ$10=YEAR(Quarterly_PJ!$B$10:$SM$10)),Quarterly_PJ!$B34:$SM34) -> 0
A35: Geothermal | B35: =SUMPRODUCT(--(B$10=YEAR(Quarterly_PJ!$B$10:$SM$10)),Quarterly_PJ!$B35:$SM35) -> 0 | C35: =SUMPRODUCT(--(C$10=YEAR(Quarterly_PJ!$B$10:$SM$10)),Quarterly_PJ!$B35:$SM35) -> 0 | D35: =SUMPRODUCT(--(D$10=YEAR(Quarterly_PJ!$B$10:$SM$10)),Quarterly_PJ!$B35:$SM35) -> 0 | E35: =SUMPRODUCT(--(E$10=YEAR(Quarterly_PJ!$B$10:$SM$10)),Quarterly_PJ!$B35:$SM35) -> 0 | F35: =SUMPRODUCT(--(F$10=YEAR(Quarterly_PJ!$B$10:$SM$10)),Quarterly_PJ!$B35:$SM35) -> 0 | G35: =SUMPRODUCT(--(G$10=YEAR(Quarterly_PJ!$B$10:$SM$10)),Quarterly_PJ!$B35:$SM35) -> 0 | H35: =SUMPRODUCT(--(H$10=YEAR(Quarterly_PJ!$B$10:$SM$10)),Quarterly_PJ!$B35:$SM35) -> 0 | I35: =SUMPRODUCT(--(I$10=YEAR(Quarterly_PJ!$B$10:$SM$10)),Quarterly_PJ!$B35:$SM35) -> 0 | ... AJ35: =SUMPRODUCT(--(AJ$10=YEAR(Quarterly_PJ!$B$10:$SM$10)),Quarterly_PJ!$B35:$SM35) -> 0
A36: Other renewables | B36: =SUMPRODUCT(--(B$10=YEAR(Quarterly_PJ!$B$10:$SM$10)),Quarterly_PJ!$B36:$SM36) -> 0.0015836 | C36: =SUMPRODUCT(--(C$10=YEAR(Quarterly_PJ!$B$10:$SM$10)),Quarterly_PJ!$B36:$SM36) -> 0.0020480536 | D36: =SUMPRODUCT(--(D$10=YEAR(Quarterly_PJ!$B$10:$SM$10)),Quarterly_PJ!$B36:$SM36) -> 0.0025850568 | E36: =SUMPRODUCT(--(E$10=YEAR(Quarterly_PJ!$B$10:$SM$10)),Quarterly_PJ!$B36:$SM36) -> 0.0032045848 | F36: =SUMPRODUCT(--(F$10=YEAR(Quarterly_PJ!$B$10:$SM$10)),Quarterly_PJ!$B36:$SM36) -> 0.00293854 | G36: =SUMPRODUCT(--(G$10=YEAR(Quarterly_PJ!$B$10:$SM$10)),Quarterly_PJ!$B36:$SM36) -> 0.009253404 | H36: =SUMPRODUCT(--(H$10=YEAR(Quarterly_PJ!$B$10:$SM$10)),Quarterly_PJ!$B36:$SM36) -> 0.0039873272 | I36: =SUMPRODUCT(--(I$10=YEAR(Quarterly_PJ!$B$10:$SM$10)),Quarterly_PJ!$B36:$SM36) -> 0.0071098312 | ... AJ36: =SUMPRODUCT(--(AJ$10=YEAR(Quarterly_PJ!$B$10:$SM$10)),Quarterly_PJ!$B36:$SM36) -> 0.12446045
A37: Electricity | B37: =SUMPRODUCT(--(B$10=YEAR(Quarterly_PJ!$B$10:$SM$10)),Quarterly_PJ!$B37:$SM37) -> 0 | C37: =SUMPRODUCT(--(C$10=YEAR(Quarterly_PJ!$B$10:$SM$10)),Quarterly_PJ!$B37:$SM37) -> 0 | D37: =SUMPRODUCT(--(D$10=YEAR(Quarterly_PJ!$B$10:$SM$10)),Quarterly_PJ!$B37:$SM37) -> 0 | E37: =SUMPRODUCT(--(E$10=YEAR(Quarterly_PJ!$B$10:$SM$10)),Quarterly_PJ!$B37:$SM37) -> 0 | F37: =SUMPRODUCT(--(F$10=YEAR(Quarterly_PJ!$B$10:$SM$10)),Quarterly_PJ!$B37:$SM37) -> 0 | G37: =SUMPRODUCT(--(G$10=YEAR(Quarterly_PJ!$B$10:$SM$10)),Quarterly_PJ!$B37:$SM37) -> 0 | H37: =SUMPRODUCT(--(H$10=YEAR(Quarterly_PJ!$B$10:$SM$10)),Quarterly_PJ!$B37:$SM37) -> 0 | I37: =SUMPRODUCT(--(I$10=YEAR(Quarterly_PJ!$B$10:$SM$10)),Quarterly_PJ!$B37:$SM37) -> 0 | ... AJ37: =SUMPRODUCT(--(AJ$10=YEAR(Quarterly_PJ!$B$10:$SM$10)),Quarterly_PJ!$B37:$SM37) -> 0
A38: Waste heat | B38: =SUMPRODUCT(--(B$10=YEAR(Quarterly_PJ!$B$10:$SM$10)),Quarterly_PJ!$B38:$SM38) -> 0 | C38: =SUMPRODUCT(--(C$10=YEAR(Quarterly_PJ!$B$10:$SM$10)),Quarterly_PJ!$B38:$SM38) -> 0 | D38: =SUMPRODUCT(--(D$10=YEAR(Quarterly_PJ!$B$10:$SM$10)),Quarterly_PJ!$B38:$SM38) -> 0 | E38: =SUMPRODUCT(--(E$10=YEAR(Quarterly_PJ!$B$10:$SM$10)),Quarterly_PJ!$B38:$SM38) -> 0 | F38: =SUMPRODUCT(--(F$10=YEAR(Quarterly_PJ!$B$10:$SM$10)),Quarterly_PJ!$B38:$SM38) -> 0 | G38: =SUMPRODUCT(--(G$10=YEAR(Quarterly_PJ!$B$10:$SM$10)),Quarterly_PJ!$B38:$SM38) -> 0 | H38: =SUMPRODUCT(--(H$10=YEAR(Quarterly_PJ!$B$10:$SM$10)),Quarterly_PJ!$B38:$SM38) -> 0 | I38: =SUMPRODUCT(--(I$10=YEAR(Quarterly_PJ!$B$10:$SM$10)),Quarterly_PJ!$B38:$SM38) -> 0 | ... AJ38: =SUMPRODUCT(--(AJ$10=YEAR(Quarterly_PJ!$B$10:$SM$10)),Quarterly_PJ!$B38:$SM38) -> 0
A39: Exports | B39: =SUM(B40:B47) -> 73.545332 | C39: =SUM(C40:C47) -> 93.507615 | D39: =SUM(D40:D47) -> 75.271075 | E39: =SUM(E40:E47) -> 86.277527 | F39: =SUM(F40:F47) -> 93.268624 | G39: =SUM(G40:G47) -> 88.154139 | H39: =SUM(H40:H47) -> 113.99237 | I39: =SUM(I40:I47) -> 128.15138 | ... AJ39: =SUM(AJ40:AJ47) -> 64.115976
A40: Coal | B40: =SUMPRODUCT(--(B$10=YEAR(Quarterly_PJ!$B$10:$SM$10)),Quarterly_PJ!$B40:$SM40) -> 10.528167 | C40: =SUMPRODUCT(--(C$10=YEAR(Quarterly_PJ!$B$10:$SM$10)),Quarterly_PJ!$B40:$SM40) -> 19.117385 | D40: =SUMPRODUCT(--(D$10=YEAR(Quarterly_PJ!$B$10:$SM$10)),Quarterly_PJ!$B40:$SM40) -> 24.146294 | E40: =SUMPRODUCT(--(E$10=YEAR(Quarterly_PJ!$B$10:$SM$10)),Quarterly_PJ!$B40:$SM40) -> 24.708076 | F40: =SUMPRODUCT(--(F$10=YEAR(Quarterly_PJ!$B$10:$SM$10)),Quarterly_PJ!$B40:$SM40) -> 32.737876 | G40: =SUMPRODUCT(--(G$10=YEAR(Quarterly_PJ!$B$10:$SM$10)),Quarterly_PJ!$B40:$SM40) -> 42.707365 | H40: =SUMPRODUCT(--(H$10=YEAR(Quarterly_PJ!$B$10:$SM$10)),Quarterly_PJ!$B40:$SM40) -> 50.897663 | I40: =SUMPRODUCT(--(I$10=YEAR(Quarterly_PJ!$B$10:$SM$10)),Quarterly_PJ!$B40:$SM40) -> 40.202842 | ... AJ40: =SUMPRODUCT(--(AJ$10=YEAR(Quarterly_PJ!$B$10:$SM$10)),Quarterly_PJ!$B40:$SM40) -> 33.147848
A41: Oil | B41: =SUMPRODUCT(--(B$10=YEAR(Quarterly_PJ!$B$10:$SM$10)),Quarterly_PJ!$B41:$SM41) -> 63.017165 | C41: =SUMPRODUCT(--(C$10=YEAR(Quarterly_PJ!$B$10:$SM$10)),Quarterly_PJ!$B41:$SM41) -> 74.39023 | D41: =SUMPRODUCT(--(D$10=YEAR(Quarterly_PJ!$B$10:$SM$10)),Quarterly_PJ!$B41:$SM41) -> 51.124781 | E41: =SUMPRODUCT(--(E$10=YEAR(Quarterly_PJ!$B$10:$SM$10)),Quarterly_PJ!$B41:$SM41) -> 61.569451 | F41: =SUMPRODUCT(--(F$10=YEAR(Quarterly_PJ!$B$10:$SM$10)),Quarterly_PJ!$B41:$SM41) -> 60.530748 | G41: =SUMPRODUCT(--(G$10=YEAR(Quarterly_PJ!$B$10:$SM$10)),Quarterly_PJ!$B41:$SM41) -> 45.446774 | H41: =SUMPRODUCT(--(H$10=YEAR(Quarterly_PJ!$B$10:$SM$10)),Quarterly_PJ!$B41:$SM41) -> 63.094712 | I41: =SUMPRODUCT(--(I$10=YEAR(Quarterly_PJ!$B$10:$SM$10)),Quarterly_PJ!$B41:$SM41) -> 87.948536 | ... AJ41: =SUMPRODUCT(--(AJ$10=YEAR(Quarterly_PJ!$B$10:$SM$10)),Quarterly_PJ!$B41:$SM41) -> 30.968129
A42: Natural gas | B42: =SUMPRODUCT(--(B$10=YEAR(Quarterly_PJ!$B$10:$SM$10)),Quarterly_PJ!$B42:$SM42) -> 0 | C42: =SUMPRODUCT(--(C$10=YEAR(Quarterly_PJ!$B$10:$SM$10)),Quarterly_PJ!$B42:$SM42) -> 0 | D42: =SUMPRODUCT(--(D$10=YEAR(Quarterly_PJ!$B$10:$SM$10)),Quarterly_PJ!$B42:$SM42) -> 0 | E42: =SUMPRODUCT(--(E$10=YEAR(Quarterly_PJ!$B$10:$SM$10)),Quarterly_PJ!$B42:$SM42) -> 0 | F42: =SUMPRODUCT(--(F$10=YEAR(Quarterly_PJ!$B$10:$SM$10)),Quarterly_PJ!$B42:$SM42) -> 0 | G42: =SUMPRODUCT(--(G$10=YEAR(Quarterly_PJ!$B$10:$SM$10)),Quarterly_PJ!$B42:$SM42) -> 0 | H42: =SUMPRODUCT(--(H$10=YEAR(Quarterly_PJ!$B$10:$SM$10)),Quarterly_PJ!$B42:$SM42) -> 0 | I42: =SUMPRODUCT(--(I$10=YEAR(Quarterly_PJ!$B$10:$SM$10)),Quarterly_PJ!$B42:$SM42) -> 0 | ... AJ42: =SUMPRODUCT(--(AJ$10=YEAR(Quarterly_PJ!$B$10:$SM$10)),Quarterly_PJ!$B42:$SM42) -> 0
A43: Hydro | B43: =SUMPRODUCT(--(B$10=YEAR(Quarterly_PJ!$B$10:$SM$10)),Quarterly_PJ!$B43:$SM43) -> 0 | C43: =SUMPRODUCT(--(C$10=YEAR(Quarterly_PJ!$B$10:$SM$10)),Quarterly_PJ!$B43:$SM43) -> 0 | D43: =SUMPRODUCT(--(D$10=YEAR(Quarterly_PJ!$B$10:$SM$10)),Quarterly_PJ!$B43:$SM43) -> 0 | E43: =SUMPRODUCT(--(E$10=YEAR(Quarterly_PJ!$B$10:$SM$10)),Quarterly_PJ!$B43:$SM43) -> 0 | F43: =SUMPRODUCT(--(F$10=YEAR(Quarterly_PJ!$B$10:$SM$10)),Quarterly_PJ!$B43:$SM43) -> 0 | G43: =SUMPRODUCT(--(G$10=YEAR(Quarterly_PJ!$B$10:$SM$10)),Quarterly_PJ!$B43:$SM43) -> 0 | H43: =SUMPRODUCT(--(H$10=YEAR(Quarterly_PJ!$B$10:$SM$10)),Quarterly_PJ!$B43:$SM43) -> 0 | I43: =SUMPRODUCT(--(I$10=YEAR(Quarterly_PJ!$B$10:$SM$10)),Quarterly_PJ!$B43:$SM43) -> 0 | ... AJ43: =SUMPRODUCT(--(AJ$10=YEAR(Quarterly_PJ!$B$10:$SM$10)),Quarterly_PJ!$B43:$SM43) -> 0
A44: Geothermal | B44: =SUMPRODUCT(--(B$10=YEAR(Quarterly_PJ!$B$10:$SM$10)),Quarterly_PJ!$B44:$SM44) -> 0 | C44: =SUMPRODUCT(--(C$10=YEAR(Quarterly_PJ!$B$10:$SM$10)),Quarterly_PJ!$B44:$SM44) -> 0 | D44: =SUMPRODUCT(--(D$10=YEAR(Quarterly_PJ!$B$10:$SM$10)),Quarterly_PJ!$B44:$SM44) -> 0 | E44: =SUMPRODUCT(--(E$10=YEAR(Quarterly_PJ!$B$10:$SM$10)),Quarterly_PJ!$B44:$SM44) -> 0 | F44: =SUMPRODUCT(--(F$10=YEAR(Quarterly_PJ!$B$10:$SM$10)),Quarterly_PJ!$B44:$SM44) -> 0 | G44: =SUMPRODUCT(--(G$10=YEAR(Quarterly_PJ!$B$10:$SM$10)),Quarterly_PJ!$B44:$SM44) -> 0 | H44: =SUMPRODUCT(--(H$10=YEAR(Quarterly_PJ!$B$10:$SM$10)),Quarterly_PJ!$B44:$SM44) -> 0 | I44: =SUMPRODUCT(--(I$10=YEAR(Quarterly_PJ!$B$10:$SM$10)),Quarterly_PJ!$B44:$SM44) -> 0 | ... AJ44: =SUMPRODUCT(--(AJ$10=YEAR(Quarterly_PJ!$B$10:$SM$10)),Quarterly_PJ!$B44:$SM44) -> 0
A45: Other renewables | B45: =SUMPRODUCT(--(B$10=YEAR(Quarterly_PJ!$B$10:$SM$10)),Quarterly_PJ!$B45:$SM45) -> 0 | C45: =SUMPRODUCT(--(C$10=YEAR(Quarterly_PJ!$B$10:$SM$10)),Quarterly_PJ!$B45:$SM45) -> 0 | D45: =SUMPRODUCT(--(D$10=YEAR(Quarterly_PJ!$B$10:$SM$10)),Quarterly_PJ!$B45:$SM45) -> 0 | E45: =SUMPRODUCT(--(E$10=YEAR(Quarterly_PJ!$B$10:$SM$10)),Quarterly_PJ!$B45:$SM45) -> 0 | F45: =SUMPRODUCT(--(F$10=YEAR(Quarterly_PJ!$B$10:$SM$10)),Quarterly_PJ!$B45:$SM45) -> 0 | G45: =SUMPRODUCT(--(G$10=YEAR(Quarterly_PJ!$B$10:$SM$10)),Quarterly_PJ!$B45:$SM45) -> 0 | H45: =SUMPRODUCT(--(H$10=YEAR(Quarterly_PJ!$B$10:$SM$10)),Quarterly_PJ!$B45:$SM45) -> 0 | I45: =SUMPRODUCT(--(I$10=YEAR(Quarterly_PJ!$B$10:$SM$10)),Quarterly_PJ!$B45:$SM45) -> 0 | ... AJ45: =SUMPRODUCT(--(AJ$10=YEAR(Quarterly_PJ!$B$10:$SM$10)),Quarterly_PJ!$B45:$SM45) -> 0
A46: Electricity | B46: =SUMPRODUCT(--(B$10=YEAR(Quarterly_PJ!$B$10:$SM$10)),Quarterly_PJ!$B46:$SM46) -> 0 | C46: =SUMPRODUCT(--(C$10=YEAR(Quarterly_PJ!$B$10:$SM$10)),Quarterly_PJ!$B46:$SM46) -> 0 | D46: =SUMPRODUCT(--(D$10=YEAR(Quarterly_PJ!$B$10:$SM$10)),Quarterly_PJ!$B46:$SM46) -> 0 | E46: =SUMPRODUCT(--(E$10=YEAR(Quarterly_PJ!$B$10:$SM$10)),Quarterly_PJ!$B46:$SM46) -> 0 | F46: =SUMPRODUCT(--(F$10=YEAR(Quarterly_PJ!$B$10:$SM$10)),Quarterly_PJ!$B46:$SM46) -> 0 | G46: =SUMPRODUCT(--(G$10=YEAR(Quarterly_PJ!$B$10:$SM$10)),Quarterly_PJ!$B46:$SM46) -> 0 | H46: =SUMPRODUCT(--(H$10=YEAR(Quarterly_PJ!$B$10:$SM$10)),Quarterly_PJ!$B46:$SM46) -> 0 | I46: =SUMPRODUCT(--(I$10=YEAR(Quarterly_PJ!$B$10:$SM$10)),Quarterly_PJ!$B46:$SM46) -> 0 | ... AJ46: =SUMPRODUCT(--(AJ$10=YEAR(Quarterly_PJ!$B$10:$SM$10)),Quarterly_PJ!$B46:$SM46) -> 0
A47: Waste heat | B47: =SUMPRODUCT(--(B$10=YEAR(Quarterly_PJ!$B$10:$SM$10)),Quarterly_PJ!$B47:$SM47) -> 0 | C47: =SUMPRODUCT(--(C$10=YEAR(Quarterly_PJ!$B$10:$SM$10)),Quarterly_PJ!$B47:$SM47) -> 0 | D47: =SUMPRODUCT(--(D$10=YEAR(Quarterly_PJ!$B$10:$SM$10)),Quarterly_PJ!$B47:$SM47) -> 0 | E47: =SUMPRODUCT(--(E$10=YEAR(Quarterly_PJ!$B$10:$SM$10)),Quarterly_PJ!$B47:$SM47) -> 0 | F47: =SUMPRODUCT(--(F$10=YEAR(Quarterly_PJ!$B$10:$SM$10)),Quarterly_PJ!$B47:$SM47) -> 0 | G47: =SUMPRODUCT(--(G$10=YEAR(Quarterly_PJ!$B$10:$SM$10)),Quarterly_PJ!$B47:$SM47) -> 0 | H47: =SUMPRODUCT(--(H$10=YEAR(Quarterly_PJ!$B$10:$SM$10)),Quarterly_PJ!$B47:$SM47) -> 0 | I47: =SUMPRODUCT(--(I$10=YEAR(Quarterly_PJ!$B$10:$SM$10)),Quarterly_PJ!$B47:$SM47) -> 0 | ... AJ47: =SUMPRODUCT(--(AJ$10=YEAR(Quarterly_PJ!$B$10:$SM$10)),Quarterly_PJ!$B47:$SM47) -> 0
A48: Stock Change | B48: =SUM(B49:B56) -> 1.8159937 | C48: =SUM(C49:C56) -> 0.21659105 | D48: =SUM(D49:D56) -> 11.747366 | E48: =SUM(E49:E56) -> 9.4455308 | F48: =SUM(F49:F56) -> -6.1216743 | G48: =SUM(G49:G56) -> 3.526523 | H48: =SUM(H49:H56) -> 14.612364 | I48: =SUM(I49:I56) -> 12.195404 | ... AJ48: =SUM(AJ49:AJ56) -> 2.6301168
A49: Coal | B49: =SUMPRODUCT(--(B$10=YEAR(Quarterly_PJ!$B$10:$SM$10)),Quarterly_PJ!$B49:$SM49) -> 0 | C49: =SUMPRODUCT(--(C$10=YEAR(Quarterly_PJ!$B$10:$SM$10)),Quarterly_PJ!$B49:$SM49) -> 0 | D49: =SUMPRODUCT(--(D$10=YEAR(Quarterly_PJ!$B$10:$SM$10)),Quarterly_PJ!$B49:$SM49) -> 10.768329 | E49: =SUMPRODUCT(--(E$10=YEAR(Quarterly_PJ!$B$10:$SM$10)),Quarterly_PJ!$B49:$SM49) -> -0.212142 | F49: =SUMPRODUCT(--(F$10=YEAR(Quarterly_PJ!$B$10:$SM$10)),Quarterly_PJ!$B49:$SM49) -> -9.904186 | G49: =SUMPRODUCT(--(G$10=YEAR(Quarterly_PJ!$B$10:$SM$10)),Quarterly_PJ!$B49:$SM49) -> 2.9567055 | H49: =SUMPRODUCT(--(H$10=YEAR(Quarterly_PJ!$B$10:$SM$10)),Quarterly_PJ!$B49:$SM49) -> 6.8262622 | I49: =SUMPRODUCT(--(I$10=YEAR(Quarterly_PJ!$B$10:$SM$10)),Quarterly_PJ!$B49:$SM49) -> 1.9608275 | ... AJ49: =SUMPRODUCT(--(AJ$10=YEAR(Quarterly_PJ!$B$10:$SM$10)),Quarterly_PJ!$B49:$SM49) -> 0.12601475
A50: Oil | B50: =SUMPRODUCT(--(B$10=YEAR(Quarterly_PJ!$B$10:$SM$10)),Quarterly_PJ!$B50:$SM50) -> 1.8350137 | C50: =SUMPRODUCT(--(C$10=YEAR(Quarterly_PJ!$B$10:$SM$10)),Quarterly_PJ!$B50:$SM50) -> 0.21617105 | D50: =SUMPRODUCT(--(D$10=YEAR(Quarterly_PJ!$B$10:$SM$10)),Quarterly_PJ!$B50:$SM50) -> 0.97876686 | E50: =SUMPRODUCT(--(E$10=YEAR(Quarterly_PJ!$B$10:$SM$10)),Quarterly_PJ!$B50:$SM50) -> 9.6806728 | F50: =SUMPRODUCT(--(F$10=YEAR(Quarterly_PJ!$B$10:$SM$10)),Quarterly_PJ!$B50:$SM50) -> 3.7925117 | G50: =SUMPRODUCT(--(G$10=YEAR(Quarterly_PJ!$B$10:$SM$10)),Quarterly_PJ!$B50:$SM50) -> 0.5808175 | H50: =SUMPRODUCT(--(H$10=YEAR(Quarterly_PJ!$B$10:$SM$10)),Quarterly_PJ!$B50:$SM50) -> 7.7431017 | I50: =SUMPRODUCT(--(I$10=YEAR(Quarterly_PJ!$B$10:$SM$10)),Quarterly_PJ!$B50:$SM50) -> 10.257576 | ... AJ50: =SUMPRODUCT(--(AJ$10=YEAR(Quarterly_PJ!$B$10:$SM$10)),Quarterly_PJ!$B50:$SM50) -> 0.76069597
A51: Natural gas | B51: =SUMPRODUCT(--(B$10=YEAR(Quarterly_PJ!$B$10:$SM$10)),Quarterly_PJ!$B51:$SM51) -> -0.01902 | C51: =SUMPRODUCT(--(C$10=YEAR(Quarterly_PJ!$B$10:$SM$10)),Quarterly_PJ!$B51:$SM51) -> 0.00042 | D51: =SUMPRODUCT(--(D$10=YEAR(Quarterly_PJ!$B$10:$SM$10)),Quarterly_PJ!$B51:$SM51) -> 0.00027 | E51: =SUMPRODUCT(--(E$10=YEAR(Quarterly_PJ!$B$10:$SM$10)),Quarterly_PJ!$B51:$SM51) -> -0.023 | F51: =SUMPRODUCT(--(F$10=YEAR(Quarterly_PJ!$B$10:$SM$10)),Quarterly_PJ!$B51:$SM51) -> -0.01 | G51: =SUMPRODUCT(--(G$10=YEAR(Quarterly_PJ!$B$10:$SM$10)),Quarterly_PJ!$B51:$SM51) -> -0.011 | H51: =SUMPRODUCT(--(H$10=YEAR(Quarterly_PJ!$B$10:$SM$10)),Quarterly_PJ!$B51:$SM51) -> 0.043 | I51: =SUMPRODUCT(--(I$10=YEAR(Quarterly_PJ!$B$10:$SM$10)),Quarterly_PJ!$B51:$SM51) -> -0.023 | ... AJ51: =SUMPRODUCT(--(AJ$10=YEAR(Quarterly_PJ!$B$10:$SM$10)),Quarterly_PJ!$B51:$SM51) -> 1.7434061
A52: Hydro | B52: =SUMPRODUCT(--(B$10=YEAR(Quarterly_PJ!$B$10:$SM$10)),Quarterly_PJ!$B52:$SM52) -> 0 | C52: =SUMPRODUCT(--(C$10=YEAR(Quarterly_PJ!$B$10:$SM$10)),Quarterly_PJ!$B52:$SM52) -> 0 | D52: =SUMPRODUCT(--(D$10=YEAR(Quarterly_PJ!$B$10:$SM$10)),Quarterly_PJ!$B52:$SM52) -> 0 | E52: =SUMPRODUCT(--(E$10=YEAR(Quarterly_PJ!$B$10:$SM$10)),Quarterly_PJ!$B52:$SM52) -> 0 | F52: =SUMPRODUCT(--(F$10=YEAR(Quarterly_PJ!$B$10:$SM$10)),Quarterly_PJ!$B52:$SM52) -> 0 | G52: =SUMPRODUCT(--(G$10=YEAR(Quarterly_PJ!$B$10:$SM$10)),Quarterly_PJ!$B52:$SM52) -> 0 | H52: =SUMPRODUCT(--(H$10=YEAR(Quarterly_PJ!$B$10:$SM$10)),Quarterly_PJ!$B52:$SM52) -> 0 | I52: =SUMPRODUCT(--(I$10=YEAR(Quarterly_PJ!$B$10:$SM$10)),Quarterly_PJ!$B52:$SM52) -> 0 | ... AJ52: =SUMPRODUCT(--(AJ$10=YEAR(Quarterly_PJ!$B$10:$SM$10)),Quarterly_PJ!$B52:$SM52) -> 0
A53: Geothermal | B53: =SUMPRODUCT(--(B$10=YEAR(Quarterly_PJ!$B$10:$SM$10)),Quarterly_PJ!$B53:$SM53) -> 0 | C53: =SUMPRODUCT(--(C$10=YEAR(Quarterly_PJ!$B$10:$SM$10)),Quarterly_PJ!$B53:$SM53) -> 0 | D53: =SUMPRODUCT(--(D$10=YEAR(Quarterly_PJ!$B$10:$SM$10)),Quarterly_PJ!$B53:$SM53) -> 0 | E53: =SUMPRODUCT(--(E$10=YEAR(Quarterly_PJ!$B$10:$SM$10)),Quarterly_PJ!$B53:$SM53) -> 0 | F53: =SUMPRODUCT(--(F$10=YEAR(Quarterly_PJ!$B$10:$SM$10)),Quarterly_PJ!$B53:$SM53) -> 0 | G53: =SUMPRODUCT(--(G$10=YEAR(Quarterly_PJ!$B$10:$SM$10)),Quarterly_PJ!$B53:$SM53) -> 0 | H53: =SUMPRODUCT(--(H$10=YEAR(Quarterly_PJ!$B$10:$SM$10)),Quarterly_PJ!$B53:$SM53) -> 0 | I53: =SUMPRODUCT(--(I$10=YEAR(Quarterly_PJ!$B$10:$SM$10)),Quarterly_PJ!$B53:$SM53) -> 0 | ... AJ53: =SUMPRODUCT(--(AJ$10=YEAR(Quarterly_PJ!$B$10:$SM$10)),Quarterly_PJ!$B53:$SM53) -> 0
A54: Other renewables | B54: =SUMPRODUCT(--(B$10=YEAR(Quarterly_PJ!$B$10:$SM$10)),Quarterly_PJ!$B54:$SM54) -> 0 | C54: =SUMPRODUCT(--(C$10=YEAR(Quarterly_PJ!$B$10:$SM$10)),Quarterly_PJ!$B54:$SM54) -> 0 | D54: =SUMPRODUCT(--(D$10=YEAR(Quarterly_PJ!$B$10:$SM$10)),Quarterly_PJ!$B54:$SM54) -> 0 | E54: =SUMPRODUCT(--(E$10=YEAR(Quarterly_PJ!$B$10:$SM$10)),Quarterly_PJ!$B54:$SM54) -> 0 | F54: =SUMPRODUCT(--(F$10=YEAR(Quarterly_PJ!$B$10:$SM$10)),Quarterly_PJ!$B54:$SM54) -> 0 | G54: =SUMPRODUCT(--(G$10=YEAR(Quarterly_PJ!$B$10:$SM$10)),Quarterly_PJ!$B54:$SM54) -> 0 | H54: =SUMPRODUCT(--(H$10=YEAR(Quarterly_PJ!$B$10:$SM$10)),Quarterly_PJ!$B54:$SM54) -> 0 | I54: =SUMPRODUCT(--(I$10=YEAR(Quarterly_PJ!$B$10:$SM$10)),Quarterly_PJ!$B54:$SM54) -> 0 | ... AJ54: =SUMPRODUCT(--(AJ$10=YEAR(Quarterly_PJ!$B$10:$SM$10)),Quarterly_PJ!$B54:$SM54) -> 0
A55: Electricity | B55: =SUMPRODUCT(--(B$10=YEAR(Quarterly_PJ!$B$10:$SM$10)),Quarterly_PJ!$B55:$SM55) -> 0 | C55: =SUMPRODUCT(--(C$10=YEAR(Quarterly_PJ!$B$10:$SM$10)),Quarterly_PJ!$B55:$SM55) -> 0 | D55: =SUMPRODUCT(--(D$10=YEAR(Quarterly_PJ!$B$10:$SM$10)),Quarterly_PJ!$B55:$SM55) -> 0 | E55: =SUMPRODUCT(--(E$10=YEAR(Quarterly_PJ!$B$10:$SM$10)),Quarterly_PJ!$B55:$SM55) -> 0 | F55: =SUMPRODUCT(--(F$10=YEAR(Quarterly_PJ!$B$10:$SM$10)),Quarterly_PJ!$B55:$SM55) -> 0 | G55: =SUMPRODUCT(--(G$10=YEAR(Quarterly_PJ!$B$10:$SM$10)),Quarterly_PJ!$B55:$SM55) -> 0 | H55: =SUMPRODUCT(--(H$10=YEAR(Quarterly_PJ!$B$10:$SM$10)),Quarterly_PJ!$B55:$SM55) -> 0 | I55: =SUMPRODUCT(--(I$10=YEAR(Quarterly_PJ!$B$10:$SM$10)),Quarterly_PJ!$B55:$SM55) -> 0 | ... AJ55: =SUMPRODUCT(--(AJ$10=YEAR(Quarterly_PJ!$B$10:$SM$10)),Quarterly_PJ!$B55:$SM55) -> 0
A56: Waste heat | B56: =SUMPRODUCT(--(B$10=YEAR(Quarterly_PJ!$B$10:$SM$10)),Quarterly_PJ!$B56:$SM56) -> 0 | C56: =SUMPRODUCT(--(C$10=YEAR(Quarterly_PJ!$B$10:$SM$10)),Quarterly_PJ!$B56:$SM56) -> 0 | D56: =SUMPRODUCT(--(D$10=YEAR(Quarterly_PJ!$B$10:$SM$10)),Quarterly_PJ!$B56:$SM56) -> 0 | E56: =SUMPRODUCT(--(E$10=YEAR(Quarterly_PJ!$B$10:$SM$10)),Quarterly_PJ!$B56:$SM56) -> 0 | F56: =SUMPRODUCT(--(F$10=YEAR(Quarterly_PJ!$B$10:$SM$10)),Quarterly_PJ!$B56:$SM56) -> 0 | G56: =SUMPRODUCT(--(G$10=YEAR(Quarterly_PJ!$B$10:$SM$10)),Quarterly_PJ!$B56:$SM56) -> 0 | H56: =SUMPRODUCT(--(H$10=YEAR(Quarterly_PJ!$B$10:$SM$10)),Quarterly_PJ!$B56:$SM56) -> 0 | I56: =SUMPRODUCT(--(I$10=YEAR(Quarterly_PJ!$B$10:$SM$10)),Quarterly_PJ!$B56:$SM56) -> 0 | ... AJ56: =SUMPRODUCT(--(AJ$10=YEAR(Quarterly_PJ!$B$10:$SM$10)),Quarterly_PJ!$B56:$SM56) -> 0
A57: International Transport | B57: =SUM(B58:B65) -> 33.845301 | C57: =SUM(C58:C65) -> 31.992588 | D57: =SUM(D58:D65) -> 30.65611 | E57: =SUM(E58:E65) -> 31.637505 | F57: =SUM(F58:F65) -> 37.825172 | G57: =SUM(G58:G65) -> 39.249882 | H57: =SUM(H58:H65) -> 38.70915 | I57: =SUM(I58:I65) -> 39.261023 | ... AJ57: =SUM(AJ58:AJ65) -> 59.449678
A58: Coal | B58: =SUMPRODUCT(--(B$10=YEAR(Quarterly_PJ!$B$10:$SM$10)),Quarterly_PJ!$B58:$SM58) -> 0 | C58: =SUMPRODUCT(--(C$10=YEAR(Quarterly_PJ!$B$10:$SM$10)),Quarterly_PJ!$B58:$SM58) -> 0 | D58: =SUMPRODUCT(--(D$10=YEAR(Quarterly_PJ!$B$10:$SM$10)),Quarterly_PJ!$B58:$SM58) -> 0 | E58: =SUMPRODUCT(--(E$10=YEAR(Quarterly_PJ!$B$10:$SM$10)),Quarterly_PJ!$B58:$SM58) -> 0 | F58: =SUMPRODUCT(--(F$10=YEAR(Quarterly_PJ!$B$10:$SM$10)),Quarterly_PJ!$B58:$SM58) -> 0 | G58: =SUMPRODUCT(--(G$10=YEAR(Quarterly_PJ!$B$10:$SM$10)),Quarterly_PJ!$B58:$SM58) -> 0 | H58: =SUMPRODUCT(--(H$10=YEAR(Quarterly_PJ!$B$10:$SM$10)),Quarterly_PJ!$B58:$SM58) -> 0 | I58: =SUMPRODUCT(--(I$10=YEAR(Quarterly_PJ!$B$10:$SM$10)),Quarterly_PJ!$B58:$SM58) -> 0 | ... AJ58: =SUMPRODUCT(--(AJ$10=YEAR(Quarterly_PJ!$B$10:$SM$10)),Quarterly_PJ!$B58:$SM58) -> 0
A59: Oil | B59: =SUMPRODUCT(--(B$10=YEAR(Quarterly_PJ!$B$10:$SM$10)),Quarterly_PJ!$B59:$SM59) -> 33.845301 | C59: =SUMPRODUCT(--(C$10=YEAR(Quarterly_PJ!$B$10:$SM$10)),Quarterly_PJ!$B59:$SM59) -> 31.992588 | D59: =SUMPRODUCT(--(D$10=YEAR(Quarterly_PJ!$B$10:$SM$10)),Quarterly_PJ!$B59:$SM59) -> 30.65611 | E59: =SUMPRODUCT(--(E$10=YEAR(Quarterly_PJ!$B$10:$SM$10)),Quarterly_PJ!$B59:$SM59) -> 31.637505 | F59: =SUMPRODUCT(--(F$10=YEAR(Quarterly_PJ!$B$10:$SM$10)),Quarterly_PJ!$B59:$SM59) -> 37.825172 | G59: =SUMPRODUCT(--(G$10=YEAR(Quarterly_PJ!$B$10:$SM$10)),Quarterly_PJ!$B59:$SM59) -> 39.249882 | H59: =SUMPRODUCT(--(H$10=YEAR(Quarterly_PJ!$B$10:$SM$10)),Quarterly_PJ!$B59:$SM59) -> 38.70915 | I59: =SUMPRODUCT(--(I$10=YEAR(Quarterly_PJ!$B$10:$SM$10)),Quarterly_PJ!$B59:$SM59) -> 39.261023 | ... AJ59: =SUMPRODUCT(--(AJ$10=YEAR(Quarterly_PJ!$B$10:$SM$10)),Quarterly_PJ!$B59:$SM59) -> 59.449678
A60: Natural gas | B60: =SUMPRODUCT(--(B$10=YEAR(Quarterly_PJ!$B$10:$SM$10)),Quarterly_PJ!$B60:$SM60) -> 0 | C60: =SUMPRODUCT(--(C$10=YEAR(Quarterly_PJ!$B$10:$SM$10)),Quarterly_PJ!$B60:$SM60) -> 0 | D60: =SUMPRODUCT(--(D$10=YEAR(Quarterly_PJ!$B$10:$SM$10)),Quarterly_PJ!$B60:$SM60) -> 0 | E60: =SUMPRODUCT(--(E$10=YEAR(Quarterly_PJ!$B$10:$SM$10)),Quarterly_PJ!$B60:$SM60) -> 0 | F60: =SUMPRODUCT(--(F$10=YEAR(Quarterly_PJ!$B$10:$SM$10)),Quarterly_PJ!$B60:$SM60) -> 0 | G60: =SUMPRODUCT(--(G$10=YEAR(Quarterly_PJ!$B$10:$SM$10)),Quarterly_PJ!$B60:$SM60) -> 0 | H60: =SUMPRODUCT(--(H$10=YEAR(Quarterly_PJ!$B$10:$SM$10)),Quarterly_PJ!$B60:$SM60) -> 0 | I60: =SUMPRODUCT(--(I$10=YEAR(Quarterly_PJ!$B$10:$SM$10)),Quarterly_PJ!$B60:$SM60) -> 0 | ... AJ60: =SUMPRODUCT(--(AJ$10=YEAR(Quarterly_PJ!$B$10:$SM$10)),Quarterly_PJ!$B60:$SM60) -> 0
A61: Hydro | B61: =SUMPRODUCT(--(B$10=YEAR(Quarterly_PJ!$B$10:$SM$10)),Quarterly_PJ!$B61:$SM61) -> 0 | C61: =SUMPRODUCT(--(C$10=YEAR(Quarterly_PJ!$B$10:$SM$10)),Quarterly_PJ!$B61:$SM61) -> 0 | D61: =SUMPRODUCT(--(D$10=YEAR(Quarterly_PJ!$B$10:$SM$10)),Quarterly_PJ!$B61:$SM61) -> 0 | E61: =SUMPRODUCT(--(E$10=YEAR(Quarterly_PJ!$B$10:$SM$10)),Quarterly_PJ!$B61:$SM61) -> 0 | F61: =SUMPRODUCT(--(F$10=YEAR(Quarterly_PJ!$B$10:$SM$10)),Quarterly_PJ!$B61:$SM61) -> 0 | G61: =SUMPRODUCT(--(G$10=YEAR(Quarterly_PJ!$B$10:$SM$10)),Quarterly_PJ!$B61:$SM61) -> 0 | H61: =SUMPRODUCT(--(H$10=YEAR(Quarterly_PJ!$B$10:$SM$10)),Quarterly_PJ!$B61:$SM61) -> 0 | I61: =SUMPRODUCT(--(I$10=YEAR(Quarterly_PJ!$B$10:$SM$10)),Quarterly_PJ!$B61:$SM61) -> 0 | ... AJ61: =SUMPRODUCT(--(AJ$10=YEAR(Quarterly_PJ!$B$10:$SM$10)),Quarterly_PJ!$B61:$SM61) -> 0
A62: Geothermal | B62: =SUMPRODUCT(--(B$10=YEAR(Quarterly_PJ!$B$10:$SM$10)),Quarterly_PJ!$B62:$SM62) -> 0 | C62: =SUMPRODUCT(--(C$10=YEAR(Quarterly_PJ!$B$10:$SM$10)),Quarterly_PJ!$B62:$SM62) -> 0 | D62: =SUMPRODUCT(--(D$10=YEAR(Quarterly_PJ!$B$10:$SM$10)),Quarterly_PJ!$B62:$SM62) -> 0 | E62: =SUMPRODUCT(--(E$10=YEAR(Quarterly_PJ!$B$10:$SM$10)),Quarterly_PJ!$B62:$SM62) -> 0 | F62: =SUMPRODUCT(--(F$10=YEAR(Quarterly_PJ!$B$10:$SM$10)),Quarterly_PJ!$B62:$SM62) -> 0 | G62: =SUMPRODUCT(--(G$10=YEAR(Quarterly_PJ!$B$10:$SM$10)),Quarterly_PJ!$B62:$SM62) -> 0 | H62: =SUMPRODUCT(--(H$10=YEAR(Quarterly_PJ!$B$10:$SM$10)),Quarterly_PJ!$B62:$SM62) -> 0 | I62: =SUMPRODUCT(--(I$10=YEAR(Quarterly_PJ!$B$10:$SM$10)),Quarterly_PJ!$B62:$SM62) -> 0 | ... AJ62: =SUMPRODUCT(--(AJ$10=YEAR(Quarterly_PJ!$B$10:$SM$10)),Quarterly_PJ!$B62:$SM62) -> 0
A63: Other renewables | B63: =SUMPRODUCT(--(B$10=YEAR(Quarterly_PJ!$B$10:$SM$10)),Quarterly_PJ!$B63:$SM63) -> 0 | C63: =SUMPRODUCT(--(C$10=YEAR(Quarterly_PJ!$B$10:$SM$10)),Quarterly_PJ!$B63:$SM63) -> 0 | D63: =SUMPRODUCT(--(D$10=YEAR(Quarterly_PJ!$B$10:$SM$10)),Quarterly_PJ!$B63:$SM63) -> 0 | E63: =SUMPRODUCT(--(E$10=YEAR(Quarterly_PJ!$B$10:$SM$10)),Quarterly_PJ!$B63:$SM63) -> 0 | F63: =SUMPRODUCT(--(F$10=YEAR(Quarterly_PJ!$B$10:$SM$10)),Quarterly_PJ!$B63:$SM63) -> 0 | G63: =SUMPRODUCT(--(G$10=YEAR(Quarterly_PJ!$B$10:$SM$10)),Quarterly_PJ!$B63:$SM63) -> 0 | H63: =SUMPRODUCT(--(H$10=YEAR(Quarterly_PJ!$B$10:$SM$10)),Quarterly_PJ!$B63:$SM63) -> 0 | I63: =SUMPRODUCT(--(I$10=YEAR(Quarterly_PJ!$B$10:$SM$10)),Quarterly_PJ!$B63:$SM63) -> 0 | ... AJ63: =SUMPRODUCT(--(AJ$10=YEAR(Quarterly_PJ!$B$10:$SM$10)),Quarterly_PJ!$B63:$SM63) -> 0
A64: Electricity | B64: =SUMPRODUCT(--(B$10=YEAR(Quarterly_PJ!$B$10:$SM$10)),Quarterly_PJ!$B64:$SM64) -> 0 | C64: =SUMPRODUCT(--(C$10=YEAR(Quarterly_PJ!$B$10:$SM$10)),Quarterly_PJ!$B64:$SM64) -> 0 | D64: =SUMPRODUCT(--(D$10=YEAR(Quarterly_PJ!$B$10:$SM$10)),Quarterly_PJ!$B64:$SM64) -> 0 | E64: =SUMPRODUCT(--(E$10=YEAR(Quarterly_PJ!$B$10:$SM$10)),Quarterly_PJ!$B64:$SM64) -> 0 | F64: =SUMPRODUCT(--(F$10=YEAR(Quarterly_PJ!$B$10:$SM$10)),Quarterly_PJ!$B64:$SM64) -> 0 | G64: =SUMPRODUCT(--(G$10=YEAR(Quarterly_PJ!$B$10:$SM$10)),Quarterly_PJ!$B64:$SM64) -> 0 | H64: =SUMPRODUCT(--(H$10=YEAR(Quarterly_PJ!$B$10:$SM$10)),Quarterly_PJ!$B64:$SM64) -> 0 | I64: =SUMPRODUCT(--(I$10=YEAR(Quarterly_PJ!$B$10:$SM$10)),Quarterly_PJ!$B64:$SM64) -> 0 | ... AJ64: =SUMPRODUCT(--(AJ$10=YEAR(Quarterly_PJ!$B$10:$SM$10)),Quarterly_PJ!$B64:$SM64) -> 0
A65: Waste heat | B65: =SUMPRODUCT(--(B$10=YEAR(Quarterly_PJ!$B$10:$SM$10)),Quarterly_PJ!$B65:$SM65) -> 0 | C65: =SUMPRODUCT(--(C$10=YEAR(Quarterly_PJ!$B$10:$SM$10)),Quarterly_PJ!$B65:$SM65) -> 0 | D65: =SUMPRODUCT(--(D$10=YEAR(Quarterly_PJ!$B$10:$SM$10)),Quarterly_PJ!$B65:$SM65) -> 0 | E65: =SUMPRODUCT(--(E$10=YEAR(Quarterly_PJ!$B$10:$SM$10)),Quarterly_PJ!$B65:$SM65) -> 0 | F65: =SUMPRODUCT(--(F$10=YEAR(Quarterly_PJ!$B$10:$SM$10)),Quarterly_PJ!$B65:$SM65) -> 0 | G65: =SUMPRODUCT(--(G$10=YEAR(Quarterly_PJ!$B$10:$SM$10)),Quarterly_PJ!$B65:$SM65) -> 0 | H65: =SUMPRODUCT(--(H$10=YEAR(Quarterly_PJ!$B$10:$SM$10)),Quarterly_PJ!$B65:$SM65) -> 0 | I65: =SUMPRODUCT(--(I$10=YEAR(Quarterly_PJ!$B$10:$SM$10)),Quarterly_PJ!$B65:$SM65) -> 0 | ... AJ65: =SUMPRODUCT(--(AJ$10=YEAR(Quarterly_PJ!$B$10:$SM$10)),Quarterly_PJ!$B65:$SM65) -> 0
A67: Energy Transformation | B67: =B76+B85+B94+B103+B112 -> -162.50828 | C67: =C76+C85+C94+C103+C112 -> -175.18487 | D67: =D76+D85+D94+D103+D112 -> -183.24875 | E67: =E76+E85+E94+E103+E112 -> -173.21125 | F67: =F76+F85+F94+F103+F112 -> -165.0485 | G67: =G76+G85+G94+G103+G112 -> -159.21643 | H67: =H76+H85+H94+H103+H112 -> -171.38697 | I67: =I76+I85+I94+I103+I112 -> -188.56032 | ... AJ67: =AJ76+AJ85+AJ94+AJ103+AJ112 -> -278.99966
A68: Coal | B68: =B77+B86+B95+B104+B113 -> -20.875881 | C68: =C77+C86+C95+C104+C113 -> -18.91837 | D68: =D77+D86+D95+D104+D113 -> -27.141595 | E68: =E77+E86+E95+E104+E113 -> -22.327919 | F68: =F77+F86+F95+F104+F113 -> -20.558045 | G68: =G77+G86+G95+G104+G113 -> -23.245357 | H68: =H77+H86+H95+H104+H113 -> -23.477905 | I68: =I77+I86+I95+I104+I113 -> -28.237366 | ... AJ68: =AJ77+AJ86+AJ95+AJ104+AJ113 -> -35.86843
A69: Oil | B69: =B78+B87+B96+B105+B114 -> 16.776004 | C69: =C78+C87+C96+C105+C114 -> 7.5470503 | D69: =D78+D87+D96+D105+D114 -> 13.090701 | E69: =E78+E87+E96+E105+E114 -> 18.486879 | F69: =F78+F87+F96+F105+F114 -> 7.0461961 | G69: =G78+G87+G96+G105+G114 -> -1.0947077 | H69: =H78+H87+H96+H105+H114 -> -7.9393749 | I69: =I78+I87+I96+I105+I114 -> -10.983986 | ... AJ69: =AJ78+AJ87+AJ96+AJ105+AJ114 -> 0.80902096
A70: Natural gas | B70: =B79+B88+B97+B106+B115 -> -96.253377 | C70: =C79+C88+C97+C106+C115 -> -103.10346 | D70: =D79+D88+D97+D106+D115 -> -115.26612 | E70: =E79+E88+E97+E106+E115 -> -107.20276 | F70: =F79+F88+F97+F106+F115 -> -87.430672 | G70: =G79+G88+G97+G106+G115 -> -69.265168 | H70: =H79+H88+H97+H106+H115 -> -81.003839 | I70: =I79+I88+I97+I106+I115 -> -99.417184 | ... AJ70: =AJ79+AJ88+AJ97+AJ106+AJ115 -> -43.194355
A71: Hydro | B71: =B80+B89+B98+B107+B116 -> -83.458743 | C71: =C80+C89+C98+C107+C116 -> -82.411828 | D71: =D80+D89+D98+D107+D116 -> -75.926019 | E71: =E80+E89+E98+E107+E116 -> -84.565957 | F71: =F80+F89+F98+F107+F116 -> -93.004188 | G71: =G80+G89+G98+G107+G116 -> -99.115221 | H71: =H80+H89+H98+H107+H116 -> -94.24912 | I71: =I80+I89+I98+I107+I116 -> -83.721023 | ... AJ71: =AJ80+AJ89+AJ98+AJ107+AJ116 -> -85.411372
A72: Geothermal | B72: =B81+B90+B99+B108+B117 -> -54.713263 | C72: =C81+C90+C99+C108+C117 -> -57.824822 | D72: =D81+D90+D99+D108+D117 -> -57.212583 | E72: =E81+E90+E99+E108+E117 -> -60.324621 | F72: =F81+F90+F99+F108+F117 -> -55.75119 | G72: =G81+G90+G99+G108+G117 -> -54.873587 | H72: =H81+H90+H99+H108+H117 -> -55.959892 | I72: =I81+I90+I99+I108+I117 -> -58.415867 | ... AJ72: =AJ81+AJ90+AJ99+AJ108+AJ117 -> -218.67851
A73: Other renewables | B73: =B82+B91+B100+B109+B118 -> -28.139537 | C73: =C82+C91+C100+C109+C118 -> -28.041323 | D73: =D82+D91+D100+D109+D118 -> -26.584617 | E73: =E82+E91+E100+E109+E118 -> -28.033685 | F73: =F82+F91+F100+F109+F118 -> -28.271492 | G73: =G82+G91+G100+G109+G118 -> -28.679992 | H73: =H82+H91+H100+H109+H118 -> -26.866546 | I73: =I82+I91+I100+I109+I118 -> -27.012862 | ... AJ73: =AJ82+AJ91+AJ100+AJ109+AJ118 -> -41.165545
A74: Electricity | B74: =B83+B92+B101+B110+B119 -> 105.76637 | C74: =C83+C92+C101+C110+C119 -> 109.17676 | D74: =D83+D92+D101+D110+D119 -> 107.40221 | E74: =E83+E92+E101+E110+E119 -> 112.36741 | F74: =F83+F92+F101+F110+F119 -> 114.53216 | G74: =G83+G92+G101+G110+G119 -> 118.66771 | H74: =H83+H92+H101+H110+H119 -> 119.72817 | I74: =I83+I92+I101+I110+I119 -> 120.83808 | ... AJ74: =AJ83+AJ92+AJ101+AJ110+AJ119 -> 145.19038
A75: Waste heat | B75: =B84+B93+B102+B111+B120 -> -1.6098535 | C75: =C84+C93+C102+C111+C120 -> -1.6088777 | D75: =D84+D93+D102+D111+D120 -> -1.6107266 | E75: =E84+E93+E102+E111+E120 -> -1.6105982 | F75: =F84+F93+F102+F111+F120 -> -1.6112659 | G75: =G84+G93+G102+G111+G120 -> -1.6101103 | H75: =H84+H93+H102+H111+H120 -> -1.6184627 | I75: =I84+I93+I102+I111+I120 -> -1.6101103 | ... AJ75: =AJ84+AJ93+AJ102+AJ111+AJ120 -> -0.68083875
A76: Electricity Generation | B76: =SUM(B77:B84) -> -86.375307 | C76: =SUM(C77:C84) -> -95.040087 | D76: =SUM(D77:D84) -> -104.29187 | E76: =SUM(E77:E84) -> -98.702783 | F76: =SUM(F77:F84) -> -85.453236 | G76: =SUM(G77:G84) -> -79.186883 | H76: =SUM(H77:H84) -> -88.607546 | I76: =SUM(I77:I84) -> -106.51394 | ... AJ76: =SUM(AJ77:AJ84) -> -217.24984
A77: Coal | B77: =SUMPRODUCT(--(B$10=YEAR(Quarterly_PJ!$B$10:$SM$10)),Quarterly_PJ!$B77:$SM77) -> -5.2056695 | C77: =SUMPRODUCT(--(C$10=YEAR(Quarterly_PJ!$B$10:$SM$10)),Quarterly_PJ!$B77:$SM77) -> -2.4238378 | D77: =SUMPRODUCT(--(D$10=YEAR(Quarterly_PJ!$B$10:$SM$10)),Quarterly_PJ!$B77:$SM77) -> -9.6801322 | E77: =SUMPRODUCT(--(E$10=YEAR(Quarterly_PJ!$B$10:$SM$10)),Quarterly_PJ!$B77:$SM77) -> -4.7250247 | F77: =SUMPRODUCT(--(F$10=YEAR(Quarterly_PJ!$B$10:$SM$10)),Quarterly_PJ!$B77:$SM77) -> -4.1204028 | G77: =SUMPRODUCT(--(G$10=YEAR(Quarterly_PJ!$B$10:$SM$10)),Quarterly_PJ!$B77:$SM77) -> -6.0411147 | H77: =SUMPRODUCT(--(H$10=YEAR(Quarterly_PJ!$B$10:$SM$10)),Quarterly_PJ!$B77:$SM77) -> -6.6192554 | I77: =SUMPRODUCT(--(I$10=YEAR(Quarterly_PJ!$B$10:$SM$10)),Quarterly_PJ!$B77:$SM77) -> -12.901072 | ... AJ77: =SUMPRODUCT(--(AJ$10=YEAR(Quarterly_PJ!$B$10:$SM$10)),Quarterly_PJ!$B77:$SM77) -> -18.472189
A78: Oil | B78: =SUMPRODUCT(--(B$10=YEAR(Quarterly_PJ!$B$10:$SM$10)),Quarterly_PJ!$B78:$SM78) -> -0.14496094 | C78: =SUMPRODUCT(--(C$10=YEAR(Quarterly_PJ!$B$10:$SM$10)),Quarterly_PJ!$B78:$SM78) -> -0.3085105 | D78: =SUMPRODUCT(--(D$10=YEAR(Quarterly_PJ!$B$10:$SM$10)),Quarterly_PJ!$B78:$SM78) -> -2.5174277 | E78: =SUMPRODUCT(--(E$10=YEAR(Quarterly_PJ!$B$10:$SM$10)),Quarterly_PJ!$B78:$SM78) -> -0.75785116 | F78: =SUMPRODUCT(--(F$10=YEAR(Quarterly_PJ!$B$10:$SM$10)),Quarterly_PJ!$B78:$SM78) -> -0.25686978 | G78: =SUMPRODUCT(--(G$10=YEAR(Quarterly_PJ!$B$10:$SM$10)),Quarterly_PJ!$B78:$SM78) -> -0.61447124 | H78: =SUMPRODUCT(--(H$10=YEAR(Quarterly_PJ!$B$10:$SM$10)),Quarterly_PJ!$B78:$SM78) -> -0.23895668 | I78: =SUMPRODUCT(--(I$10=YEAR(Quarterly_PJ!$B$10:$SM$10)),Quarterly_PJ!$B78:$SM78) -> -0.0010894545 | ... AJ78: =SUMPRODUCT(--(AJ$10=YEAR(Quarterly_PJ!$B$10:$SM$10)),Quarterly_PJ!$B78:$SM78) -> -0.31266793
A79: Natural gas | B79: =SUMPRODUCT(--(B$10=YEAR(Quarterly_PJ!$B$10:$SM$10)),Quarterly_PJ!$B79:$SM79) -> -56.982719 | C79: =SUMPRODUCT(--(C$10=YEAR(Quarterly_PJ!$B$10:$SM$10)),Quarterly_PJ!$B79:$SM79) -> -69.476947 | D79: =SUMPRODUCT(--(D$10=YEAR(Quarterly_PJ!$B$10:$SM$10)),Quarterly_PJ!$B79:$SM79) -> -74.853579 | E79: =SUMPRODUCT(--(E$10=YEAR(Quarterly_PJ!$B$10:$SM$10)),Quarterly_PJ!$B79:$SM79) -> -69.104884 | F79: =SUMPRODUCT(--(F$10=YEAR(Quarterly_PJ!$B$10:$SM$10)),Quarterly_PJ!$B79:$SM79) -> -54.703444 | G79: =SUMPRODUCT(--(G$10=YEAR(Quarterly_PJ!$B$10:$SM$10)),Quarterly_PJ!$B79:$SM79) -> -44.623098 | H79: =SUMPRODUCT(--(H$10=YEAR(Quarterly_PJ!$B$10:$SM$10)),Quarterly_PJ!$B79:$SM79) -> -58.036829 | I79: =SUMPRODUCT(--(I$10=YEAR(Quarterly_PJ!$B$10:$SM$10)),Quarterly_PJ!$B79:$SM79) -> -76.327613 | ... AJ79: =SUMPRODUCT(--(AJ$10=YEAR(Quarterly_PJ!$B$10:$SM$10)),Quarterly_PJ!$B79:$SM79) -> -29.633841
A80: Hydro | B80: =SUMPRODUCT(--(B$10=YEAR(Quarterly_PJ!$B$10:$SM$10)),Quarterly_PJ!$B80:$SM80) -> -83.458743 | C80: =SUMPRODUCT(--(C$10=YEAR(Quarterly_PJ!$B$10:$SM$10)),Quarterly_PJ!$B80:$SM80) -> -82.411828 | D80: =SUMPRODUCT(--(D$10=YEAR(Quarterly_PJ!$B$10:$SM$10)),Quarterly_PJ!$B80:$SM80) -> -75.926019 | E80: =SUMPRODUCT(--(E$10=YEAR(Quarterly_PJ!$B$10:$SM$10)),Quarterly_PJ!$B80:$SM80) -> -84.565957 | F80: =SUMPRODUCT(--(F$10=YEAR(Quarterly_PJ!$B$10:$SM$10)),Quarterly_PJ!$B80:$SM80) -> -93.004188 | G80: =SUMPRODUCT(--(G$10=YEAR(Quarterly_PJ!$B$10:$SM$10)),Quarterly_PJ!$B80:$SM80) -> -99.115221 | H80: =SUMPRODUCT(--(H$10=YEAR(Quarterly_PJ!$B$10:$SM$10)),Quarterly_PJ!$B80:$SM80) -> -94.24912 | I80: =SUMPRODUCT(--(I$10=YEAR(Quarterly_PJ!$B$10:$SM$10)),Quarterly_PJ!$B80:$SM80) -> -83.721023 | ... AJ80: =SUMPRODUCT(--(AJ$10=YEAR(Quarterly_PJ!$B$10:$SM$10)),Quarterly_PJ!$B80:$SM80) -> -85.411372
A81: Geothermal | B81: =SUMPRODUCT(--(B$10=YEAR(Quarterly_PJ!$B$10:$SM$10)),Quarterly_PJ!$B81:$SM81) -> -53.339503 | C81: =SUMPRODUCT(--(C$10=YEAR(Quarterly_PJ!$B$10:$SM$10)),Quarterly_PJ!$B81:$SM81) -> -56.451062 | D81: =SUMPRODUCT(--(D$10=YEAR(Quarterly_PJ!$B$10:$SM$10)),Quarterly_PJ!$B81:$SM81) -> -55.838823 | E81: =SUMPRODUCT(--(E$10=YEAR(Quarterly_PJ!$B$10:$SM$10)),Quarterly_PJ!$B81:$SM81) -> -58.950861 | F81: =SUMPRODUCT(--(F$10=YEAR(Quarterly_PJ!$B$10:$SM$10)),Quarterly_PJ!$B81:$SM81) -> -54.37743 | G81: =SUMPRODUCT(--(G$10=YEAR(Quarterly_PJ!$B$10:$SM$10)),Quarterly_PJ!$B81:$SM81) -> -53.499827 | H81: =SUMPRODUCT(--(H$10=YEAR(Quarterly_PJ!$B$10:$SM$10)),Quarterly_PJ!$B81:$SM81) -> -54.56316 | I81: =SUMPRODUCT(--(I$10=YEAR(Quarterly_PJ!$B$10:$SM$10)),Quarterly_PJ!$B81:$SM81) -> -57.053758 | ... AJ81: =SUMPRODUCT(--(AJ$10=YEAR(Quarterly_PJ!$B$10:$SM$10)),Quarterly_PJ!$B81:$SM81) -> -218.11627
A82: Other renewables | B82: =SUMPRODUCT(--(B$10=YEAR(Quarterly_PJ!$B$10:$SM$10)),Quarterly_PJ!$B82:$SM82) -> -0.3189456 | C82: =SUMPRODUCT(--(C$10=YEAR(Quarterly_PJ!$B$10:$SM$10)),Quarterly_PJ!$B82:$SM82) -> -0.5847336 | D82: =SUMPRODUCT(--(D$10=YEAR(Quarterly_PJ!$B$10:$SM$10)),Quarterly_PJ!$B82:$SM82) -> -0.64037822 | E82: =SUMPRODUCT(--(E$10=YEAR(Quarterly_PJ!$B$10:$SM$10)),Quarterly_PJ!$B82:$SM82) -> -0.64143994 | F82: =SUMPRODUCT(--(F$10=YEAR(Quarterly_PJ!$B$10:$SM$10)),Quarterly_PJ!$B82:$SM82) -> -0.6415272 | G82: =SUMPRODUCT(--(G$10=YEAR(Quarterly_PJ!$B$10:$SM$10)),Quarterly_PJ!$B82:$SM82) -> -0.74256516 | H82: =SUMPRODUCT(--(H$10=YEAR(Quarterly_PJ!$B$10:$SM$10)),Quarterly_PJ!$B82:$SM82) -> -0.89393663 | I82: =SUMPRODUCT(--(I$10=YEAR(Quarterly_PJ!$B$10:$SM$10)),Quarterly_PJ!$B82:$SM82) -> -1.0618667 | ... AJ82: =SUMPRODUCT(--(AJ$10=YEAR(Quarterly_PJ!$B$10:$SM$10)),Quarterly_PJ!$B82:$SM82) -> -19.467558
A83: Electricity | B83: =SUMPRODUCT(--(B$10=YEAR(Quarterly_PJ!$B$10:$SM$10)),Quarterly_PJ!$B83:$SM83) -> 113.07523 | C83: =SUMPRODUCT(--(C$10=YEAR(Quarterly_PJ!$B$10:$SM$10)),Quarterly_PJ!$B83:$SM83) -> 116.61683 | D83: =SUMPRODUCT(--(D$10=YEAR(Quarterly_PJ!$B$10:$SM$10)),Quarterly_PJ!$B83:$SM83) -> 115.16448 | E83: =SUMPRODUCT(--(E$10=YEAR(Quarterly_PJ!$B$10:$SM$10)),Quarterly_PJ!$B83:$SM83) -> 120.04323 | F83: =SUMPRODUCT(--(F$10=YEAR(Quarterly_PJ!$B$10:$SM$10)),Quarterly_PJ!$B83:$SM83) -> 121.65063 | G83: =SUMPRODUCT(--(G$10=YEAR(Quarterly_PJ!$B$10:$SM$10)),Quarterly_PJ!$B83:$SM83) -> 125.44941 | H83: =SUMPRODUCT(--(H$10=YEAR(Quarterly_PJ!$B$10:$SM$10)),Quarterly_PJ!$B83:$SM83) -> 125.99371 | I83: =SUMPRODUCT(--(I$10=YEAR(Quarterly_PJ!$B$10:$SM$10)),Quarterly_PJ!$B83:$SM83) -> 124.55249 | ... AJ83: =SUMPRODUCT(--(AJ$10=YEAR(Quarterly_PJ!$B$10:$SM$10)),Quarterly_PJ!$B83:$SM83) -> 154.16405
A84: Waste heat | B84: =SUMPRODUCT(--(B$10=YEAR(Quarterly_PJ!$B$10:$SM$10)),Quarterly_PJ!$B84:$SM84) -> 0 | C84: =SUMPRODUCT(--(C$10=YEAR(Quarterly_PJ!$B$10:$SM$10)),Quarterly_PJ!$B84:$SM84) -> 0 | D84: =SUMPRODUCT(--(D$10=YEAR(Quarterly_PJ!$B$10:$SM$10)),Quarterly_PJ!$B84:$SM84) -> 0 | E84: =SUMPRODUCT(--(E$10=YEAR(Quarterly_PJ!$B$10:$SM$10)),Quarterly_PJ!$B84:$SM84) -> 0 | F84: =SUMPRODUCT(--(F$10=YEAR(Quarterly_PJ!$B$10:$SM$10)),Quarterly_PJ!$B84:$SM84) -> 0 | G84: =SUMPRODUCT(--(G$10=YEAR(Quarterly_PJ!$B$10:$SM$10)),Quarterly_PJ!$B84:$SM84) -> 0 | H84: =SUMPRODUCT(--(H$10=YEAR(Quarterly_PJ!$B$10:$SM$10)),Quarterly_PJ!$B84:$SM84) -> 0 | I84: =SUMPRODUCT(--(I$10=YEAR(Quarterly_PJ!$B$10:$SM$10)),Quarterly_PJ!$B84:$SM84) -> 0 | ... AJ84: =SUMPRODUCT(--(AJ$10=YEAR(Quarterly_PJ!$B$10:$SM$10)),Quarterly_PJ!$B84:$SM84) -> 0
A85: Cogeneration | B85: =SUM(B86:B93) -> -29.549648 | C85: =SUM(C86:C93) -> -29.624242 | D85: =SUM(D86:D93) -> -28.251873 | E85: =SUM(E86:E93) -> -29.790015 | F85: =SUM(F86:F93) -> -31.023533 | G85: =SUM(G86:G93) -> -32.68388 | H85: =SUM(H86:H93) -> -33.64723 | I85: =SUM(I86:I93) -> -38.926234 | ... AJ85: =SUM(AJ86:AJ93) -> -32.893128
A86: Coal | B86: =SUMPRODUCT(--(B$10=YEAR(Quarterly_PJ!$B$10:$SM$10)),Quarterly_PJ!$B86:$SM86) -> -2.3678755 | C86: =SUMPRODUCT(--(C$10=YEAR(Quarterly_PJ!$B$10:$SM$10)),Quarterly_PJ!$B86:$SM86) -> -2.8665413 | D86: =SUMPRODUCT(--(D$10=YEAR(Quarterly_PJ!$B$10:$SM$10)),Quarterly_PJ!$B86:$SM86) -> -2.8743236 | E86: =SUMPRODUCT(--(E$10=YEAR(Quarterly_PJ!$B$10:$SM$10)),Quarterly_PJ!$B86:$SM86) -> -3.0999124 | F86: =SUMPRODUCT(--(F$10=YEAR(Quarterly_PJ!$B$10:$SM$10)),Quarterly_PJ!$B86:$SM86) -> -3.2071946 | G86: =SUMPRODUCT(--(G$10=YEAR(Quarterly_PJ!$B$10:$SM$10)),Quarterly_PJ!$B86:$SM86) -> -3.2031629 | H86: =SUMPRODUCT(--(H$10=YEAR(Quarterly_PJ!$B$10:$SM$10)),Quarterly_PJ!$B86:$SM86) -> -3.1532857 | I86: =SUMPRODUCT(--(I$10=YEAR(Quarterly_PJ!$B$10:$SM$10)),Quarterly_PJ!$B86:$SM86) -> -3.9582192 | ... AJ86: =SUMPRODUCT(--(AJ$10=YEAR(Quarterly_PJ!$B$10:$SM$10)),Quarterly_PJ!$B86:$SM86) -> -7.2774935
A87: Oil | B87: =SUMPRODUCT(--(B$10=YEAR(Quarterly_PJ!$B$10:$SM$10)),Quarterly_PJ!$B87:$SM87) -> 0 | C87: =SUMPRODUCT(--(C$10=YEAR(Quarterly_PJ!$B$10:$SM$10)),Quarterly_PJ!$B87:$SM87) -> 0 | D87: =SUMPRODUCT(--(D$10=YEAR(Quarterly_PJ!$B$10:$SM$10)),Quarterly_PJ!$B87:$SM87) -> 0 | E87: =SUMPRODUCT(--(E$10=YEAR(Quarterly_PJ!$B$10:$SM$10)),Quarterly_PJ!$B87:$SM87) -> 0 | F87: =SUMPRODUCT(--(F$10=YEAR(Quarterly_PJ!$B$10:$SM$10)),Quarterly_PJ!$B87:$SM87) -> 0 | G87: =SUMPRODUCT(--(G$10=YEAR(Quarterly_PJ!$B$10:$SM$10)),Quarterly_PJ!$B87:$SM87) -> 0 | H87: =SUMPRODUCT(--(H$10=YEAR(Quarterly_PJ!$B$10:$SM$10)),Quarterly_PJ!$B87:$SM87) -> 0 | I87: =SUMPRODUCT(--(I$10=YEAR(Quarterly_PJ!$B$10:$SM$10)),Quarterly_PJ!$B87:$SM87) -> 0 | ... AJ87: =SUMPRODUCT(--(AJ$10=YEAR(Quarterly_PJ!$B$10:$SM$10)),Quarterly_PJ!$B87:$SM87) -> 0
A88: Natural gas | B88: =SUMPRODUCT(--(B$10=YEAR(Quarterly_PJ!$B$10:$SM$10)),Quarterly_PJ!$B88:$SM88) -> -0.7140003 | C88: =SUMPRODUCT(--(C$10=YEAR(Quarterly_PJ!$B$10:$SM$10)),Quarterly_PJ!$B88:$SM88) -> -0.8025963 | D88: =SUMPRODUCT(--(D$10=YEAR(Quarterly_PJ!$B$10:$SM$10)),Quarterly_PJ!$B88:$SM88) -> -0.8438448 | E88: =SUMPRODUCT(--(E$10=YEAR(Quarterly_PJ!$B$10:$SM$10)),Quarterly_PJ!$B88:$SM88) -> -0.8865378 | F88: =SUMPRODUCT(--(F$10=YEAR(Quarterly_PJ!$B$10:$SM$10)),Quarterly_PJ!$B88:$SM88) -> -2.2545531 | G88: =SUMPRODUCT(--(G$10=YEAR(Quarterly_PJ!$B$10:$SM$10)),Quarterly_PJ!$B88:$SM88) -> -4.1851084 | H88: =SUMPRODUCT(--(H$10=YEAR(Quarterly_PJ!$B$10:$SM$10)),Quarterly_PJ!$B88:$SM88) -> -8.0083042 | I88: =SUMPRODUCT(--(I$10=YEAR(Quarterly_PJ!$B$10:$SM$10)),Quarterly_PJ!$B88:$SM88) -> -16.288727 | ... AJ88: =SUMPRODUCT(--(AJ$10=YEAR(Quarterly_PJ!$B$10:$SM$10)),Quarterly_PJ!$B88:$SM88) -> -9.0436416
A89: Hydro | B89: =SUMPRODUCT(--(B$10=YEAR(Quarterly_PJ!$B$10:$SM$10)),Quarterly_PJ!$B89:$SM89) -> 0 | C89: =SUMPRODUCT(--(C$10=YEAR(Quarterly_PJ!$B$10:$SM$10)),Quarterly_PJ!$B89:$SM89) -> 0 | D89: =SUMPRODUCT(--(D$10=YEAR(Quarterly_PJ!$B$10:$SM$10)),Quarterly_PJ!$B89:$SM89) -> 0 | E89: =SUMPRODUCT(--(E$10=YEAR(Quarterly_PJ!$B$10:$SM$10)),Quarterly_PJ!$B89:$SM89) -> 0 | F89: =SUMPRODUCT(--(F$10=YEAR(Quarterly_PJ!$B$10:$SM$10)),Quarterly_PJ!$B89:$SM89) -> 0 | G89: =SUMPRODUCT(--(G$10=YEAR(Quarterly_PJ!$B$10:$SM$10)),Quarterly_PJ!$B89:$SM89) -> 0 | H89: =SUMPRODUCT(--(H$10=YEAR(Quarterly_PJ!$B$10:$SM$10)),Quarterly_PJ!$B89:$SM89) -> 0 | I89: =SUMPRODUCT(--(I$10=YEAR(Quarterly_PJ!$B$10:$SM$10)),Quarterly_PJ!$B89:$SM89) -> 0 | ... AJ89: =SUMPRODUCT(--(AJ$10=YEAR(Quarterly_PJ!$B$10:$SM$10)),Quarterly_PJ!$B89:$SM89) -> 0
A90: Geothermal | B90: =SUMPRODUCT(--(B$10=YEAR(Quarterly_PJ!$B$10:$SM$10)),Quarterly_PJ!$B90:$SM90) -> -1.37376 | C90: =SUMPRODUCT(--(C$10=YEAR(Quarterly_PJ!$B$10:$SM$10)),Quarterly_PJ!$B90:$SM90) -> -1.37376 | D90: =SUMPRODUCT(--(D$10=YEAR(Quarterly_PJ!$B$10:$SM$10)),Quarterly_PJ!$B90:$SM90) -> -1.37376 | E90: =SUMPRODUCT(--(E$10=YEAR(Quarterly_PJ!$B$10:$SM$10)),Quarterly_PJ!$B90:$SM90) -> -1.37376 | F90: =SUMPRODUCT(--(F$10=YEAR(Quarterly_PJ!$B$10:$SM$10)),Quarterly_PJ!$B90:$SM90) -> -1.37376 | G90: =SUMPRODUCT(--(G$10=YEAR(Quarterly_PJ!$B$10:$SM$10)),Quarterly_PJ!$B90:$SM90) -> -1.37376 | H90: =SUMPRODUCT(--(H$10=YEAR(Quarterly_PJ!$B$10:$SM$10)),Quarterly_PJ!$B90:$SM90) -> -1.3967323 | I90: =SUMPRODUCT(--(I$10=YEAR(Quarterly_PJ!$B$10:$SM$10)),Quarterly_PJ!$B90:$SM90) -> -1.3621085 | ... AJ90: =SUMPRODUCT(--(AJ$10=YEAR(Quarterly_PJ!$B$10:$SM$10)),Quarterly_PJ!$B90:$SM90) -> -0.56224779
A91: Other renewables | B91: =SUMPRODUCT(--(B$10=YEAR(Quarterly_PJ!$B$10:$SM$10)),Quarterly_PJ!$B91:$SM91) -> -27.820591 | C91: =SUMPRODUCT(--(C$10=YEAR(Quarterly_PJ!$B$10:$SM$10)),Quarterly_PJ!$B91:$SM91) -> -27.45659 | D91: =SUMPRODUCT(--(D$10=YEAR(Quarterly_PJ!$B$10:$SM$10)),Quarterly_PJ!$B91:$SM91) -> -25.944238 | E91: =SUMPRODUCT(--(E$10=YEAR(Quarterly_PJ!$B$10:$SM$10)),Quarterly_PJ!$B91:$SM91) -> -27.392245 | F91: =SUMPRODUCT(--(F$10=YEAR(Quarterly_PJ!$B$10:$SM$10)),Quarterly_PJ!$B91:$SM91) -> -27.629965 | G91: =SUMPRODUCT(--(G$10=YEAR(Quarterly_PJ!$B$10:$SM$10)),Quarterly_PJ!$B91:$SM91) -> -27.937427 | H91: =SUMPRODUCT(--(H$10=YEAR(Quarterly_PJ!$B$10:$SM$10)),Quarterly_PJ!$B91:$SM91) -> -25.972609 | I91: =SUMPRODUCT(--(I$10=YEAR(Quarterly_PJ!$B$10:$SM$10)),Quarterly_PJ!$B91:$SM91) -> -25.950995 | ... AJ91: =SUMPRODUCT(--(AJ$10=YEAR(Quarterly_PJ!$B$10:$SM$10)),Quarterly_PJ!$B91:$SM91) -> -21.635384
A92: Electricity | B92: =SUMPRODUCT(--(B$10=YEAR(Quarterly_PJ!$B$10:$SM$10)),Quarterly_PJ!$B92:$SM92) -> 4.3364326 | C92: =SUMPRODUCT(--(C$10=YEAR(Quarterly_PJ!$B$10:$SM$10)),Quarterly_PJ!$B92:$SM92) -> 4.4841232 | D92: =SUMPRODUCT(--(D$10=YEAR(Quarterly_PJ!$B$10:$SM$10)),Quarterly_PJ!$B92:$SM92) -> 4.3950209 | E92: =SUMPRODUCT(--(E$10=YEAR(Quarterly_PJ!$B$10:$SM$10)),Quarterly_PJ!$B92:$SM92) -> 4.5730384 | F92: =SUMPRODUCT(--(F$10=YEAR(Quarterly_PJ!$B$10:$SM$10)),Quarterly_PJ!$B92:$SM92) -> 5.0532051 | G92: =SUMPRODUCT(--(G$10=YEAR(Quarterly_PJ!$B$10:$SM$10)),Quarterly_PJ!$B92:$SM92) -> 5.6256882 | H92: =SUMPRODUCT(--(H$10=YEAR(Quarterly_PJ!$B$10:$SM$10)),Quarterly_PJ!$B92:$SM92) -> 6.5021644 | I92: =SUMPRODUCT(--(I$10=YEAR(Quarterly_PJ!$B$10:$SM$10)),Quarterly_PJ!$B92:$SM92) -> 10.243925 | ... AJ92: =SUMPRODUCT(--(AJ$10=YEAR(Quarterly_PJ!$B$10:$SM$10)),Quarterly_PJ!$B92:$SM92) -> 6.3064781
A93: Waste heat | B93: =SUMPRODUCT(--(B$10=YEAR(Quarterly_PJ!$B$10:$SM$10)),Quarterly_PJ!$B93:$SM93) -> -1.6098535 | C93: =SUMPRODUCT(--(C$10=YEAR(Quarterly_PJ!$B$10:$SM$10)),Quarterly_PJ!$B93:$SM93) -> -1.6088777 | D93: =SUMPRODUCT(--(D$10=YEAR(Quarterly_PJ!$B$10:$SM$10)),Quarterly_PJ!$B93:$SM93) -> -1.6107266 | E93: =SUMPRODUCT(--(E$10=YEAR(Quarterly_PJ!$B$10:$SM$10)),Quarterly_PJ!$B93:$SM93) -> -1.6105982 | F93: =SUMPRODUCT(--(F$10=YEAR(Quarterly_PJ!$B$10:$SM$10)),Quarterly_PJ!$B93:$SM93) -> -1.6112659 | G93: =SUMPRODUCT(--(G$10=YEAR(Quarterly_PJ!$B$10:$SM$10)),Quarterly_PJ!$B93:$SM93) -> -1.6101103 | H93: =SUMPRODUCT(--(H$10=YEAR(Quarterly_PJ!$B$10:$SM$10)),Quarterly_PJ!$B93:$SM93) -> -1.6184627 | I93: =SUMPRODUCT(--(I$10=YEAR(Quarterly_PJ!$B$10:$SM$10)),Quarterly_PJ!$B93:$SM93) -> -1.6101103 | ... AJ93: =SUMPRODUCT(--(AJ$10=YEAR(Quarterly_PJ!$B$10:$SM$10)),Quarterly_PJ!$B93:$SM93) -> -0.68083875
A94: Fuel Production | B94: =SUM(B95:B102) -> -15.239017 | C94: =SUM(C95:C102) -> -19.02174 | D94: =SUM(D95:D102) -> -18.434812 | E94: =SUM(E95:E102) -> -14.85945 | F94: =SUM(F95:F102) -> -16.898896 | G94: =SUM(G95:G102) -> -15.136393 | H94: =SUM(H95:H102) -> -14.813726 | I94: =SUM(I95:I102) -> -16.454538 | ... AJ94: =SUM(AJ95:AJ102) -> 0.56555886
A95: Coal | B95: =SUMPRODUCT(--(B$10=YEAR(Quarterly_PJ!$B$10:$SM$10)),Quarterly_PJ!$B95:$SM95) -> 0 | C95: =SUMPRODUCT(--(C$10=YEAR(Quarterly_PJ!$B$10:$SM$10)),Quarterly_PJ!$B95:$SM95) -> 0 | D95: =SUMPRODUCT(--(D$10=YEAR(Quarterly_PJ!$B$10:$SM$10)),Quarterly_PJ!$B95:$SM95) -> 0 | E95: =SUMPRODUCT(--(E$10=YEAR(Quarterly_PJ!$B$10:$SM$10)),Quarterly_PJ!$B95:$SM95) -> 0 | F95: =SUMPRODUCT(--(F$10=YEAR(Quarterly_PJ!$B$10:$SM$10)),Quarterly_PJ!$B95:$SM95) -> 0 | G95: =SUMPRODUCT(--(G$10=YEAR(Quarterly_PJ!$B$10:$SM$10)),Quarterly_PJ!$B95:$SM95) -> 0 | H95: =SUMPRODUCT(--(H$10=YEAR(Quarterly_PJ!$B$10:$SM$10)),Quarterly_PJ!$B95:$SM95) -> 0 | I95: =SUMPRODUCT(--(I$10=YEAR(Quarterly_PJ!$B$10:$SM$10)),Quarterly_PJ!$B95:$SM95) -> 0 | ... AJ95: =SUMPRODUCT(--(AJ$10=YEAR(Quarterly_PJ!$B$10:$SM$10)),Quarterly_PJ!$B95:$SM95) -> 0
A96: Oil | B96: =SUMPRODUCT(--(B$10=YEAR(Quarterly_PJ!$B$10:$SM$10)),Quarterly_PJ!$B96:$SM96) -> 19.584983 | C96: =SUMPRODUCT(--(C$10=YEAR(Quarterly_PJ!$B$10:$SM$10)),Quarterly_PJ!$B96:$SM96) -> 9.96326 | D96: =SUMPRODUCT(--(D$10=YEAR(Quarterly_PJ!$B$10:$SM$10)),Quarterly_PJ!$B96:$SM96) -> 16.710188 | E96: =SUMPRODUCT(--(E$10=YEAR(Quarterly_PJ!$B$10:$SM$10)),Quarterly_PJ!$B96:$SM96) -> 17.83655 | F96: =SUMPRODUCT(--(F$10=YEAR(Quarterly_PJ!$B$10:$SM$10)),Quarterly_PJ!$B96:$SM96) -> 8.6311036 | G96: =SUMPRODUCT(--(G$10=YEAR(Quarterly_PJ!$B$10:$SM$10)),Quarterly_PJ!$B96:$SM96) -> 0.35260688 | H96: =SUMPRODUCT(--(H$10=YEAR(Quarterly_PJ!$B$10:$SM$10)),Quarterly_PJ!$B96:$SM96) -> -5.4387255 | I96: =SUMPRODUCT(--(I$10=YEAR(Quarterly_PJ!$B$10:$SM$10)),Quarterly_PJ!$B96:$SM96) -> -15.694538 | ... AJ96: =SUMPRODUCT(--(AJ$10=YEAR(Quarterly_PJ!$B$10:$SM$10)),Quarterly_PJ!$B96:$SM96) -> 0.62816152
A97: Natural gas | B97: =SUMPRODUCT(--(B$10=YEAR(Quarterly_PJ!$B$10:$SM$10)),Quarterly_PJ!$B97:$SM97) -> -34.824 | C97: =SUMPRODUCT(--(C$10=YEAR(Quarterly_PJ!$B$10:$SM$10)),Quarterly_PJ!$B97:$SM97) -> -28.985 | D97: =SUMPRODUCT(--(D$10=YEAR(Quarterly_PJ!$B$10:$SM$10)),Quarterly_PJ!$B97:$SM97) -> -35.145 | E97: =SUMPRODUCT(--(E$10=YEAR(Quarterly_PJ!$B$10:$SM$10)),Quarterly_PJ!$B97:$SM97) -> -32.696 | F97: =SUMPRODUCT(--(F$10=YEAR(Quarterly_PJ!$B$10:$SM$10)),Quarterly_PJ!$B97:$SM97) -> -25.53 | G97: =SUMPRODUCT(--(G$10=YEAR(Quarterly_PJ!$B$10:$SM$10)),Quarterly_PJ!$B97:$SM97) -> -15.489 | H97: =SUMPRODUCT(--(H$10=YEAR(Quarterly_PJ!$B$10:$SM$10)),Quarterly_PJ!$B97:$SM97) -> -9.375 | I97: =SUMPRODUCT(--(I$10=YEAR(Quarterly_PJ!$B$10:$SM$10)),Quarterly_PJ!$B97:$SM97) -> -0.76 | ... AJ97: =SUMPRODUCT(--(AJ$10=YEAR(Quarterly_PJ!$B$10:$SM$10)),Quarterly_PJ!$B97:$SM97) -> 0
A98: Hydro | B98: =SUMPRODUCT(--(B$10=YEAR(Quarterly_PJ!$B$10:$SM$10)),Quarterly_PJ!$B98:$SM98) -> 0 | C98: =SUMPRODUCT(--(C$10=YEAR(Quarterly_PJ!$B$10:$SM$10)),Quarterly_PJ!$B98:$SM98) -> 0 | D98: =SUMPRODUCT(--(D$10=YEAR(Quarterly_PJ!$B$10:$SM$10)),Quarterly_PJ!$B98:$SM98) -> 0 | E98: =SUMPRODUCT(--(E$10=YEAR(Quarterly_PJ!$B$10:$SM$10)),Quarterly_PJ!$B98:$SM98) -> 0 | F98: =SUMPRODUCT(--(F$10=YEAR(Quarterly_PJ!$B$10:$SM$10)),Quarterly_PJ!$B98:$SM98) -> 0 | G98: =SUMPRODUCT(--(G$10=YEAR(Quarterly_PJ!$B$10:$SM$10)),Quarterly_PJ!$B98:$SM98) -> 0 | H98: =SUMPRODUCT(--(H$10=YEAR(Quarterly_PJ!$B$10:$SM$10)),Quarterly_PJ!$B98:$SM98) -> 0 | I98: =SUMPRODUCT(--(I$10=YEAR(Quarterly_PJ!$B$10:$SM$10)),Quarterly_PJ!$B98:$SM98) -> 0 | ... AJ98: =SUMPRODUCT(--(AJ$10=YEAR(Quarterly_PJ!$B$10:$SM$10)),Quarterly_PJ!$B98:$SM98) -> 0
A99: Geothermal | B99: =SUMPRODUCT(--(B$10=YEAR(Quarterly_PJ!$B$10:$SM$10)),Quarterly_PJ!$B99:$SM99) -> 0 | C99: =SUMPRODUCT(--(C$10=YEAR(Quarterly_PJ!$B$10:$SM$10)),Quarterly_PJ!$B99:$SM99) -> 0 | D99: =SUMPRODUCT(--(D$10=YEAR(Quarterly_PJ!$B$10:$SM$10)),Quarterly_PJ!$B99:$SM99) -> 0 | E99: =SUMPRODUCT(--(E$10=YEAR(Quarterly_PJ!$B$10:$SM$10)),Quarterly_PJ!$B99:$SM99) -> 0 | F99: =SUMPRODUCT(--(F$10=YEAR(Quarterly_PJ!$B$10:$SM$10)),Quarterly_PJ!$B99:$SM99) -> 0 | G99: =SUMPRODUCT(--(G$10=YEAR(Quarterly_PJ!$B$10:$SM$10)),Quarterly_PJ!$B99:$SM99) -> 0 | H99: =SUMPRODUCT(--(H$10=YEAR(Quarterly_PJ!$B$10:$SM$10)),Quarterly_PJ!$B99:$SM99) -> 0 | I99: =SUMPRODUCT(--(I$10=YEAR(Quarterly_PJ!$B$10:$SM$10)),Quarterly_PJ!$B99:$SM99) -> 0 | ... AJ99: =SUMPRODUCT(--(AJ$10=YEAR(Quarterly_PJ!$B$10:$SM$10)),Quarterly_PJ!$B99:$SM99) -> 0
A100: Other renewables | B100: =SUMPRODUCT(--(B$10=YEAR(Quarterly_PJ!$B$10:$SM$10)),Quarterly_PJ!$B100:$SM100) -> 0 | C100: =SUMPRODUCT(--(C$10=YEAR(Quarterly_PJ!$B$10:$SM$10)),Quarterly_PJ!$B100:$SM100) -> 0 | D100: =SUMPRODUCT(--(D$10=YEAR(Quarterly_PJ!$B$10:$SM$10)),Quarterly_PJ!$B100:$SM100) -> 0 | E100: =SUMPRODUCT(--(E$10=YEAR(Quarterly_PJ!$B$10:$SM$10)),Quarterly_PJ!$B100:$SM100) -> 0 | F100: =SUMPRODUCT(--(F$10=YEAR(Quarterly_PJ!$B$10:$SM$10)),Quarterly_PJ!$B100:$SM100) -> 0 | G100: =SUMPRODUCT(--(G$10=YEAR(Quarterly_PJ!$B$10:$SM$10)),Quarterly_PJ!$B100:$SM100) -> 0 | H100: =SUMPRODUCT(--(H$10=YEAR(Quarterly_PJ!$B$10:$SM$10)),Quarterly_PJ!$B100:$SM100) -> 0 | I100: =SUMPRODUCT(--(I$10=YEAR(Quarterly_PJ!$B$10:$SM$10)),Quarterly_PJ!$B100:$SM100) -> 0 | ... AJ100: =SUMPRODUCT(--(AJ$10=YEAR(Quarterly_PJ!$B$10:$SM$10)),Quarterly_PJ!$B100:$SM100) -> -0.062602656
A101: Electricity | B101: =SUMPRODUCT(--(B$10=YEAR(Quarterly_PJ!$B$10:$SM$10)),Quarterly_PJ!$B101:$SM101) -> 0 | C101: =SUMPRODUCT(--(C$10=YEAR(Quarterly_PJ!$B$10:$SM$10)),Quarterly_PJ!$B101:$SM101) -> 0 | D101: =SUMPRODUCT(--(D$10=YEAR(Quarterly_PJ!$B$10:$SM$10)),Quarterly_PJ!$B101:$SM101) -> 0 | E101: =SUMPRODUCT(--(E$10=YEAR(Quarterly_PJ!$B$10:$SM$10)),Quarterly_PJ!$B101:$SM101) -> 0 | F101: =SUMPRODUCT(--(F$10=YEAR(Quarterly_PJ!$B$10:$SM$10)),Quarterly_PJ!$B101:$SM101) -> 0 | G101: =SUMPRODUCT(--(G$10=YEAR(Quarterly_PJ!$B$10:$SM$10)),Quarterly_PJ!$B101:$SM101) -> 0 | H101: =SUMPRODUCT(--(H$10=YEAR(Quarterly_PJ!$B$10:$SM$10)),Quarterly_PJ!$B101:$SM101) -> 0 | I101: =SUMPRODUCT(--(I$10=YEAR(Quarterly_PJ!$B$10:$SM$10)),Quarterly_PJ!$B101:$SM101) -> 0 | ... AJ101: =SUMPRODUCT(--(AJ$10=YEAR(Quarterly_PJ!$B$10:$SM$10)),Quarterly_PJ!$B101:$SM101) -> 0
A102: Waste heat | B102: =SUMPRODUCT(--(B$10=YEAR(Quarterly_PJ!$B$10:$SM$10)),Quarterly_PJ!$B102:$SM102) -> 0 | C102: =SUMPRODUCT(--(C$10=YEAR(Quarterly_PJ!$B$10:$SM$10)),Quarterly_PJ!$B102:$SM102) -> 0 | D102: =SUMPRODUCT(--(D$10=YEAR(Quarterly_PJ!$B$10:$SM$10)),Quarterly_PJ!$B102:$SM102) -> 0 | E102: =SUMPRODUCT(--(E$10=YEAR(Quarterly_PJ!$B$10:$SM$10)),Quarterly_PJ!$B102:$SM102) -> 0 | F102: =SUMPRODUCT(--(F$10=YEAR(Quarterly_PJ!$B$10:$SM$10)),Quarterly_PJ!$B102:$SM102) -> 0 | G102: =SUMPRODUCT(--(G$10=YEAR(Quarterly_PJ!$B$10:$SM$10)),Quarterly_PJ!$B102:$SM102) -> 0 | H102: =SUMPRODUCT(--(H$10=YEAR(Quarterly_PJ!$B$10:$SM$10)),Quarterly_PJ!$B102:$SM102) -> 0 | I102: =SUMPRODUCT(--(I$10=YEAR(Quarterly_PJ!$B$10:$SM$10)),Quarterly_PJ!$B102:$SM102) -> 0 | ... AJ102: =SUMPRODUCT(--(AJ$10=YEAR(Quarterly_PJ!$B$10:$SM$10)),Quarterly_PJ!$B102:$SM102) -> 0
A103: Other Transformation | B103: =SUM(B104:B111) -> -12.892284 | C103: =SUM(C104:C111) -> -13.217939 | D103: =SUM(D104:D111) -> -14.177087 | E103: =SUM(E104:E111) -> -14.09293 | F103: =SUM(F104:F111) -> -12.820395 | G103: =SUM(G104:G111) -> -13.591027 | H103: =SUM(H104:H111) -> -13.295312 | I103: =SUM(I104:I111) -> -10.968023 | ... AJ103: =SUM(AJ104:AJ111) -> -9.447918
A104: Coal | B104: =SUMPRODUCT(--(B$10=YEAR(Quarterly_PJ!$B$10:$SM$10)),Quarterly_PJ!$B104:$SM104) -> -12.892284 | C104: =SUMPRODUCT(--(C$10=YEAR(Quarterly_PJ!$B$10:$SM$10)),Quarterly_PJ!$B104:$SM104) -> -13.217939 | D104: =SUMPRODUCT(--(D$10=YEAR(Quarterly_PJ!$B$10:$SM$10)),Quarterly_PJ!$B104:$SM104) -> -14.177087 | E104: =SUMPRODUCT(--(E$10=YEAR(Quarterly_PJ!$B$10:$SM$10)),Quarterly_PJ!$B104:$SM104) -> -14.09293 | F104: =SUMPRODUCT(--(F$10=YEAR(Quarterly_PJ!$B$10:$SM$10)),Quarterly_PJ!$B104:$SM104) -> -12.820395 | G104: =SUMPRODUCT(--(G$10=YEAR(Quarterly_PJ!$B$10:$SM$10)),Quarterly_PJ!$B104:$SM104) -> -13.591027 | H104: =SUMPRODUCT(--(H$10=YEAR(Quarterly_PJ!$B$10:$SM$10)),Quarterly_PJ!$B104:$SM104) -> -13.295312 | I104: =SUMPRODUCT(--(I$10=YEAR(Quarterly_PJ!$B$10:$SM$10)),Quarterly_PJ!$B104:$SM104) -> -10.968023 | ... AJ104: =SUMPRODUCT(--(AJ$10=YEAR(Quarterly_PJ!$B$10:$SM$10)),Quarterly_PJ!$B104:$SM104) -> -9.447918
A105: Oil | B105: =SUMPRODUCT(--(B$10=YEAR(Quarterly_PJ!$B$10:$SM$10)),Quarterly_PJ!$B105:$SM105) -> 0 | C105: =SUMPRODUCT(--(C$10=YEAR(Quarterly_PJ!$B$10:$SM$10)),Quarterly_PJ!$B105:$SM105) -> 0 | D105: =SUMPRODUCT(--(D$10=YEAR(Quarterly_PJ!$B$10:$SM$10)),Quarterly_PJ!$B105:$SM105) -> 0 | E105: =SUMPRODUCT(--(E$10=YEAR(Quarterly_PJ!$B$10:$SM$10)),Quarterly_PJ!$B105:$SM105) -> 0 | F105: =SUMPRODUCT(--(F$10=YEAR(Quarterly_PJ!$B$10:$SM$10)),Quarterly_PJ!$B105:$SM105) -> 0 | G105: =SUMPRODUCT(--(G$10=YEAR(Quarterly_PJ!$B$10:$SM$10)),Quarterly_PJ!$B105:$SM105) -> 0 | H105: =SUMPRODUCT(--(H$10=YEAR(Quarterly_PJ!$B$10:$SM$10)),Quarterly_PJ!$B105:$SM105) -> 0 | I105: =SUMPRODUCT(--(I$10=YEAR(Quarterly_PJ!$B$10:$SM$10)),Quarterly_PJ!$B105:$SM105) -> 0 | ... AJ105: =SUMPRODUCT(--(AJ$10=YEAR(Quarterly_PJ!$B$10:$SM$10)),Quarterly_PJ!$B105:$SM105) -> 0
A106: Natural gas | B106: =SUMPRODUCT(--(B$10=YEAR(Quarterly_PJ!$B$10:$SM$10)),Quarterly_PJ!$B106:$SM106) -> 0 | C106: =SUMPRODUCT(--(C$10=YEAR(Quarterly_PJ!$B$10:$SM$10)),Quarterly_PJ!$B106:$SM106) -> 0 | D106: =SUMPRODUCT(--(D$10=YEAR(Quarterly_PJ!$B$10:$SM$10)),Quarterly_PJ!$B106:$SM106) -> 0 | E106: =SUMPRODUCT(--(E$10=YEAR(Quarterly_PJ!$B$10:$SM$10)),Quarterly_PJ!$B106:$SM106) -> 0 | F106: =SUMPRODUCT(--(F$10=YEAR(Quarterly_PJ!$B$10:$SM$10)),Quarterly_PJ!$B106:$SM106) -> 0 | G106: =SUMPRODUCT(--(G$10=YEAR(Quarterly_PJ!$B$10:$SM$10)),Quarterly_PJ!$B106:$SM106) -> 0 | H106: =SUMPRODUCT(--(H$10=YEAR(Quarterly_PJ!$B$10:$SM$10)),Quarterly_PJ!$B106:$SM106) -> 0 | I106: =SUMPRODUCT(--(I$10=YEAR(Quarterly_PJ!$B$10:$SM$10)),Quarterly_PJ!$B106:$SM106) -> 0 | ... AJ106: =SUMPRODUCT(--(AJ$10=YEAR(Quarterly_PJ!$B$10:$SM$10)),Quarterly_PJ!$B106:$SM106) -> 0
A107: Hydro | B107: =SUMPRODUCT(--(B$10=YEAR(Quarterly_PJ!$B$10:$SM$10)),Quarterly_PJ!$B107:$SM107) -> 0 | C107: =SUMPRODUCT(--(C$10=YEAR(Quarterly_PJ!$B$10:$SM$10)),Quarterly_PJ!$B107:$SM107) -> 0 | D107: =SUMPRODUCT(--(D$10=YEAR(Quarterly_PJ!$B$10:$SM$10)),Quarterly_PJ!$B107:$SM107) -> 0 | E107: =SUMPRODUCT(--(E$10=YEAR(Quarterly_PJ!$B$10:$SM$10)),Quarterly_PJ!$B107:$SM107) -> 0 | F107: =SUMPRODUCT(--(F$10=YEAR(Quarterly_PJ!$B$10:$SM$10)),Quarterly_PJ!$B107:$SM107) -> 0 | G107: =SUMPRODUCT(--(G$10=YEAR(Quarterly_PJ!$B$10:$SM$10)),Quarterly_PJ!$B107:$SM107) -> 0 | H107: =SUMPRODUCT(--(H$10=YEAR(Quarterly_PJ!$B$10:$SM$10)),Quarterly_PJ!$B107:$SM107) -> 0 | I107: =SUMPRODUCT(--(I$10=YEAR(Quarterly_PJ!$B$10:$SM$10)),Quarterly_PJ!$B107:$SM107) -> 0 | ... AJ107: =SUMPRODUCT(--(AJ$10=YEAR(Quarterly_PJ!$B$10:$SM$10)),Quarterly_PJ!$B107:$SM107) -> 0
A108: Geothermal | B108: =SUMPRODUCT(--(B$10=YEAR(Quarterly_PJ!$B$10:$SM$10)),Quarterly_PJ!$B108:$SM108) -> 0 | C108: =SUMPRODUCT(--(C$10=YEAR(Quarterly_PJ!$B$10:$SM$10)),Quarterly_PJ!$B108:$SM108) -> 0 | D108: =SUMPRODUCT(--(D$10=YEAR(Quarterly_PJ!$B$10:$SM$10)),Quarterly_PJ!$B108:$SM108) -> 0 | E108: =SUMPRODUCT(--(E$10=YEAR(Quarterly_PJ!$B$10:$SM$10)),Quarterly_PJ!$B108:$SM108) -> 0 | F108: =SUMPRODUCT(--(F$10=YEAR(Quarterly_PJ!$B$10:$SM$10)),Quarterly_PJ!$B108:$SM108) -> 0 | G108: =SUMPRODUCT(--(G$10=YEAR(Quarterly_PJ!$B$10:$SM$10)),Quarterly_PJ!$B108:$SM108) -> 0 | H108: =SUMPRODUCT(--(H$10=YEAR(Quarterly_PJ!$B$10:$SM$10)),Quarterly_PJ!$B108:$SM108) -> 0 | I108: =SUMPRODUCT(--(I$10=YEAR(Quarterly_PJ!$B$10:$SM$10)),Quarterly_PJ!$B108:$SM108) -> 0 | ... AJ108: =SUMPRODUCT(--(AJ$10=YEAR(Quarterly_PJ!$B$10:$SM$10)),Quarterly_PJ!$B108:$SM108) -> 0
...

Sheet Quarterly_PJ
A1: Return to contents
A8: Primary Energy Supply, Energy Transformation, and Energy Consumption
A9: Gross petajoules (PJ)
A10: Calendar year quarters | B10: 32933 | C10: 33025 | D10: 33117 | E10: 33208 | F10: 33298 | G10: 33390 | H10: 33482 | I10: 33573 | J10: 33664 | K10: 33756 | L10: 33848 | M10: 33939 | N10: 34029 | O10: 34121 | P10: 34213 | Q10: 34304 | R10: 34394 | S10: 34486 | T10: 34578 | U10: 34669 | V10: 34759 | W10: 34851 | X10: 34943 | Y10: 35034 | Z10: 35125 | AA10: 35217 | AB10: 35309 | AC10: 35400 | AD10: 35490 | AE10: 35582 | AF10: 35674 | AG10: 35765 | AH10: 35855 | AI10: 35947 | AJ10: 36039 | AK10: 36130 | AL10: 36220 | AM10: 36312 | AN10: 36404 | AO10: 36495 | AP10: 36586 | AQ10: 36678 | AR10: 36770 | AS10: 36861 | AT10: 36951 | AU10: 37043 | AV10: 37135 | AW10: 37226 | AX10: 37316 | AY10: 37408 | AZ10: 37500 | BA10: 37591 | BB10: 37681 | BC10: 37773 | BD10: 37865 | BE10: 37956 | BF10: 38047 | BG10: 38139 | BH10: 38231 | BI10: 38322 | BJ10: 38412 | BK10: 38504 | BL10: 38596 | BM10: 38687 | BN10: 38777 | BO10: 38869 | BP10: 38961 | BQ10: 39052 | BR10: 39142 | BS10: 39234 | BT10: 39326 | BU10: 39417 | BV10: 39508 | BW10: 39600 | BX10: 39692 | BY10: 39783 | BZ10: 39873 | CA10: 39965 | CB10: 40057 | CC10: 40148 | CD10: 40238 | CE10: 40330 | CF10: 40422 | CG10: 40513 | CH10: 40603 | CI10: 40695 | CJ10: 40787 | CK10: 40878 | CL10: 40969 | CM10: 41061 | CN10: 41153 | CO10: 41244 | CP10: 41334 | CQ10: 41426 | CR10: 41518 | CS10: 41609 | CT10: 41699 | CU10: 41791 | CV10: 41883 | CW10: 41974 | CX10: 42064 | CY10: 42156 | CZ10: 42248 | DA10: 42339 | DB10: 42430 | DC10: 42522 | DD10: 42614 | DE10: 42705 | DF10: 42795 | DG10: 42887 | DH10: 42979 | DI10: 43070 | DJ10: 43160 | DK10: 43252 | DL10: 43344 | DM10: 43435 | DN10: 43525 | DO10: 43617 | DP10: 43709 | DQ10: 43800 | DR10: 43891 | DS10: 43983 | DT10: 44075 | DU10: 44166 | DV10: 44256 | DW10: 44348 | DX10: 44440 | DY10: 44531 | DZ10: 44621 | EA10: 44713 | EB10: 44805 | EC10: 44896 | ED10: 44986 | EE10: 45078 | EF10: 45170 | EG10: 45261 | EH10: 45352 | EI10: 45444 | EJ10: 45536 | EK10: 45627
A12: Primary Energy Supply | B12: =B21+B30-B39-B48-B57 -> 141.60022 | C12: =C21+C30-C39-C48-C57 -> 146.8383 | D12: =D21+D30-D39-D48-D57 -> 153.16142 | E12: =E21+E30-E39-E48-E57 -> 142.07994 | F12: =F21+F30-F39-F48-F57 -> 141.91364 | G12: =G21+G30-G39-G48-G57 -> 158.66046 | H12: =H21+H30-H39-H48-H57 -> 150.91592 | I12: =I21+I30-I39-I48-I57 -> 148.53149 | ... EK12: =EK21+EK30-EK39-EK48-EK57 -> 201.39012
A13: Coal | B13: =B22+B31-B40-B49-B58 -> 15.420302 | C13: =C22+C31-C40-C49-C58 -> 11.929413 | D13: =D22+D31-D40-D49-D58 -> 13.559671 | E13: =E22+E31-E40-E49-E58 -> 11.306722 | F13: =F22+F31-F40-F49-F58 -> 10.773939 | G13: =G22+G31-G40-G49-G58 -> 11.432379 | H13: =H22+H31-H40-H49-H58 -> 12.659646 | I13: =I22+I31-I40-I49-I58 -> 11.840026 | ... EK13: =EK22+EK31-EK40-EK49-EK58 -> 10.341984
A14: Oil | B14: =B23+B32-B41-B50-B59 -> 40.379607 | C14: =C23+C32-C41-C50-C59 -> 36.397725 | D14: =D23+D32-D41-D50-D59 -> 40.591905 | E14: =E23+E32-E41-E50-E59 -> 41.1405 | F14: =F23+F32-F41-F50-F59 -> 43.762358 | G14: =G23+G32-G41-G50-G59 -> 43.395071 | H14: =H23+H32-H41-H50-H59 -> 32.301994 | I14: =I23+I32-I41-I50-I59 -> 42.700333 | ... EK14: =EK23+EK32-EK41-EK50-EK59 -> 70.032965
A15: Natural gas | B15: =B24+B33-B42-B51-B60 -> 40.785218 | C15: =C24+C33-C42-C51-C60 -> 50.548174 | D15: =D24+D33-D42-D51-D60 -> 46.177164 | E15: =E24+E33-E42-E51-E60 -> 43.092036 | F15: =F24+F33-F42-F51-F60 -> 40.674752 | G15: =G24+G33-G42-G51-G60 -> 56.166644 | H15: =H24+H33-H42-H51-H60 -> 56.163381 | I15: =I24+I33-I42-I51-I60 -> 43.498332 | ... EK15: =EK24+EK33-EK42-EK51-EK60 -> 23.961604
A16: Hydro | B16: =B25+B34-B43-B52-B61 -> 19.016809 | C16: =C25+C34-C43-C52-C61 -> 19.777261 | D16: =D25+D34-D43-D52-D61 -> 23.783986 | E16: =E25+E34-E43-E52-E61 -> 20.880686 | F16: =F25+F34-F43-F52-F61 -> 19.583922 | G16: =G25+G34-G43-G52-G61 -> 19.62322 | H16: =H25+H34-H43-H52-H61 -> 21.008824 | I16: =I25+I34-I43-I52-I61 -> 22.195862 | ... EK16: =EK25+EK34-EK43-EK52-EK61 -> 22.762844
A17: Geothermal | B17: =B26+B35-B44-B53-B62 -> 15.558188 | C17: =C26+C35-C44-C53-C62 -> 15.969771 | D17: =D26+D35-D44-D53-D62 -> 16.787485 | E17: =E26+E35-E44-E53-E62 -> 14.170799 | F17: =F26+F35-F44-F53-F62 -> 16.041627 | G17: =G26+G35-G44-G53-G62 -> 16.042426 | H17: =H26+H35-H44-H53-H62 -> 16.687203 | I17: =I26+I35-I44-I53-I62 -> 16.83005 | ... EK17: =EK26+EK35-EK44-EK53-EK62 -> 56.958294
A18: Other renewables | B18: =B27+B36-B45-B54-B63 -> 10.064401 | C18: =C27+C36-C45-C54-C63 -> 11.805459 | D18: =D27+D36-D45-D54-D63 -> 11.822595 | E18: =E27+E36-E45-E54-E63 -> 11.104148 | F18: =F27+F36-F45-F54-F63 -> 10.701341 | G18: =G27+G36-G45-G54-G63 -> 11.591919 | H18: =H27+H36-H45-H54-H63 -> 11.655927 | I18: =I27+I36-I45-I54-I63 -> 11.081612 | ... EK18: =EK27+EK36-EK45-EK54-EK63 -> 17.171532
A19: Electricity | B19: =B28+B37-B46-B55-B64 -> 0 | C19: =C28+C37-C46-C55-C64 -> 0 | D19: =D28+D37-D46-D55-D64 -> 0 | E19: =E28+E37-E46-E55-E64 -> 0 | F19: =F28+F37-F46-F55-F64 -> 0 | G19: =G28+G37-G46-G55-G64 -> 0 | H19: =H28+H37-H46-H55-H64 -> 0 | I19: =I28+I37-I46-I55-I64 -> 0 | ... EK19: =EK28+EK37-EK46-EK55-EK64 -> 0
A20: Waste heat | B20: =B29+B38-B47-B56-B65 -> 0.3756984 | C20: =C29+C38-C47-C56-C65 -> 0.4104948 | D20: =D29+D38-D47-D56-D65 -> 0.4386144 | E20: =E29+E38-E47-E56-E65 -> 0.38504592 | F20: =F29+F38-F47-F56-F65 -> 0.3756984 | G20: =G29+G38-G47-G56-G65 -> 0.40887696 | H20: =H29+H38-H47-H56-H65 -> 0.43902528 | I20: =I29+I38-I47-I56-I65 -> 0.38527704 | ... EK20: =EK29+EK38-EK47-EK56-EK65 -> 0.16089162
A21: Indigenous Production | B21: =SUM(B22:B29) -> 124.7779 | C21: =SUM(C22:C29) -> 134.50377 | D21: =SUM(D22:D29) -> 137.2562 | E21: =SUM(E22:E29) -> 126.70416 | F21: =SUM(F22:F29) -> 123.52509 | G21: =SUM(G22:G29) -> 144.32222 | H21: =SUM(H22:H29) -> 148.99386 | I21: =SUM(I22:I29) -> 132.50051 | ... EK21: =SUM(EK22:EK29) -> 147.30317
A22: Coal | B22: 19.318263 | C22: 13.525453 | D22: 15.41393 | E22: 14.467801 | F22: 14.542905 | G22: 15.682992 | H22: 18.303472 | I22: 17.275529 | J22: 21.676114 | K22: 16.888225 | L22: 18.576634 | M22: 17.792209 | N22: 14.421982 | O22: 20.371488 | P22: 27.674912 | Q22: 22.091155 | R22: 17.211216 | S22: 23.258352 | T22: 16.826888 | U22: 20.348297 | V22: 25.234272 | W22: 24.248093 | X22: 22.360578 | Y22: 23.368836 | Z22: 20.411104 | AA22: 27.305392 | AB22: 19.61951 | AC22: 29.876803 | AD22: 23.186443 | AE22: 25.222004 | AF22: 20.881443 | AG22: 22.178179 | AH22: 19.141837 | AI22: 25.20019 | AJ22: 17.470944 | AK22: 17.627259 | AL22: 19.165187 | AM22: 27.07963 | AN22: 22.102497 | AO22: 23.358692 | AP22: 15.380838 | AQ22: 23.575975 | AR22: 28.266361 | AS22: 24.12723 | AT22: 23.139233 | AU22: 28.307029 | AV22: 24.789941 | AW22: 27.552676 | AX22: 19.481645 | AY22: 35.289887 | AZ22: 33.000596 | BA22: 31.550049 | BB22: 30.528962 | BC22: 36.805424 | BD22: 36.221799 | BE22: 31.929936 | BF22: 27.442641 | BG22: 35.498295 | BH22: 37.711533 | BI22: 36.328891 | BJ22: 31.654027 | BK22: 35.894319 | BL22: 30.392032 | BM22: 41.490775 | BN22: 30.192278 | BO22: 40.974936 | BP22: 32.815543 | BQ22: 46.052034 | BR22: 38.124062 | BS22: 29.119972 | BT22: 28.442077 | BU22: 29.135502 | BV22: 33.277991 | BW22: 35.967531 | BX22: 30.82649 | BY22: 24.976292 | BZ22: 31.642707 | CA22: 33.184941 | CB22: 31.479294 | CC22: 20.024033 | CD22: 33.928012 | CE22: 38.623474 | CF22: 35.028186 | CG22: 31.301718 | CH22: 29.102983 | CI22: 32.827038 | CJ22: 31.579116 | CK22: 34.671883 | CL22: 36.277425 | CM22: 30.286023 | CN22: 31.215857 | CO22: 29.406476 | CP22: 31.387452 | CQ22: 31.920639 | CR22: 27.283249 | CS22: 30.108381 | CT22: 28.184347 | CU22: 27.08259 | CV22: 23.364575 | CW22: 24.677659 | CX22: 25.941187 | CY22: 22.056616 | CZ22: 19.008763 | DA22: 18.335768 | DB22: 19.010039 | DC22: 16.970779 | DD22: 18.183351 | DE22: 17.407861 | DF22: 13.869478 | DG22: 21.001714 | DH22: 18.170641 | DI22: 19.411826 | DJ22: 19.992167 | DK22: 19.525141 | DL22: 19.918935 | DM22: 20.15094 | DN22: 19.283864 | DO22: 18.70869 | DP22: 18.231443 | DQ22: 18.611468 | DR22: 19.397253 | DS22: 14.523843 | DT22: 16.288883 | DU22: 18.238447 | DV22: 18.736553 | DW22: 17.21569 | DX22: 16.380992 | DY22: 18.123505 | DZ22: 18.297055 | EA22: 15.188614 | EB22: 15.087985 | EC22: 17.407454 | ED22: 17.25665 | EE22: 18.470721 | EF22: 15.477489 | EG22: 14.57094 | EH22: 18.331808 | EI22: 16.146652 | EJ22: 14.042068 | EK22: 14.8616
A23: Oil | B23: 19.670104 | C23: 22.459466 | D23: 22.849663 | E23: 22.603924 | F23: 21.594736 | G23: 24.820316 | H23: 24.759212 | I23: 21.208395 | J23: 20.53131 | K23: 25.903506 | L23: 22.571386 | M23: 19.07262 | N23: 18.811787 | O23: 24.596557 | P23: 23.611493 | Q23: 25.682159 | R23: 22.935416 | S23: 25.760192 | T23: 22.767489 | U23: 18.215323 | V23: 16.921301 | W23: 18.282946 | X23: 22.247121 | Y23: 18.510857 | Z23: 17.336638 | AA23: 21.674168 | AB23: 27.140094 | AC23: 33.555399 | AD23: 33.520701 | AE23: 34.672672 | AF23: 34.093092 | AG23: 28.099956 | AH23: 22.107699 | AI23: 28.050534 | AJ23: 28.681463 | AK23: 26.417489 | AL23: 24.471809 | AM23: 23.930678 | AN23: 25.219848 | AO23: 20.795345 | AP23: 20.325118 | AQ23: 20.333601 | AR23: 22.008856 | AS23: 22.802885 | AT23: 19.464381 | AU23: 21.856514 | AV23: 21.884037 | AW23: 18.576841 | AX23: 15.601537 | AY23: 21.847769 | AZ23: 20.224196 | BA23: 17.339515 | BB23: 15.448417 | BC23: 15.392709 | BD23: 15.743422 | BE23: 11.812825 | BF23: 12.052326 | BG23: 12.724875 | BH23: 14.006295 | BI23: 12.8774 | BJ23: 10.562837 | BK23: 13.057892 | BL23: 13.509648 | BM23: 11.123007 | BN23: 11.608734 | BO23: 11.778759 | BP23: 11.574146 | BQ23: 10.834103 | BR23: 10.700463 | BS23: 14.811435 | BT23: 30.444309 | BU23: 37.265272 | BV23: 36.479557 | BW23: 36.591735 | BX23: 32.399441 | BY23: 26.361858 | BZ23: 26.451323 | CA23: 30.033829 | CB23: 35.870382 | CC23: 32.738644 | CD23: 30.630687 | CE23: 32.714037 | CF23: 32.345742 | CG23: 28.094914 | CH23: 27.371751 | CI23: 26.309643 | CJ23: 29.150917 | CK23: 24.445194 | CL23: 22.823138 | CM23: 26.527308 | CN23: 26.107433 | CO23: 21.00613 | CP23: 20.335476 | CQ23: 22.771764 | CR23: 19.070236 | CS23: 17.618262 | CT23: 24.064258 | CU23: 23.947661 | CV23: 25.08246 | CW23: 22.273732 | CX23: 21.11229 | CY23: 27.135548 | CZ23: 26.926486 | DA23: 23.09452 | DB23: 22.263635 | DC23: 20.976228 | DD23: 21.734336 | DE23: 17.689278 | DF23: 18.323501 | DG23: 19.178307 | DH23: 18.998937 | DI23: 18.694054 | DJ23: 16.166375 | DK23: 13.671923 | DL23: 16.141031 | DM23: 13.846744 | DN23: 14.446959 | DO23: 15.498418 | DP23: 16.498539 | DQ23: 14.848368 | DR23: 14.195946 | DS23: 13.099403 | DT23: 13.222921 | DU23: 12.542177 | DV23: 11.628166 | DW23: 11.841961 | DX23: 11.457028 | DY23: 11.605476 | DZ23: 11.273512 | EA23: 10.379175 | EB23: 10.376138 | EC23: 9.9333793 | ED23: 10.786837 | EE23: 11.486958 | EF23: 11.891091 | EG23: 10.639672 | EH23: 10.465512 | EI23: 9.5485003 | EJ23: 9.9585432 | EK23: 9.1364911
A24: Natural gas | B24: 40.774818 | C24: 50.555864 | D24: 46.160054 | E24: 43.092836 | F24: 40.685112 | G24: 56.152554 | H24: 56.140281 | I24: 43.525582 | J24: 42.143946 | K24: 66.169075 | L24: 55.86387 | M24: 44.374775 | N24: 45.309707 | O24: 55.427168 | P24: 50.18412 | Q24: 52.062155 | R24: 45.041805 | S24: 55.455492 | T24: 47.371218 | U24: 41.629843 | V24: 39.526384 | W24: 44.062611 | X24: 54.92386 | Y24: 40.490208 | Z24: 41.702521 | AA24: 55.623072 | AB24: 63.254572 | AC24: 43.874747 | AD24: 54.589793 | AE24: 62.18525 | AF24: 55.262893 | AG24: 47.025514 | AH24: 36.166925 | AI24: 49.595422 | AJ24: 52.606843 | AK24: 53.4012 | AL24: 54.235162 | AM24: 51.728165 | AN24: 62.712431 | AO24: 55.821214 | AP24: 55.424421 | AQ24: 59.820242 | AR24: 63.043968 | AS24: 57.757688 | AT24: 56.708338 | AU24: 63.74769 | AV24: 70.308565 | AW24: 57.661223 | AX24: 52.829574 | AY24: 67.530505 | AZ24: 61.805428 | BA24: 54.060951 | BB24: 47.978191 | BC24: 46.659517 | BD24: 50.372863 | BE24: 35.292717 | BF24: 38.866829 | BG24: 39.401077 | BH24: 42.957708 | BI24: 40.824769 | BJ24: 34.179408 | BK24: 39.481585 | BL24: 42.912151 | BM24: 34.398995 | BN24: 38.189604 | BO24: 41.578496 | BP24: 40.33438 | BQ24: 34.698602 | BR24: 35.753322 | BS24: 46.742458 | BT24: 47.942434 | BU24: 39.859468 | BV24: 36.764778 | BW24: 44.062122 | BX24: 42.549919 | BY24: 37.226796 | BZ24: 38.302027 | CA24: 42.322344 | CB24: 43.157412 | CC24: 43.458543 | CD24: 42.076863 | CE24: 45.26323 | CF24: 48.564455 | CG24: 43.43583 | CH24: 35.213776 | CI24: 40.160946 | CJ24: 46.867997 | CK24: 38.21151 | CL24: 37.64624 | CM24: 44.922185 | CN24: 48.732619 | CO24: 40.733796 | CP24: 42.88261 | CQ24: 48.429714 | CR24: 48.6396 | CS24: 43.201918 | CT24: 46.388764 | CU24: 51.794161 | CV24: 55.745141 | CW24: 50.079052 | CX24: 46.607404 | CY24: 48.81082 | CZ24: 50.407585 | DA24: 42.784007 | DB24: 46.106653 | DC24: 51.207144 | DD24: 52.498867 | DE24: 46.0359 | DF24: 44.583113 | DG24: 44.505942 | DH24: 53.908755 | DI24: 51.368683 | DJ24: 46.340066 | DK24: 37.423095 | DL24: 47.668339 | DM24: 40.855238 | DN24: 41.951626 | DO24: 44.612617 | DP24: 50.962898 | DQ24: 46.790683 | DR24: 43.963714 | DS24: 46.201883 | DT24: 46.572084 | DU24: 43.342077 | DV24: 38.962095 | DW24: 38.79978 | DX24: 39.134135 | DY24: 40.629156 | DZ24: 39.319254 | EA24: 34.876674 | EB24: 35.152941 | EC24: 33.871931 | ED24: 37.843303 | EE24: 38.14219 | EF24: 38.29762 | EG24: 33.814635 | EH24: 32.067993 | EI24: 31.043958 | EJ24: 30.225085 | EK24: 26.298396
A25: Hydro | B25: 19.016809 | C25: 19.777261 | D25: 23.783986 | E25: 20.880686 | F25: 19.583922 | G25: 19.62322 | H25: 21.008824 | I25: 22.195862 | J25: 20.416397 | K25: 16.715422 | L25: 16.443874 | M25: 22.350327 | N25: 21.839907 | O25: 19.249163 | P25: 24.332905 | Q25: 19.143982 | R25: 22.040175 | S25: 19.713471 | T25: 27.001597 | U25: 24.248945 | V25: 22.135378 | W25: 25.276979 | X25: 25.623678 | Y25: 26.079186 | Z25: 24.842806 | AA25: 23.180529 | AB25: 22.254087 | AC25: 23.971697 | AD25: 20.262239 | AE25: 19.255049 | AF25: 21.964196 | AG25: 22.239539 | AH25: 22.396855 | AI25: 22.631391 | AJ25: 24.119973 | AK25: 21.992241 | AL25: 19.526651 | AM25: 22.054351 | AN25: 21.161469 | AO25: 19.759577 | AP25: 19.418767 | AQ25: 21.314268 | AR25: 23.973995 | AS25: 23.250089 | AT25: 20.775791 | AU25: 19.407703 | AV25: 17.392079 | AW25: 20.468829 | AX25: 20.947116 | AY25: 19.295109 | AZ25: 25.055889 | BA25: 24.241927 | BB25: 20.358458 | BC25: 18.478234 | BD25: 21.982194 | BE25: 24.222816 | BF25: 24.561548 | BG25: 22.865428 | BH25: 27.913097 | BI25: 22.722572 | BJ25: 22.65063 | BK25: 20.755709 | BL25: 20.658379 | BM25: 19.914218 | BN25: 18.712832 | BO25: 20.825167 | BP25: 22.561335 | BQ25: 22.763907 | BR25: 22.028623 | BS25: 19.387865 | BT25: 22.595911 | BU25: 21.093027 | BV25: 19.162341 | BW25: 17.367206 | BX25: 22.33493 | BY25: 21.586033 | BZ25: 19.949462 | CA25: 21.650562 | CB25: 23.050917 | CC25: 22.531275 | CD25: 20.743523 | CE25: 21.706661 | CF25: 24.153017 | CG25: 22.411452 | CH25: 22.38714 | CI25: 23.647054 | CJ25: 22.725165 | CK25: 21.638143 | CL25: 18.946363 | CM25: 17.748424 | CN25: 22.827411 | CO25: 22.905664 | CP25: 19.101363 | CQ25: 18.521738 | CR25: 22.047176 | CS25: 23.339785 | CT25: 20.573788 | CU25: 21.236025 | CV25: 24.451827 | CW25: 21.457399 | CX25: 19.339429 | CY25: 22.237725 | CZ25: 24.810815 | DA25: 22.109694 | DB25: 21.124582 | DC25: 22.577625 | DD25: 26.053147 | DE25: 23.725195 | DF25: 22.295821 | DG25: 22.045512 | DH25: 23.898755 | DI25: 22.406453 | DJ25: 21.014595 | DK25: 24.862386 | DL25: 26.07475 | DM25: 22.739292 | DN25: 20.892288 | DO25: 23.511791 | DP25: 24.391457 | DQ25: 23.548881 | DR25: 21.384717 | DS25: 20.660531 | DT25: 22.692747 | DU25: 22.809775 | DV25: 19.375728 | DW25: 19.600717 | DX25: 24.310783 | DY25: 23.901063 | DZ25: 20.430556 | EA25: 21.066455 | EB25: 27.203631 | EC25: 26.095304 | ED25: 21.948214 | EE25: 26.370206 | EF25: 24.330002 | EG25: 22.958666 | EH25: 21.147313 | EI25: 21.259785 | EJ25: 20.241429 | EK25: 22.762844
A26: Geothermal | B26: 15.558188 | C26: 15.969771 | D26: 16.787485 | E26: 14.170799 | F26: 16.041627 | G26: 16.042426 | H26: 16.687203 | I26: 16.83005 | J26: 15.622112 | K26: 16.595112 | L26: 16.917112 | M26: 15.964935 | N26: 16.553753 | O26: 17.345062 | P26: 17.639872 | Q26: 16.889662 | R26: 15.563342 | S26: 16.471712 | T26: 16.343702 | U26: 15.607962 | V26: 15.67288 | W26: 15.914791 | X26: 16.115919 | Y26: 15.366591 | Z26: 14.97509 | AA26: 16.354402 | AB26: 16.8493 | AC26: 15.958401 | AD26: 14.908858 | AE26: 17.279115 | AF26: 18.308037 | AG26: 16.122618 | AH26: 15.846702 | AI26: 19.312336 | AJ26: 18.742015 | AK26: 16.640077 | AL26: 16.72302 | AM26: 19.544395 | AN26: 20.200813 | AO26: 18.370236 | AP26: 18.3185 | AQ26: 20.80935 | AR26: 22.042049 | AS26: 20.844106 | AT26: 19.171335 | AU26: 19.752569 | AV26: 19.312031 | AW26: 18.076243 | AX26: 17.213275 | AY26: 18.522433 | AZ26: 18.879998 | BA26: 18.54039 | BB26: 18.028049 | BC26: 18.553978 | BD26: 18.751197 | BE26: 18.074112 | BF26: 17.533213 | BG26: 18.605546 | BH26: 19.134355 | BI26: 18.846094 | BJ26: 18.829071 | BK26: 20.912823 | BL26: 20.836823 | BM26: 20.93917 | BN26: 20.581571 | BO26: 21.169872 | BP26: 22.380787 | BQ26: 20.68018 | BR26: 21.652272 | BS26: 21.080711 | BT26: 22.93834 | BU26: 23.137217 | BV26: 22.714187 | BW26: 23.644273 | BX26: 27.62788 | BY26: 28.438946 | BZ26: 27.797049 | CA26: 30.238743 | CB26: 31.086024 | CC26: 28.8627 | CD26: 29.539445 | CE26: 36.548194 | CF26: 36.303382 | CG26: 36.356589 | CH26: 35.292966 | CI26: 37.588263 | CJ26: 38.117675 | CK26: 37.465515 | CL26: 37.258217 | CM26: 38.270837 | CN26: 38.615915 | CO26: 38.403267 | CP26: 37.783586 | CQ26: 39.163239 | CR26: 41.739072 | CS26: 49.474172 | CT26: 41.771606 | CU26: 44.895572 | CV26: 47.115546 | CW26: 50.224043 | CX26: 48.07654 | CY26: 48.940452 | CZ26: 49.126551 | DA26: 47.361087 | DB26: 48.281935 | DC26: 47.723937 | DD26: 47.610066 | DE26: 45.463195 | DF26: 47.323458 | DG26: 47.685697 | DH26: 48.525285 | DI26: 47.050869 | DJ26: 47.006854 | DK26: 49.462252 | DL26: 50.77253 | DM26: 49.252227 | DN26: 49.705343 | DO26: 51.833199 | DP26: 52.002321 | DQ26: 47.548418 | DR26: 50.694955 | DS26: 50.626365 | DT26: 50.583659 | DU26: 48.894137 | DV26: 51.194267 | DW26: 49.932223 | DX26: 50.639037 | DY26: 52.02749 | DZ26: 50.941371 | EA26: 52.076945 | EB26: 52.697196 | EC26: 48.786997 | ED26: 49.701381 | EE26: 46.948729 | EF26: 53.238452 | EG26: 55.713951 | EH26: 53.49251 | EI26: 56.937043 | EJ26: 58.667016 | EK26: 56.958294
A27: Other renewables | B27: 10.064019 | C27: 11.805459 | D27: 11.822472 | E27: 11.103069 | F27: 10.701089 | G27: 11.59184 | H27: 11.655842 | I27: 11.079816 | J27: 10.755589 | K27: 11.516048 | L27: 11.520921 | M27: 11.197241 | N27: 10.938959 | O27: 12.501778 | P27: 12.543437 | Q27: 11.791225 | R27: 11.503067 | S27: 12.637588 | T27: 12.985169 | U27: 12.425563 | V27: 12.191152 | W27: 13.254074 | X27: 13.22402 | Y27: 12.333716 | Z27: 11.984298 | AA27: 12.705311 | AB27: 13.002355 | AC27: 12.286976 | AD27: 11.863547 | AE27: 13.481971 | AF27: 13.544524 | AG27: 12.497707 | AH27: 12.006635 | AI27: 12.58071 | AJ27: 12.616173 | AK27: 12.698078 | AL27: 12.852861 | AM27: 13.516395 | AN27: 14.207857 | AO27: 14.005976 | AP27: 14.355806 | AQ27: 14.447102 | AR27: 14.306116 | AS27: 14.090072 | AT27: 13.474833 | AU27: 14.389426 | AV27: 14.287412 | AW27: 14.360968 | AX27: 14.11755 | AY27: 15.444452 | AZ27: 15.216256 | BA27: 15.430073 | BB27: 14.53276 | BC27: 13.139568 | BD27: 15.914471 | BE27: 15.375461 | BF27: 15.536004 | BG27: 15.908057 | BH27: 16.619994 | BI27: 16.727747 | BJ27: 15.755863 | BK27: 16.782993 | BL27: 16.94553 | BM27: 16.310237 | BN27: 15.933075 | BO27: 16.497888 | BP27: 17.09063 | BQ27: 16.723091 | BR27: 16.055518 | BS27: 16.826457 | BT27: 17.430522 | BU27: 16.924782 | BV27: 15.834051 | BW27: 16.056648 | BX27: 16.461286 | BY27: 15.52461 | BZ27: 14.668526 | CA27: 15.114763 | CB27: 15.922122 | CC27: 16.668925 | CD27: 16.246545 | CE27: 16.722216 | CF27: 17.357108 | CG27: 16.889466 | CH27: 16.36514 | CI27: 17.378639 | CJ27: 17.621118 | CK27: 17.027374 | CL27: 16.614392 | CM27: 17.644811 | CN27: 17.455249 | CO27: 17.232976 | CP27: 16.111533 | CQ27: 16.483396 | CR27: 17.478177 | CS27: 16.840945 | CT27: 16.399391 | CU27: 16.723352 | CV27: 17.200963 | CW27: 17.027365 | CX27: 16.227473 | CY27: 17.468296 | CZ27: 17.746116 | DA27: 17.851963 | DB27: 16.947894 | DC27: 17.326785 | DD27: 17.852543 | DE27: 17.69034 | DF27: 17.398804 | DG27: 16.202817 | DH27: 17.459799 | DI27: 16.430227 | DJ27: 16.051352 | DK27: 16.698476 | DL27: 17.295426 | DM27: 16.444465 | DN27: 16.053754 | DO27: 16.218516 | DP27: 17.343262 | DQ27: 16.26673 | DR27: 15.671529 | DS27: 14.486474 | DT27: 16.473525 | DU27: 15.392526 | DV27: 16.134346 | DW27: 16.848217 | DX27: 16.71185 | DY27: 16.726383 | DZ27: 16.533984 | EA27: 16.440796 | EB27: 17.575683 | EC27: 16.106495 | ED27: 14.996453 | EE27: 14.836427 | EF27: 15.967782 | EG27: 16.034153 | EH27: 16.45011 | EI27: 16.200999 | EJ27: 17.838667 | EK27: 17.124652
A28: Electricity | B28: 0 | C28: 0 | D28: 0 | E28: 0 | F28: 0 | G28: 0 | H28: 0 | I28: 0 | J28: 0 | K28: 0 | L28: 0 | M28: 0 | N28: 0 | O28: 0 | P28: 0 | Q28: 0 | R28: 0 | S28: 0 | T28: 0 | U28: 0 | V28: 0 | W28: 0 | X28: 0 | Y28: 0 | Z28: 0 | AA28: 0 | AB28: 0 | AC28: 0 | AD28: 0 | AE28: 0 | AF28: 0 | AG28: 0 | AH28: 0 | AI28: 0 | AJ28: 0 | AK28: 0 | AL28: 0 | AM28: 0 | AN28: 0 | AO28: 0 | AP28: 0 | AQ28: 0 | AR28: 0 | AS28: 0 | AT28: 0 | AU28: 0 | AV28: 0 | AW28: 0 | AX28: 0 | AY28: 0 | AZ28: 0 | BA28: 0 | BB28: 0 | BC28: 0 | BD28: 0 | BE28: 0 | BF28: 0 | BG28: 0 | BH28: 0 | BI28: 0 | BJ28: 0 | BK28: 0 | BL28: 0 | BM28: 0 | BN28: 0 | BO28: 0 | BP28: 0 | BQ28: 0 | BR28: 0 | BS28: 0 | BT28: 0 | BU28: 0 | BV28: 0 | BW28: 0 | BX28: 0 | BY28: 0 | BZ28: 0 | CA28: 0 | CB28: 0 | CC28: 0 | CD28: 0 | CE28: 0 | CF28: 0 | CG28: 0 | CH28: 0 | CI28: 0 | CJ28: 0 | CK28: 0 | CL28: 0 | CM28: 0 | CN28: 0 | CO28: 0 | CP28: 0 | CQ28: 0 | CR28: 0 | CS28: 0 | CT28: 0 | CU28: 0 | CV28: 0 | CW28: 0 | CX28: 0 | CY28: 0 | CZ28: 0 | DA28: 0 | DB28: 0 | DC28: 0 | DD28: 0 | DE28: 0 | DF28: 0 | DG28: 0 | DH28: 0 | DI28: 0 | DJ28: 0 | DK28: 0 | DL28: 0 | DM28: 0 | DN28: 0 | DO28: 0 | DP28: 0 | DQ28: 0 | DR28: 0 | DS28: 0 | DT28: 0 | DU28: 0 | DV28: 0 | DW28: 0 | DX28: 0 | DY28: 0 | DZ28: 0 | EA28: 0 | EB28: 0 | EC28: 0 | ED28: 0 | EE28: 0 | EF28: 0 | EG28: 0 | EH28: 0 | EI28: 0 | EJ28: 0 | EK28: 0
A29: Waste heat | B29: 0.3756984 | C29: 0.4104948 | D29: 0.4386144 | E29: 0.38504592 | F29: 0.3756984 | G29: 0.40887696 | H29: 0.43902528 | I29: 0.38527704 | J29: 0.37592952 | K29: 0.4104948 | L29: 0.4392564 | M29: 0.38504592 | N29: 0.37580112 | O29: 0.4104948 | P29: 0.4392564 | Q29: 0.38504592 | R29: 0.3767256 | S29: 0.4104948 | T29: 0.4389996 | U29: 0.38504592 | V29: 0.3756984 | W29: 0.4104948 | X29: 0.4388712 | Y29: 0.38504592 | Z29: 0.41088 | AA29: 0.40252758 | AB29: 0.40252758 | AC29: 0.40252758 | AD29: 0.40252758 | AE29: 0.40252758 | AF29: 0.40252758 | AG29: 0.40252758 | AH29: 0.40252758 | AI29: 0.40252758 | AJ29: 0.40252758 | AK29: 0.40252758 | AL29: 0.40252758 | AM29: 0.40252758 | AN29: 0.40252758 | AO29: 0.40252758 | AP29: 0.40252758 | AQ29: 0.40252758 | AR29: 0.40252758 | AS29: 0.40252758 | AT29: 0.30322944 | AU29: 0.30322944 | AV29: 0.30322944 | AW29: 0.30322944 | AX29: 0.58809383 | AY29: 0.60121117 | AZ29: 0.60121117 | BA29: 0.60121117 | BB29: 0.60121117 | BC29: 0.52251353 | BD29: 0.52251353 | BE29: 0.52251353 | BF29: 0.52251353 | BG29: 0.5358851 | BH29: 0.5358851 | BI29: 0.5358851 | BJ29: 0.5358851 | BK29: 0.4702329 | BL29: 0.4702329 | BM29: 0.4702329 | BN29: 0.4702329 | BO29: 0.45345102 | BP29: 0.45345102 | BQ29: 0.45345102 | BR29: 0.45345102 | BS29: 0.30183437 | BT29: 0.30183437 | BU29: 0.30183437 | BV29: 0.30183437 | BW29: 0.37956838 | BX29: 0.37956838 | BY29: 0.37956838 | BZ29: 0.37956838 | CA29: 0.32936141 | CB29: 0.32936141 | CC29: 0.32936141 | CD29: 0.32936141 | CE29: 0.37946116 | CF29: 0.37946116 | CG29: 0.37946116 | CH29: 0.37946116 | CI29: 0.26962202 | CJ29: 0.26962202 | CK29: 0.26962202 | CL29: 0.26962202 | CM29: 0.21261213 | CN29: 0.21261213 | CO29: 0.21261213 | CP29: 0.21261213 | CQ29: 0.30787613 | CR29: 0.30787613 | CS29: 0.30787613 | CT29: 0.30787613 | CU29: 0.30302774 | CV29: 0.30302774 | CW29: 0.30302774 | CX29: 0.30302774 | CY29: 0.31852958 | CZ29: 0.31852958 | DA29: 0.31852958 | DB29: 0.31852958 | DC29: 0.33016134 | DD29: 0.33016134 | DE29: 0.33016134 | DF29: 0.33016134 | DG29: 0.28772514 | DH29: 0.28772514 | DI29: 0.28772514 | DJ29: 0.28772514 | DK29: 0.32647626 | DL29: 0.32647626 | DM29: 0.32647626 | DN29: 0.32647626 | DO29: 0.28016238 | DP29: 0.28016238 | DQ29: 0.28016238 | DR29: 0.28016238 | DS29: 0.24542376 | DT29: 0.24542376 | DU29: 0.24542376 | DV29: 0.24542376 | DW29: 0.28729854 | DX29: 0.28729854 | DY29: 0.28729854 | DZ29: 0.28729854 | EA29: 0.24419147 | EB29: 0.24419147 | EC29: 0.24419147 | ED29: 0.24419147 | EE29: 0.19816387 | EF29: 0.19816387 | EG29: 0.19816387 | EH29: 0.19816387 | EI29: 0.16089162 | EJ29: 0.16089162 | EK29: 0.16089162
A30: Imports | B30: =SUM(B31:B38) -> 42.029112 | C30: =SUM(C31:C38) -> 40.652674 | D30: =SUM(D31:D38) -> 42.911705 | E30: =SUM(E31:E38) -> 44.05098 | F30: =SUM(F31:F38) -> 43.791218 | G30: =SUM(G31:G38) -> 41.826085 | H30: =SUM(H31:H38) -> 47.8185 | I30: =SUM(I31:I38) -> 42.960808 | ... EK30: =SUM(EK31:EK38) -> 96.156377
A31: Coal | B31: 0.0040927913 | C31: 0.0035415995 | D31: 0.0022961496 | E31: 0.0088976548 | F31: 0.0043779409 | G31: 0.0038047468 | H31: 0.0079236376 | I31: 0.0023692318 | J31: 0.0028332909 | K31: 0.0086873023 | L31: 0.0047014792 | M31: 0.0038911267 | N31: 0.0056465274 | O31: 0.0040247043 | P31: 0.0029111151 | Q31: 0.0025722674 | R31: 0.0025095677 | S31: 0.0038821225 | T31: 0.0030288996 | U31: 0.0040341115 | V31: 0.0025616394 | W31: 0.00010906692 | X31: 0.00034951032 | Y31: 0.00021386018 | Z31: 0 | AA31: 0 | AB31: 0.0012814601 | AC31: 0.00067265157 | AD31: 0 | AE31: 4.56204379562044e-08 | AF31: 0.0002472936 | AG31: 0.00025556007 | AH31: 0.00023642198 | AI31: 0.00054716998 | AJ31: 0.00069159384 | AK31: 0.00059292337 | AL31: 0.000399672 | AM31: 0 | AN31: 0 | AO31: 0.00010902925 | AP31: 1.1275e-05 | AQ31: 0.00064315276 | AR31: 0.24127973 | AS31: 0.24212286 | AT31: 7.8757e-07 | AU31: 0.019029314 | AV31: 0.24932443 | AW31: 0.637083 | AX31: 0.75107778 | AY31: 5.00976e-05 | AZ31: 0.75377358 | BA31: 0.77846997 | BB31: 0.96853345 | BC31: 1.6948007 | BD31: 2.7320169 | BE31: 4.7383047 | BF31: 3.9895688 | BG31: 5.6265393 | BH31: 5.1380893 | BI31: 5.3016712 | BJ31: 5.5737997 | BK31: 4.7536629 | BL31: 7.7001111 | BM31: 6.722215 | BN31: 6.7704061 | BO31: 6.7022943 | BP31: 7.3599191 | BQ31: 7.2388226 | BR31: 4.2780351 | BS31: 5.5820274 | BT31: 4.1904498 | BU31: 2.8011072 | BV31: 1.3659764 | BW31: 3.4325837 | BX31: 4.8819648 | BY31: 4.1670734 | BZ31: 3.9963478 | CA31: 4.1291921 | CB31: 2.0019957 | CC31: 5.4403266 | CD31: 1.2332562 | CE31: 2.6361563 | CF31: 1.8630673 | CG31: 0.011888309 | CH31: 0.93107675 | CI31: 1.5507324 | CJ31: 0.66222324 | CK31: 0.66793763 | CL31: 0.036337943 | CM31: 0.0062445769 | CN31: 0.00030976021 | CO31: 2.77818728165587e-06 | CP31: 0.00030591381 | CQ31: 2.7804517 | CR31: 7.6228977 | CS31: 3.2550469 | CT31: 2.4238893 | CU31: 1.8196408 | CV31: 1.8215241 | CW31: 3.3313946 | CX31: 2.7836511 | CY31: 2.3617335 | CZ31: 1.7723904 | DA31: 2.6163898 | DB31: 3.3542918 | DC31: 1.9308778 | DD31: 2.9700491 | DE31: 1.814892 | DF31: 2.4992097 | DG31: 2.0552001 | DH31: 1.845974 | DI31: 3.9559581 | DJ31: 1.8464961 | DK31: 3.391917 | DL31: 3.2825913 | DM31: 5.7108042 | DN31: 6.4638715 | DO31: 8.1555987 | DP31: 2.9319613 | DQ31: 5.9918494 | DR31: 4.9759612 | DS31: 3.7756364 | DT31: 6.1284297 | DU31: 7.9493419 | DV31: 6.519103 | DW31: 13.090902 | DX31: 10.745679 | DY31: 8.2065322 | DZ31: 2.6563809 | EA31: 8.850117 | EB31: 3.3893398 | EC31: 0.76822865 | ED31: 0.71522881 | EE31: 0.75558164 | EF31: 2.4943386 | EG31: 1.4293062 | EH31: 2.5441218 | EI31: 1.5148944 | EJ31: 10.117074 | EK31: 7.9774824
A32: Oil | B32: 42.024637 | C32: 40.649133 | D32: 42.909286 | E32: 44.041004 | F32: 43.786588 | G32: 41.82228 | H32: 47.810577 | I32: 42.956643 | J32: 44.911693 | K32: 40.439368 | L32: 42.052653 | M32: 41.527413 | N32: 43.048058 | O32: 51.179341 | P32: 44.778373 | Q32: 46.539376 | R32: 49.320472 | S32: 55.802872 | T32: 52.153673 | U32: 51.215544 | V32: 55.109881 | W32: 54.86478 | X32: 55.964359 | Y32: 51.102007 | Z32: 65.05394 | AA32: 57.352249 | AB32: 60.084288 | AC32: 50.288523 | AD32: 69.797587 | AE32: 59.420589 | AF32: 55.786392 | AG32: 54.892577 | AH32: 69.947994 | AI32: 64.680076 | AJ32: 63.199385 | AK32: 64.267934 | AL32: 65.773654 | AM32: 71.725444 | AN32: 71.212835 | AO32: 67.168488 | AP32: 64.424685 | AQ32: 67.484091 | AR32: 71.62412 | AS32: 64.562407 | AT32: 68.93032 | AU32: 67.66742 | AV32: 73.990497 | AW32: 61.078167 | AX32: 72.073318 | AY32: 74.051282 | AZ32: 69.694733 | BA32: 71.391695 | BB32: 79.593079 | BC32: 74.49403 | BD32: 77.832795 | BE32: 72.568797 | BF32: 73.6114 | BG32: 84.733059 | BH32: 68.214807 | BI32: 84.4148 | BJ32: 82.536063 | BK32: 82.84689 | BL32: 67.144305 | BM32: 77.82771 | BN32: 82.814636 | BO32: 72.373748 | BP32: 73.378114 | BQ32: 81.187467 | BR32: 80.255931 | BS32: 82.562102 | BT32: 77.57178 | BU32: 82.541923 | BV32: 84.376349 | BW32: 80.494282 | BX32: 72.364942 | BY32: 88.579524 | BZ32: 87.199775 | CA32: 65.92504 | CB32: 82.393899 | CC32: 81.324242 | CD32: 79.796787 | CE32: 84.924999 | CF32: 65.444622 | CG32: 83.292553 | CH32: 83.425153 | CI32: 84.209866 | CJ32: 75.768153 | CK32: 82.855835 | CL32: 92.507974 | CM32: 74.625417 | CN32: 80.535966 | CO32: 83.10308 | CP32: 88.745211 | CQ32: 77.358572 | CR32: 79.687428 | CS32: 90.737402 | CT32: 85.792018 | CU32: 86.906861 | CV32: 78.106293 | CW32: 85.776003 | CX32: 95.23793 | CY32: 86.228745 | CZ32: 79.688063 | DA32: 79.866154 | DB32: 93.219221 | DC32: 95.830162 | DD32: 88.638468 | DE32: 93.063089 | DF32: 92.693367 | DG32: 94.931609 | DH32: 84.018292 | DI32: 106.41319 | DJ32: 95.139333 | DK32: 89.989244 | DL32: 89.143808 | DM32: 99.8158 | DN32: 84.862048 | DO32: 97.703527 | DP32: 81.910593 | DQ32: 97.664113 | DR32: 106.54286 | DS32: 52.971373 | DT32: 77.093314 | DU32: 93.287859 | DV32: 76.217869 | DW32: 72.833191 | DX32: 75.615142 | DY32: 70.351477 | DZ32: 80.768567 | EA32: 72.681964 | EB32: 73.48243 | EC32: 83.639962 | ED32: 89.452258 | EE32: 81.864022 | EF32: 79.737497 | EG32: 87.891587 | EH32: 86.274788 | EI32: 81.837686 | EJ32: 80.533657 | EK32: 88.132014
A33: Natural gas | B33: 0 | C33: 0 | D33: 0 | E33: 0 | F33: 0 | G33: 0 | H33: 0 | I33: 0 | J33: 0 | K33: 0 | L33: 0 | M33: 0 | N33: 0 | O33: 0 | P33: 0 | Q33: 0 | R33: 0 | S33: 0 | T33: 0 | U33: 0 | V33: 0 | W33: 0 | X33: 0 | Y33: 0 | Z33: 0 | AA33: 0 | AB33: 0 | AC33: 0 | AD33: 0 | AE33: 0 | AF33: 0 | AG33: 0 | AH33: 0 | AI33: 0 | AJ33: 0 | AK33: 0 | AL33: 0 | AM33: 0 | AN33: 0 | AO33: 0 | AP33: 0 | AQ33: 0 | AR33: 0 | AS33: 0 | AT33: 0 | AU33: 0 | AV33: 0 | AW33: 0 | AX33: 0 | AY33: 0 | AZ33: 0 | BA33: 0 | BB33: 0 | BC33: 0 | BD33: 0 | BE33: 0 | BF33: 0 | BG33: 0 | BH33: 0 | BI33: 0 | BJ33: 0 | BK33: 0 | BL33: 0 | BM33: 0 | BN33: 0 | BO33: 0 | BP33: 0 | BQ33: 0 | BR33: 0 | BS33: 0 | BT33: 0 | BU33: 0 | BV33: 0 | BW33: 0 | BX33: 0 | BY33: 0 | BZ33: 0 | CA33: 0 | CB33: 0 | CC33: 0 | CD33: 0 | CE33: 0 | CF33: 0 | CG33: 0 | CH33: 0 | CI33: 0 | CJ33: 0 | CK33: 0 | CL33: 0 | CM33: 0 | CN33: 0 | CO33: 0 | CP33: 0 | CQ33: 0 | CR33: 0 | CS33: 0 | CT33: 0 | CU33: 0 | CV33: 0 | CW33: 0 | CX33: 0 | CY33: 0 | CZ33: 0 | DA33: 0 | DB33: 0 | DC33: 0 | DD33: 0 | DE33: 0 | DF33: 0 | DG33: 0 | DH33: 0 | DI33: 0 | DJ33: 0 | DK33: 0 | DL33: 0 | DM33: 0 | DN33: 0 | DO33: 0 | DP33: 0 | DQ33: 0 | DR33: 0 | DS33: 0 | DT33: 0 | DU33: 0 | DV33: 0 | DW33: 0 | DX33: 0 | DY33: 0 | DZ33: 0 | EA33: 0 | EB33: 0 | EC33: 0 | ED33: 0 | EE33: 0 | EF33: 0 | EG33: 0 | EH33: 0 | EI33: 0 | EJ33: 0 | EK33: 0
A34: Hydro | B34: 0 | C34: 0 | D34: 0 | E34: 0 | F34: 0 | G34: 0 | H34: 0 | I34: 0 | J34: 0 | K34: 0 | L34: 0 | M34: 0 | N34: 0 | O34: 0 | P34: 0 | Q34: 0 | R34: 0 | S34: 0 | T34: 0 | U34: 0 | V34: 0 | W34: 0 | X34: 0 | Y34: 0 | Z34: 0 | AA34: 0 | AB34: 0 | AC34: 0 | AD34: 0 | AE34: 0 | AF34: 0 | AG34: 0 | AH34: 0 | AI34: 0 | AJ34: 0 | AK34: 0 | AL34: 0 | AM34: 0 | AN34: 0 | AO34: 0 | AP34: 0 | AQ34: 0 | AR34: 0 | AS34: 0 | AT34: 0 | AU34: 0 | AV34: 0 | AW34: 0 | AX34: 0 | AY34: 0 | AZ34: 0 | BA34: 0 | BB34: 0 | BC34: 0 | BD34: 0 | BE34: 0 | BF34: 0 | BG34: 0 | BH34: 0 | BI34: 0 | BJ34: 0 | BK34: 0 | BL34: 0 | BM34: 0 | BN34: 0 | BO34: 0 | BP34: 0 | BQ34: 0 | BR34: 0 | BS34: 0 | BT34: 0 | BU34: 0 | BV34: 0 | BW34: 0 | BX34: 0 | BY34: 0 | BZ34: 0 | CA34: 0 | CB34: 0 | CC34: 0 | CD34: 0 | CE34: 0 | CF34: 0 | CG34: 0 | CH34: 0 | CI34: 0 | CJ34: 0 | CK34: 0 | CL34: 0 | CM34: 0 | CN34: 0 | CO34: 0 | CP34: 0 | CQ34: 0 | CR34: 0 | CS34: 0 | CT34: 0 | CU34: 0 | CV34: 0 | CW34: 0 | CX34: 0 | CY34: 0 | CZ34: 0 | DA34: 0 | DB34: 0 | DC34: 0 | DD34: 0 | DE34: 0 | DF34: 0 | DG34: 0 | DH34: 0 | DI34: 0 | DJ34: 0 | DK34: 0 | DL34: 0 | DM34: 0 | DN34: 0 | DO34: 0 | DP34: 0 | DQ34: 0 | DR34: 0 | DS34: 0 | DT34: 0 | DU34: 0 | DV34: 0 | DW34: 0 | DX34: 0 | DY34: 0 | DZ34: 0 | EA34: 0 | EB34: 0 | EC34: 0 | ED34: 0 | EE34: 0 | EF34: 0 | EG34: 0 | EH34: 0 | EI34: 0 | EJ34: 0 | EK34: 0
A35: Geothermal | B35: 0 | C35: 0 | D35: 0 | E35: 0 | F35: 0 | G35: 0 | H35: 0 | I35: 0 | J35: 0 | K35: 0 | L35: 0 | M35: 0 | N35: 0 | O35: 0 | P35: 0 | Q35: 0 | R35: 0 | S35: 0 | T35: 0 | U35: 0 | V35: 0 | W35: 0 | X35: 0 | Y35: 0 | Z35: 0 | AA35: 0 | AB35: 0 | AC35: 0 | AD35: 0 | AE35: 0 | AF35: 0 | AG35: 0 | AH35: 0 | AI35: 0 | AJ35: 0 | AK35: 0 | AL35: 0 | AM35: 0 | AN35: 0 | AO35: 0 | AP35: 0 | AQ35: 0 | AR35: 0 | AS35: 0 | AT35: 0 | AU35: 0 | AV35: 0 | AW35: 0 | AX35: 0 | AY35: 0 | AZ35: 0 | BA35: 0 | BB35: 0 | BC35: 0 | BD35: 0 | BE35: 0 | BF35: 0 | BG35: 0 | BH35: 0 | BI35: 0 | BJ35: 0 | BK35: 0 | BL35: 0 | BM35: 0 | BN35: 0 | BO35: 0 | BP35: 0 | BQ35: 0 | BR35: 0 | BS35: 0 | BT35: 0 | BU35: 0 | BV35: 0 | BW35: 0 | BX35: 0 | BY35: 0 | BZ35: 0 | CA35: 0 | CB35: 0 | CC35: 0 | CD35: 0 | CE35: 0 | CF35: 0 | CG35: 0 | CH35: 0 | CI35: 0 | CJ35: 0 | CK35: 0 | CL35: 0 | CM35: 0 | CN35: 0 | CO35: 0 | CP35: 0 | CQ35: 0 | CR35: 0 | CS35: 0 | CT35: 0 | CU35: 0 | CV35: 0 | CW35: 0 | CX35: 0 | CY35: 0 | CZ35: 0 | DA35: 0 | DB35: 0 | DC35: 0 | DD35: 0 | DE35: 0 | DF35: 0 | DG35: 0 | DH35: 0 | DI35: 0 | DJ35: 0 | DK35: 0 | DL35: 0 | DM35: 0 | DN35: 0 | DO35: 0 | DP35: 0 | DQ35: 0 | DR35: 0 | DS35: 0 | DT35: 0 | DU35: 0 | DV35: 0 | DW35: 0 | DX35: 0 | DY35: 0 | DZ35: 0 | EA35: 0 | EB35: 0 | EC35: 0 | ED35: 0 | EE35: 0 | EF35: 0 | EG35: 0 | EH35: 0 | EI35: 0 | EJ35: 0 | EK35: 0
A36: Other renewables | B36: 0.0003821064 | C36: 4.44e-07 | D36: 0.0001231064 | E36: 0.0010783872 | F36: 0.000252488 | G36: 7.9032e-05 | H36: 8.53664e-05 | I36: 0.0017955656 | J36: 0.0007913264 | K36: 0.0004633584 | L36: 0.0003784064 | M36: 0.0009519656 | N36: 3.552e-05 | O36: 0.0006515552 | P36: 0.0020112312 | Q36: 0.0005417984 | R36: 0.0005207528 | S36: 0.000453028 | T36: 9.58152e-05 | U36: 0.0019647592 | V36: 0.003914896 | W36: 2.96e-07 | X36: 0.001642356 | Y36: 0.003696152 | Z36: 0.0008206896 | AA36: 0.000966736 | AB36: 0.000938172 | AC36: 0.0012617296 | AD36: 0.0014643712 | AE36: 0.0016176696 | AF36: 0.001163724 | AG36: 0.0028640664 | AH36: 0.0026053624 | AI36: 0.000555 | AJ36: 0.0016063624 | AK36: 0.0031262928 | AL36: 0.0023310592 | AM36: 0.0019487752 | AN36: 0.0041253224 | AO36: 0.0065410672 | AP36: 0.0059751152 | AQ36: 0.004266396 | AR36: 0.0064235256 | AS36: 0.0063239216 | AT36: 0.0066058912 | AU36: 0.0061108016 | AV36: 0.002514816 | AW36: 0.0086971608 | AX36: 0.0048234976 | AY36: 0.0034506792 | AZ36: 0.0050535784 | BA36: 0.010698683 | BB36: 0.0071925632 | BC36: 0.004714244 | BD36: 0.0064221048 | BE36: 0.0061885608 | BF36: 0.00417434 | BG36: 0.00332852 | BH36: 0.0052031176 | BI36: 0.0069116 | BJ36: 0.0063456184 | BK36: 0.0057279256 | BL36: 0.0064538656 | BM36: 0.0071105416 | BN36: 0.0035972288 | BO36: 0.0034384544 | BP36: 0.002917968 | BQ36: 0.0064256864 | BR36: 0.0061290944 | BS36: 0.0092227384 | BT36: 0.0083690152 | BU36: 0.0076932768 | BV36: 0.005463864 | BW36: 0.0080804152 | BX36: 0.0045830568 | BY36: 0.0053553504 | BZ36: 0.00767824 | CA36: 0.003426348 | CB36: 0.0041631808 | CC36: 0.010485948 | CD36: 0.0048131376 | CE36: 0.0051484168 | CF36: 0.0067156776 | CG36: 0.0092444944 | CH36: 0.010041297 | CI36: 0.004924404 | CJ36: 0.0083023264 | CK36: 0.0076592368 | CL36: 0.0091866264 | CM36: 0.0086044832 | CN36: 0.0093113904 | CO36: 0.0098654136 | CP36: 0.010305832 | CQ36: 0.006578452 | CR36: 0.013147314 | CS36: 0.019149276 | CT36: 0.017165306 | CU36: 0.012004073 | CV36: 0.021640116 | CW36: 0.013988042 | CX36: 0.0083477328 | CY36: 0.0092706312 | CZ36: 0.01188289 | DA36: 0.014921242 | DB36: 0.019263354 | DC36: 0.011308917 | DD36: 0.021006587 | DE36: 0.017386241 | DF36: 0.012348617 | DG36: 0.012058152 | DH36: 0.021641034 | DI36: 0.02401963 | DJ36: 0.014503023 | DK36: 0.017046285 | DL36: 0.020079071 | DM36: 0.023020364 | DN36: 0.017939435 | DO36: 0.017768554 | DP36: 0.026002002 | DQ36: 0.036263167 | DR36: 0.020960766 | DS36: 0.015912309 | DT36: 0.01981569 | DU36: 0.039415686 | DV36: 0.032105462 | DW36: 0.01771785 | DX36: 0.029307315 | DY36: 0.035244069 | DZ36: 0.032178367 | EA36: 0.049497564 | EB36: 0.032654483 | EC36: 0.04796828 | ED36: 0.024163368 | EE36: 0.021014846 | EF36: 0.030166692 | EG36: 0.038207976 | EH36: 0.024933146 | EI36: 0.019054349 | EJ36: 0.033592922 | EK36: 0.046880036
A37: Electricity | B37: 0 | C37: 0 | D37: 0 | E37: 0 | F37: 0 | G37: 0 | H37: 0 | I37: 0 | J37: 0 | K37: 0 | L37: 0 | M37: 0 | N37: 0 | O37: 0 | P37: 0 | Q37: 0 | R37: 0 | S37: 0 | T37: 0 | U37: 0 | V37: 0 | W37: 0 | X37: 0 | Y37: 0 | Z37: 0 | AA37: 0 | AB37: 0 | AC37: 0 | AD37: 0 | AE37: 0 | AF37: 0 | AG37: 0 | AH37: 0 | AI37: 0 | AJ37: 0 | AK37: 0 | AL37: 0 | AM37: 0 | AN37: 0 | AO37: 0 | AP37: 0 | AQ37: 0 | AR37: 0 | AS37: 0 | AT37: 0 | AU37: 0 | AV37: 0 | AW37: 0 | AX37: 0 | AY37: 0 | AZ37: 0 | BA37: 0 | BB37: 0 | BC37: 0 | BD37: 0 | BE37: 0 | BF37: 0 | BG37: 0 | BH37: 0 | BI37: 0 | BJ37: 0 | BK37: 0 | BL37: 0 | BM37: 0 | BN37: 0 | BO37: 0 | BP37: 0 | BQ37: 0 | BR37: 0 | BS37: 0 | BT37: 0 | BU37: 0 | BV37: 0 | BW37: 0 | BX37: 0 | BY37: 0 | BZ37: 0 | CA37: 0 | CB37: 0 | CC37: 0 | CD37: 0 | CE37: 0 | CF37: 0 | CG37: 0 | CH37: 0 | CI37: 0 | CJ37: 0 | CK37: 0 | CL37: 0 | CM37: 0 | CN37: 0 | CO37: 0 | CP37: 0 | CQ37: 0 | CR37: 0 | CS37: 0 | CT37: 0 | CU37: 0 | CV37: 0 | CW37: 0 | CX37: 0 | CY37: 0 | CZ37: 0 | DA37: 0 | DB37: 0 | DC37: 0 | DD37: 0 | DE37: 0 | DF37: 0 | DG37: 0 | DH37: 0 | DI37: 0 | DJ37: 0 | DK37: 0 | DL37: 0 | DM37: 0 | DN37: 0 | DO37: 0 | DP37: 0 | DQ37: 0 | DR37: 0 | DS37: 0 | DT37: 0 | DU37: 0 | DV37: 0 | DW37: 0 | DX37: 0 | DY37: 0 | DZ37: 0 | EA37: 0 | EB37: 0 | EC37: 0 | ED37: 0 | EE37: 0 | EF37: 0 | EG37: 0 | EH37: 0 | EI37: 0 | EJ37: 0 | EK37: 0
A38: Waste heat | B38: 0 | C38: 0 | D38: 0 | E38: 0 | F38: 0 | G38: 0 | H38: 0 | I38: 0 | J38: 0 | K38: 0 | L38: 0 | M38: 0 | N38: 0 | O38: 0 | P38: 0 | Q38: 0 | R38: 0 | S38: 0 | T38: 0 | U38: 0 | V38: 0 | W38: 0 | X38: 0 | Y38: 0 | Z38: 0 | AA38: 0 | AB38: 0 | AC38: 0 | AD38: 0 | AE38: 0 | AF38: 0 | AG38: 0 | AH38: 0 | AI38: 0 | AJ38: 0 | AK38: 0 | AL38: 0 | AM38: 0 | AN38: 0 | AO38: 0 | AP38: 0 | AQ38: 0 | AR38: 0 | AS38: 0 | AT38: 0 | AU38: 0 | AV38: 0 | AW38: 0 | AX38: 0 | AY38: 0 | AZ38: 0 | BA38: 0 | BB38: 0 | BC38: 0 | BD38: 0 | BE38: 0 | BF38: 0 | BG38: 0 | BH38: 0 | BI38: 0 | BJ38: 0 | BK38: 0 | BL38: 0 | BM38: 0 | BN38: 0 | BO38: 0 | BP38: 0 | BQ38: 0 | BR38: 0 | BS38: 0 | BT38: 0 | BU38: 0 | BV38: 0 | BW38: 0 | BX38: 0 | BY38: 0 | BZ38: 0 | CA38: 0 | CB38: 0 | CC38: 0 | CD38: 0 | CE38: 0 | CF38: 0 | CG38: 0 | CH38: 0 | CI38: 0 | CJ38: 0 | CK38: 0 | CL38: 0 | CM38: 0 | CN38: 0 | CO38: 0 | CP38: 0 | CQ38: 0 | CR38: 0 | CS38: 0 | CT38: 0 | CU38: 0 | CV38: 0 | CW38: 0 | CX38: 0 | CY38: 0 | CZ38: 0 | DA38: 0 | DB38: 0 | DC38: 0 | DD38: 0 | DE38: 0 | DF38: 0 | DG38: 0 | DH38: 0 | DI38: 0 | DJ38: 0 | DK38: 0 | DL38: 0 | DM38: 0 | DN38: 0 | DO38: 0 | DP38: 0 | DQ38: 0 | DR38: 0 | DS38: 0 | DT38: 0 | DU38: 0 | DV38: 0 | DW38: 0 | DX38: 0 | DY38: 0 | DZ38: 0 | EA38: 0 | EB38: 0 | EC38: 0 | ED38: 0 | EE38: 0 | EF38: 0 | EG38: 0 | EH38: 0 | EI38: 0 | EJ38: 0 | EK38: 0
A39: Exports | B39: =SUM(B40:B47) -> 16.627992 | C39: =SUM(C40:C47) -> 14.247237 | D39: =SUM(D40:D47) -> 15.638574 | E39: =SUM(E40:E47) -> 27.031528 | F39: =SUM(F40:F47) -> 20.005032 | G39: =SUM(G40:G47) -> 16.582667 | H39: =SUM(H40:H47) -> 31.102209 | I39: =SUM(I40:I47) -> 25.817707 | ... EK39: =SUM(EK40:EK47) -> 15.652679
A40: Coal | B40: 3.9020535 | C40: 1.5995825 | D40: 1.8565546 | E40: 3.1699767 | F40: 3.773344 | G40: 4.2544183 | H40: 5.6517501 | I40: 5.4378728 | J40: 6.9531941 | K40: 4.8924224 | L40: 5.6393124 | M40: 6.6613652 | N40: 3.0301462 | O40: 8.0996 | P40: 6.3006462 | Q40: 7.2776837 | R40: 6.6953385 | S40: 11.109386 | T40: 5.3401092 | U40: 9.5930422 | V40: 14.026385 | W40: 6.7847262 | X40: 12.99952 | Y40: 8.8967339 | Z40: 11.720301 | AA40: 16.649984 | AB40: 9.1042267 | AC40: 13.423151 | AD40: 12.643342 | AE40: 10.182489 | AF40: 6.1342551 | AG40: 11.242756 | AH40: 7.7499766 | AI40: 13.322251 | AJ40: 4.829929 | AK40: 7.4245159 | AL40: 10.610911 | AM40: 15.759955 | AN40: 11.561718 | AO40: 12.685462 | AP40: 5.4454041 | AQ40: 11.642033 | AR40: 17.339133 | AS40: 14.057806 | AT40: 12.596044 | AU40: 17.163502 | AV40: 10.909809 | AW40: 16.185003 | AX40: 11.456028 | AY40: 18.615299 | AZ40: 16.205259 | BA40: 14.745419 | BB40: 17.341804 | BC40: 19.589439 | BD40: 15.733479 | BE40: 16.797623 | BF40: 12.016278 | BG40: 14.533234 | BH40: 17.042795 | BI40: 16.539451 | BJ40: 14.89671 | BK40: 18.964476 | BL40: 15.611976 | BM40: 23.978322 | BN40: 15.611558 | BO40: 25.984761 | BP40: 16.425344 | BQ40: 27.215724 | BR40: 22.180938 | BS40: 13.434469 | BT40: 14.530711 | BU40: 13.525509 | BV40: 21.613621 | BW40: 22.551527 | BX40: 21.125544 | BY40: 13.219076 | BZ40: 16.372555 | CA40: 22.075039 | CB40: 15.764149 | CC40: 12.700461 | CD40: 17.747086 | CE40: 18.2002 | CF40: 20.115861 | CG40: 19.199746 | CH40: 11.463411 | CI40: 17.03274 | CJ40: 18.832504 | CK40: 20.24742 | CL40: 19.094563 | CM40: 19.106749 | CN40: 13.707655 | CO40: 17.596059 | CP40: 14.013082 | CQ40: 17.814524 | CR40: 17.27896 | CS40: 17.128326 | CT40: 15.114484 | CU40: 15.419455 | CV40: 12.477915 | CW40: 11.869671 | CX40: 12.01788 | CY40: 15.157138 | CZ40: 5.4108929 | DA40: 10.462118 | DB40: 8.5334937 | DC40: 9.8946093 | DD40: 9.723912 | DE40: 9.6893263 | DF40: 4.4579338 | DG40: 13.045071 | DH40: 7.2357852 | DI40: 11.95152 | DJ40: 7.1492664 | DK40: 12.327771 | DL40: 9.414146 | DM40: 9.6812897 | DN40: 12.392616 | DO40: 9.6675008 | DP40: 11.270534 | DQ40: 10.583706 | DR40: 8.5327064 | DS40: 7.3869906 | DT40: 9.8767342 | DU40: 8.3299244 | DV40: 8.7075122 | DW40: 10.654336 | DX40: 8.456772 | DY40: 9.1287763 | DZ40: 7.3470082 | EA40: 9.7990187 | EB40: 7.8747945 | EC40: 13.132513 | ED40: 7.9763687 | EE40: 11.693295 | EF40: 5.9490955 | EG40: 11.123765 | EH40: 10.551623 | EI40: 11.356021 | EJ40: 4.6791287 | EK40: 6.561075
A41: Oil | B41: 12.725939 | C41: 12.647655 | D41: 13.78202 | E41: 23.861552 | F41: 16.231688 | G41: 12.328248 | H41: 25.450459 | I41: 20.379834 | J41: 16.472076 | K41: 13.32043 | L41: 12.575677 | M41: 8.7565981 | N41: 11.025061 | O41: 21.516605 | P41: 14.415507 | Q41: 14.612278 | R41: 17.650298 | S41: 17.284639 | T41: 16.310266 | U41: 9.285545 | V41: 9.3994868 | W41: 10.834411 | X41: 12.248248 | Y41: 12.964629 | Z41: 12.089714 | AA41: 7.6106435 | AB41: 13.982001 | AC41: 29.412353 | AD41: 25.052091 | AE41: 25.188213 | AF41: 23.555867 | AG41: 14.152365 | AH41: 16.434264 | AI41: 23.807238 | AJ41: 19.700798 | AK41: 21.41672 | AL41: 21.794213 | AM41: 18.536693 | AN41: 20.003524 | AO41: 14.341145 | AP41: 16.025977 | AQ41: 16.322311 | AR41: 15.391718 | AS41: 15.820551 | AT41: 14.446126 | AU41: 14.924311 | AV41: 16.36815 | AW41: 15.01229 | AX41: 15.892773 | AY41: 13.307097 | AZ41: 18.013903 | BA41: 13.116502 | BB41: 11.191951 | BC41: 13.972872 | BD41: 11.866817 | BE41: 8.9181496 | BF41: 8.1473734 | BG41: 10.492554 | BH41: 7.9546758 | BI41: 10.472393 | BJ41: 9.4308954 | BK41: 9.2799204 | BL41: 8.8673802 | BM41: 7.6165196 | BN41: 11.971385 | BO41: 8.2312856 | BP41: 7.1446888 | BQ41: 8.0496181 | BR41: 8.9729022 | BS41: 11.599557 | BT41: 23.129316 | BU41: 36.850716 | BV41: 33.18297 | BW41: 36.550438 | BX41: 33.756499 | BY41: 25.266224 | BZ41: 22.204426 | CA41: 29.4673 | CB41: 35.653277 | CC41: 29.020501 | CD41: 30.927426 | CE41: 31.004672 | CF41: 28.729213 | CG41: 25.576327 | CH41: 30.589981 | CI41: 24.407124 | CJ41: 28.686372 | CK41: 25.659839 | CL41: 24.769036 | CM41: 24.937165 | CN41: 26.35485 | CO41: 23.242372 | CP41: 17.123877 | CQ41: 24.187761 | CR41: 22.202799 | CS41: 16.317483 | CT41: 20.433422 | CU41: 24.383089 | CV41: 23.765014 | CW41: 24.186921 | CX41: 24.978899 | CY41: 29.096258 | CZ41: 26.17574 | DA41: 23.269208 | DB41: 19.196711 | DC41: 22.622413 | DD41: 26.033319 | DE41: 12.385844 | DF41: 13.853953 | DG41: 16.339515 | DH41: 25.063024 | DI41: 17.08455 | DJ41: 15.082925 | DK41: 13.461075 | DL41: 17.229332 | DM41: 13.811158 | DN41: 11.469213 | DO41: 11.546476 | DP41: 18.21672 | DQ41: 15.4745 | DR41: 10.890314 | DS41: 10.222223 | DT41: 7.2275259 | DU41: 13.492585 | DV41: 9.8903097 | DW41: 7.7749521 | DX41: 11.215355 | DY41: 8.1641274 | DZ41: 12.599794 | EA41: 17.808044 | EB41: 11.709621 | EC41: 6.2456872 | ED41: 9.8207371 | EE41: 11.071355 | EF41: 8.4469495 | EG41: 8.970811 | EH41: 9.7130692 | EI41: 4.1066889 | EJ41: 8.0567668 | EK41: 9.0916039
A42: Natural gas | B42: 0 | C42: 0 | D42: 0 | E42: 0 | F42: 0 | G42: 0 | H42: 0 | I42: 0 | J42: 0 | K42: 0 | L42: 0 | M42: 0 | N42: 0 | O42: 0 | P42: 0 | Q42: 0 | R42: 0 | S42: 0 | T42: 0 | U42: 0 | V42: 0 | W42: 0 | X42: 0 | Y42: 0 | Z42: 0 | AA42: 0 | AB42: 0 | AC42: 0 | AD42: 0 | AE42: 0 | AF42: 0 | AG42: 0 | AH42: 0 | AI42: 0 | AJ42: 0 | AK42: 0 | AL42: 0 | AM42: 0 | AN42: 0 | AO42: 0 | AP42: 0 | AQ42: 0 | AR42: 0 | AS42: 0 | AT42: 0 | AU42: 0 | AV42: 0 | AW42: 0 | AX42: 0 | AY42: 0 | AZ42: 0 | BA42: 0 | BB42: 0 | BC42: 0 | BD42: 0 | BE42: 0 | BF42: 0 | BG42: 0 | BH42: 0 | BI42: 0 | BJ42: 0 | BK42: 0 | BL42: 0 | BM42: 0 | BN42: 0 | BO42: 0 | BP42: 0 | BQ42: 0 | BR42: 0 | BS42: 0 | BT42: 0 | BU42: 0 | BV42: 0 | BW42: 0 | BX42: 0 | BY42: 0 | BZ42: 0 | CA42: 0 | CB42: 0 | CC42: 0 | CD42: 0 | CE42: 0 | CF42: 0 | CG42: 0 | CH42: 0 | CI42: 0 | CJ42: 0 | CK42: 0 | CL42: 0 | CM42: 0 | CN42: 0 | CO42: 0 | CP42: 0 | CQ42: 0 | CR42: 0 | CS42: 0 | CT42: 0 | CU42: 0 | CV42: 0 | CW42: 0 | CX42: 0 | CY42: 0 | CZ42: 0 | DA42: 0 | DB42: 0 | DC42: 0 | DD42: 0 | DE42: 0 | DF42: 0 | DG42: 0 | DH42: 0 | DI42: 0 | DJ42: 0 | DK42: 0 | DL42: 0 | DM42: 0 | DN42: 0 | DO42: 0 | DP42: 0 | DQ42: 0 | DR42: 0 | DS42: 0 | DT42: 0 | DU42: 0 | DV42: 0 | DW42: 0 | DX42: 0 | DY42: 0 | DZ42: 0 | EA42: 0 | EB42: 0 | EC42: 0 | ED42: 0 | EE42: 0 | EF42: 0 | EG42: 0 | EH42: 0 | EI42: 0 | EJ42: 0 | EK42: 0
A43: Hydro | B43: 0 | C43: 0 | D43: 0 | E43: 0 | F43: 0 | G43: 0 | H43: 0 | I43: 0 | J43: 0 | K43: 0 | L43: 0 | M43: 0 | N43: 0 | O43: 0 | P43: 0 | Q43: 0 | R43: 0 | S43: 0 | T43: 0 | U43: 0 | V43: 0 | W43: 0 | X43: 0 | Y43: 0 | Z43: 0 | AA43: 0 | AB43: 0 | AC43: 0 | AD43: 0 | AE43: 0 | AF43: 0 | AG43: 0 | AH43: 0 | AI43: 0 | AJ43: 0 | AK43: 0 | AL43: 0 | AM43: 0 | AN43: 0 | AO43: 0 | AP43: 0 | AQ43: 0 | AR43: 0 | AS43: 0 | AT43: 0 | AU43: 0 | AV43: 0 | AW43: 0 | AX43: 0 | AY43: 0 | AZ43: 0 | BA43: 0 | BB43: 0 | BC43: 0 | BD43: 0 | BE43: 0 | BF43: 0 | BG43: 0 | BH43: 0 | BI43: 0 | BJ43: 0 | BK43: 0 | BL43: 0 | BM43: 0 | BN43: 0 | BO43: 0 | BP43: 0 | BQ43: 0 | BR43: 0 | BS43: 0 | BT43: 0 | BU43: 0 | BV43: 0 | BW43: 0 | BX43: 0 | BY43: 0 | BZ43: 0 | CA43: 0 | CB43: 0 | CC43: 0 | CD43: 0 | CE43: 0 | CF43: 0 | CG43: 0 | CH43: 0 | CI43: 0 | CJ43: 0 | CK43: 0 | CL43: 0 | CM43: 0 | CN43: 0 | CO43: 0 | CP43: 0 | CQ43: 0 | CR43: 0 | CS43: 0 | CT43: 0 | CU43: 0 | CV43: 0 | CW43: 0 | CX43: 0 | CY43: 0 | CZ43: 0 | DA43: 0 | DB43: 0 | DC43: 0 | DD43: 0 | DE43: 0 | DF43: 0 | DG43: 0 | DH43: 0 | DI43: 0 | DJ43: 0 | DK43: 0 | DL43: 0 | DM43: 0 | DN43: 0 | DO43: 0 | DP43: 0 | DQ43: 0 | DR43: 0 | DS43: 0 | DT43: 0 | DU43: 0 | DV43: 0 | DW43: 0 | DX43: 0 | DY43: 0 | DZ43: 0 | EA43: 0 | EB43: 0 | EC43: 0 | ED43: 0 | EE43: 0 | EF43: 0 | EG43: 0 | EH43: 0 | EI43: 0 | EJ43: 0 | EK43: 0
A44: Geothermal | B44: 0 | C44: 0 | D44: 0 | E44: 0 | F44: 0 | G44: 0 | H44: 0 | I44: 0 | J44: 0 | K44: 0 | L44: 0 | M44: 0 | N44: 0 | O44: 0 | P44: 0 | Q44: 0 | R44: 0 | S44: 0 | T44: 0 | U44: 0 | V44: 0 | W44: 0 | X44: 0 | Y44: 0 | Z44: 0 | AA44: 0 | AB44: 0 | AC44: 0 | AD44: 0 | AE44: 0 | AF44: 0 | AG44: 0 | AH44: 0 | AI44: 0 | AJ44: 0 | AK44: 0 | AL44: 0 | AM44: 0 | AN44: 0 | AO44: 0 | AP44: 0 | AQ44: 0 | AR44: 0 | AS44: 0 | AT44: 0 | AU44: 0 | AV44: 0 | AW44: 0 | AX44: 0 | AY44: 0 | AZ44: 0 | BA44: 0 | BB44: 0 | BC44: 0 | BD44: 0 | BE44: 0 | BF44: 0 | BG44: 0 | BH44: 0 | BI44: 0 | BJ44: 0 | BK44: 0 | BL44: 0 | BM44: 0 | BN44: 0 | BO44: 0 | BP44: 0 | BQ44: 0 | BR44: 0 | BS44: 0 | BT44: 0 | BU44: 0 | BV44: 0 | BW44: 0 | BX44: 0 | BY44: 0 | BZ44: 0 | CA44: 0 | CB44: 0 | CC44: 0 | CD44: 0 | CE44: 0 | CF44: 0 | CG44: 0 | CH44: 0 | CI44: 0 | CJ44: 0 | CK44: 0 | CL44: 0 | CM44: 0 | CN44: 0 | CO44: 0 | CP44: 0 | CQ44: 0 | CR44: 0 | CS44: 0 | CT44: 0 | CU44: 0 | CV44: 0 | CW44: 0 | CX44: 0 | CY44: 0 | CZ44: 0 | DA44: 0 | DB44: 0 | DC44: 0 | DD44: 0 | DE44: 0 | DF44: 0 | DG44: 0 | DH44: 0 | DI44: 0 | DJ44: 0 | DK44: 0 | DL44: 0 | DM44: 0 | DN44: 0 | DO44: 0 | DP44: 0 | DQ44: 0 | DR44: 0 | DS44: 0 | DT44: 0 | DU44: 0 | DV44: 0 | DW44: 0 | DX44: 0 | DY44: 0 | DZ44: 0 | EA44: 0 | EB44: 0 | EC44: 0 | ED44: 0 | EE44: 0 | EF44: 0 | EG44: 0 | EH44: 0 | EI44: 0 | EJ44: 0 | EK44: 0
A45: Other renewables | B45: 0 | C45: 0 | D45: 0 | E45: 0 | F45: 0 | G45: 0 | H45: 0 | I45: 0 | J45: 0 | K45: 0 | L45: 0 | M45: 0 | N45: 0 | O45: 0 | P45: 0 | Q45: 0 | R45: 0 | S45: 0 | T45: 0 | U45: 0 | V45: 0 | W45: 0 | X45: 0 | Y45: 0 | Z45: 0 | AA45: 0 | AB45: 0 | AC45: 0 | AD45: 0 | AE45: 0 | AF45: 0 | AG45: 0 | AH45: 0 | AI45: 0 | AJ45: 0 | AK45: 0 | AL45: 0 | AM45: 0 | AN45: 0 | AO45: 0 | AP45: 0 | AQ45: 0 | AR45: 0 | AS45: 0 | AT45: 0 | AU45: 0 | AV45: 0 | AW45: 0 | AX45: 0 | AY45: 0 | AZ45: 0 | BA45: 0 | BB45: 0 | BC45: 0 | BD45: 0 | BE45: 0 | BF45: 0 | BG45: 0 | BH45: 0 | BI45: 0 | BJ45: 0 | BK45: 0 | BL45: 0 | BM45: 0 | BN45: 0 | BO45: 0 | BP45: 0 | BQ45: 0 | BR45: 0 | BS45: 0 | BT45: 0 | BU45: 0 | BV45: 0 | BW45: 0 | BX45: 0 | BY45: 0 | BZ45: 0 | CA45: 0 | CB45: 0 | CC45: 0 | CD45: 0 | CE45: 0 | CF45: 0 | CG45: 0 | CH45: 0 | CI45: 0 | CJ45: 0 | CK45: 0 | CL45: 0 | CM45: 0 | CN45: 0 | CO45: 0 | CP45: 0 | CQ45: 0 | CR45: 0 | CS45: 0 | CT45: 0 | CU45: 0 | CV45: 0 | CW45: 0 | CX45: 0 | CY45: 0 | CZ45: 0 | DA45: 0 | DB45: 0 | DC45: 0 | DD45: 0 | DE45: 0 | DF45: 0 | DG45: 0 | DH45: 0 | DI45: 0 | DJ45: 0 | DK45: 0 | DL45: 0 | DM45: 0 | DN45: 0 | DO45: 0 | DP45: 0 | DQ45: 0 | DR45: 0 | DS45: 0 | DT45: 0 | DU45: 0 | DV45: 0 | DW45: 0 | DX45: 0 | DY45: 0 | DZ45: 0 | EA45: 0 | EB45: 0 | EC45: 0 | ED45: 0 | EE45: 0 | EF45: 0 | EG45: 0 | EH45: 0 | EI45: 0 | EJ45: 0 | EK45: 0
A46: Electricity | B46: 0 | C46: 0 | D46: 0 | E46: 0 | F46: 0 | G46: 0 | H46: 0 | I46: 0 | J46: 0 | K46: 0 | L46: 0 | M46: 0 | N46: 0 | O46: 0 | P46: 0 | Q46: 0 | R46: 0 | S46: 0 | T46: 0 | U46: 0 | V46: 0 | W46: 0 | X46: 0 | Y46: 0 | Z46: 0 | AA46: 0 | AB46: 0 | AC46: 0 | AD46: 0 | AE46: 0 | AF46: 0 | AG46: 0 | AH46: 0 | AI46: 0 | AJ46: 0 | AK46: 0 | AL46: 0 | AM46: 0 | AN46: 0 | AO46: 0 | AP46: 0 | AQ46: 0 | AR46: 0 | AS46: 0 | AT46: 0 | AU46: 0 | AV46: 0 | AW46: 0 | AX46: 0 | AY46: 0 | AZ46: 0 | BA46: 0 | BB46: 0 | BC46: 0 | BD46: 0 | BE46: 0 | BF46: 0 | BG46: 0 | BH46: 0 | BI46: 0 | BJ46: 0 | BK46: 0 | BL46: 0 | BM46: 0 | BN46: 0 | BO46: 0 | BP46: 0 | BQ46: 0 | BR46: 0 | BS46: 0 | BT46: 0 | BU46: 0 | BV46: 0 | BW46: 0 | BX46: 0 | BY46: 0 | BZ46: 0 | CA46: 0 | CB46: 0 | CC46: 0 | CD46: 0 | CE46: 0 | CF46: 0 | CG46: 0 | CH46: 0 | CI46: 0 | CJ46: 0 | CK46: 0 | CL46: 0 | CM46: 0 | CN46: 0 | CO46: 0 | CP46: 0 | CQ46: 0 | CR46: 0 | CS46: 0 | CT46: 0 | CU46: 0 | CV46: 0 | CW46: 0 | CX46: 0 | CY46: 0 | CZ46: 0 | DA46: 0 | DB46: 0 | DC46: 0 | DD46: 0 | DE46: 0 | DF46: 0 | DG46: 0 | DH46: 0 | DI46: 0 | DJ46: 0 | DK46: 0 | DL46: 0 | DM46: 0 | DN46: 0 | DO46: 0 | DP46: 0 | DQ46: 0 | DR46: 0 | DS46: 0 | DT46: 0 | DU46: 0 | DV46: 0 | DW46: 0 | DX46: 0 | DY46: 0 | DZ46: 0 | EA46: 0 | EB46: 0 | EC46: 0 | ED46: 0 | EE46: 0 | EF46: 0 | EG46: 0 | EH46: 0 | EI46: 0 | EJ46: 0 | EK46: 0
A47: Waste heat | B47: 0 | C47: 0 | D47: 0 | E47: 0 | F47: 0 | G47: 0 | H47: 0 | I47: 0 | J47: 0 | K47: 0 | L47: 0 | M47: 0 | N47: 0 | O47: 0 | P47: 0 | Q47: 0 | R47: 0 | S47: 0 | T47: 0 | U47: 0 | V47: 0 | W47: 0 | X47: 0 | Y47: 0 | Z47: 0 | AA47: 0 | AB47: 0 | AC47: 0 | AD47: 0 | AE47: 0 | AF47: 0 | AG47: 0 | AH47: 0 | AI47: 0 | AJ47: 0 | AK47: 0 | AL47: 0 | AM47: 0 | AN47: 0 | AO47: 0 | AP47: 0 | AQ47: 0 | AR47: 0 | AS47: 0 | AT47: 0 | AU47: 0 | AV47: 0 | AW47: 0 | AX47: 0 | AY47: 0 | AZ47: 0 | BA47: 0 | BB47: 0 | BC47: 0 | BD47: 0 | BE47: 0 | BF47: 0 | BG47: 0 | BH47: 0 | BI47: 0 | BJ47: 0 | BK47: 0 | BL47: 0 | BM47: 0 | BN47: 0 | BO47: 0 | BP47: 0 | BQ47: 0 | BR47: 0 | BS47: 0 | BT47: 0 | BU47: 0 | BV47: 0 | BW47: 0 | BX47: 0 | BY47: 0 | BZ47: 0 | CA47: 0 | CB47: 0 | CC47: 0 | CD47: 0 | CE47: 0 | CF47: 0 | CG47: 0 | CH47: 0 | CI47: 0 | CJ47: 0 | CK47: 0 | CL47: 0 | CM47: 0 | CN47: 0 | CO47: 0 | CP47: 0 | CQ47: 0 | CR47: 0 | CS47: 0 | CT47: 0 | CU47: 0 | CV47: 0 | CW47: 0 | CX47: 0 | CY47: 0 | CZ47: 0 | DA47: 0 | DB47: 0 | DC47: 0 | DD47: 0 | DE47: 0 | DF47: 0 | DG47: 0 | DH47: 0 | DI47: 0 | DJ47: 0 | DK47: 0 | DL47: 0 | DM47: 0 | DN47: 0 | DO47: 0 | DP47: 0 | DQ47: 0 | DR47: 0 | DS47: 0 | DT47: 0 | DU47: 0 | DV47: 0 | DW47: 0 | DX47: 0 | DY47: 0 | DZ47: 0 | EA47: 0 | EB47: 0 | EC47: 0 | ED47: 0 | EE47: 0 | EF47: 0 | EG47: 0 | EH47: 0 | EI47: 0 | EJ47: 0 | EK47: 0
A48: Stock Change | B48: =SUM(B49:B56) -> -0.39720746 | C48: =SUM(C49:C56) -> 6.15396 | D48: =SUM(D49:D56) -> 4.3402465 | E48: =SUM(E49:E56) -> -8.2810053 | F48: =SUM(F49:F56) -> -3.5458623 | G48: =SUM(G49:G56) -> 3.6631511 | H48: =SUM(H49:H56) -> 6.5535668 | I48: =SUM(I49:I56) -> -6.4542646 | ... EK48: =SUM(EK49:EK56) -> 10.325485
A49: Coal | B49: 0 | C49: 0 | D49: 0 | E49: 0 | F49: 0 | G49: 0 | H49: 0 | I49: 0 | J49: 0 | K49: 7.9639903 | L49: -3.613065 | M49: 6.4174037 | N49: -2.243264 | O49: -0.344145 | P49: 1.663574 | Q49: 0.711693 | R49: -8.5312879 | S49: 5.3350007 | T49: -7.5421316 | U49: 0.83423276 | V49: -4.3555424 | W49: 1.2271448 | X49: 0.58334252 | Y49: 5.5017605 | Z49: -0.71233066 | AA49: -2.5455155 | AB49: 10.049791 | AC49: 0.034317659 | AD49: 1.166627 | AE49: 0.57627739 | AF49: 2.0894957 | AG49: -1.8715726 | AH49: 2.6286745 | AI49: -6.2019111 | AJ49: 1.967879 | AK49: -1.0045427 | AL49: -2.7694177 | AM49: -2.8952111 | AN49: -1.6057252 | AO49: 0.1989798 | AP49: 0.7327071 | AQ49: 0.33925225 | AR49: -4.8584566 | AS49: -0.1786746 | AT49: -1.2222366 | AU49: -2.8328752 | AV49: 2.9248502 | AW49: -10.530255 | AX49: 6.8852075 | AY49: 4.9107383 | AZ49: 2.3283676 | BA49: -2.3725659 | BB49: -7.0204179 | BC49: -1.343876 | BD49: 3.1559921 | BE49: -0.58462391 | BF49: 7.9652899 | BG49: -9.6836414 | BH49: 3.4051589 | BI49: 0.83377711 | BJ49: 2.7168728 | BK49: -3.5090895 | BL49: -1.7894642 | BM49: -3.4619603 | BN49: 0.1190452 | BO49: -0.34106145 | BP49: 9.5450783 | BQ49: -1.8677166 | BR49: -0.30318777 | BS49: -0.5407545 | BT49: -0.4932028 | BU49: 5.2792768 | BV49: -7.9019139 | BW49: -5.3723949 | BX49: -7.0765586 | BY49: -3.5228497 | BZ49: 9.050667 | CA49: -5.7777879 | CB49: 1.104177 | CC49: -2.3331045 | CD49: 2.7824282 | CE49: 4.7995533 | CF49: 4.4015154 | CG49: -1.0214004 | CH49: 5.5457472 | CI49: 5.6485359 | CJ49: -4.7184773 | CK49: -2.7299906 | CL49: 2.0537166 | CM49: -10.717556 | CN49: 0.40088264 | CO49: -3.438306 | CP49: 3.1967535 | CQ49: -2.5732022 | CR49: -0.38156091 | CS49: 2.9301371 | CT49: 0.78898813 | CU49: -1.5735252 | CV49: -0.19847405 | CW49: -2.528594 | CX49: -0.32959897 | CY49: -4.1132351 | CZ49: 2.4388562 | DA49: -6.0142075 | DB49: -0.2550439 | DC49: -3.4573731 | DD49: -0.35083499 | DE49: -2.6022 | DF49: -0.90039069 | DG49: -0.96769639 | DH49: 0.73850739 | DI49: -3.7352364 | DJ49: 4.2942766 | DK49: -0.61943705 | DL49: 0.081368871 | DM49: 1.2539461 | DN49: -3.1238944 | DO49: 5.7728574 | DP49: -3.3254077 | DQ49: -1.1720598 | DR49: 2.9289965 | DS49: -0.47443183 | DT49: -1.2895263 | DU49: 3.3642109 | DV49: -4.02007 | DW49: -2.9217262 | DX49: 8.1125402 | DY49: 6.0777832 | DZ49: 2.2115251 | EA49: -0.14587416 | EB49: 2.4233836 | EC49: -3.7199476 | ED49: 0.97763842 | EE49: -0.55057295 | EF49: 1.6070793 | EG49: -5.7791286 | EH49: -1.819464 | EI49: -8.6813666 | EJ49: 4.6908225 | EK49: 5.9360228
A50: Oil | B50: -0.38680746 | C50: 6.14627 | D50: 4.3573565 | E50: -8.2818053 | F50: -3.5562223 | G50: 3.6772411 | H50: 6.5766668 | I50: -6.4815146 | J50: -3.5631735 | K50: 4.5378708 | L50: -0.38211144 | M50: 0.38618106 | N50: 1.8430361 | O50: 2.5206465 | P50: 2.143558 | Q50: 3.1734322 | R50: -2.1190043 | S50: 6.3902409 | T50: 1.7059916 | U50: -2.1847164 | V50: -1.8025591 | W50: 3.3810857 | X50: 4.2545526 | Y50: -5.2522617 | Z50: 5.0709948 | AA50: 5.9321076 | AB50: 8.1068857 | AC50: -11.366886 | AD50: 7.97881 | AE50: 6.1896168 | AF50: -4.0285121 | AG50: 0.11766158 | AH50: 7.1826096 | AI50: -3.2735626 | AJ50: 5.4179375 | AK50: -1.0176319 | AL50: -2.5346451 | AM50: 8.5093503 | AN50: 4.1875438 | AO50: -2.7712744 | AP50: 0.38457814 | AQ50: 1.2187215 | AR50: 8.6447293 | AS50: -5.0469397 | AT50: 1.0239739 | AU50: 4.8052173 | AV50: 5.6283984 | AW50: -11.35027 | AX50: -3.2863126 | AY50: 12.503442 | AZ50: -2.7177136 | BA50: -2.7525836 | BB50: 3.155649 | BC50: 1.9831837 | BD50: 1.0415072 | BE50: -6.3780585 | BF50: -3.3452487 | BG50: 7.91226 | BH50: -3.6949847 | BI50: 6.5568941 | BJ50: -0.6390363 | BK50: 6.7633948 | BL50: -8.1825075 | BM50: -5.4172199 | BN50: 2.5612207 | BO50: -4.8432653 | BP50: -2.2459911 | BQ50: -1.1597475 | BR50: 0.8710796 | BS50: 4.9308323 | BT50: 4.5525199 | BU50: -2.8239469 | BV50: 1.8433502 | BW50: 0.26345178 | BX50: -5.497995 | BY50: 4.9069915 | BZ50: 8.851941 | CA50: -14.945827 | CB50: 2.6692543 | CC50: 5.561766 | CD50: -4.7099491 | CE50: 11.418253 | CF50: -10.239928 | CG50: 6.8012313 | CH50: -6.3071168 | CI50: 6.8533427 | CJ50: 2.6396647 | CK50: -6.824109 | CL50: 6.982268 | CM50: -3.0913553 | CN50: 3.4164887 | CO50: -2.7296294 | CP50: 6.2443298 | CQ50: -1.0372423 | CR50: -1.0707554 | CS50: 7.6897026 | CT50: -2.462802 | CU50: 14.068019 | CV50: 0.44933957 | CW50: -2.8505197 | CX50: 1.6732703 | CY50: 2.9210491 | CZ50: -2.2259387 | DA50: -13.47984 | DB50: 1.1106288 | DC50: 3.9258571 | DD50: -5.3855347 | DE50: 2.3844438 | DF50: -5.8671454 | DG50: 12.620797 | DH50: -11.621464 | DI50: 2.8385664 | DJ50: -2.3256313 | DK50: -2.2846369 | DL50: -0.81636004 | DM50: 2.8462571 | DN50: -6.7683809 | DO50: 1.9357967 | DP50: -3.6682498 | DQ50: -4.1008364 | DR50: 3.9944294 | DS50: -8.062668 | DT50: -0.72053272 | DU50: -1.8603731 | DV50: -7.8952286 | DW50: -5.5764835 | DX50: 6.4525766 | DY50: -9.4360888 | DZ50: -4.1099529 | EA50: -8.6315219 | EB50: -6.9914981 | EC50: -11.074784 | ED50: 1.3029474 | EE50: -4.1277889 | EF50: 0.2921018 | EG50: 1.6012625 | EH50: 1.6309258 | EI50: -2.6104426 | EJ50: -0.3124578 | EK50: 2.0526706
A51: Natural gas | B51: -0.0104 | C51: 0.00769 | D51: -0.01711 | E51: 0.0008 | F51: 0.01036 | G51: -0.01409 | H51: -0.0231 | I51: 0.02725 | J51: -0.02973 | K51: 0.023 | L51: -0.018 | M51: 0.025 | N51: -0.014 | O51: -0.03 | P51: 0.042 | Q51: -0.021 | R51: 0.016 | S51: -0.006 | T51: 0.006 | U51: -0.026 | V51: 0.003 | W51: -0.008 | X51: 0.049 | Y51: -0.055 | Z51: 0.029 | AA51: 0.026 | AB51: -0.013 | AC51: 0.001 | AD51: -0.007 | AE51: 0.005 | AF51: -0.027 | AG51: 0.006 | AH51: 0.01 | AI51: -0.018 | AJ51: 0.027 | AK51: 0.007 | AL51: -0.013688409 | AM51: 0.009 | AN51: 0.011 | AO51: 0.077 | AP51: -0.117 | AQ51: 0.004 | AR51: 0.038 | AS51: -0.043 | AT51: 0.008 | AU51: 0.032 | AV51: -0.036 | AW51: -0.015 | AX51: 0.085 | AY51: -0.022 | AZ51: -0.015 | BA51: -0.054 | BB51: 0.001 | BC51: 0.073 | BD51: -0.065 | BE51: -0.004 | BF51: 0.012 | BG51: -0.004 | BH51: 0.047 | BI51: -0.038 | BJ51: 0.038 | BK51: -0.068 | BL51: 0.069 | BM51: -0.056 | BN51: 0.012 | BO51: 0.035 | BP51: 0.039 | BQ51: -0.095 | BR51: 0.05 | BS51: 0.0365 | BT51: -0.03562 | BU51: -0.00063 | BV51: 0.00979 | BW51: 0.06646 | BX51: -0.071897 | BY51: -0.027713 | BZ51: 0.01065 | CA51: -0.02368 | CB51: 0.015982 | CC51: 2.0737872 | CD51: 2.4491052 | CE51: 0.27838376 | CF51: 1.0164445 | CG51: 2.1408741 | CH51: 0.36271332 | CI51: 1.82507 | CJ51: 0.42143 | CK51: 0.6845536 | CL51: -0.13330315 | CM51: -0.15550844 | CN51: -0.256291 | CO51: -1.400271 | CP51: -0.15464805 | CQ51: -0.22285654 | CR51: 0.71878176 | CS51: 1.6969456 | CT51: -0.84988374 | CU51: 0.575965 | CV51: 0.81128441 | CW51: -0.90470733 | CX51: -0.36596756 | CY51: 0.28655125 | CZ51: -1.2256369 | DA51: -0.81173098 | DB51: 0.38279686 | DC51: 1.3233798 | DD51: -1.1967836 | DE51: 0.456945 | DF51: -0.431784 | DG51: -1.8570357 | DH51: -0.71594526 | DI51: -0.11693805 | DJ51: 0.11568818 | DK51: 0.43115987 | DL51: -2.1069 | DM51: 0.5847422 | DN51: -0.66445684 | DO51: -0.58694554 | DP51: -0.091247133 | DQ51: 0.64637933 | DR51: 0.79170005 | DS51: 0.3100761 | DT51: -0.69033463 | DU51: 0.17346424 | DV51: 1.1016164 | DW51: -0.075394445 | DX51: 0.26402781 | DY51: 2.7990291 | DZ51: -0.37834813 | EA51: -2.4220076 | EB51: 2.9700236 | EC51: -3.9053963 | ED51: -0.08246325 | EE51: 1.1931864 | EF51: -1.0439267 | EG51: -0.96334514 | EH51: -0.771085 | EI51: -0.61581947 | EJ51: 0.79351862 | EK51: 2.336792
A52: Hydro | B52: 0 | C52: 0 | D52: 0 | E52: 0 | F52: 0 | G52: 0 | H52: 0 | I52: 0 | J52: 0 | K52: 0 | L52: 0 | M52: 0 | N52: 0 | O52: 0 | P52: 0 | Q52: 0 | R52: 0 | S52: 0 | T52: 0 | U52: 0 | V52: 0 | W52: 0 | X52: 0 | Y52: 0 | Z52: 0 | AA52: 0 | AB52: 0 | AC52: 0 | AD52: 0 | AE52: 0 | AF52: 0 | AG52: 0 | AH52: 0 | AI52: 0 | AJ52: 0 | AK52: 0 | AL52: 0 | AM52: 0 | AN52: 0 | AO52: 0 | AP52: 0 | AQ52: 0 | AR52: 0 | AS52: 0 | AT52: 0 | AU52: 0 | AV52: 0 | AW52: 0 | AX52: 0 | AY52: 0 | AZ52: 0 | BA52: 0 | BB52: 0 | BC52: 0 | BD52: 0 | BE52: 0 | BF52: 0 | BG52: 0 | BH52: 0 | BI52: 0 | BJ52: 0 | BK52: 0 | BL52: 0 | BM52: 0 | BN52: 0 | BO52: 0 | BP52: 0 | BQ52: 0 | BR52: 0 | BS52: 0 | BT52: 0 | BU52: 0 | BV52: 0 | BW52: 0 | BX52: 0 | BY52: 0 | BZ52: 0 | CA52: 0 | CB52: 0 | CC52: 0 | CD52: 0 | CE52: 0 | CF52: 0 | CG52: 0 | CH52: 0 | CI52: 0 | CJ52: 0 | CK52: 0 | CL52: 0 | CM52: 0 | CN52: 0 | CO52: 0 | CP52: 0 | CQ52: 0 | CR52: 0 | CS52: 0 | CT52: 0 | CU52: 0 | CV52: 0 | CW52: 0 | CX52: 0 | CY52: 0 | CZ52: 0 | DA52: 0 | DB52: 0 | DC52: 0 | DD52: 0 | DE52: 0 | DF52: 0 | DG52: 0 | DH52: 0 | DI52: 0 | DJ52: 0 | DK52: 0 | DL52: 0 | DM52: 0 | DN52: 0 | DO52: 0 | DP52: 0 | DQ52: 0 | DR52: 0 | DS52: 0 | DT52: 0 | DU52: 0 | DV52: 0 | DW52: 0 | DX52: 0 | DY52: 0 | DZ52: 0 | EA52: 0 | EB52: 0 | EC52: 0 | ED52: 0 | EE52: 0 | EF52: 0 | EG52: 0 | EH52: 0 | EI52: 0 | EJ52: 0 | EK52: 0
A53: Geothermal | B53: 0 | C53: 0 | D53: 0 | E53: 0 | F53: 0 | G53: 0 | H53: 0 | I53: 0 | J53: 0 | K53: 0 | L53: 0 | M53: 0 | N53: 0 | O53: 0 | P53: 0 | Q53: 0 | R53: 0 | S53: 0 | T53: 0 | U53: 0 | V53: 0 | W53: 0 | X53: 0 | Y53: 0 | Z53: 0 | AA53: 0 | AB53: 0 | AC53: 0 | AD53: 0 | AE53: 0 | AF53: 0 | AG53: 0 | AH53: 0 | AI53: 0 | AJ53: 0 | AK53: 0 | AL53: 0 | AM53: 0 | AN53: 0 | AO53: 0 | AP53: 0 | AQ53: 0 | AR53: 0 | AS53: 0 | AT53: 0 | AU53: 0 | AV53: 0 | AW53: 0 | AX53: 0 | AY53: 0 | AZ53: 0 | BA53: 0 | BB53: 0 | BC53: 0 | BD53: 0 | BE53: 0 | BF53: 0 | BG53: 0 | BH53: 0 | BI53: 0 | BJ53: 0 | BK53: 0 | BL53: 0 | BM53: 0 | BN53: 0 | BO53: 0 | BP53: 0 | BQ53: 0 | BR53: 0 | BS53: 0 | BT53: 0 | BU53: 0 | BV53: 0 | BW53: 0 | BX53: 0 | BY53: 0 | BZ53: 0 | CA53: 0 | CB53: 0 | CC53: 0 | CD53: 0 | CE53: 0 | CF53: 0 | CG53: 0 | CH53: 0 | CI53: 0 | CJ53: 0 | CK53: 0 | CL53: 0 | CM53: 0 | CN53: 0 | CO53: 0 | CP53: 0 | CQ53: 0 | CR53: 0 | CS53: 0 | CT53: 0 | CU53: 0 | CV53: 0 | CW53: 0 | CX53: 0 | CY53: 0 | CZ53: 0 | DA53: 0 | DB53: 0 | DC53: 0 | DD53: 0 | DE53: 0 | DF53: 0 | DG53: 0 | DH53: 0 | DI53: 0 | DJ53: 0 | DK53: 0 | DL53: 0 | DM53: 0 | DN53: 0 | DO53: 0 | DP53: 0 | DQ53: 0 | DR53: 0 | DS53: 0 | DT53: 0 | DU53: 0 | DV53: 0 | DW53: 0 | DX53: 0 | DY53: 0 | DZ53: 0 | EA53: 0 | EB53: 0 | EC53: 0 | ED53: 0 | EE53: 0 | EF53: 0 | EG53: 0 | EH53: 0 | EI53: 0 | EJ53: 0 | EK53: 0
A54: Other renewables | B54: 0 | C54: 0 | D54: 0 | E54: 0 | F54: 0 | G54: 0 | H54: 0 | I54: 0 | J54: 0 | K54: 0 | L54: 0 | M54: 0 | N54: 0 | O54: 0 | P54: 0 | Q54: 0 | R54: 0 | S54: 0 | T54: 0 | U54: 0 | V54: 0 | W54: 0 | X54: 0 | Y54: 0 | Z54: 0 | AA54: 0 | AB54: 0 | AC54: 0 | AD54: 0 | AE54: 0 | AF54: 0 | AG54: 0 | AH54: 0 | AI54: 0 | AJ54: 0 | AK54: 0 | AL54: 0 | AM54: 0 | AN54: 0 | AO54: 0 | AP54: 0 | AQ54: 0 | AR54: 0 | AS54: 0 | AT54: 0 | AU54: 0 | AV54: 0 | AW54: 0 | AX54: 0 | AY54: 0 | AZ54: 0 | BA54: 0 | BB54: 0 | BC54: 0 | BD54: 0 | BE54: 0 | BF54: 0 | BG54: 0 | BH54: 0 | BI54: 0 | BJ54: 0 | BK54: 0 | BL54: 0 | BM54: 0 | BN54: 0 | BO54: 0 | BP54: 0 | BQ54: 0 | BR54: 0 | BS54: 0 | BT54: 0 | BU54: 0 | BV54: 0 | BW54: 0 | BX54: 0 | BY54: 0 | BZ54: 0 | CA54: 0 | CB54: 0 | CC54: 0 | CD54: 0 | CE54: 0 | CF54: 0 | CG54: 0 | CH54: 0 | CI54: 0 | CJ54: 0 | CK54: 0 | CL54: 0 | CM54: 0 | CN54: 0 | CO54: 0 | CP54: 0 | CQ54: 0 | CR54: 0 | CS54: 0 | CT54: 0 | CU54: 0 | CV54: 0 | CW54: 0 | CX54: 0 | CY54: 0 | CZ54: 0 | DA54: 0 | DB54: 0 | DC54: 0 | DD54: 0 | DE54: 0 | DF54: 0 | DG54: 0 | DH54: 0 | DI54: 0 | DJ54: 0 | DK54: 0 | DL54: 0 | DM54: 0 | DN54: 0 | DO54: 0 | DP54: 0 | DQ54: 0 | DR54: 0 | DS54: 0 | DT54: 0 | DU54: 0 | DV54: 0 | DW54: 0 | DX54: 0 | DY54: 0 | DZ54: 0 | EA54: 0 | EB54: 0 | EC54: 0 | ED54: 0 | EE54: 0 | EF54: 0 | EG54: 0 | EH54: 0 | EI54: 0 | EJ54: 0 | EK54: 0
A55: Electricity | B55: 0 | C55: 0 | D55: 0 | E55: 0 | F55: 0 | G55: 0 | H55: 0 | I55: 0 | J55: 0 | K55: 0 | L55: 0 | M55: 0 | N55: 0 | O55: 0 | P55: 0 | Q55: 0 | R55: 0 | S55: 0 | T55: 0 | U55: 0 | V55: 0 | W55: 0 | X55: 0 | Y55: 0 | Z55: 0 | AA55: 0 | AB55: 0 | AC55: 0 | AD55: 0 | AE55: 0 | AF55: 0 | AG55: 0 | AH55: 0 | AI55: 0 | AJ55: 0 | AK55: 0 | AL55: 0 | AM55: 0 | AN55: 0 | AO55: 0 | AP55: 0 | AQ55: 0 | AR55: 0 | AS55: 0 | AT55: 0 | AU55: 0 | AV55: 0 | AW55: 0 | AX55: 0 | AY55: 0 | AZ55: 0 | BA55: 0 | BB55: 0 | BC55: 0 | BD55: 0 | BE55: 0 | BF55: 0 | BG55: 0 | BH55: 0 | BI55: 0 | BJ55: 0 | BK55: 0 | BL55: 0 | BM55: 0 | BN55: 0 | BO55: 0 | BP55: 0 | BQ55: 0 | BR55: 0 | BS55: 0 | BT55: 0 | BU55: 0 | BV55: 0 | BW55: 0 | BX55: 0 | BY55: 0 | BZ55: 0 | CA55: 0 | CB55: 0 | CC55: 0 | CD55: 0 | CE55: 0 | CF55: 0 | CG55: 0 | CH55: 0 | CI55: 0 | CJ55: 0 | CK55: 0 | CL55: 0 | CM55: 0 | CN55: 0 | CO55: 0 | CP55: 0 | CQ55: 0 | CR55: 0 | CS55: 0 | CT55: 0 | CU55: 0 | CV55: 0 | CW55: 0 | CX55: 0 | CY55: 0 | CZ55: 0 | DA55: 0 | DB55: 0 | DC55: 0 | DD55: 0 | DE55: 0 | DF55: 0 | DG55: 0 | DH55: 0 | DI55: 0 | DJ55: 0 | DK55: 0 | DL55: 0 | DM55: 0 | DN55: 0 | DO55: 0 | DP55: 0 | DQ55: 0 | DR55: 0 | DS55: 0 | DT55: 0 | DU55: 0 | DV55: 0 | DW55: 0 | DX55: 0 | DY55: 0 | DZ55: 0 | EA55: 0 | EB55: 0 | EC55: 0 | ED55: 0 | EE55: 0 | EF55: 0 | EG55: 0 | EH55: 0 | EI55: 0 | EJ55: 0 | EK55: 0
A56: Waste heat | B56: 0 | C56: 0 | D56: 0 | E56: 0 | F56: 0 | G56: 0 | H56: 0 | I56: 0 | J56: 0 | K56: 0 | L56: 0 | M56: 0 | N56: 0 | O56: 0 | P56: 0 | Q56: 0 | R56: 0 | S56: 0 | T56: 0 | U56: 0 | V56: 0 | W56: 0 | X56: 0 | Y56: 0 | Z56: 0 | AA56: 0 | AB56: 0 | AC56: 0 | AD56: 0 | AE56: 0 | AF56: 0 | AG56: 0 | AH56: 0 | AI56: 0 | AJ56: 0 | AK56: 0 | AL56: 0 | AM56: 0 | AN56: 0 | AO56: 0 | AP56: 0 | AQ56: 0 | AR56: 0 | AS56: 0 | AT56: 0 | AU56: 0 | AV56: 0 | AW56: 0 | AX56: 0 | AY56: 0 | AZ56: 0 | BA56: 0 | BB56: 0 | BC56: 0 | BD56: 0 | BE56: 0 | BF56: 0 | BG56: 0 | BH56: 0 | BI56: 0 | BJ56: 0 | BK56: 0 | BL56: 0 | BM56: 0 | BN56: 0 | BO56: 0 | BP56: 0 | BQ56: 0 | BR56: 0 | BS56: 0 | BT56: 0 | BU56: 0 | BV56: 0 | BW56: 0 | BX56: 0 | BY56: 0 | BZ56: 0 | CA56: 0 | CB56: 0 | CC56: 0 | CD56: 0 | CE56: 0 | CF56: 0 | CG56: 0 | CH56: 0 | CI56: 0 | CJ56: 0 | CK56: 0 | CL56: 0 | CM56: 0 | CN56: 0 | CO56: 0 | CP56: 0 | CQ56: 0 | CR56: 0 | CS56: 0 | CT56: 0 | CU56: 0 | CV56: 0 | CW56: 0 | CX56: 0 | CY56: 0 | CZ56: 0 | DA56: 0 | DB56: 0 | DC56: 0 | DD56: 0 | DE56: 0 | DF56: 0 | DG56: 0 | DH56: 0 | DI56: 0 | DJ56: 0 | DK56: 0 | DL56: 0 | DM56: 0 | DN56: 0 | DO56: 0 | DP56: 0 | DQ56: 0 | DR56: 0 | DS56: 0 | DT56: 0 | DU56: 0 | DV56: 0 | DW56: 0 | DX56: 0 | DY56: 0 | DZ56: 0 | EA56: 0 | EB56: 0 | EC56: 0 | ED56: 0 | EE56: 0 | EF56: 0 | EG56: 0 | EH56: 0 | EI56: 0 | EJ56: 0 | EK56: 0
A57: International Transport | B57: =SUM(B58:B65) -> 8.976003 | C57: =SUM(C58:C65) -> 7.916949 | D57: =SUM(D58:D65) -> 7.0276675 | E57: =SUM(E58:E65) -> 9.9246819 | F57: =SUM(F58:F65) -> 8.9434998 | G57: =SUM(G58:G65) -> 7.2420344 | H57: =SUM(H58:H65) -> 8.2406685 | I57: =SUM(I58:I65) -> 7.5663852 | ... EK57: =SUM(EK58:EK65) -> 16.091266
A58: Coal | B58: 0 | C58: 0 | D58: 0 | E58: 0 | F58: 0 | G58: 0 | H58: 0 | I58: 0 | J58: 0 | K58: 0 | L58: 0 | M58: 0 | N58: 0 | O58: 0 | P58: 0 | Q58: 0 | R58: 0 | S58: 0 | T58: 0 | U58: 0 | V58: 0 | W58: 0 | X58: 0 | Y58: 0 | Z58: 0 | AA58: 0 | AB58: 0 | AC58: 0 | AD58: 0 | AE58: 0 | AF58: 0 | AG58: 0 | AH58: 0 | AI58: 0 | AJ58: 0 | AK58: 0 | AL58: 0 | AM58: 0 | AN58: 0 | AO58: 0 | AP58: 0 | AQ58: 0 | AR58: 0 | AS58: 0 | AT58: 0 | AU58: 0 | AV58: 0 | AW58: 0 | AX58: 0 | AY58: 0 | AZ58: 0 | BA58: 0 | BB58: 0 | BC58: 0 | BD58: 0 | BE58: 0 | BF58: 0 | BG58: 0 | BH58: 0 | BI58: 0 | BJ58: 0 | BK58: 0 | BL58: 0 | BM58: 0 | BN58: 0 | BO58: 0 | BP58: 0 | BQ58: 0 | BR58: 0 | BS58: 0 | BT58: 0 | BU58: 0 | BV58: 0 | BW58: 0 | BX58: 0 | BY58: 0 | BZ58: 0 | CA58: 0 | CB58: 0 | CC58: 0 | CD58: 0 | CE58: 0 | CF58: 0 | CG58: 0 | CH58: 0 | CI58: 0 | CJ58: 0 | CK58: 0 | CL58: 0 | CM58: 0 | CN58: 0 | CO58: 0 | CP58: 0 | CQ58: 0 | CR58: 0 | CS58: 0 | CT58: 0 | CU58: 0 | CV58: 0 | CW58: 0 | CX58: 0 | CY58: 0 | CZ58: 0 | DA58: 0 | DB58: 0 | DC58: 0 | DD58: 0 | DE58: 0 | DF58: 0 | DG58: 0 | DH58: 0 | DI58: 0 | DJ58: 0 | DK58: 0 | DL58: 0 | DM58: 0 | DN58: 0 | DO58: 0 | DP58: 0 | DQ58: 0 | DR58: 0 | DS58: 0 | DT58: 0 | DU58: 0 | DV58: 0 | DW58: 0 | DX58: 0 | DY58: 0 | DZ58: 0 | EA58: 0 | EB58: 0 | EC58: 0 | ED58: 0 | EE58: 0 | EF58: 0 | EG58: 0 | EH58: 0 | EI58: 0 | EJ58: 0 | EK58: 0
A59: Oil | B59: 8.976003 | C59: 7.916949 | D59: 7.0276675 | E59: 9.9246819 | F59: 8.9434998 | G59: 7.2420344 | H59: 8.2406685 | I59: 7.5663852 | J59: 7.7751404 | K59: 7.7056367 | L59: 7.4652961 | M59: 7.7100371 | N59: 8.2915847 | O59: 8.2059979 | P59: 7.0009846 | Q59: 8.1389382 | R59: 9.7673097 | S59: 9.0438123 | T59: 9.9764496 | U59: 9.0376005 | V59: 10.214995 | W59: 9.8010567 | X59: 10.270365 | Y59: 8.9634649 | Z59: 10.319258 | AA59: 9.1970218 | AB59: 9.4699746 | AC59: 9.7228956 | AD59: 8.8958164 | AE59: 9.8808395 | AF59: 10.011389 | AG59: 10.472977 | AH59: 11.430098 | AI59: 9.8846015 | AJ59: 9.7342908 | AK59: 9.6362548 | AL59: 10.605998 | AM59: 9.8636321 | AN59: 8.9775186 | AO59: 9.997138 | AP59: 10.347349 | AQ59: 8.9419274 | AR59: 8.2166647 | AS59: 8.9975903 | AT59: 9.948691 | AU59: 9.6793787 | AV59: 9.8231177 | AW59: 10.068886 | AX59: 11.240738 | AY59: 10.280687 | AZ59: 9.0226387 | BA59: 9.9077587 | BB59: 10.902171 | BC59: 9.3699077 | BD59: 10.061937 | BE59: 10.599195 | BF59: 10.60256 | BG59: 10.60415 | BH59: 10.64921 | BI59: 10.629025 | BJ59: 12.487047 | BK59: 11.652642 | BL59: 11.624917 | BM59: 12.262431 | BN59: 12.441796 | BO59: 11.287025 | BP59: 10.89262 | BQ59: 11.327226 | BR59: 12.299399 | BS59: 11.073107 | BT59: 11.082195 | BU59: 12.45421 | BV59: 13.241936 | BW59: 12.089295 | BX59: 11.820407 | BY59: 12.422646 | BZ59: 12.695824 | CA59: 11.070728 | CB59: 11.101945 | CC59: 11.188596 | CD59: 13.06983 | CE59: 11.191063 | CF59: 10.928769 | CG59: 12.974027 | CH59: 13.48321 | CI59: 11.069626 | CJ59: 11.079764 | CK59: 13.683114 | CL59: 14.377714 | CM59: 12.20894 | CN59: 10.938067 | CO59: 12.288778 | CP59: 14.382654 | CQ59: 11.36705 | CR59: 11.201401 | CS59: 12.600114 | CT59: 13.615303 | CU59: 11.254471 | CV59: 11.239289 | CW59: 14.40234 | CX59: 15.103082 | CY59: 12.020091 | CZ59: 12.225243 | DA59: 14.681468 | DB59: 17.32006 | DC59: 12.572635 | DD59: 14.288729 | DE59: 16.733128 | DF59: 18.989166 | DG59: 15.154196 | DH59: 14.250757 | DI59: 17.760011 | DJ59: 19.554761 | DK59: 15.227401 | DL59: 16.186647 | DM59: 18.928037 | DN59: 20.55611 | DO59: 15.275644 | DP59: 16.06422 | DQ59: 18.452766 | DR59: 17.71313 | DS59: 4.7324739 | DT59: 3.9751065 | DU59: 4.3767635 | DV59: 3.9506809 | DW59: 4.732097 | DX59: 4.727671 | DY59: 4.9805 | DZ59: 6.6059217 | EA59: 5.9431757 | EB59: 7.5026402 | EC59: 10.119816 | ED59: 12.520038 | EE59: 11.656088 | EF59: 12.689929 | EG59: 14.911581 | EH59: 17.432039 | EI59: 12.887405 | EJ59: 13.038969 | EK59: 16.091266
A60: Natural gas | B60: 0 | C60: 0 | D60: 0 | E60: 0 | F60: 0 | G60: 0 | H60: 0 | I60: 0 | J60: 0 | K60: 0 | L60: 0 | M60: 0 | N60: 0 | O60: 0 | P60: 0 | Q60: 0 | R60: 0 | S60: 0 | T60: 0 | U60: 0 | V60: 0 | W60: 0 | X60: 0 | Y60: 0 | Z60: 0 | AA60: 0 | AB60: 0 | AC60: 0 | AD60: 0 | AE60: 0 | AF60: 0 | AG60: 0 | AH60: 0 | AI60: 0 | AJ60: 0 | AK60: 0 | AL60: 0 | AM60: 0 | AN60: 0 | AO60: 0 | AP60: 0 | AQ60: 0 | AR60: 0 | AS60: 0 | AT60: 0 | AU60: 0 | AV60: 0 | AW60: 0 | AX60: 0 | AY60: 0 | AZ60: 0 | BA60: 0 | BB60: 0 | BC60: 0 | BD60: 0 | BE60: 0 | BF60: 0 | BG60: 0 | BH60: 0 | BI60: 0 | BJ60: 0 | BK60: 0 | BL60: 0 | BM60: 0 | BN60: 0 | BO60: 0 | BP60: 0 | BQ60: 0 | BR60: 0 | BS60: 0 | BT60: 0 | BU60: 0 | BV60: 0 | BW60: 0 | BX60: 0 | BY60: 0 | BZ60: 0 | CA60: 0 | CB60: 0 | CC60: 0 | CD60: 0 | CE60: 0 | CF60: 0 | CG60: 0 | CH60: 0 | CI60: 0 | CJ60: 0 | CK60: 0 | CL60: 0 | CM60: 0 | CN60: 0 | CO60: 0 | CP60: 0 | CQ60: 0 | CR60: 0 | CS60: 0 | CT60: 0 | CU60: 0 | CV60: 0 | CW60: 0 | CX60: 0 | CY60: 0 | CZ60: 0 | DA60: 0 | DB60: 0 | DC60: 0 | DD60: 0 | DE60: 0 | DF60: 0 | DG60: 0 | DH60: 0 | DI60: 0 | DJ60: 0 | DK60: 0 | DL60: 0 | DM60: 0 | DN60: 0 | DO60: 0 | DP60: 0 | DQ60: 0 | DR60: 0 | DS60: 0 | DT60: 0 | DU60: 0 | DV60: 0 | DW60: 0 | DX60: 0 | DY60: 0 | DZ60: 0 | EA60: 0 | EB60: 0 | EC60: 0 | ED60: 0 | EE60: 0 | EF60: 0 | EG60: 0 | EH60: 0 | EI60: 0 | EJ60: 0 | EK60: 0
A61: Hydro | B61: 0 | C61: 0 | D61: 0 | E61: 0 | F61: 0 | G61: 0 | H61: 0 | I61: 0 | J61: 0 | K61: 0 | L61: 0 | M61: 0 | N61: 0 | O61: 0 | P61: 0 | Q61: 0 | R61: 0 | S61: 0 | T61: 0 | U61: 0 | V61: 0 | W61: 0 | X61: 0 | Y61: 0 | Z61: 0 | AA61: 0 | AB61: 0 | AC61: 0 | AD61: 0 | AE61: 0 | AF61: 0 | AG61: 0 | AH61: 0 | AI61: 0 | AJ61: 0 | AK61: 0 | AL61: 0 | AM61: 0 | AN61: 0 | AO61: 0 | AP61: 0 | AQ61: 0 | AR61: 0 | AS61: 0 | AT61: 0 | AU61: 0 | AV61: 0 | AW61: 0 | AX61: 0 | AY61: 0 | AZ61: 0 | BA61: 0 | BB61: 0 | BC61: 0 | BD61: 0 | BE61: 0 | BF61: 0 | BG61: 0 | BH61: 0 | BI61: 0 | BJ61: 0 | BK61: 0 | BL61: 0 | BM61: 0 | BN61: 0 | BO61: 0 | BP61: 0 | BQ61: 0 | BR61: 0 | BS61: 0 | BT61: 0 | BU61: 0 | BV61: 0 | BW61: 0 | BX61: 0 | BY61: 0 | BZ61: 0 | CA61: 0 | CB61: 0 | CC61: 0 | CD61: 0 | CE61: 0 | CF61: 0 | CG61: 0 | CH61: 0 | CI61: 0 | CJ61: 0 | CK61: 0 | CL61: 0 | CM61: 0 | CN61: 0 | CO61: 0 | CP61: 0 | CQ61: 0 | CR61: 0 | CS61: 0 | CT61: 0 | CU61: 0 | CV61: 0 | CW61: 0 | CX61: 0 | CY61: 0 | CZ61: 0 | DA61: 0 | DB61: 0 | DC61: 0 | DD61: 0 | DE61: 0 | DF61: 0 | DG61: 0 | DH61: 0 | DI61: 0 | DJ61: 0 | DK61: 0 | DL61: 0 | DM61: 0 | DN61: 0 | DO61: 0 | DP61: 0 | DQ61: 0 | DR61: 0 | DS61: 0 | DT61: 0 | DU61: 0 | DV61: 0 | DW61: 0 | DX61: 0 | DY61: 0 | DZ61: 0 | EA61: 0 | EB61: 0 | EC61: 0 | ED61: 0 | EE61: 0 | EF61: 0 | EG61: 0 | EH61: 0 | EI61: 0 | EJ61: 0 | EK61: 0
A62: Geothermal | B62: 0 | C62: 0 | D62: 0 | E62: 0 | F62: 0 | G62: 0 | H62: 0 | I62: 0 | J62: 0 | K62: 0 | L62: 0 | M62: 0 | N62: 0 | O62: 0 | P62: 0 | Q62: 0 | R62: 0 | S62: 0 | T62: 0 | U62: 0 | V62: 0 | W62: 0 | X62: 0 | Y62: 0 | Z62: 0 | AA62: 0 | AB62: 0 | AC62: 0 | AD62: 0 | AE62: 0 | AF62: 0 | AG62: 0 | AH62: 0 | AI62: 0 | AJ62: 0 | AK62: 0 | AL62: 0 | AM62: 0 | AN62: 0 | AO62: 0 | AP62: 0 | AQ62: 0 | AR62: 0 | AS62: 0 | AT62: 0 | AU62: 0 | AV62: 0 | AW62: 0 | AX62: 0 | AY62: 0 | AZ62: 0 | BA62: 0 | BB62: 0 | BC62: 0 | BD62: 0 | BE62: 0 | BF62: 0 | BG62: 0 | BH62: 0 | BI62: 0 | BJ62: 0 | BK62: 0 | BL62: 0 | BM62: 0 | BN62: 0 | BO62: 0 | BP62: 0 | BQ62: 0 | BR62: 0 | BS62: 0 | BT62: 0 | BU62: 0 | BV62: 0 | BW62: 0 | BX62: 0 | BY62: 0 | BZ62: 0 | CA62: 0 | CB62: 0 | CC62: 0 | CD62: 0 | CE62: 0 | CF62: 0 | CG62: 0 | CH62: 0 | CI62: 0 | CJ62: 0 | CK62: 0 | CL62: 0 | CM62: 0 | CN62: 0 | CO62: 0 | CP62: 0 | CQ62: 0 | CR62: 0 | CS62: 0 | CT62: 0 | CU62: 0 | CV62: 0 | CW62: 0 | CX62: 0 | CY62: 0 | CZ62: 0 | DA62: 0 | DB62: 0 | DC62: 0 | DD62: 0 | DE62: 0 | DF62: 0 | DG62: 0 | DH62: 0 | DI62: 0 | DJ62: 0 | DK62: 0 | DL62: 0 | DM62: 0 | DN62: 0 | DO62: 0 | DP62: 0 | DQ62: 0 | DR62: 0 | DS62: 0 | DT62: 0 | DU62: 0 | DV62: 0 | DW62: 0 | DX62: 0 | DY62: 0 | DZ62: 0 | EA62: 0 | EB62: 0 | EC62: 0 | ED62: 0 | EE62: 0 | EF62: 0 | EG62: 0 | EH62: 0 | EI62: 0 | EJ62: 0 | EK62: 0
A63: Other renewables | B63: 0 | C63: 0 | D63: 0 | E63: 0 | F63: 0 | G63: 0 | H63: 0 | I63: 0 | J63: 0 | K63: 0 | L63: 0 | M63: 0 | N63: 0 | O63: 0 | P63: 0 | Q63: 0 | R63: 0 | S63: 0 | T63: 0 | U63: 0 | V63: 0 | W63: 0 | X63: 0 | Y63: 0 | Z63: 0 | AA63: 0 | AB63: 0 | AC63: 0 | AD63: 0 | AE63: 0 | AF63: 0 | AG63: 0 | AH63: 0 | AI63: 0 | AJ63: 0 | AK63: 0 | AL63: 0 | AM63: 0 | AN63: 0 | AO63: 0 | AP63: 0 | AQ63: 0 | AR63: 0 | AS63: 0 | AT63: 0 | AU63: 0 | AV63: 0 | AW63: 0 | AX63: 0 | AY63: 0 | AZ63: 0 | BA63: 0 | BB63: 0 | BC63: 0 | BD63: 0 | BE63: 0 | BF63: 0 | BG63: 0 | BH63: 0 | BI63: 0 | BJ63: 0 | BK63: 0 | BL63: 0 | BM63: 0 | BN63: 0 | BO63: 0 | BP63: 0 | BQ63: 0 | BR63: 0 | BS63: 0 | BT63: 0 | BU63: 0 | BV63: 0 | BW63: 0 | BX63: 0 | BY63: 0 | BZ63: 0 | CA63: 0 | CB63: 0 | CC63: 0 | CD63: 0 | CE63: 0 | CF63: 0 | CG63: 0 | CH63: 0 | CI63: 0 | CJ63: 0 | CK63: 0 | CL63: 0 | CM63: 0 | CN63: 0 | CO63: 0 | CP63: 0 | CQ63: 0 | CR63: 0 | CS63: 0 | CT63: 0 | CU63: 0 | CV63: 0 | CW63: 0 | CX63: 0 | CY63: 0 | CZ63: 0 | DA63: 0 | DB63: 0 | DC63: 0 | DD63: 0 | DE63: 0 | DF63: 0 | DG63: 0 | DH63: 0 | DI63: 0 | DJ63: 0 | DK63: 0 | DL63: 0 | DM63: 0 | DN63: 0 | DO63: 0 | DP63: 0 | DQ63: 0 | DR63: 0 | DS63: 0 | DT63: 0 | DU63: 0 | DV63: 0 | DW63: 0 | DX63: 0 | DY63: 0 | DZ63: 0 | EA63: 0 | EB63: 0 | EC63: 0 | ED63: 0 | EE63: 0 | EF63: 0 | EG63: 0 | EH63: 0 | EI63: 0 | EJ63: 0 | EK63: 0
A64: Electricity | B64: 0 | C64: 0 | D64: 0 | E64: 0 | F64: 0 | G64: 0 | H64: 0 | I64: 0 | J64: 0 | K64: 0 | L64: 0 | M64: 0 | N64: 0 | O64: 0 | P64: 0 | Q64: 0 | R64: 0 | S64: 0 | T64: 0 | U64: 0 | V64: 0 | W64: 0 | X64: 0 | Y64: 0 | Z64: 0 | AA64: 0 | AB64: 0 | AC64: 0 | AD64: 0 | AE64: 0 | AF64: 0 | AG64: 0 | AH64: 0 | AI64: 0 | AJ64: 0 | AK64: 0 | AL64: 0 | AM64: 0 | AN64: 0 | AO64: 0 | AP64: 0 | AQ64: 0 | AR64: 0 | AS64: 0 | AT64: 0 | AU64: 0 | AV64: 0 | AW64: 0 | AX64: 0 | AY64: 0 | AZ64: 0 | BA64: 0 | BB64: 0 | BC64: 0 | BD64: 0 | BE64: 0 | BF64: 0 | BG64: 0 | BH64: 0 | BI64: 0 | BJ64: 0 | BK64: 0 | BL64: 0 | BM64: 0 | BN64: 0 | BO64: 0 | BP64: 0 | BQ64: 0 | BR64: 0 | BS64: 0 | BT64: 0 | BU64: 0 | BV64: 0 | BW64: 0 | BX64: 0 | BY64: 0 | BZ64: 0 | CA64: 0 | CB64: 0 | CC64: 0 | CD64: 0 | CE64: 0 | CF64: 0 | CG64: 0 | CH64: 0 | CI64: 0 | CJ64: 0 | CK64: 0 | CL64: 0 | CM64: 0 | CN64: 0 | CO64: 0 | CP64: 0 | CQ64: 0 | CR64: 0 | CS64: 0 | CT64: 0 | CU64: 0 | CV64: 0 | CW64: 0 | CX64: 0 | CY64: 0 | CZ64: 0 | DA64: 0 | DB64: 0 | DC64: 0 | DD64: 0 | DE64: 0 | DF64: 0 | DG64: 0 | DH64: 0 | DI64: 0 | DJ64: 0 | DK64: 0 | DL64: 0 | DM64: 0 | DN64: 0 | DO64: 0 | DP64: 0 | DQ64: 0 | DR64: 0 | DS64: 0 | DT64: 0 | DU64: 0 | DV64: 0 | DW64: 0 | DX64: 0 | DY64: 0 | DZ64: 0 | EA64: 0 | EB64: 0 | EC64: 0 | ED64: 0 | EE64: 0 | EF64: 0 | EG64: 0 | EH64: 0 | EI64: 0 | EJ64: 0 | EK64: 0
A65: Waste heat | B65: 0 | C65: 0 | D65: 0 | E65: 0 | F65: 0 | G65: 0 | H65: 0 | I65: 0 | J65: 0 | K65: 0 | L65: 0 | M65: 0 | N65: 0 | O65: 0 | P65: 0 | Q65: 0 | R65: 0 | S65: 0 | T65: 0 | U65: 0 | V65: 0 | W65: 0 | X65: 0 | Y65: 0 | Z65: 0 | AA65: 0 | AB65: 0 | AC65: 0 | AD65: 0 | AE65: 0 | AF65: 0 | AG65: 0 | AH65: 0 | AI65: 0 | AJ65: 0 | AK65: 0 | AL65: 0 | AM65: 0 | AN65: 0 | AO65: 0 | AP65: 0 | AQ65: 0 | AR65: 0 | AS65: 0 | AT65: 0 | AU65: 0 | AV65: 0 | AW65: 0 | AX65: 0 | AY65: 0 | AZ65: 0 | BA65: 0 | BB65: 0 | BC65: 0 | BD65: 0 | BE65: 0 | BF65: 0 | BG65: 0 | BH65: 0 | BI65: 0 | BJ65: 0 | BK65: 0 | BL65: 0 | BM65: 0 | BN65: 0 | BO65: 0 | BP65: 0 | BQ65: 0 | BR65: 0 | BS65: 0 | BT65: 0 | BU65: 0 | BV65: 0 | BW65: 0 | BX65: 0 | BY65: 0 | BZ65: 0 | CA65: 0 | CB65: 0 | CC65: 0 | CD65: 0 | CE65: 0 | CF65: 0 | CG65: 0 | CH65: 0 | CI65: 0 | CJ65: 0 | CK65: 0 | CL65: 0 | CM65: 0 | CN65: 0 | CO65: 0 | CP65: 0 | CQ65: 0 | CR65: 0 | CS65: 0 | CT65: 0 | CU65: 0 | CV65: 0 | CW65: 0 | CX65: 0 | CY65: 0 | CZ65: 0 | DA65: 0 | DB65: 0 | DC65: 0 | DD65: 0 | DE65: 0 | DF65: 0 | DG65: 0 | DH65: 0 | DI65: 0 | DJ65: 0 | DK65: 0 | DL65: 0 | DM65: 0 | DN65: 0 | DO65: 0 | DP65: 0 | DQ65: 0 | DR65: 0 | DS65: 0 | DT65: 0 | DU65: 0 | DV65: 0 | DW65: 0 | DX65: 0 | DY65: 0 | DZ65: 0 | EA65: 0 | EB65: 0 | EC65: 0 | ED65: 0 | EE65: 0 | EF65: 0 | EG65: 0 | EH65: 0 | EI65: 0 | EJ65: 0 | EK65: 0
A67: Energy Transformation | B67: =B76+B85+B94+B103+B112 -> -39.16378 | C67: =C76+C85+C94+C103+C112 -> -44.265757 | D67: =D76+D85+D94+D103+D112 -> -41.072619 | E67: =E76+E85+E94+E103+E112 -> -38.006126 | F67: =F76+F85+F94+F103+F112 -> -40.683307 | G67: =G76+G85+G94+G103+G112 -> -47.556837 | H67: =H76+H85+H94+H103+H112 -> -45.078352 | I67: =I76+I85+I94+I103+I112 -> -41.866378 | ... EK67: =EK76+EK85+EK94+EK103+EK112 -> -64.878488
A68: Coal | B68: =B77+B86+B95+B104+B113 -> -5.8869352 | C68: =C77+C86+C95+C104+C113 -> -4.8601616 | D68: =D77+D86+D95+D104+D113 -> -5.6884594 | E68: =E77+E86+E95+E104+E113 -> -4.4403252 | F68: =F77+F86+F95+F104+F113 -> -4.3539744 | G68: =G77+G86+G95+G104+G113 -> -4.346084 | H68: =H77+H86+H95+H104+H113 -> -5.4547132 | I68: =I77+I86+I95+I104+I113 -> -4.7635982 | ... EK68: =EK77+EK86+EK95+EK104+EK113 -> -4.1375549
A69: Oil | B69: =B78+B87+B96+B105+B114 -> 3.946895 | C69: =C78+C87+C96+C105+C114 -> 4.7339971 | D69: =D78+D87+D96+D105+D114 -> 4.7756305 | E69: =E78+E87+E96+E105+E114 -> 3.3194816 | F69: =F78+F87+F96+F105+F114 -> 0.88870435 | G69: =G78+G87+G96+G105+G114 -> 1.2984498 | H69: =H78+H87+H96+H105+H114 -> 4.7653396 | I69: =I78+I87+I96+I105+I114 -> 0.59455648 | ... EK69: =EK78+EK87+EK96+EK105+EK114 -> 0.10576259
A70: Natural gas | B70: =B79+B88+B97+B106+B115 -> -22.040489 | C70: =C79+C88+C97+C106+C115 -> -29.703257 | D70: =D79+D88+D97+D106+D115 -> -22.725535 | E70: =E79+E88+E97+E106+E115 -> -21.784096 | F70: =F79+F88+F97+F106+F115 -> -20.993457 | G70: =G79+G88+G97+G106+G115 -> -31.347685 | H70: =H79+H88+H97+H106+H115 -> -30.354875 | I70: =I79+I88+I97+I106+I115 -> -20.407444 | ... EK70: =EK79+EK88+EK97+EK106+EK115 -> -6.2570988
A71: Hydro | B71: =B80+B89+B98+B107+B116 -> -19.016809 | C71: =C80+C89+C98+C107+C116 -> -19.777261 | D71: =D80+D89+D98+D107+D116 -> -23.783986 | E71: =E80+E89+E98+E107+E116 -> -20.880686 | F71: =F80+F89+F98+F107+F116 -> -19.583922 | G71: =G80+G89+G98+G107+G116 -> -19.62322 | H71: =H80+H89+H98+H107+H116 -> -21.008824 | I71: =I80+I89+I98+I107+I116 -> -22.195862 | ... EK71: =EK80+EK89+EK98+EK107+EK116 -> -22.762844
A72: Geothermal | B72: =B81+B90+B99+B108+B117 -> -13.614943 | C72: =C81+C90+C99+C108+C117 -> -14.026526 | D72: =D81+D90+D99+D108+D117 -> -14.84424 | E72: =E81+E90+E99+E108+E117 -> -12.227554 | F72: =F81+F90+F99+F108+F117 -> -14.097506 | G72: =G81+G90+G99+G108+G117 -> -14.098305 | H72: =H81+H90+H99+H108+H117 -> -14.743082 | I72: =I81+I90+I99+I108+I117 -> -14.885929 | ... EK72: =EK81+EK90+EK99+EK108+EK117 -> -55.114207
A73: Other renewables | B73: =B82+B91+B100+B109+B118 -> -6.3440571 | C73: =C82+C91+C100+C109+C118 -> -7.4729523 | D73: =D82+D91+D100+D109+D118 -> -7.440674 | E73: =E82+E91+E100+E109+E118 -> -6.8818536 | F73: =F82+F91+F100+F109+F118 -> -6.7863859 | G73: =G82+G91+G100+G109+G118 -> -7.275969 | H73: =H82+H91+H100+H109+H118 -> -7.2463007 | I73: =I82+I91+I100+I109+I118 -> -6.7326675 | ... EK73: =EK82+EK91+EK100+EK109+EK118 -> -10.927402
A74: Electricity | B74: =B83+B92+B101+B110+B119 -> 24.168257 | C74: =C83+C92+C101+C110+C119 -> 27.250899 | D74: =D83+D92+D101+D110+D119 -> 29.07326 | E74: =E83+E92+E101+E110+E119 -> 25.273954 | F74: =F83+F92+F101+F110+F119 -> 24.618932 | G74: =G83+G92+G101+G110+G119 -> 28.244852 | H74: =H83+H92+H101+H110+H119 -> 29.403129 | I74: =I83+I92+I101+I110+I119 -> 26.909843 | ... EK74: =EK83+EK92+EK101+EK110+EK119 -> 34.375747
A75: Waste heat | B75: =B84+B93+B102+B111+B120 -> -0.3756984 | C75: =C84+C93+C102+C111+C120 -> -0.4104948 | D75: =D84+D93+D102+D111+D120 -> -0.4386144 | E75: =E84+E93+E102+E111+E120 -> -0.38504592 | F75: =F84+F93+F102+F111+F120 -> -0.3756984 | G75: =G84+G93+G102+G111+G120 -> -0.40887696 | H75: =H84+H93+H102+H111+H120 -> -0.43902528 | I75: =I84+I93+I102+I111+I120 -> -0.38527704 | ... EK75: =EK84+EK93+EK102+EK111+EK120 -> -0.16089162
A76: Electricity Generation | B76: =SUM(B77:B84) -> -20.784468 | C76: =SUM(C77:C84) -> -25.123038 | D76: =SUM(D77:D84) -> -21.956951 | E76: =SUM(E77:E84) -> -18.51085 | F76: =SUM(F77:F84) -> -20.407867 | G76: =SUM(G77:G84) -> -26.658333 | H76: =SUM(H77:H84) -> -27.101826 | I76: =SUM(I77:I84) -> -20.872062 | ... EK76: =SUM(EK77:EK84) -> -49.875041
A77: Coal | B77: -1.9693822 | C77: -0.94260858 | D77: -1.7709064 | E77: -0.52277223 | F77: -0.46580793 | G77: -0.45791745 | H77: -0.9913452 | I77: -0.5087672 | J77: -5.7458637 | K77: -0.90196475 | L77: -1.571891 | M77: -1.4604127 | N77: -0.33657045 | O77: -0.71034529 | P77: -3.2468303 | Q77: -0.43127866 | R77: -0.4306717 | S77: -2.4348755 | T77: -0.70524233 | U77: -0.54961334 | V77: -2.9626085 | W77: -2.2479443 | X77: -0.42476016 | Y77: -0.40580174 | Z77: -0.35322065 | AA77: -0.41317953 | AB77: -1.9978072 | AC77: -3.855048 | AD77: -0.45734489 | AE77: -4.7562956 | AF77: -4.4718522 | AG77: -3.2155794 | AH77: -1.7084626 | AI77: -4.7849224 | AJ77: -1.7104243 | AK77: -0.053718066 | AL77: -0.6423593 | AM77: -4.0399002 | AN77: -4.5693741 | AO77: -2.759015 | AP77: -3.0305847 | AQ77: -3.1031281 | AR77: -2.2911251 | AS77: -1.2619657 | AT77: -2.1367253 | AU77: -3.8926937 | AV77: -5.5030569 | AW77: -3.298862 | AX77: -2.456989 | AY77: -5.2371316 | AZ77: -2.7272666 | BA77: -4.4465129 | BB77: -6.6265 | BC77: -9.3347464 | BD77: -8.8459455 | BE77: -7.7216274 | BF77: -6.0471208 | BG77: -13.678359 | BH77: -12.079434 | BI77: -10.776993 | BJ77: -7.6121281 | BK77: -14.510583 | BL77: -17.500066 | BM77: -14.319968 | BN77: -10.988483 | BO77: -14.15338 | BP77: -15.057965 | BQ77: -10.785993 | BR77: -6.6890419 | BS77: -9.1277089 | BT77: -5.2238633 | BU77: -5.0266569 | BV77: -9.6352229 | BW77: -16.049326 | BX77: -10.665598 | BY77: -6.7436759 | BZ77: -4.9447178 | CA77: -9.6358042 | CB77: -8.0096002 | CC77: -5.0311944 | CD77: -5.0777977 | CE77: -2.9250991 | CF77: -2.129769 | CG77: -3.7018298 | CH77: -2.4618796 | CI77: -2.8082431 | CJ77: -6.0964063 | CK77: -5.1399137 | CL77: -5.2956331 | CM77: -12.375018 | CN77: -7.2263106 | CO77: -4.426425 | CP77: -4.474837 | CQ77: -8.5649045 | CR77: -3.8800115 | CS77: -0.64441835 | CT77: -2.0998751 | CU77: -4.0776969 | CV77: -2.8300434 | CW77: -4.2098237 | CX77: -5.3381508 | CY77: -1.5876788 | CZ77: -1.7713695 | DA77: -3.2973647 | DB77: -2.017865 | DC77: -2.1307756 | DD77: -0.4262984 | DE77: -0.269674 | DF77: 0 | DG77: -1.4585513 | DH77: -1.9608357 | DI77: -2.2616717 | DJ77: -1.7292433 | DK77: -1.5784157 | DL77: -1.1785577 | DM77: -5.7279718 | DN77: -5.4944233 | DO77: -3.1605144 | DP77: -4.0442868 | DQ77: -3.3842022 | DR77: -4.3569885 | DS77: -2.9139229 | DT77: -6.0040738 | DU77: -3.887204 | DV77: -9.2168836 | DW77: -12.298671 | DX77: -3.6294438 | DY77: -0.09956295 | DZ77: -3.2506122 | EA77: -4.0673665 | EB77: -0.294183 | EC77: -0.096241861 | ED77: -0.72392674 | EE77: -0.12485288 | EF77: -2.1815494 | EG77: -2.6534557 | EH77: -2.2844267 | EI77: -8.3174185 | EJ77: -7.728054 | EK77: -0.14229023
A78: Oil | B78: -0.015020139 | C78: -0.0435276 | D78: -0.044298 | E78: -0.0421152 | F78: -0.0399324 | G78: -0.0043656 | H78: -0.14434096 | I78: -0.11987154 | J78: -0.0017920631 | K78: -1.3603287 | L78: -1.155307 | M78: 0 | N78: 0 | O78: -0.26993116 | P78: -0.24396 | Q78: -0.24396 | R78: -0.24396 | S78: -0.012909783 | T78: 0 | U78: 0 | V78: -0.015220281 | W78: -0.22405761 | X78: -0.18759668 | Y78: -0.18759668 | Z78: -0.23895668 | AA78: 0 | AB78: 0 | AC78: 0 | AD78: -0.0010894545 | AE78: 0 | AF78: 0 | AG78: 0 | AH78: 0 | AI78: -0.013134054 | AJ78: -0.025714733 | AK78: 0 | AL78: 0 | AM78: -0.00020016276 | AN78: -0.00021875508 | AO78: -0.00019552752 | AP78: -0.0001944618 | AQ78: 0 | AR78: 0 | AS78: 0 | AT78: 0 | AU78: 0 | AV78: 0 | AW78: 0 | AX78: -6.42e-06 | AY78: -1.605e-05 | AZ78: -1.605e-05 | BA78: -1.605e-05 | BB78: -1.605e-05 | BC78: -4.6224e-06 | BD78: -0.14767302 | BE78: -0.092592302 | BF78: -4.6224e-06 | BG78: -0.29665987 | BH78: -0.0073580904 | BI78: -0.0013351548 | BJ78: -0.012325015 | BK78: -0.0030729436 | BL78: -0.0021558876 | BM78: -0.029406031 | BN78: -0.25929665 | BO78: -0.017997162 | BP78: -0.0053454332 | BQ78: -0.007283567 | BR78: -0.0084266326 | BS78: -0.0034754773 | BT78: -0.0026697377 | BU78: -0.0020658725 | BV78: -0.33256939 | BW78: -1.2389095 | BX78: -0.0090896639 | BY78: -0.0094975907 | BZ78: -0.0036800435 | CA78: -0.029311765 | CB78: -0.04122686 | CC78: -0.037869754 | CD78: -0.0097735223 | CE78: -0.0069091775 | CF78: -0.0038196851 | CG78: -0.0055551971 | CH78: -0.0023627833 | CI78: -0.0058122718 | CJ78: -0.0044080144 | CK78: -0.01210946 | CL78: -0.00203968 | CM78: -0.0068205911 | CN78: -0.0092336574 | CO78: -0.022157024 | CP78: -0.01859533 | CQ78: -0.0086347267 | CR78: -0.0077026358 | CS78: -0.0048432333 | CT78: -0.0082844901 | CU78: -0.0096556015 | CV78: -0.012745375 | CW78: -0.0075104903 | CX78: -0.003581043 | CY78: -0.0079852531 | CZ78: -0.0035472098 | DA78: -0.00033381672 | DB78: -0.002156982 | DC78: -0.0093900401 | DD78: -0.025534793 | DE78: -0.0034717087 | DF78: -0.0051018916 | DG78: -0.011272318 | DH78: -0.039223159 | DI78: -0.0078379216 | DJ78: -0.0063812807 | DK78: -0.03099573 | DL78: -0.013199411 | DM78: -0.075104087 | DN78: -0.012407391 | DO78: -0.0079328181 | DP78: -0.011278716 | DQ78: -0.0097128971 | DR78: -0.005473466 | DS78: -0.035227936 | DT78: -1.3754242 | DU78: -0.015136996 | DV78: -0.071143248 | DW78: -0.19118864 | DX78: -0.039950949 | DY78: -0.0056095473 | DZ78: -0.029159321 | EA78: -0.015481848 | EB78: -0.020819058 | EC78: -0.023580395 | ED78: -0.013977218 | EE78: -0.020847742 | EF78: -0.012003754 | EG78: -0.011732895 | EH78: -0.012761614 | EI78: -0.033044531 | EJ78: -0.2532481 | EK78: -0.013613683
A79: Natural gas | B79: -12.294653 | C79: -19.814459 | D79: -12.846529 | E79: -12.027078 | F79: -12.665218 | G79: -22.947207 | H79: -21.933849 | I79: -11.930673 | J79: -9.5808689 | K79: -31.847378 | L79: -22.283558 | M79: -11.141774 | N79: -12.376604 | O79: -22.32245 | P79: -14.445785 | Q79: -19.960045 | R79: -12.264832 | S79: -22.393427 | T79: -10.670376 | U79: -9.3748084 | V79: -11.130491 | W79: -10.887107 | X79: -16.500176 | Y79: -6.1053236 | Z79: -7.2109612 | AA79: -18.78366 | AB79: -24.099111 | AC79: -7.9430965 | AD79: -16.508517 | AE79: -24.039633 | AF79: -23.172079 | AG79: -12.607384 | AH79: -12.346008 | AI79: -14.132675 | AJ79: -14.298325 | AK79: -12.953581 | AL79: -17.866672 | AM79: -15.172433 | AN79: -19.92035 | AO79: -16.839462 | AP79: -15.084926 | AQ79: -18.762166 | AR79: -20.03591 | AS79: -16.947332 | AT79: -16.910607 | AU79: -25.313281 | AV79: -27.78518 | AW79: -15.710809 | AX79: -15.247688 | AY79: -24.151562 | AZ79: -17.834721 | BA79: -12.804226 | BB79: -15.478594 | BC79: -17.894454 | BD79: -18.272406 | BE79: -8.6747513 | BF79: -9.162149 | BG79: -10.945757 | BH79: -8.9936738 | BI79: -10.669751 | BJ79: -11.62756 | BK79: -15.801797 | BL79: -15.694534 | BM79: -13.498419 | BN79: -15.795813 | BO79: -16.827772 | BP79: -16.134867 | BQ79: -11.345903 | BR79: -13.926822 | BS79: -21.941554 | BT79: -21.338168 | BU79: -18.14113 | BV79: -13.780591 | BW79: -18.249456 | BX79: -16.628796 | BY79: -12.132049 | BZ79: -12.739138 | CA79: -14.151805 | CB79: -14.840354 | CC79: -12.290625 | CD79: -13.089781 | CE79: -17.547982 | CF79: -18.494985 | CG79: -13.46129 | CH79: -11.684208 | CI79: -12.360406 | CJ79: -16.124389 | CK79: -11.127992 | CL79: -13.647572 | CM79: -16.565736 | CN79: -14.041235 | CO79: -8.7105333 | CP79: -14.019483 | CQ79: -16.336527 | CR79: -14.605424 | CS79: -9.0886317 | CT79: -11.482379 | CU79: -11.630992 | CV79: -9.6686116 | CW79: -9.2139545 | CX79: -11.015569 | CY79: -10.719369 | CZ79: -11.021768 | DA79: -8.2879177 | DB79: -10.417868 | DC79: -9.9926701 | DD79: -9.5990028 | DE79: -6.5425028 | DF79: -7.7581188 | DG79: -13.895683 | DH79: -13.230689 | DI79: -10.829286 | DJ79: -11.034935 | DK79: -9.1109311 | DL79: -10.081953 | DM79: -6.1856636 | DN79: -9.2697558 | DO79: -9.6032307 | DP79: -11.42915 | DQ79: -6.7233259 | DR79: -9.057331 | DS79: -11.678577 | DT79: -13.188133 | DU79: -7.2057801 | DV79: -6.7683168 | DW79: -9.3603567 | DX79: -9.6178663 | DY79: -4.7460527 | DZ79: -8.9389716 | EA79: -11.006209 | EB79: -7.5826685 | EC79: -2.0918373 | ED79: -7.6180995 | EE79: -6.383943 | EF79: -13.409689 | EG79: -5.2611684 | EH79: -8.6855459 | EI79: -8.7838094 | EJ79: -9.1505236 | EK79: -3.0139623
A80: Hydro | B80: -19.016809 | C80: -19.777261 | D80: -23.783986 | E80: -20.880686 | F80: -19.583922 | G80: -19.62322 | H80: -21.008824 | I80: -22.195862 | J80: -20.416397 | K80: -16.715422 | L80: -16.443874 | M80: -22.350327 | N80: -21.839907 | O80: -19.249163 | P80: -24.332905 | Q80: -19.143982 | R80: -22.040175 | S80: -19.713471 | T80: -27.001597 | U80: -24.248945 | V80: -22.135378 | W80: -25.276979 | X80: -25.623678 | Y80: -26.079186 | Z80: -24.842806 | AA80: -23.180529 | AB80: -22.254087 | AC80: -23.971697 | AD80: -20.262239 | AE80: -19.255049 | AF80: -21.964196 | AG80: -22.239539 | AH80: -22.396855 | AI80: -22.631391 | AJ80: -24.119973 | AK80: -21.992241 | AL80: -19.526651 | AM80: -22.054351 | AN80: -21.161469 | AO80: -19.759577 | AP80: -19.418767 | AQ80: -21.314268 | AR80: -23.973995 | AS80: -23.250089 | AT80: -20.775791 | AU80: -19.407703 | AV80: -17.392079 | AW80: -20.468829 | AX80: -20.947116 | AY80: -19.295109 | AZ80: -25.055889 | BA80: -24.241927 | BB80: -20.358458 | BC80: -18.478234 | BD80: -21.982194 | BE80: -24.222816 | BF80: -24.561548 | BG80: -22.865428 | BH80: -27.913097 | BI80: -22.722572 | BJ80: -22.65063 | BK80: -20.755709 | BL80: -20.658379 | BM80: -19.914218 | BN80: -18.712832 | BO80: -20.825167 | BP80: -22.561335 | BQ80: -22.763907 | BR80: -22.028623 | BS80: -19.387865 | BT80: -22.595911 | BU80: -21.093027 | BV80: -19.162341 | BW80: -17.367206 | BX80: -22.33493 | BY80: -21.586033 | BZ80: -19.949462 | CA80: -21.650562 | CB80: -23.050917 | CC80: -22.531275 | CD80: -20.743523 | CE80: -21.706661 | CF80: -24.153017 | CG80: -22.411452 | CH80: -22.38714 | CI80: -23.647054 | CJ80: -22.725165 | CK80: -21.638143 | CL80: -18.946363 | CM80: -17.748424 | CN80: -22.827411 | CO80: -22.905664 | CP80: -19.101363 | CQ80: -18.521738 | CR80: -22.047176 | CS80: -23.339785 | CT80: -20.573788 | CU80: -21.236025 | CV80: -24.451827 | CW80: -21.457399 | CX80: -19.339429 | CY80: -22.237725 | CZ80: -24.810815 | DA80: -22.109694 | DB80: -21.124582 | DC80: -22.577625 | DD80: -26.053147 | DE80: -23.725195 | DF80: -22.295821 | DG80: -22.045512 | DH80: -23.898755 | DI80: -22.406453 | DJ80: -21.014595 | DK80: -24.862386 | DL80: -26.07475 | DM80: -22.739292 | DN80: -20.892288 | DO80: -23.511791 | DP80: -24.391457 | DQ80: -23.548881 | DR80: -21.384717 | DS80: -20.660531 | DT80: -22.692747 | DU80: -22.809775 | DV80: -19.375728 | DW80: -19.600717 | DX80: -24.310783 | DY80: -23.901063 | DZ80: -20.430556 | EA80: -21.066455 | EB80: -27.203631 | EC80: -26.095304 | ED80: -21.948214 | EE80: -26.370206 | EF80: -24.330002 | EG80: -22.958666 | EH80: -21.147313 | EI80: -21.259785 | EJ80: -20.241429 | EK80: -22.762844
A81: Geothermal | B81: -13.271503 | C81: -13.683086 | D81: -14.5008 | E81: -11.884114 | F81: -13.754066 | G81: -13.754865 | H81: -14.399642 | I81: -14.542489 | J81: -13.307 | K81: -14.28 | L81: -14.602 | M81: -13.649823 | N81: -14.184381 | O81: -14.97569 | P81: -15.2705 | Q81: -14.52029 | R81: -13.16102 | S81: -14.06939 | T81: -13.94138 | U81: -13.20564 | V81: -13.280291 | W81: -13.522203 | X81: -13.72333 | Y81: -12.974003 | Z81: -12.587325 | AA81: -13.959921 | AB81: -14.430294 | AC81: -13.58562 | AD81: -12.5377 | AE81: -14.874045 | AF81: -15.911413 | AG81: -13.730599 | AH81: -13.463191 | AI81: -16.916742 | AJ81: -16.329503 | AK81: -14.234484 | AL81: -14.321071 | AM81: -17.125808 | AN81: -17.751494 | AO81: -15.959306 | AP81: -15.871605 | AQ81: -18.462282 | AR81: -19.679156 | AS81: -18.499072 | AT81: -16.821091 | AU81: -17.241316 | AV81: -16.801719 | AW81: -15.5959 | AX81: -14.585803 | AY81: -15.894962 | AZ81: -16.252527 | BA81: -15.912919 | BB81: -15.364801 | BC81: -15.928826 | BD81: -16.126045 | BE81: -15.44896 | BF81: -14.840249 | BG81: -15.874486 | BH81: -16.403295 | BI81: -16.115034 | BJ81: -16.077779 | BK81: -18.080326 | BL81: -18.004326 | BM81: -18.106673 | BN81: -17.762036 | BO81: -18.431542 | BP81: -19.642456 | BQ81: -17.94185 | BR81: -18.941071 | BS81: -18.36951 | BT81: -20.227139 | BU81: -20.426016 | BV81: -20.074026 | BW81: -21.004112 | BX81: -24.987719 | BY81: -25.798784 | BZ81: -25.037653 | CA81: -27.464968 | CB81: -28.312248 | CC81: -26.088924 | CD81: -26.934127 | CE81: -33.942876 | CF81: -33.698063 | CG81: -33.751271 | CH81: -32.655125 | CI81: -34.933977 | CJ81: -35.463388 | CK81: -34.811228 | CL81: -34.587072 | CM81: -35.599692 | CN81: -35.94477 | CO81: -35.732122 | CP81: -35.372429 | CQ81: -36.668902 | CR81: -39.244735 | CS81: -46.979835 | CT81: -39.315173 | CU81: -42.439139 | CV81: -44.659113 | CW81: -47.767611 | CX81: -45.571686 | CY81: -46.435599 | CZ81: -46.621697 | DA81: -44.856234 | DB81: -45.816904 | DC81: -45.258907 | DD81: -45.145035 | DE81: -42.998164 | DF81: -44.84601 | DG81: -45.20825 | DH81: -46.047838 | DI81: -44.573422 | DJ81: -44.574606 | DK81: -47.140143 | DL81: -48.450421 | DM81: -46.930118 | DN81: -47.377343 | DO81: -49.451432 | DP81: -49.620554 | DQ81: -45.166651 | DR81: -48.355699 | DS81: -48.309401 | DT81: -48.266695 | DU81: -46.577173 | DV81: -48.973355 | DW81: -47.746196 | DX81: -48.45301 | DY81: -49.841462 | DZ81: -48.776225 | EA81: -50.075601 | EB81: -50.695852 | EC81: -46.785653 | ED81: -47.685223 | EE81: -44.932572 | EF81: -51.222295 | EG81: -53.697794 | EH81: -51.49977 | EI81: -54.95509 | EJ81: -56.685064 | EK81: -54.976341
A82: Other renewables | B82: 0 | C82: -0.1063152 | D82: -0.1063152 | E82: -0.1063152 | F82: -0.1063152 | G82: -0.1594728 | H82: -0.1594728 | I82: -0.1594728 | J82: -0.1594728 | K82: -0.16016 | L82: -0.1604218 | M82: -0.16032362 | N82: -0.16025818 | O82: -0.16023636 | P82: -0.16052724 | Q82: -0.16041816 | R82: -0.16034544 | S82: -0.16023636 | T82: -0.16052724 | U82: -0.16041816 | V82: -0.16034544 | W82: -0.19391568 | X82: -0.19420656 | Y82: -0.19409748 | Z82: -0.19402476 | AA82: -0.22533103 | AB82: -0.23992306 | AC82: -0.23465778 | AD82: -0.23290437 | AE82: -0.3303836 | AF82: -0.31995829 | AG82: -0.1786204 | AH82: -0.16858225 | AI82: -0.2406491 | AJ82: -0.28009234 | AK82: -0.23276995 | AL82: -0.22665498 | AM82: -0.27433465 | AN82: -0.29982774 | AO82: -0.2679907 | AP82: -0.26652149 | AQ82: -0.35402447 | AR82: -0.37927184 | AS82: -0.35075542 | AT82: -0.33993902 | AU82: -0.35166917 | AV82: -0.35077697 | AW82: -0.32257961 | AX82: -0.34355169 | AY82: -0.37213591 | AZ82: -0.42538215 | BA82: -0.39789429 | BB82: -0.35604331 | BC82: -0.47522037 | BD82: -0.48462813 | BE82: -0.51467103 | BF82: -0.49317632 | BG82: -0.61965117 | BH82: -0.72697862 | BI82: -1.0068479 | BJ82: -0.88276716 | BK82: -0.9540993 | BL82: -0.98315683 | BM82: -1.0085271 | BN82: -0.97617756 | BO82: -0.86512105 | BP82: -1.0753387 | BQ82: -1.1946999 | BR82: -0.97453798 | BS82: -1.1988929 | BT82: -1.5112029 | BU82: -1.5249571 | BV82: -1.3491846 | BW82: -1.2657025 | BX82: -1.4194616 | BY82: -1.5709906 | BZ82: -1.5360564 | CA82: -1.4584998 | CB82: -1.8475437 | CC82: -2.360032 | CD82: -1.9987179 | CE82: -1.9590899 | CF82: -1.8937103 | CG82: -1.9867712 | CH82: -2.0543724 | CI82: -2.2784243 | CJ82: -2.5021494 | CK82: -2.2422544 | CL82: -2.3266514 | CM82: -2.3205224 | CN82: -2.1524708 | CO82: -2.6483788 | CP82: -2.0696007 | CQ82: -2.1091191 | CR82: -2.5841994 | CS82: -2.3465068 | CT82: -2.3227157 | CU82: -2.3232908 | CV82: -2.5220157 | CW82: -2.9535294 | CX82: -2.2338671 | CY82: -2.8403193 | CZ82: -2.7393024 | DA82: -3.0758875 | DB82: -2.5141591 | DC82: -2.7346074 | DD82: -2.7322416 | DE82: -2.9230851 | DF82: -2.783938 | DG82: -2.2452094 | DH82: -2.6582818 | DI82: -2.5732705 | DJ82: -2.3810176 | DK82: -2.7572148 | DL82: -2.6726566 | DM82: -2.510754 | DN82: -2.5465216 | DO82: -2.5927575 | DP82: -2.9646021 | DQ82: -3.1090296 | DR82: -2.7182449 | DS82: -2.7166618 | DT82: -3.0409664 | DU82: -3.1143282 | DV82: -2.7544972 | DW82: -3.1673788 | DX82: -3.3460468 | DY82: -3.5183654 | DZ82: -3.1952856 | EA82: -3.3944193 | EB82: -3.6849007 | EC82: -3.6795528 | ED82: -3.3520058 | EE82: -3.3762782 | EF82: -4.4309512 | EG82: -4.7364474 | EH82: -4.6362186 | EI82: -4.1492489 | EJ82: -5.2112435 | EK82: -5.4708472
A83: Electricity | B83: 25.7829 | C83: 29.24422 | D83: 31.095883 | E83: 26.952231 | F83: 26.207395 | G83: 30.288715 | H83: 31.535648 | I83: 28.585074 | J83: 27.666462 | K83: 31.358088 | L83: 27.428861 | M83: 28.711073 | N83: 28.336516 | O83: 30.007034 | P83: 32.961257 | Q83: 28.738428 | R83: 28.276235 | S83: 30.77565 | T83: 32.969558 | U83: 29.629182 | V83: 29.02369 | W83: 32.088287 | X83: 34.068978 | Y83: 30.268459 | Z83: 29.267474 | AA83: 32.45224 | AB83: 34.241705 | AC83: 30.032293 | AD83: 28.229236 | AE83: 31.993832 | AF83: 34.410748 | AG83: 29.91867 | AH83: 29.205506 | AI83: 31.986002 | AJ83: 33.088952 | AK83: 29.622933 | AL83: 28.888474 | AM83: 31.923464 | AN83: 33.624267 | AO83: 30.451187 | AP83: 29.832371 | AQ83: 33.067471 | AR83: 35.5336 | AS83: 32.653048 | AT83: 31.107469 | AU83: 34.144127 | AV83: 34.046926 | AW83: 31.107129 | AX83: 30.874093 | AY83: 34.029799 | AZ83: 36.594457 | BA83: 33.810879 | BB83: 31.893547 | BC83: 32.441746 | BD83: 36.580235 | BE83: 33.735093 | BF83: 33.112077 | BG83: 36.046886 | BH83: 39.275279 | BI83: 34.582555 | BJ83: 33.356541 | BK83: 36.892243 | BL83: 37.952403 | BM83: 34.609482 | BN83: 33.501236 | BO83: 37.068337 | BP83: 39.584099 | BQ83: 35.361611 | BR83: 34.116238 | BS83: 36.49223 | BT83: 39.353898 | BU83: 36.283976 | BV83: 34.157701 | BW83: 37.08681 | BX83: 39.759676 | BY83: 35.22873 | BZ83: 33.368353 | CA83: 37.956984 | CB83: 39.528408 | CC83: 36.384085 | CD83: 35.014472 | CE83: 38.330673 | CF83: 40.973374 | CG83: 37.327711 | CH83: 35.461264 | CI83: 38.215529 | CJ83: 40.992674 | CK83: 36.381143 | CL83: 35.389083 | CM83: 38.293499 | CN83: 39.935097 | CO83: 36.706893 | CP83: 34.944577 | CQ83: 37.388796 | CR83: 39.376588 | CS83: 36.088811 | CT83: 35.134032 | CU83: 37.258786 | CV83: 39.717003 | CW83: 36.662937 | CX83: 35.607103 | CY83: 37.985675 | CZ83: 40.583373 | DA83: 37.193075 | DB83: 36.151702 | DC83: 37.685784 | DD83: 40.699237 | DE83: 36.253592 | DF83: 35.655917 | DG83: 38.375268 | DH83: 40.680312 | DI83: 37.218111 | DJ83: 35.354105 | DK83: 39.471989 | DL83: 41.28825 | DM83: 36.701766 | DN83: 36.237863 | DO83: 38.849984 | DP83: 41.453856 | DQ83: 37.457723 | DR83: 36.627 | DS83: 36.932904 | DT83: 41.188964 | DU83: 37.247371 | DV83: 35.713589 | DW83: 38.735821 | DX83: 40.427413 | DY83: 36.672066 | DZ83: 35.689479 | EA83: 38.17102 | EB83: 41.591623 | EC83: 37.121991 | ED83: 35.378756 | EE83: 38.560343 | EF83: 41.871602 | EG83: 37.123871 | EH83: 36.954013 | EI83: 39.77161 | EJ83: 40.933573 | EK83: 36.504858
A84: Waste heat | B84: 0 | C84: 0 | D84: 0 | E84: 0 | F84: 0 | G84: 0 | H84: 0 | I84: 0 | J84: 0 | K84: 0 | L84: 0 | M84: 0 | N84: 0 | O84: 0 | P84: 0 | Q84: 0 | R84: 0 | S84: 0 | T84: 0 | U84: 0 | V84: 0 | W84: 0 | X84: 0 | Y84: 0 | Z84: 0 | AA84: 0 | AB84: 0 | AC84: 0 | AD84: 0 | AE84: 0 | AF84: 0 | AG84: 0 | AH84: 0 | AI84: 0 | AJ84: 0 | AK84: 0 | AL84: 0 | AM84: 0 | AN84: 0 | AO84: 0 | AP84: 0 | AQ84: 0 | AR84: 0 | AS84: 0 | AT84: 0 | AU84: 0 | AV84: 0 | AW84: 0 | AX84: 0 | AY84: 0 | AZ84: 0 | BA84: 0 | BB84: 0 | BC84: 0 | BD84: 0 | BE84: 0 | BF84: 0 | BG84: 0 | BH84: 0 | BI84: 0 | BJ84: 0 | BK84: 0 | BL84: 0 | BM84: 0 | BN84: 0 | BO84: 0 | BP84: 0 | BQ84: 0 | BR84: 0 | BS84: 0 | BT84: 0 | BU84: 0 | BV84: 0 | BW84: 0 | BX84: 0 | BY84: 0 | BZ84: 0 | CA84: 0 | CB84: 0 | CC84: 0 | CD84: 0 | CE84: 0 | CF84: 0 | CG84: 0 | CH84: 0 | CI84: 0 | CJ84: 0 | CK84: 0 | CL84: 0 | CM84: 0 | CN84: 0 | CO84: 0 | CP84: 0 | CQ84: 0 | CR84: 0 | CS84: 0 | CT84: 0 | CU84: 0 | CV84: 0 | CW84: 0 | CX84: 0 | CY84: 0 | CZ84: 0 | DA84: 0 | DB84: 0 | DC84: 0 | DD84: 0 | DE84: 0 | DF84: 0 | DG84: 0 | DH84: 0 | DI84: 0 | DJ84: 0 | DK84: 0 | DL84: 0 | DM84: 0 | DN84: 0 | DO84: 0 | DP84: 0 | DQ84: 0 | DR84: 0 | DS84: 0 | DT84: 0 | DU84: 0 | DV84: 0 | DW84: 0 | DX84: 0 | DY84: 0 | DZ84: 0 | EA84: 0 | EB84: 0 | EC84: 0 | ED84: 0 | EE84: 0 | EF84: 0 | EG84: 0 | EH84: 0 | EI84: 0 | EJ84: 0 | EK84: 0
A85: Cogeneration | B85: =SUM(B86:B93) -> -6.7788178 | C85: =SUM(C86:C93) -> -7.7826564 | D85: =SUM(D86:D93) -> -7.7765564 | E85: =SUM(E86:E93) -> -7.2116176 | F85: =SUM(F86:F93) -> -7.2030468 | G85: =SUM(G86:G93) -> -7.6493952 | H85: =SUM(H86:H93) -> -7.6474456 | I85: =SUM(I86:I93) -> -7.1243541 | ... EK85: =SUM(EK86:EK93) -> -8.0626054
A86: Coal | B86: -0.59196888 | C86: -0.59196888 | D86: -0.59196888 | E86: -0.59196888 | F86: -0.71663532 | G86: -0.71663532 | H86: -0.71663532 | I86: -0.71663532 | J86: -0.73871724 | K86: -0.68564952 | L86: -0.73227156 | M86: -0.71768532 | N86: -0.74661132 | O86: -0.78716004 | P86: -0.82336884 | Q86: -0.74277216 | R86: -0.90240648 | S86: -0.6778092 | T86: -0.75045792 | U86: -0.87652104 | V86: -0.8715648 | W86: -0.77779428 | X86: -0.76298976 | Y86: -0.79081404 | Z86: -0.78701496 | AA86: -0.76100112 | AB86: -0.748251 | AC86: -0.85701864 | AD86: -0.84563124 | AE86: -0.84808368 | AF86: -1.0056562 | AG86: -1.2588481 | AH86: -2.0407274 | AI86: -1.8451357 | AJ86: -1.6678282 | AK86: -1.9444146 | AL86: -1.6691095 | AM86: -1.819589 | AN86: -1.6453579 | AO86: -2.0002286 | AP86: -1.8598279 | AQ86: -1.4815631 | AR86: -1.975247 | AS86: -1.8232111 | AT86: -1.9580113 | AU86: -1.9090442 | AV86: -1.9509099 | AW86: -1.9737865 | AX86: -1.3710967 | AY86: -1.8587265 | AZ86: -2.0131815 | BA86: -2.0041134 | BB86: -2.2679305 | BC86: -2.2509097 | BD86: -2.1033469 | BE86: -1.9308719 | BF86: -2.1205842 | BG86: -1.8554562 | BH86: -2.0140019 | BI86: -2.3332558 | BJ86: -1.7910932 | BK86: -1.8874029 | BL86: -1.8811123 | BM86: -2.1969852 | BN86: -2.0075905 | BO86: -2.0340422 | BP86: -2.0018044 | BQ86: -2.0610254 | BR86: -1.7908179 | BS86: -2.0842442 | BT86: -1.836677 | BU86: -1.9898164 | BV86: -1.8213091 | BW86: -1.8821565 | BX86: -1.8048985 | BY86: -1.8470241 | BZ86: -1.9652195 | CA86: -1.7157031 | CB86: -1.7380282 | CC86: -1.6848147 | CD86: -2.0482462 | CE86: -2.1322001 | CF86: -2.0056293 | CG86: -1.8885845 | CH86: -1.9190688 | CI86: -1.8889394 | CJ86: -1.4091658 | CK86: -1.8571999 | CL86: -1.6721886 | CM86: -2.0896028 | CN86: -2.0419374 | CO86: -1.8619338 | CP86: -2.0385484 | CQ86: -1.863471 | CR86: -2.0815533 | CS86: -1.9575327 | CT86: -2.0227579 | CU86: -1.7732507 | CV86: -1.953115 | CW86: -1.9998425 | CX86: -2.0292366 | CY86: -2.0966025 | CZ86: -1.7946395 | DA86: -2.0310131 | DB86: -1.6709337 | DC86: -1.8833275 | DD86: -1.9961957 | DE86: -1.8399029 | DF86: -1.854523 | DG86: -2.1142704 | DH86: -1.947498 | DI86: -1.9967878 | DJ86: -1.781959 | DK86: -1.9755848 | DL86: -1.888117 | DM86: -1.9148601 | DN86: -2.0578239 | DO86: -2.2195311 | DP86: -2.1457032 | DQ86: -1.9868211 | DR86: -1.6390122 | DS86: -1.6404251 | DT86: -2.3068575 | DU86: -1.9041147 | DV86: -2.0500051 | DW86: -2.2625678 | DX86: -2.2293813 | DY86: -1.7200639 | DZ86: -2.0550051 | EA86: -1.9941628 | EB86: -2.022187 | EC86: -1.3702848 | ED86: -1.4344671 | EE86: -1.7210651 | EF86: -1.8543246 | EG86: -1.7504573 | EH86: -1.8923727 | EI86: -1.9227588 | EJ86: -1.8833744 | EK86: -1.5789875
A87: Oil | B87: 0 | C87: 0 | D87: 0 | E87: 0 | F87: 0 | G87: 0 | H87: 0 | I87: 0 | J87: 0 | K87: 0 | L87: 0 | M87: 0 | N87: 0 | O87: 0 | P87: 0 | Q87: 0 | R87: 0 | S87: 0 | T87: 0 | U87: 0 | V87: 0 | W87: 0 | X87: 0 | Y87: 0 | Z87: 0 | AA87: 0 | AB87: 0 | AC87: 0 | AD87: 0 | AE87: 0 | AF87: 0 | AG87: 0 | AH87: 0 | AI87: 0 | AJ87: 0 | AK87: 0 | AL87: 0 | AM87: 0 | AN87: 0 | AO87: 0 | AP87: 0 | AQ87: 0 | AR87: 0 | AS87: 0 | AT87: 0 | AU87: 0 | AV87: 0 | AW87: 0 | AX87: 0 | AY87: 0 | AZ87: 0 | BA87: 0 | BB87: 0 | BC87: 0 | BD87: 0 | BE87: 0 | BF87: 0 | BG87: 0 | BH87: 0 | BI87: 0 | BJ87: 0 | BK87: 0 | BL87: 0 | BM87: 0 | BN87: 0 | BO87: 0 | BP87: 0 | BQ87: 0 | BR87: 0 | BS87: 0 | BT87: 0 | BU87: 0 | BV87: 0 | BW87: 0 | BX87: 0 | BY87: 0 | BZ87: 0 | CA87: 0 | CB87: 0 | CC87: 0 | CD87: 0 | CE87: 0 | CF87: 0 | CG87: 0 | CH87: 0 | CI87: 0 | CJ87: 0 | CK87: 0 | CL87: 0 | CM87: 0 | CN87: 0 | CO87: 0 | CP87: 0 | CQ87: 0 | CR87: 0 | CS87: 0 | CT87: 0 | CU87: 0 | CV87: 0 | CW87: 0 | CX87: 0 | CY87: 0 | CZ87: 0 | DA87: 0 | DB87: 0 | DC87: 0 | DD87: 0 | DE87: 0 | DF87: 0 | DG87: 0 | DH87: 0 | DI87: 0 | DJ87: 0 | DK87: 0 | DL87: 0 | DM87: 0 | DN87: 0 | DO87: 0 | DP87: 0 | DQ87: 0 | DR87: 0 | DS87: 0 | DT87: 0 | DU87: 0 | DV87: 0 | DW87: 0 | DX87: 0 | DY87: 0 | DZ87: 0 | EA87: 0 | EB87: 0 | EC87: 0 | ED87: 0 | EE87: 0 | EF87: 0 | EG87: 0 | EH87: 0 | EI87: 0 | EJ87: 0 | EK87: 0
A88: Natural gas | B88: -0.1519935 | C88: -0.1873356 | D88: -0.1873356 | E88: -0.1873356 | F88: -0.1873356 | G88: -0.2050869 | H88: -0.2050869 | I88: -0.2050869 | J88: -0.2050869 | K88: -0.2129193 | L88: -0.2129193 | M88: -0.2129193 | N88: -0.2129193 | O88: -0.2245395 | P88: -0.2245395 | Q88: -0.2245395 | R88: -0.2245395 | S88: -0.64262916 | T88: -0.67667121 | U88: -0.71071326 | V88: -0.7532464 | W88: -0.76367954 | X88: -1.071194 | Y88: -1.5969884 | Z88: -1.7152161 | AA88: -1.6709989 | AB88: -1.7906359 | AC88: -2.8314534 | AD88: -3.1700159 | AE88: -4.1740507 | AF88: -4.4308926 | AG88: -4.5137675 | AH88: -4.479997 | AI88: -4.8169111 | AJ88: -5.1406712 | AK88: -4.9943306 | AL88: -5.0909903 | AM88: -4.6555982 | AN88: -5.1029564 | AO88: -5.0056178 | AP88: -4.7950101 | AQ88: -4.4776092 | AR88: -4.1270399 | AS88: -4.0660831 | AT88: -5.5208497 | AU88: -5.9539021 | AV88: -6.3751929 | AW88: -5.7691298 | AX88: -5.3712526 | AY88: -5.8457173 | AZ88: -5.3027905 | BA88: -5.6533576 | BB88: -6.1368965 | BC88: -5.6302808 | BD88: -6.3498734 | BE88: -6.2237501 | BF88: -5.6063481 | BG88: -5.0881654 | BH88: -5.0736065 | BI88: -5.3085555 | BJ88: -5.0400162 | BK88: -5.5925012 | BL88: -6.1069179 | BM88: -6.5760721 | BN88: -5.7565701 | BO88: -5.5162156 | BP88: -4.7068062 | BQ88: -5.0381495 | BR88: -5.190993 | BS88: -6.4133692 | BT88: -5.9148255 | BU88: -4.8606451 | BV88: -6.6169422 | BW88: -6.8760462 | BX88: -5.4743367 | BY88: -4.4947479 | BZ88: -4.3433049 | CA88: -3.9807849 | CB88: -3.9822715 | CC88: -4.9625646 | CD88: -5.2061302 | CE88: -4.4002416 | CF88: -4.9262328 | CG88: -4.8691517 | CH88: -4.2689962 | CI88: -3.2975656 | CJ88: -5.5516838 | CK88: -4.6358902 | CL88: -4.6768734 | CM88: -4.7457452 | CN88: -4.9340147 | CO88: -4.4947315 | CP88: -4.964457 | CQ88: -3.8960049 | CR88: -4.0342361 | CS88: -4.2093819 | CT88: -3.9246681 | CU88: -3.1689522 | CV88: -4.7593905 | CW88: -4.6908209 | CX88: -3.9155354 | CY88: -3.2650009 | CZ88: -4.4351482 | DA88: -3.8161836 | DB88: -3.4463691 | DC88: -2.7019033 | DD88: -3.0639701 | DE88: -3.3725332 | DF88: -3.3125712 | DG88: -3.0851819 | DH88: -3.7920625 | DI88: -3.6919295 | DJ88: -3.435933 | DK88: -2.6000102 | DL88: -3.2055778 | DM88: -3.5489762 | DN88: -3.136893 | DO88: -2.5761362 | DP88: -3.3146899 | DQ88: -3.5363362 | DR88: -3.3326065 | DS88: -2.3634283 | DT88: -3.3825054 | DU88: -3.5424125 | DV88: -3.2642211 | DW88: -2.5572094 | DX88: -3.1023277 | DY88: -3.5080339 | DZ88: -3.3152393 | EA88: -2.9341636 | EB88: -2.8420689 | EC88: -3.2785843 | ED88: -3.3408667 | EE88: -2.35178 | EF88: -2.2676596 | EG88: -2.3466542 | EH88: -2.2613866 | EI88: -2.3074057 | EJ88: -2.2638754 | EK88: -2.2109739
A89: Hydro | B89: 0 | C89: 0 | D89: 0 | E89: 0 | F89: 0 | G89: 0 | H89: 0 | I89: 0 | J89: 0 | K89: 0 | L89: 0 | M89: 0 | N89: 0 | O89: 0 | P89: 0 | Q89: 0 | R89: 0 | S89: 0 | T89: 0 | U89: 0 | V89: 0 | W89: 0 | X89: 0 | Y89: 0 | Z89: 0 | AA89: 0 | AB89: 0 | AC89: 0 | AD89: 0 | AE89: 0 | AF89: 0 | AG89: 0 | AH89: 0 | AI89: 0 | AJ89: 0 | AK89: 0 | AL89: 0 | AM89: 0 | AN89: 0 | AO89: 0 | AP89: 0 | AQ89: 0 | AR89: 0 | AS89: 0 | AT89: 0 | AU89: 0 | AV89: 0 | AW89: 0 | AX89: 0 | AY89: 0 | AZ89: 0 | BA89: 0 | BB89: 0 | BC89: 0 | BD89: 0 | BE89: 0 | BF89: 0 | BG89: 0 | BH89: 0 | BI89: 0 | BJ89: 0 | BK89: 0 | BL89: 0 | BM89: 0 | BN89: 0 | BO89: 0 | BP89: 0 | BQ89: 0 | BR89: 0 | BS89: 0 | BT89: 0 | BU89: 0 | BV89: 0 | BW89: 0 | BX89: 0 | BY89: 0 | BZ89: 0 | CA89: 0 | CB89: 0 | CC89: 0 | CD89: 0 | CE89: 0 | CF89: 0 | CG89: 0 | CH89: 0 | CI89: 0 | CJ89: 0 | CK89: 0 | CL89: 0 | CM89: 0 | CN89: 0 | CO89: 0 | CP89: 0 | CQ89: 0 | CR89: 0 | CS89: 0 | CT89: 0 | CU89: 0 | CV89: 0 | CW89: 0 | CX89: 0 | CY89: 0 | CZ89: 0 | DA89: 0 | DB89: 0 | DC89: 0 | DD89: 0 | DE89: 0 | DF89: 0 | DG89: 0 | DH89: 0 | DI89: 0 | DJ89: 0 | DK89: 0 | DL89: 0 | DM89: 0 | DN89: 0 | DO89: 0 | DP89: 0 | DQ89: 0 | DR89: 0 | DS89: 0 | DT89: 0 | DU89: 0 | DV89: 0 | DW89: 0 | DX89: 0 | DY89: 0 | DZ89: 0 | EA89: 0 | EB89: 0 | EC89: 0 | ED89: 0 | EE89: 0 | EF89: 0 | EG89: 0 | EH89: 0 | EI89: 0 | EJ89: 0 | EK89: 0
A90: Geothermal | B90: -0.34344 | C90: -0.34344 | D90: -0.34344 | E90: -0.34344 | F90: -0.34344 | G90: -0.34344 | H90: -0.34344 | I90: -0.34344 | J90: -0.34344 | K90: -0.34344 | L90: -0.34344 | M90: -0.34344 | N90: -0.34344 | O90: -0.34344 | P90: -0.34344 | Q90: -0.34344 | R90: -0.34344 | S90: -0.34344 | T90: -0.34344 | U90: -0.34344 | V90: -0.34344 | W90: -0.34344 | X90: -0.34344 | Y90: -0.34344 | Z90: -0.34344 | AA90: -0.35015616 | AB90: -0.37468032 | AC90: -0.32845584 | AD90: -0.32046768 | AE90: -0.3543792 | AF90: -0.34593312 | AG90: -0.34132848 | AH90: -0.3321192 | AI90: -0.3442032 | AJ90: -0.3611208 | AK90: -0.35420112 | AL90: -0.31423488 | AM90: -0.33087264 | AN90: -0.36160416 | AO90: -0.3232152 | AP90: -0.3214344 | AQ90: -0.22160784 | AR90: -0.23743152 | AS90: -0.21957264 | AT90: -0.2128056 | AU90: -0.37381536 | AV90: -0.37287408 | AW90: -0.34290576 | AX90: -0.31199616 | AY90: -0.31199616 | AZ90: -0.31199616 | BA90: -0.31199616 | BB90: -0.31199616 | BC90: -0.27390035 | BD90: -0.27390035 | BE90: -0.27390035 | BF90: -0.27390035 | BG90: -0.31199616 | BH90: -0.31199616 | BI90: -0.31199616 | BJ90: -0.31199616 | BK90: -0.39320064 | BL90: -0.39320064 | BM90: -0.39320064 | BN90: -0.39320064 | BO90: -0.31199616 | BP90: -0.31199616 | BQ90: -0.31199616 | BR90: -0.31199616 | BS90: -0.31199616 | BT90: -0.31199616 | BU90: -0.31199616 | BV90: -0.31199616 | BW90: -0.31199616 | BX90: -0.31199616 | BY90: -0.31199616 | BZ90: -0.31199616 | CA90: -0.32637612 | CB90: -0.32637612 | CC90: -0.32637612 | CD90: -0.32637612 | CE90: -0.32637612 | CF90: -0.32637612 | CG90: -0.32637612 | CH90: -0.32637612 | CI90: -0.34282158 | CJ90: -0.34282158 | CK90: -0.34282158 | CL90: -0.34282158 | CM90: -0.34282158 | CN90: -0.34282158 | CO90: -0.34282158 | CP90: -0.34282158 | CQ90: -0.42600167 | CR90: -0.42600167 | CS90: -0.42600167 | CT90: -0.42600167 | CU90: -0.42600167 | CV90: -0.42600167 | CW90: -0.42600167 | CX90: -0.42600167 | CY90: -0.42600167 | CZ90: -0.42600167 | DA90: -0.42600167 | DB90: -0.42600167 | DC90: -0.42600167 | DD90: -0.42600167 | DE90: -0.42600167 | DF90: -0.42600167 | DG90: -0.42600167 | DH90: -0.42600167 | DI90: -0.42600167 | DJ90: -0.42600167 | DK90: -0.31586304 | DL90: -0.31586304 | DM90: -0.31586304 | DN90: -0.31586304 | DO90: -0.36963048 | DP90: -0.36963048 | DQ90: -0.36963048 | DR90: -0.36963048 | DS90: -0.34733868 | DT90: -0.34733868 | DU90: -0.34733868 | DV90: -0.34733868 | DW90: -0.31245408 | DX90: -0.31245408 | DY90: -0.31245408 | DZ90: -0.31245408 | EA90: -0.14865228 | EB90: -0.14865228 | EC90: -0.14865228 | ED90: -0.14865228 | EE90: -0.14865228 | EF90: -0.14865228 | EG90: -0.14865228 | EH90: -0.14865228 | EI90: -0.13786517 | EJ90: -0.13786517 | EK90: -0.13786517
A91: Other renewables | B91: -6.3440571 | C91: -7.3666371 | D91: -7.3343588 | E91: -6.7755384 | F91: -6.6800707 | G91: -7.1164962 | H91: -7.0868279 | I91: -6.5731947 | J91: -6.4230652 | K91: -6.6737954 | L91: -6.6478945 | M91: -6.1994834 | N91: -6.1531019 | O91: -7.2785489 | P91: -7.2476621 | Q91: -6.7129325 | R91: -6.5797453 | S91: -7.2107068 | T91: -7.1805761 | U91: -6.6589365 | V91: -6.5622368 | W91: -7.3241656 | X91: -7.2932372 | Y91: -6.7577874 | Z91: -6.5515564 | AA91: -6.6540042 | AB91: -6.7445155 | AC91: -6.0225328 | AD91: -5.8814432 | AE91: -6.8216742 | AF91: -6.9474891 | AG91: -6.3003883 | AH91: -6.1022241 | AI91: -6.5998635 | AJ91: -6.5144945 | AK91: -6.2810046 | AL91: -5.6878752 | AM91: -6.5326938 | AN91: -6.9055334 | AO91: -6.5753927 | AP91: -6.8694219 | AQ91: -6.8470757 | AR91: -6.8279549 | AS91: -6.4527694 | AT91: -6.1093728 | AU91: -5.745869 | AV91: -5.85044 | AW91: -5.7946512 | AX91: -5.2559903 | AY91: -5.7657551 | AZ91: -4.9353589 | BA91: -5.5728753 | BB91: -4.7729984 | BC91: -3.0576779 | BD91: -5.8235005 | BE91: -5.5128245 | BF91: -5.7349604 | BG91: -5.4233767 | BH91: -5.2880128 | BI91: -5.8251891 | BJ91: -5.7007064 | BK91: -5.7366587 | BL91: -5.6267244 | BM91: -5.9260591 | BN91: -5.9726832 | BO91: -5.9623987 | BP91: -5.709818 | BQ91: -6.1241988 | BR91: -6.0622706 | BS91: -6.0295106 | BT91: -5.9233385 | BU91: -6.1444597 | BV91: -6.0352039 | BW91: -5.9270222 | BX91: -5.8343626 | BY91: -5.9407281 | BZ91: -5.7436242 | CA91: -6.1876274 | CB91: -6.0115456 | CC91: -6.2449595 | CD91: -6.3436364 | CE91: -5.8821247 | CF91: -6.2034315 | CG91: -6.3737409 | CH91: -6.1954899 | CI91: -6.2603303 | CJ91: -6.2374045 | CK91: -6.3421698 | CL91: -6.1848557 | CM91: -6.2267222 | CN91: -6.2178759 | CO91: -6.2719537 | CP91: -6.3218592 | CQ91: -6.0660755 | CR91: -6.2087998 | CS91: -6.4557223 | CT91: -6.1487061 | CU91: -5.9759462 | CV91: -5.9522631 | CW91: -6.2927214 | CX91: -6.0933726 | CY91: -6.008244 | CZ91: -5.9743445 | DA91: -6.3251401 | DB91: -6.0524931 | DC91: -5.791845 | DD91: -6.1317287 | DE91: -6.1993869 | DF91: -6.071339 | DG91: -5.6538572 | DH91: -5.9228923 | DI91: -5.6053309 | DJ91: -5.8565066 | DK91: -5.6181081 | DL91: -6.0067606 | DM91: -5.7689296 | DN91: -5.8666246 | DO91: -5.2906381 | DP91: -5.8713933 | DQ91: -5.4459747 | DR91: -5.8048813 | DS91: -5.8134278 | DT91: -5.5269508 | DU91: -5.2111634 | DV91: -5.7351729 | DW91: -5.5732193 | DX91: -5.7190819 | DY91: -4.9967046 | DZ91: -5.6191795 | EA91: -4.9165765 | EB91: -5.5806129 | EC91: -4.968007 | ED91: -5.1913903 | EE91: -5.1695454 | EF91: -5.0257942 | EG91: -5.4044135 | EH91: -5.4614209 | EI91: -5.0495448 | EJ91: -5.6695232 | EK91: -5.4548953
A92: Electricity | B92: 1.0283401 | C92: 1.1172201 | D92: 1.1191613 | E92: 1.0717112 | F92: 1.1001333 | G92: 1.1411402 | H92: 1.1435698 | I92: 1.0992799 | J92: 1.094728 | K92: 1.1038266 | L92: 1.1203006 | M92: 1.0761657 | N92: 1.0787399 | O92: 1.1794427 | P92: 1.1924411 | Q92: 1.1224148 | R92: 1.1599226 | S92: 1.2739403 | T92: 1.3080981 | U92: 1.3112441 | V92: 1.3137017 | W92: 1.3476431 | X92: 1.4308387 | Y92: 1.5335047 | Z92: 1.5525606 | AA92: 1.4849332 | AB92: 1.5445903 | AC92: 1.9200803 | AD92: 2.0707487 | AE92: 2.588331 | AF92: 2.7544668 | AG92: 2.8303787 | AH92: 2.9672665 | AI92: 3.0312072 | AJ92: 3.0388985 | AK92: 3.0522766 | AL92: 2.7617752 | AM92: 2.9238098 | AN92: 3.0721952 | AO92: 3.0104104 | AP92: 2.9239905 | AQ92: 2.6412181 | AR92: 2.6011204 | AS92: 2.54377 | AT92: 3.0136473 | AU92: 3.1817346 | AV92: 3.2988802 | AW92: 3.0384834 | AX92: 2.5829805 | AY92: 3.0701711 | AZ92: 2.8328025 | BA92: 2.8425544 | BB92: 3.1729854 | BC92: 2.9646468 | BD92: 3.2479223 | BE92: 3.0508444 | BF92: 2.9365749 | BG92: 2.6304621 | BH92: 2.6336907 | BI92: 2.7567886 | BJ92: 2.6231545 | BK92: 2.8923518 | BL92: 3.1293952 | BM92: 3.2835792 | BN92: 3.0254937 | BO92: 2.952455 | BP92: 2.603237 | BQ92: 2.6484476 | BR92: 2.6492219 | BS92: 3.3788724 | BT92: 3.130216 | BU92: 2.6200772 | BV92: 3.2830094 | BW92: 3.506066 | BX92: 2.7917403 | BY92: 2.3269881 | BZ92: 2.3535264 | CA92: 2.3378354 | CB92: 2.2365122 | CC92: 2.6087852 | CD92: 2.8232138 | CE92: 2.4847454 | CF92: 2.5273174 | CG92: 2.5008155 | CH92: 2.3062363 | CI92: 2.0713666 | CJ92: 2.792669 | CK92: 2.4412393 | CL92: 2.4544577 | CM92: 2.7625376 | CN92: 2.7035711 | CO92: 2.3932549 | CP92: 2.7519292 | CQ92: 2.3737961 | CR92: 2.4205379 | CS92: 2.3162707 | CT92: 2.2727424 | CU92: 2.0243207 | CV92: 2.6665657 | CW92: 2.7358673 | CX92: 2.5205254 | CY92: 2.2504352 | CZ92: 2.4252165 | DA92: 2.3838887 | DB92: 2.0570517 | DC92: 1.9208845 | DD92: 2.0189652 | DE92: 2.0658767 | DF92: 2.0879061 | DG92: 2.0587211 | DH92: 2.2118568 | DI92: 2.1389665 | DJ92: 2.0741965 | DK92: 1.8427472 | DL92: 1.8730838 | DM92: 2.1305196 | DN92: 2.1515145 | DO92: 1.8991469 | DP92: 2.1407981 | DQ92: 2.1274455 | DR92: 2.0203196 | DS92: 1.6931575 | DT92: 2.1869447 | DU92: 2.0812458 | DV92: 2.1266065 | DW92: 1.9759212 | DX92: 2.1265174 | DY92: 1.9876535 | DZ92: 2.1387449 | EA92: 1.829299 | EB92: 1.8319278 | EC92: 1.665232 | ED92: 1.7677248 | EE92: 1.5662442 | EF92: 1.561531 | EG92: 1.5530182 | EH92: 1.6102188 | EI92: 1.5805907 | EJ92: 1.6346605 | EK92: 1.4810081
A93: Waste heat | B93: -0.3756984 | C93: -0.4104948 | D93: -0.4386144 | E93: -0.38504592 | F93: -0.3756984 | G93: -0.40887696 | H93: -0.43902528 | I93: -0.38527704 | J93: -0.37592952 | K93: -0.4104948 | L93: -0.4392564 | M93: -0.38504592 | N93: -0.37580112 | O93: -0.4104948 | P93: -0.4392564 | Q93: -0.38504592 | R93: -0.3767256 | S93: -0.4104948 | T93: -0.4389996 | U93: -0.38504592 | V93: -0.3756984 | W93: -0.4104948 | X93: -0.4388712 | Y93: -0.38504592 | Z93: -0.41088 | AA93: -0.40252758 | AB93: -0.40252758 | AC93: -0.40252758 | AD93: -0.40252758 | AE93: -0.40252758 | AF93: -0.40252758 | AG93: -0.40252758 | AH93: -0.40252758 | AI93: -0.40252758 | AJ93: -0.40252758 | AK93: -0.40252758 | AL93: -0.40252758 | AM93: -0.40252758 | AN93: -0.40252758 | AO93: -0.40252758 | AP93: -0.40252758 | AQ93: -0.40252758 | AR93: -0.40252758 | AS93: -0.40252758 | AT93: -0.30322944 | AU93: -0.30322944 | AV93: -0.30322944 | AW93: -0.30322944 | AX93: -0.58809383 | AY93: -0.60121117 | AZ93: -0.60121117 | BA93: -0.60121117 | BB93: -0.60121117 | BC93: -0.52251353 | BD93: -0.52251353 | BE93: -0.52251353 | BF93: -0.52251353 | BG93: -0.5358851 | BH93: -0.5358851 | BI93: -0.5358851 | BJ93: -0.5358851 | BK93: -0.4702329 | BL93: -0.4702329 | BM93: -0.4702329 | BN93: -0.4702329 | BO93: -0.45345102 | BP93: -0.45345102 | BQ93: -0.45345102 | BR93: -0.45345102 | BS93: -0.30183437 | BT93: -0.30183437 | BU93: -0.30183437 | BV93: -0.30183437 | BW93: -0.37956838 | BX93: -0.37956838 | BY93: -0.37956838 | BZ93: -0.37956838 | CA93: -0.32936141 | CB93: -0.32936141 | CC93: -0.32936141 | CD93: -0.32936141 | CE93: -0.37946116 | CF93: -0.37946116 | CG93: -0.37946116 | CH93: -0.37946116 | CI93: -0.26962202 | CJ93: -0.26962202 | CK93: -0.26962202 | CL93: -0.26962202 | CM93: -0.21261213 | CN93: -0.21261213 | CO93: -0.21261213 | CP93: -0.21261213 | CQ93: -0.30787613 | CR93: -0.30787613 | CS93: -0.30787613 | CT93: -0.30787613 | CU93: -0.30302774 | CV93: -0.30302774 | CW93: -0.30302774 | CX93: -0.30302774 | CY93: -0.31852958 | CZ93: -0.31852958 | DA93: -0.31852958 | DB93: -0.31852958 | DC93: -0.33016134 | DD93: -0.33016134 | DE93: -0.33016134 | DF93: -0.33016134 | DG93: -0.28772514 | DH93: -0.28772514 | DI93: -0.28772514 | DJ93: -0.28772514 | DK93: -0.32647626 | DL93: -0.32647626 | DM93: -0.32647626 | DN93: -0.32647626 | DO93: -0.28016238 | DP93: -0.28016238 | DQ93: -0.28016238 | DR93: -0.28016238 | DS93: -0.24542376 | DT93: -0.24542376 | DU93: -0.24542376 | DV93: -0.24542376 | DW93: -0.28729854 | DX93: -0.28729854 | DY93: -0.28729854 | DZ93: -0.28729854 | EA93: -0.24419147 | EB93: -0.24419147 | EC93: -0.24419147 | ED93: -0.24419147 | EE93: -0.19816387 | EF93: -0.19816387 | EG93: -0.19816387 | EH93: -0.19816387 | EI93: -0.16089162 | EJ93: -0.16089162 | EK93: -0.16089162
A94: Fuel Production | B94: =SUM(B95:B102) -> -4.1132586 | C94: =SUM(C95:C102) -> -3.6819659 | D94: =SUM(D95:D102) -> -2.9514652 | E94: =SUM(E95:E102) -> -4.4923272 | F94: =SUM(F95:F102) -> -6.1894273 | G94: =SUM(G95:G102) -> -5.3893587 | H94: =SUM(H95:H102) -> -1.7192339 | I94: =SUM(I95:I102) -> -5.7237201 | ... EK94: =SUM(EK95:EK102) -> 0.16784085
A95: Coal | B95: 0 | C95: 0 | D95: 0 | E95: 0 | F95: 0 | G95: 0 | H95: 0 | I95: 0 | J95: 0 | K95: 0 | L95: 0 | M95: 0 | N95: 0 | O95: 0 | P95: 0 | Q95: 0 | R95: 0 | S95: 0 | T95: 0 | U95: 0 | V95: 0 | W95: 0 | X95: 0 | Y95: 0 | Z95: 0 | AA95: 0 | AB95: 0 | AC95: 0 | AD95: 0 | AE95: 0 | AF95: 0 | AG95: 0 | AH95: 0 | AI95: 0 | AJ95: 0 | AK95: 0 | AL95: 0 | AM95: 0 | AN95: 0 | AO95: 0 | AP95: 0 | AQ95: 0 | AR95: 0 | AS95: 0 | AT95: 0 | AU95: 0 | AV95: 0 | AW95: 0 | AX95: 0 | AY95: 0 | AZ95: 0 | BA95: 0 | BB95: 0 | BC95: 0 | BD95: 0 | BE95: 0 | BF95: 0 | BG95: 0 | BH95: 0 | BI95: 0 | BJ95: 0 | BK95: 0 | BL95: 0 | BM95: 0 | BN95: 0 | BO95: 0 | BP95: 0 | BQ95: 0 | BR95: 0 | BS95: 0 | BT95: 0 | BU95: 0 | BV95: 0 | BW95: 0 | BX95: 0 | BY95: 0 | BZ95: 0 | CA95: 0 | CB95: 0 | CC95: 0 | CD95: 0 | CE95: 0 | CF95: 0 | CG95: 0 | CH95: 0 | CI95: 0 | CJ95: 0 | CK95: 0 | CL95: 0 | CM95: 0 | CN95: 0 | CO95: 0 | CP95: 0 | CQ95: 0 | CR95: 0 | CS95: 0 | CT95: 0 | CU95: 0 | CV95: 0 | CW95: 0 | CX95: 0 | CY95: 0 | CZ95: 0 | DA95: 0 | DB95: 0 | DC95: 0 | DD95: 0 | DE95: 0 | DF95: 0 | DG95: 0 | DH95: 0 | DI95: 0 | DJ95: 0 | DK95: 0 | DL95: 0 | DM95: 0 | DN95: 0 | DO95: 0 | DP95: 0 | DQ95: 0 | DR95: 0 | DS95: 0 | DT95: 0 | DU95: 0 | DV95: 0 | DW95: 0 | DX95: 0 | DY95: 0 | DZ95: 0 | EA95: 0 | EB95: 0 | EC95: 0 | ED95: 0 | EE95: 0 | EF95: 0 | EG95: 0 | EH95: 0 | EI95: 0 | EJ95: 0 | EK95: 0
A96: Oil | B96: 4.5927414 | C96: 5.0240341 | D96: 5.7545348 | E96: 4.2136728 | F96: 1.0568227 | G96: 1.8568913 | H96: 5.5270161 | I96: 1.5225299 | J96: 1.5834743 | K96: 6.3235672 | L96: 3.9535229 | M96: 4.8496237 | N96: 6.8857032 | O96: 4.3573011 | P96: 4.6882979 | Q96: 1.9052477 | R96: 4.1333562 | S96: 3.3016258 | T96: 2.1015246 | U96: -0.90540296 | V96: -0.90050296 | W96: 1.4291814 | X96: 0.29487966 | Y96: -0.47095126 | Z96: 0.86660972 | AA96: -4.4133358 | AB96: -0.83438507 | AC96: -1.0576143 | AD96: -4.364845 | AE96: -4.103878 | AF96: -4.2909334 | AG96: -2.9348812 | AH96: -1.7211819 | AI96: -5.8534407 | AJ96: -3.6194574 | AK96: -4.4683035 | AL96: -0.31198623 | AM96: -3.3544865 | AN96: -5.824482 | AO96: -5.2955853 | AP96: -2.3622073 | AQ96: -3.8269397 | AR96: -2.0281162 | AS96: -5.3446832 | AT96: -3.4991422 | AU96: 0.37935994 | AV96: -6.6050159 | AW96: -3.9026371 | AX96: -3.4039629 | AY96: -2.3867363 | AZ96: -2.8555959 | BA96: -3.0837729 | BB96: -5.1785452 | BC96: -4.3170083 | BD96: -3.9302344 | BE96: -3.9379023 | BF96: -3.0398813 | BG96: 1.252158 | BH96: -4.7641129 | BI96: -1.8480746 | BJ96: -1.354635 | BK96: -2.4393381 | BL96: -3.4933934 | BM96: -5.8101663 | BN96: -3.134584 | BO96: -3.547739 | BP96: -3.4882304 | BQ96: -4.9354441 | BR96: -3.7047356 | BS96: -2.477364 | BT96: -2.4480676 | BU96: -3.2815045 | BV96: -4.522367 | BW96: -1.3976144 | BX96: -2.0674306 | BY96: -5.366743 | BZ96: -3.5064343 | CA96: -4.2912664 | CB96: -3.7570168 | CC96: -3.3085226 | CD96: -4.2971321 | CE96: -4.0142804 | CF96: -4.151119 | CG96: -3.3260656 | CH96: -5.3935084 | CI96: -4.4622473 | CJ96: -5.6292156 | CK96: -3.9215966 | CL96: -4.8799611 | CM96: -3.9148631 | CN96: -3.6254314 | CO96: -3.7742803 | CP96: -3.9631811 | CQ96: -3.8392152 | CR96: -3.6226358 | CS96: -3.9977228 | CT96: -3.7034894 | CU96: -3.3254147 | CV96: -3.8194192 | CW96: -4.0880494 | CX96: -4.4568425 | CY96: -3.8108308 | CZ96: -4.0552416 | DA96: -4.14004 | DB96: -3.4560957 | DC96: -2.9070035 | DD96: -2.9665648 | DE96: -3.179857 | DF96: -3.3431365 | DG96: -2.305552 | DH96: -2.0199809 | DI96: -3.2057899 | DJ96: -2.9539772 | DK96: 0.70140692 | DL96: -1.6290221 | DM96: -2.5627566 | DN96: -2.3953072 | DO96: -2.2534973 | DP96: -2.0499022 | DQ96: -2.5618374 | DR96: -2.2152796 | DS96: -1.0787527 | DT96: -0.95411195 | DU96: -2.5997463 | DV96: -1.1131035 | DW96: -2.2566323 | DX96: -2.4024773 | DY96: -2.471351 | DZ96: -2.2463454 | EA96: -0.52350778 | EB96: 0.26858737 | EC96: 0.276009 | ED96: 0.2296053 | EE96: 0.20315333 | EF96: 0.14255323 | EG96: 0.16973738 | EH96: 0.13874417 | EI96: 0.16858709 | EJ96: 0.15132991 | EK96: 0.16950035
